{"text_format":"1","workbook":"xlsx","n_sheets":9,"sheets":["Update_8","ព័ត៌មានអង្គភាព","ចំណាយ-ថវិការដ្ឋ","Table 4.0","Table 4.1","Table 4.2","Table 4.3","Table 4.4","Table 4 MEF"],"not_rendered":{"charts":0,"images":4,"macros":1,"external_links":0,"defined_names":20,"comments":0,"pivot_tables":0},"unopened":[],"bounds":{"document_bytes":16777216,"sheet_cells":100000,"rows_first":2000,"rows_last":500,"rows_between":2000,"halvings":0,"cell_chars":16384,"cell_head_chars":4096},"cells_cut":0,"cells_raw":0,"read":"whole","date_system":"1900"}

{"sheet":"Update_8","index":0,"n_rows":946,"n_cols":3,"rows_kept":946,"cut":false,"hidden":true,"merged":[[188,0,188,2],[3,0,3,2],[7,0,7,2],[8,0,27,0],[28,0,47,0],[48,0,67,0],[68,0,87,0],[88,0,107,0],[108,0,127,0],[128,0,147,0],[148,0,167,0],[168,0,187,0],[409,0,428,0],[189,0,208,0],[209,0,228,0],[229,0,248,0],[249,0,268,0],[269,0,288,0],[289,0,308,0],[309,0,328,0],[329,0,348,0],[349,0,368,0],[369,0,388,0],[389,0,408,0],[611,0,611,2],[429,0,448,0],[449,0,468,0],[469,0,469,2],[470,0,489,0],[490,0,509,0],[510,0,529,0],[530,0,542,0],[550,0,550,2],[551,0,570,0],[571,0,590,0],[591,0,610,0],[832,0,851,0],[612,0,631,0],[632,0,651,0],[652,0,671,0],[672,0,691,0],[692,0,711,0],[712,0,731,0],[732,0,751,0],[752,0,771,0],[772,0,791,0],[792,0,811,0],[812,0,831,0],[852,0,871,0],[872,0,891,0],[892,0,911,0],[912,0,931,0],[932,0,951,0]]}
[]
["ក្រសួងអប់រំ យុវជន និងកីឡា"]
["នាយកដ្ឋានហិរញ្ញវត្ថុ"]
["សកម្មភាពរបស់អនុកម្មវិធី​ នៅរដ្ឋបាលកណ្តាល​ សម្រាប់ការអនុវត្ត​ឆ្នាំ២០២០\t\t\t"]
["សកម្មភាពរង ទី ១៖ ធានាឱ្យការអប់រំមានគុណភាព ប្រកបដោយសមធម៌ បរិយាបន្ន និងលើកកម្ពស់ឱកាសក្នុងការសិក្សាពេញមួយជីវិត"]
["សកម្មភាពរង ទី ២៖ ធានាភាពស័ក្តិសិទ្ធនៃភាពជាអ្នកដឹកនាំ និងគ្រប់គ្រងរបស់មន្ត្រី អប់រំគ្រប់លំដាប់ថ្នាក់"]
["បរិយាយ","ចង្កោមសកម្មភាព","សកម្មភាព"]
["កម្មវិធីទី១៖ ការអភិវឌ្ឍការអប់រំក្នុងប្រព័ន្ធ ក្រៅប្រព័ន្ធ និងមិនផ្លូវការ"]
[".១៖ ការពង្រីកការអប់រំកុមារតូច",1,"១. កិច្ចដំណើរការអង្គភាព"]
[null,1,"២. ថវិកាលទ្ធកម្ម"]
[null,1,"៣. ពិនិត្យតាមដាន និងវាយតម្លៃ"]
[null,1,"៤. មូលនិធីដំណើរការសាលារៀនសាធារណៈ"]
[null,1,"៥. កែលំអហេដ្ឋារចនាសម្ព័ន្ធមត្តេយ្យសិក្សា"]
[null,1,"៦. អភិវឌ្ឍការអប់រំកុមារតូចឱ្យស្របតាមបទដ្ឋាន"]
[null,1,"៧. គ្រប់គ្រងមត្តយ្យសិក្សាសហគមន៍"]
[]
[]
[]
[null,2,"១. អភិវឌ្ឍស្ថាប័ន និងសមត្ថភាពមន្ដ្រីជំនាញ"]
[]
[]
[]
[]
[]
[]
[]
[]
[]
[".២៖ ការពង្រឹងគុណភាព និងប្រសិទ្ធភាពនៃការអប់រំនៅបឋមសិក្សា",1,"១. កិច្ចដំណើរការអង្គភាព"]
[null,1,"២. ថវិកាលទ្ធកម្ម"]
[null,1,"៣. ពិនិត្យតាមដាន និងវាយតម្លៃ"]
[null,1,"៤. មូលនិធីដំណើរការសាលារៀនសាធារណៈ"]
[null,1,"៥. សាលារៀនជំនាន់ថ្មី"]
[null,1,"៦. ឧបត្ថម្ភកម្មវិធីអាហារូបករណ៍ និងអាហារូបត្ថម្ភ"]
[null,1,"៧. ពង្រឹងគុណភាពបង្រៀន និងរៀន"]
[null,1,"៨. កម្មវិធីបង្រៀនសាកល្បងពេញមួយថ្ងៃ"]
[null,1,"៩. ការគ្រប់គ្រងតាមសាលារៀន (SBM)"]
[]
[null,2,"១. អភិវឌ្ឍស្ថាប័ន និងសមត្ថភាពមន្ដ្រីជំនាញ"]
[]
[]
[]
[]
[]
[]
[]
[]
[]
[".៣៖ ការចូលរៀនប្រកបដោយសមធម៌​ ការពង្រឹងគុណភាព និងប្រសិទ្ធភាពនៃការ​អប់រំនៅមធ្យមសិក្សា",1,"១. កិច្ចដំណើរការអង្គភាព"]
[null,1,"២. ថវិកាលទ្ធកម្ម"]
[null,1,"៣. ពិនិត្យតាមដាន និងវាយតម្លៃ"]
[null,1,"៤. មូលនិធីដំណើរការសាលារៀនសាធារណៈ"]
[null,1,"៥. ថ្នាក់ពីរភាសា បារាំង-ខ្មែរ"]
[null,1,"៦. សាលារៀនជំនាន់ថ្មី"]
[null,1,"៧. ឧបត្ថម្ភកម្មវិធីអាហារូបករណ៍"]
[null,1,"៨. លើកកម្ពស់មុខវិជ្ជា STEM"]
[null,1,"៩. ពង្រឹងសមត្ថភាពលើការងារគ្រប់គ្រង និងការបង្រៀននិងរៀន"]
[null,1,"១០. ការគ្រប់គ្រងតាមសាលារៀន (SBM)"]
[null,2,"១. អភិវឌ្ឍស្ថាប័ន និងសមត្ថភាពមន្ដ្រីជំនាញ"]
[]
[]
[]
[]
[]
[]
[]
[]
[]
[".៤៖ ការពង្រីកការអប់រំក្រៅប្រព័ន្ធ",1,"១. កិច្ចដំណើរការអង្គភាព"]
[null,1,"២. ថវិកាលទ្ធកម្ម"]
[null,1,"៣. ពិនិត្យតាមដាន និងវាយតម្លៃ"]
[null,1,"៤. ប្រែក្លាយមជ្ឈមណ្ឌលសហគមន៍ទៅជាមជ្ឈមណ្ឌលសិក្សាពេញមួយជីវិត"]
[null,1,"៥. ថវិកាដំណើរការនៃការអប់រំក្រៅប្រព័ន្ធ"]
[]
[]
[]
[]
[]
[null,2,"១. អភិវឌ្ឍស្ថាប័ន និងសមត្ថភាពមន្ដ្រីជំនាញ"]
[]
[]
[]
[]
[]
[]
[]
[]
[]
[".៥៖ ការពង្រឹង​ និងការពង្រីកកម្មវិធីលើកកម្ពស់សុខភាពសិក្សា",1,"១. កិច្ចដំណើរការអង្គភាព"]
[null,1,"២. ថវិកាលទ្ធកម្ម"]
[null,1,"៣. ពិនិត្យតាមដាន និងវាយតម្លៃ"]
[null,1,"៤. លើកកម្ពស់សុខភាពចាំបាច់ដល់អ្នកសិក្សានិងបុគ្គលិកអប់រំ"]
[null,1,"៥. លើកកម្ពស់ការផ្តល់អាហារូបត្ថម្ភ"]
[null,1,"៦. លើកកម្ពស់ការផ្គត់ផ្គង់ទឹកស្អាតនិងអនាម័យ"]
[null,1,"៧. លើកកម្ពស់បរិស្ថានសិក្សាប្រកបដោយសុវត្ថិភាព បរិយាបន្ន ផាសុកភាព និងមេត្រីភាព"]
[null,1,"៨. លើកកម្ពស់សន្តិសុខនិងសណ្តាប់ធ្នាប់ក្នុងគ្រឹះស្ថានសិក្សា"]
[null,1,"៩. លើកកម្ពស់ការអប់រំសុខភាព"]
[null,1,"១០. លើកកម្ពស់ការអនុវត្តបំណិនសុខភាព"]
[null,2,"១. អភិវឌ្ឍស្ថាប័ន និងសមត្ថភាពមន្ដ្រីជំនាញ"]
[]
[]
[]
[]
[]
[]
[]
[]
[]
[".៦៖ លើកកម្ពស់គុណភាព និងប្រសិទ្ធភាពនៃការអនុវត្តកម្មវិធីអប់រំបច្ចេកទេស",1,"១. កិច្ចដំណើរការអង្គភាព"]
[null,1,"២. ថវិកាលទ្ធកម្ម"]
[null,1,"៣. ពិនិត្យតាមដាន និងវាយតម្លៃ"]
[null,1,"៤. មូលនិធិដំណើរការសាលារៀនសាធារណៈ"]
[null,1,"៥. ឧបត្ថម្ភកម្មវិធីអាហារូបករណ៍"]
[null,1,"៦. ពង្រឹងគុណភាពបង្រៀននិងរៀន"]
[null,1,"៧. ពង្រឹង និងពង្រីកការបណ្តុះបណ្តាលវិជ្ជាជីវៈ បំណិនជីវិត អប់រំតម្រង់ទិសវិជ្ជាជីវៈ និងប្រឹក្សាអាជីព"]
[null,1]
[null,1]
[null,1]
[null,2,"១. អភិវឌ្ឍស្ថាប័ន និងសមត្ថភាពមន្ដ្រីជំនាញ"]
[null,2]
[null,2]
[null,2]
[null,2]
[null,2]
[null,2]
[null,2]
[null,2]
[null,2]
[".៧៖ ការអភិវឌ្ឍការងារបណ្តុះបណ្ដាល និងវិក្រឹតការគ្រូបង្រៀន",1,"១. កិច្ចដំណើរការអង្គភាព"]
[null,1,"២. ថវិកាលទ្ធកម្ម"]
[null,1,"៣. ពិនិត្យតាមដាន និងវាយតម្លៃ"]
[null,1,"៤. អភិវឌ្ឍវិទ្យាស្ថានគរុកោសល្យ ២ (បាត់ដំបង និងភ្នំពេញ)"]
[null,1,"៥. ថវិកាសាលាមធ្យមសិក្សាគរុកោសល្យមត្តេយ្យមជ្ឈិម"]
[null,1,"៦. ប្រឡងជ្រើសរើស និងបញ្ចប់វគ្គបណ្ដុះបណ្ដាលគ្រូបង្រៀន"]
[null,1,"៧. ថវិកាសាលាគរុកោសល្យ និងមណ្ឌលធនធាន"]
[null,1,"៨. អភិវឌ្ឍគ្រឹះស្ថានបណ្តុះបណ្តាលគ្រូ និងលើកកម្ពស់គុណវុឌ្ឍិគណៈគ្រប់គ្រង គ្រូឧទ្ទេស និងគ្រូបង្រៀន"]
[]
[]
[null,2]
[]
[]
[]
[]
[]
[]
[]
[]
[]
[".៨៖ ការអភិវឌ្ឍកម្មវិធីសិក្សា សម្ភារៈសិក្សា និងបណ្ណាល័យ",1,"១. កិច្ចដំណើរការអង្គភាព"]
[null,1,"២. ថវិកាលទ្ធកម្ម"]
[null,1,"៣. ពិនិត្យតាមដាន និងវាយតម្លៃ"]
[null,1,"៤.  រៀប​ចំ​ទិវាជាតិ​អំណាន និង​ពិធី​បុណ្យផ្សេងៗ"]
[null,1,"៥. អភិវឌ្ឍកម្មវិធីសិក្សា វិធីសាស្រ្តបង្រៀន(IBL) ឯកសារ​  និងសម្ភារសិក្សា និងផ្សព្វផ្សាយ"]
[]
[]
[]
[]
[]
[null,2,"១. ពង្រឹងសមត្ថភាពមន្ដ្រីជំនាញស្តីពីកម្មវិធីសិក្សា សៀវភៅសិក្សាគោល និងបណ្ណាល័យ"]
[]
[]
[]
[]
[]
[]
[]
[]
[]
[".៩៖ ពង្រីកការអប់រំបរិយាបន្នគ្រប់ភូមិសិក្សា",1,"១. កិច្ចដំណើរការអង្គភាព"]
[null,1,"២. ថវិកាលទ្ធកម្ម"]
[null,1,"៣. ពិនិត្យតាមដាន និងវាយតម្លៃ"]
[null,1,"៤. អភិវឌ្ឍការងារអប់រំពិសេស និងពហុភាសា"]
[null,1,"៥. វិទ្យាល័យអប់រំពិសេស"]
[null,1,"៦. អភិវឌ្ឍវិទ្យាស្ថានជាតិអប់រំពិសេស"]
[null,1,"៧. អភិវឌ្ឍហេដ្ឋារចនាសម្ពន្ធ័សាលារៀនអប់រំបរិយាបន្ន"]
[]
[]
[]
[null,2,"១. អភិវឌ្ឍសមត្ថភាពមន្រ្តីស្តីពីអប់រំបរិយាបន្ននិងពហុភាសា និងលើកទឹកចិត្ត"]
[]
[]
[]
[]
[]
[]
[]
[]
[]
["កម្មវិធីទី២៖ ការអភិវឌ្ឍឧត្តមសិក្សា និងការស្រាវជ្រាវ"]
["២.១៖ ការលើកកម្ពស់គុណភាពនិងភាពឆ្លើយតបនៃការអប់រំឧត្តមសិក្សា",1,"១. កិច្ចដំណើរការអង្គភាព"]
[null,1,"២. ថវិកាលទ្ធកម្ម​"]
[null,1,"៣. ពិនិត្យតាមដាន និងវាយតម្លៃ"]
[null,1,"៤. លើកកម្ពស់ការចូលរៀននៅឧត្តមសិក្សាប្រកបដោយសមធម៌ បរិយាបន្ន និងការឆ្លើយតបទៅនឹងតម្រូវការនៃការអភិវឌ្ឍ\nសេដ្ឋកិច្ច និងសង្គម"]
[null,1,"៥. ចុះធ្វើអធិការកិច្ចដើម្បីពង្រឹងគុណភាពអប់រំនៅតាមគ្រឹះស្ថានឧត្តមសិក្សា"]
[null,1,"៦. ពង្រឹងប្រព័ន្ធធានាគុណភាពអប់រំផ្ទៃក្នុង"]
[null,1,"៧. ចូលរួមកម្មវិធីចល័តនិស្សិតអន្តរជាតិអាស៊ាន"]
[null,1]
[null,1]
[null,1]
[null,2,"១. ពង្រឹងប្រព័ន្ធគ្រប់គ្រងទិន្នន័យព័ត៌មានវិទ្យាឧត្តមសិក្សា សម្រាប់​គ្រឹះស្ថានឧត្តមសិក្សា"]
[null,2,"២. ពង្រឹងប្រព័ន្ធពិនិត្យតាមដាននិងវាយតម្លៃនៅឧត្តម​សិ​ក្សា"]
[null,2,"៣. អភិវឌ្ឍសមត្ថភាពស្ថាប័ន និងមន្ត្រីជំនាញ"]
[]
[]
[]
[]
[]
[]
[]
["២.២៖ ការអភិវឌ្ឍការស្រាវជ្រាវនៅឧត្តមសិក្សា",null,"១. កិច្ចដំណើរការអង្គភាព"]
[null,null,"២. ថវិកាលទ្ធកម្ម"]
[null,null,"៣. ពិនិត្យតាមដាន និងវាយតម្លៃ"]
[null,null,"៤. ជំរុញការស្រាវជ្រាវ និងលើកទឹកចិត្តការបង្កើតមជ្ឈមណ្ឌលស្រាវជ្រាវឧត្តមភាពនៅតាមគ្រឹះស្ថានសាធារណៈ"]
[null,null,"៥. រៀបចំប្រកាសអន្តរក្រសួងស្តីពីការបង្កើតមូលនិធិស្រាវជ្រាវសម្រាប់ឧត្តមសិក្សា "]
[null,null,"៦. បង្កើតគោលការណ៍ណែនាំស្តីពីការអនុវត្តមូលនិធិស្រាវជ្រាវសម្រាប់ឧត្តមសិក្សា"]
[]
[]
[]
[]
[null,null,"១. អភិវឌ្ឍសមត្ថភាពស្ថាប័ន និងមន្ត្រីទទួលបន្ទុកការងារស្រាវជ្រាវនៅឧត្តមសិក្សា"]
[]
[]
[]
[]
[]
[]
[]
[]
[]
["២.៣៖ ការពង្រឹងគុណភាព និងភាពឆ្លើយតបនៃការបណ្តុះបណ្តាលកម្រិតឧត្តម និងក្រោយឧត្តមប្រកបដោយប្រសិទ្ធភាព",null,"១. កិច្ចដំណើរការអង្គភាព"]
[null,null,"២. ថវិកាលទ្ធកម្ម"]
[null,null,"៣. ពិនិត្យតាមដាន និងវាយតម្លៃ"]
[null,null,"៤. បង្កើនចំនួននិស្សិតចូលរៀននៅគ្រឹះស្ថានឧត្តមសិក្សាប្រកបដោយសមធម៌ បរិយាបន្ន និងការឆ្លើយតបទៅនឹងតម្រូវការនៃការអភិវឌ្ឍសេដ្ឋកិច្ច និងសង្គម"]
[null,null,"៥. កែលម្អកម្មវិធីសិក្សាដោយសហការជាមួយគ្រឹះស្ថានឧត្តមសិក្សាដៃគូទាំងក្នុង និង/ឬ ក្រៅ ប្រទេស"]
[null,null,"៦. បង្កើតគម្រោងស្រាវជ្រាវដោយសហការជាមួយផ្នែកឧស្សាហកម្ម និង/ឬគ្រឹះស្ថានឧត្តម៧. សិក្សា ដៃគូទាំងក្នុង និង/ឬ ក្រៅ ប្រទេស"]
[null,null,"៧. ពង្រឹងប្រព័ន្ធធានាគុណភាពអប់រំផ្ទៃក្នុងរបស់គ្រឹះស្ថាន"]
[]
[]
[]
[null,null,"១. ពង្រឹងការអនុវត្តប្រព័ន្ធគ្រប់គ្រងទិន្ន័យ ព័ត៌មានវិទ្យារបស់គ្រឹះស្ថានឧត្តមសិក្សា"]
[null,null,"២. ពង្រឹងប្រព័ន្ធពិនិត្យតាមដាននិងវាយតម្លៃរបស់គ្រឹះស្ថានឧត្តមសិក្សា"]
[null,null,"៣. អភិវឌ្ឍសមត្ថភាពស្ថាប័ន និងលើកកម្ពស់គុណវុឌ្ឍិបុគ្គលិកអប់រំ"]
[]
[]
[]
[]
[]
[]
[]
["២.៤៖ ការពង្រឹងគុណភាព និងប្រសិទ្ធភាពនៃការអប់រំ បណ្តុះបណ្តាល និងស្រាវជ្រាវ",null,"១. កិច្ចដំណើរការអង្គភាព"]
[null,null,"២. ថវិកាលទ្ធកម្ម"]
[null,null,"៣. ពិនិត្យតាមដាន និងវាយតម្លៃ"]
[null,null,"៤. បង្កើនចំនួននិស្សិតចូលរៀននៅគ្រឹះស្ថានឧត្តមសិក្សាប្រកបដោយសមធម៌ បរិយាបន្ន និងការឆ្លើយតបទៅនឹងតម្រូវការនៃការអភិវឌ្ឍសេដ្ឋកិច្ច និងសង្គម"]
[null,null,"៥. កែលម្អកម្មវិធីសិក្សាដោយសហការជាមួយគ្រឹះស្ថានឧត្តមសិក្សាដៃគូទាំងក្នុង និង/ឬ ក្រៅ ប្រទេស"]
[null,null,"៦. បង្កើតគម្រោងស្រាវជ្រាវដោយសហការជាមួយផ្នែកឧស្សាហកម្ម និង/ឬគ្រឹះស្ថានឧត្តម៧. សិក្សា ដៃគូទាំងក្នុង និង/ឬ ក្រៅ ប្រទេស"]
[null,null,"៧. ពង្រឹងប្រព័ន្ធធានាគុណភាពអប់រំផ្ទៃក្នុងរបស់គ្រឹះស្ថាន"]
[]
[]
[]
[null,null,"១. ពង្រឹងការអនុវត្តប្រព័ន្ធគ្រប់គ្រងទិន្ន័យ ព័ត៌មានវិទ្យារបស់គ្រឹះស្ថានឧត្តមសិក្សា"]
[null,null,"២. ពង្រឹងប្រព័ន្ធពិនិត្យតាមដាននិងវាយតម្លៃរបស់គ្រឹះស្ថានឧត្តមសិក្សា"]
[null,null,"៣. អភិវឌ្ឍសមត្ថភាពស្ថាប័ន និងលើកកម្ពស់គុណវុឌ្ឍិបុគ្គលិកអប់រំ"]
[]
[]
[]
[]
[]
[]
[]
["២.៥៖ ការពង្រឹងគុណភាពនៃការបណ្ដុះបណ្ដាល និងស្រាវជ្រាវ",null,"១. កិច្ចដំណើរការអង្គភាព"]
[null,null,"២. ថវិកាលទ្ធកម្ម"]
[null,null,"៣. ពិនិត្យតាមដាន និងវាយតម្លៃ"]
[null,null,"៤. បង្កើនចំនួននិស្សិតចូលរៀននៅគ្រឹះស្ថានឧត្តមសិក្សាប្រកបដោយសមធម៌ បរិយាបន្ន និងការឆ្លើយតបទៅនឹងតម្រូវការនៃការអភិវឌ្ឍសេដ្ឋកិច្ច និងសង្គម"]
[null,null,"៥. កែលម្អកម្មវិធីសិក្សាដោយសហការជាមួយគ្រឹះស្ថានឧត្តមសិក្សាដៃគូទាំងក្នុង និង/ឬ ក្រៅ ប្រទេស"]
[null,null,"៦. បង្កើតគម្រោងស្រាវជ្រាវដោយសហការជាមួយផ្នែកឧស្សាហកម្ម និង/ឬគ្រឹះស្ថានឧត្តម៧. សិក្សា ដៃគូទាំងក្នុង និង/ឬ ក្រៅ ប្រទេស"]
[null,null,"៧. ពង្រឹងប្រព័ន្ធធានាគុណភាពអប់រំផ្ទៃក្នុងរបស់គ្រឹះស្ថាន"]
[]
[]
[]
[null,null,"១. ពង្រឹងការអនុវត្តប្រព័ន្ធគ្រប់គ្រងទិន្ន័យ ព័ត៌មានវិទ្យារបស់គ្រឹះស្ថានឧត្តមសិក្សា"]
[null,null,"២. ពង្រឹងប្រព័ន្ធពិនិត្យតាមដាននិងវាយតម្លៃរបស់គ្រឹះស្ថានឧត្តមសិក្សា"]
[null,null,"៣. អភិវឌ្ឍសមត្ថភាពស្ថាប័ន និងលើកកម្ពស់គុណវុឌ្ឍិបុគ្គលិកអប់រំ"]
[]
[]
[]
[]
[]
[]
[]
["២.៦៖ ការអភិវឌ្ឍការបណ្តុះបណ្តាល និងស្រាវជ្រាវ",null,"១. កិច្ចដំណើរការអង្គភាព"]
[null,null,"២. ថវិកាលទ្ធកម្ម"]
[null,null,"៣. ពិនិត្យតាមដាន និងវាយតម្លៃ"]
[null,null,"៤. បង្កើនចំនួននិស្សិតចូលរៀននៅគ្រឹះស្ថានឧត្តមសិក្សាប្រកបដោយសមធម៌ បរិយាបន្ន និងការឆ្លើយតបទៅនឹងតម្រូវការនៃការអភិវឌ្ឍសេដ្ឋកិច្ច និងសង្គម"]
[null,null,"៥. កែលម្អកម្មវិធីសិក្សាដោយសហការជាមួយគ្រឹះស្ថានឧត្តមសិក្សាដៃគូទាំងក្នុង និង/ឬ ក្រៅ ប្រទេស"]
[null,null,"៦. បង្កើតគម្រោងស្រាវជ្រាវដោយសហការជាមួយផ្នែកឧស្សាហកម្ម និង/ឬគ្រឹះស្ថានឧត្តម៧. សិក្សា ដៃគូទាំងក្នុង និង/ឬ ក្រៅ ប្រទេស"]
[null,null,"៧. ពង្រឹងប្រព័ន្ធធានាគុណភាពអប់រំផ្ទៃក្នុងរបស់គ្រឹះស្ថាន"]
[]
[]
[]
[null,null,"១. ពង្រឹងការអនុវត្តប្រព័ន្ធគ្រប់គ្រងទិន្ន័យ ព័ត៌មានវិទ្យារបស់គ្រឹះស្ថានឧត្តមសិក្សា"]
[null,null,"២. ពង្រឹងប្រព័ន្ធពិនិត្យតាមដាននិងវាយតម្លៃរបស់គ្រឹះស្ថានឧត្តមសិក្សា"]
[null,null,"៣. អភិវឌ្ឍសមត្ថភាពស្ថាប័ន និងលើកកម្ពស់គុណវុឌ្ឍិបុគ្គលិកអប់រំ"]
[]
[]
[]
[]
[]
[]
[]
["២.៧៖ ការពង្រឹងគុណភាព និងប្រសិទ្ធភាពនៃការបណ្តុះបណ្តាលគ្រូ និងស្រាវជ្រាវ",null,"១. កិច្ចដំណើរការអង្គភាព"]
[null,null,"២. ថវិកាលទ្ធកម្ម"]
[null,null,"៣. លើកកម្ពស់ការស្រាវជ្រាវ​"]
[null,null,"៤. លើកកម្ពស់ការបណ្ដុះបណ្ដាល"]
[]
[]
[]
[]
[]
[]
[null,null,"១. ពង្រឹងការអនុវត្តប្រព័ន្ធគ្រប់គ្រងទិន្ន័យ ព័ត៌មានវិទ្យារបស់គ្រឹះស្ថានឧត្តមសិក្សា"]
[null,null,"២. ពង្រឹងប្រព័ន្ធពិនិត្យតាមដាននិងវាយតម្លៃរបស់គ្រឹះស្ថានឧត្តមសិក្សា"]
[null,null,"៣. អភិវឌ្ឍសមត្ថភាពស្ថាប័ន និងលើកកម្ពស់គុណវុឌ្ឍិបុគ្គលិកអប់រំ"]
[]
[]
[]
[]
[]
[]
[]
["២.៨៖ ការលើកកម្ពស់គុណភាពនៃការបណ្តុះបណ្តាល​ និងការស្រាវជ្រាវ",null,"១. កិច្ចដំណើរការអង្គភាព"]
[null,null,"២. ថវិកាលទ្ធកម្ម"]
[null,null,"៣. ពិនិត្យតាមដាន និងវាយតម្លៃ"]
[null,null,"៤. បង្កើនចំនួននិស្សិតចូលរៀននៅគ្រឹះស្ថានឧត្តមសិក្សាប្រកបដោយសមធម៌ បរិយាបន្ន និងការឆ្លើយតបទៅនឹងតម្រូវការនៃការអភិវឌ្ឍសេដ្ឋកិច្ច និងសង្គម"]
[null,null,"៥. កែលម្អកម្មវិធីសិក្សាដោយសហការជាមួយគ្រឹះស្ថានឧត្តមសិក្សាដៃគូទាំងក្នុង និង/ឬ ក្រៅ ប្រទេស"]
[null,null,"៦. បង្កើតគម្រោងស្រាវជ្រាវដោយសហការជាមួយផ្នែកឧស្សាហកម្ម និង/ឬគ្រឹះស្ថានឧត្តម៧. សិក្សា ដៃគូទាំងក្នុង និង/ឬ ក្រៅ ប្រទេស"]
[null,null,"៧. ពង្រឹងប្រព័ន្ធធានាគុណភាពអប់រំផ្ទៃក្នុងរបស់គ្រឹះស្ថាន"]
[]
[]
[]
[null,null,"១. ពង្រឹងការអនុវត្តប្រព័ន្ធគ្រប់គ្រងទិន្ន័យ ព័ត៌មានវិទ្យារបស់គ្រឹះស្ថានឧត្តមសិក្សា"]
[null,null,"២. ពង្រឹងប្រព័ន្ធពិនិត្យតាមដាននិងវាយតម្លៃរបស់គ្រឹះស្ថានឧត្តមសិក្សា"]
[null,null,"៣. អភិវឌ្ឍសមត្ថភាពស្ថាប័ន និងលើកកម្ពស់គុណវុឌ្ឍិបុគ្គលិកអប់រំ"]
[]
[]
[]
[]
[]
[]
[]
["២.៩៖ ការពង្រឹកគុណភាព និងប្រសិទ្ធភាពនៃការបណ្តុះបណ្តាល និងស្រាវជ្រាវ",null,"១. កិច្ចដំណើរការអង្គភាព"]
[null,null,"២. ថវិកាលទ្ធកម្ម"]
[null,null,"៣. ពិនិត្យតាមដាន និងវាយតម្លៃ"]
[null,null,"៤. បង្កើនចំនួននិស្សិតចូលរៀននៅគ្រឹះស្ថានឧត្តមសិក្សាប្រកបដោយសមធម៌ បរិយាបន្ន និងការឆ្លើយតបទៅនឹងតម្រូវការនៃការអភិវឌ្ឍសេដ្ឋកិច្ច និងសង្គម"]
[null,null,"៥. កែលម្អកម្មវិធីសិក្សាដោយសហការជាមួយគ្រឹះស្ថានឧត្តមសិក្សាដៃគូទាំងក្នុង និង/ឬ ក្រៅ ប្រទេស"]
[null,null,"៦. បង្កើតគម្រោងស្រាវជ្រាវដោយសហការជាមួយផ្នែកឧស្សាហកម្ម និង/ឬគ្រឹះស្ថានឧត្តម៧. សិក្សា ដៃគូទាំងក្នុង និង/ឬ ក្រៅ ប្រទេស"]
[null,null,"៧. ពង្រឹងប្រព័ន្ធធានាគុណភាពអប់រំផ្ទៃក្នុងរបស់គ្រឹះស្ថាន"]
[]
[]
[]
[null,null,"១. ពង្រឹងការអនុវត្តប្រព័ន្ធគ្រប់គ្រងទិន្ន័យ ព័ត៌មានវិទ្យារបស់គ្រឹះស្ថានឧត្តមសិក្សា"]
[null,null,"២. ពង្រឹងប្រព័ន្ធពិនិត្យតាមដាននិងវាយតម្លៃរបស់គ្រឹះស្ថានឧត្តមសិក្សា"]
[null,null,"៣. អភិវឌ្ឍសមត្ថភាពស្ថាប័ន និងលើកកម្ពស់គុណវុឌ្ឍិបុគ្គលិកអប់រំ"]
[]
[]
[]
[]
[]
[]
[]
["២.១០៖ ការពង្រឹងគុណភាព ប្រសិទ្ធភាពអប់រំ និងស្រាវជ្រាវ",null,"១. កិច្ចដំណើរការអង្គភាព"]
[null,null,"២. ថវិកាលទ្ធកម្ម"]
[null,null,"៣. ពិនិត្យតាមដាន និងវាយតម្លៃ"]
[null,null,"៤. បង្កើនចំនួននិស្សិតចូលរៀននៅគ្រឹះស្ថានឧត្តមសិក្សាប្រកបដោយសមធម៌ បរិយាបន្ន និងការឆ្លើយតបទៅនឹងតម្រូវការនៃការអភិវឌ្ឍសេដ្ឋកិច្ច និងសង្គម"]
[null,null,"៥. កែលម្អកម្មវិធីសិក្សាដោយសហការជាមួយគ្រឹះស្ថានឧត្តមសិក្សាដៃគូទាំងក្នុង និង/ឬ ក្រៅ ប្រទេស"]
[null,null,"៦. បង្កើតគម្រោងស្រាវជ្រាវដោយសហការជាមួយផ្នែកឧស្សាហកម្ម និង/ឬគ្រឹះស្ថានឧត្តម៧. សិក្សា ដៃគូទាំងក្នុង និង/ឬ ក្រៅ ប្រទេស"]
[null,null,"៧. ពង្រឹងប្រព័ន្ធធានាគុណភាពអប់រំផ្ទៃក្នុងរបស់គ្រឹះស្ថាន"]
[]
[]
[]
[null,null,"១. ពង្រឹងការអនុវត្តប្រព័ន្ធគ្រប់គ្រងទិន្ន័យ ព័ត៌មានវិទ្យារបស់គ្រឹះស្ថានឧត្តមសិក្សា"]
[null,null,"២. ពង្រឹងប្រព័ន្ធពិនិត្យតាមដាននិងវាយតម្លៃរបស់គ្រឹះស្ថានឧត្តមសិក្សា"]
[null,null,"៣. អភិវឌ្ឍសមត្ថភាពស្ថាប័ន និងលើកកម្ពស់គុណវុឌ្ឍិបុគ្គលិកអប់រំ"]
[]
[]
[]
[]
[]
[]
[]
["២.១៣៖ ការទទួលស្គាល់គុណភាពអប់រំឧត្ដមសិក្សា",null,"១. កិច្ចដំណើរការអង្គភាព"]
[null,null,"២. ថវិកាលទ្ធកម្ម"]
[null,null,"៣. ពិនិត្យតាមដាន និងវាយតម្លៃ"]
[null,null,"៤. ចុះវាយតម្លៃផ្តល់ការទទួលស្គាល់គុណភាពអប់រំលើគ្រឹះស្ថានឧត្តមសិក្សា"]
[null,null,"៥. កែលម្អស្ដង់ដានិងឧបករណ៍សម្រាប់វាយតម្លៃផ្ដល់ការទទួលស្គាល់គុណភាពអប់រំនៅគ្រឹះស្ថានឧត្តមសិក្សា "]
[null,null,"៦. ចុះវាយតម្លៃផ្ដល់ការទទួលស្គាល់កម្មវិធីអប់រំថ្នាក់បណ្ឌិត (Doctoral Program Accreditation)"]
[null,null,"៧. អភិវឌ្ឍប្រព័ន្ធគ្រប់គ្រងព័ត៌មានសម្រាប់ការវាយតម្លៃគុណភាពអប់រំឧត្ដមសិក្សា (MIS)"]
[]
[]
[]
[null,null,"១. អភិវឌ្ឍសមត្ថភាពស្ថាប័ន និងមន្ដ្រីជំនាញ"]
[]
[]
[]
[]
[]
[]
[]
[]
[]
["២.១៤៖ ការពង្រឹងគុណភាពនិងប្រសិទ្ធភាពនៃការអប់រំ ការស្រាវជ្រាវ និងសេវាសហគមន៍លើផ្នែកបច្ចេកវិទ្យា",null,"១. កិច្ចដំណើរការអង្គភាព"]
[null,null,"២. ថវិកាលទ្ធកម្ម"]
[null,null,"៣. ការពិនិត្យតាមដាននិងវាយតម្លៃ"]
[null,null,"៤. បង្កើនចំនួននិស្សិតចូលរៀនផ្នែកបច្ចេកវិទ្យាប្រកបដោយសមធម៌ បរិយាបន្ន និងការឆ្លើយតបទៅតាមតម្រូវការរបស់ប្រទេសជាតិ"]
[null,null,"៥. ពង្រឹង បង្កើន និងសហការជាមួយដៃគូទាំងរដ្ឋ និង/ឬឯកជន ទាំងក្នុង និង/ឬ ក្រៅប្រទេសដើម្បីបង្កើនគុណភាពការបង្រៀននិងរៀន គម្រោងស្រាវជ្រាវ និងសេវាសហគមន៍"]
[null,null,"៦. ពង្រឹងប្រព័ន្ធធានាគុណភាពអប់រំផ្ទៃក្នុងរបស់គ្រឹះស្ថានឧត្តមសិក្សា"]
[]
[]
[]
[]
[null,null,"១. ពង្រឹងគុណភាពការអនុវត្តប្រព័ន្ធគ្រប់គ្រងវិទ្យាស្ថានដោយប្រព័ន្ធព័ត៌មានវិទ្យា"]
[null,null,"២. អភិវឌ្ឍសមត្ថភាពស្ថាប័ន និងលើកកម្ពស់គុណវុឌ្ឍិបុគ្គលិកអប់រំ"]
[]
[]
[]
[]
[]
[]
[]
[]
["២.១៥៖ ការពង្រឹងគុណភាព និងប្រសិទ្ធភាពនៃការបណ្តុះបណ្តាល និងស្រាវជ្រាវ",null,"១. កិច្ចដំណើរការអង្គភាព"]
[null,null,"២. ថវិកាលទ្ធកម្ម"]
[null,null,"៣. ពិនិត្យតាមដាន និងវាយតម្លៃ"]
[null,null,"៤. បង្កើនចំនួននិស្សិតចូលរៀននៅគ្រឹះស្ថានឧត្តមសិក្សាប្រកបដោយសមធម៌ បរិយាបន្ន និងការឆ្លើយតបទៅនឹងតម្រូវការនៃការអភិវឌ្ឍសេដ្ឋកិច្ច និងសង្គម"]
[null,null,"៥. កែលម្អកម្មវិធីសិក្សាដោយសហការជាមួយគ្រឹះស្ថានឧត្តមសិក្សាដៃគូទាំងក្នុង និង/ឬ ក្រៅ ប្រទេស"]
[null,null,"៦. បង្កើតគម្រោងស្រាវជ្រាវដោយសហការជាមួយផ្នែកឧស្សាហកម្ម និង/ឬគ្រឹះស្ថានឧត្តម៧. សិក្សា ដៃគូទាំងក្នុង និង/ឬ ក្រៅ ប្រទេស"]
[null,null,"៧. ពង្រឹងប្រព័ន្ធធានាគុណភាពអប់រំផ្ទៃក្នុងរបស់គ្រឹះស្ថាន"]
[]
[]
[]
[null,null,"១. ពង្រឹងការអនុវត្តប្រព័ន្ធគ្រប់គ្រងទិន្ន័យ ព័ត៌មានវិទ្យារបស់គ្រឹះស្ថានឧត្តមសិក្សា"]
[null,null,"២. ពង្រឹងប្រព័ន្ធពិនិត្យតាមដាននិងវាយតម្លៃរបស់គ្រឹះស្ថានឧត្តមសិក្សា"]
[null,null,"៣. អភិវឌ្ឍសមត្ថភាពស្ថាប័ន និងលើកកម្ពស់គុណវុឌ្ឍិបុគ្គលិកអប់រំ"]
[]
[]
[]
[]
[]
[]
[]
["២.១៦. ការពង្រឹងគុណភាព ប្រសិទ្ធភាពអប់រំ និងស្រាវជ្រាវលើផ្នែកបច្ចេកទេសនិងវិជ្ជាជីវៈ",null,"១. កិច្ចដំណើរការអង្គភាព"]
[null,null,"២. ថវិកាលទ្ធកម្ម"]
[null,null,"៣. លើកកម្ពស់ការបណ្ដុះបណ្ដាល ផ្នែកវិទ្យាសាស្ត្រ និងបច្ចេកវិទ្យា"]
[null,null,"៤. ពង្រឹងប្រព័ន្ធធានាគុណភាពអប់រំផ្ទៃក្នុងរបស់គ្រឹះស្ថាន"]
[]
[]
[]
[]
[]
[]
[null,null,"១. ពង្រឹងការអនុវត្តការងារគ្រប់គ្រងតាមរយៈប្រព័ន្ធគ្រប់គ្រងទិន្ន័យ ព័ត៌មានវិទ្យារបស់គ្រឹះស្ថានឧត្តមសិក្សា"]
[null,null,"២. អភិវឌ្ឍសមត្ថភាពស្ថាប័ន និងលើកកម្ពស់គុណវុឌ្ឍិបុគ្គលិកអប់រំ"]
[]
[]
[]
[]
[]
[]
[]
[]
["កម្មវិធីទី៣៖ ការអភិវឌ្ឍវិស័យអប់រំកាយនិងកីឡា"]
[".១៖ ការអភិវឌ្ឍកីឡាមហាជន",1,"១. កិច្ចដំណើការអង្គភាព"]
[null,1,"២. ថវិកាលទ្ធកម្ម"]
[null,1,"៣. ពិនិត្យតាមដាន និងវាយតម្លៃ"]
[null,1,"៤. អភិរក្សនិងអភិវឌ្ឍកីឡាគ្រប់ប្រភេទ"]
[null,1,"៥. អភិវឌ្ឍកីឡាសម្រាប់ទាំងអស់គ្នា "]
[null,1,"៦. ផ្តល់ថវិកាគាំទ្រដល់សហព័ន្ធកីឡាជាតិ"]
[null,1,"៧. អភិវឌ្ឍ និងកែលម្អហេដ្ឋារចនាសម្ព័ន្ធ បរិក្ខារកីឡា និងការជួសជុលថែទាំ "]
[null,1,"៨. រៀបចំ និងចូលរួមការប្រកួតកីឡាលក្ខណៈជាតិ និងអន្តរជាតិ និងប្រាក់រង្វាន់"]
[]
[]
[null,2,"១. អភិវឌ្ឍសមត្ថភាពបុគ្គលិកអប់រំ គ្រូបង្វឹក អាជ្ញាកណ្តាល ចៅក្រម និងមន្ត្រីរៀបចំការប្រកួត"]
[null,2,"២. អនុវត្តផែនការ៥ឆ្នាំអាស៊ាន និងកិច្ចសហប្រតិបត្តិការអន្តរជាតិ"]
[null,2,"៣. អភិវឌ្ឍក្របខ័ណ្ឌច្បាប់ និងគតិយុត្តិ"]
[null,2]
[null,2]
[null,2]
[null,2]
[null,2]
[null,2]
[null,2]
[".២៖ ការអភិវឌ្ឍអប់រំកាយ និងកីឡាសិស្ស និស្សិត",1,"១. ​កិច្ចដំណើការអង្គភាព"]
[null,1,"២. ថវិកាលទ្ធកម្ម"]
[null,1,"៣. ពិនិត្យតាមដាន និងវាយតម្លៃ"]
[null,1,"៤. ពង្រឹងសកម្មភាពអប់រំកាយ និងកីឡាតាមគ្រឹះស្ថានសិក្សា សមាគម និងក្លឹបកីឡា"]
[null,1,"៥. អភិវឌ្ឍ និងកែលម្អហេដ្ឋារចនាសម្ព័ន្ធ បរិក្ខារកីឡា និងការជួសជុលថែទាំទីលានកីឡាតាមគ្រឹះស្ថានសិក្សា"]
[null,1,"៦. រៀបចំ និងចូលរួមប្រកួតកីឡាសិស្ស និស្សិតថ្នាក់ជាតិ និងអន្តរជាតិនិងប្រាក់រង្វាន់ជ័យលាភី"]
[null,1,"៧. អភិវឌ្ឍកម្មវិធីសិក្សាអប់រំកាយ និងកីឡាសម្រាប់ គ្រឹះស្ថានសិក្សា និងវិទ្យាស្ថានគរុកោសល្យ"]
[]
[]
[]
[null,2,"១. អភិវឌ្ឍសមត្ថភាពស្តីពីការអប់រំកាយ និងកីឡាដល់គ្រូតាមគ្រឹះស្ថានសិក្សា"]
[null,2,"២. ពង្រឹង និងពង្រីកកិច្ចសហប្រតិបត្តិការជាតិ និងអន្តរជាតិ"]
[]
[]
[]
[]
[]
[]
[]
[]
[".៣៖ ការបណ្តុះបណ្តាលធនធានមនុស្សផ្នែកអប់រំកាយ និងកីឡា",1,"១. ​កិច្ចដំណើការអង្គភាព"]
[null,1,"២. ថវិកាលទ្ធកម្ម"]
[null,1,"៣. ពិនិត្យតាមដាន និងវាយតម្លៃ"]
[null,1,"៤. បណ្តុះបណ្តាលគរុសិស្ស និស្សិតអប់រំកាយនិងកីឡា"]
[null,1,"៥. អភិវឌ្ឍ និងកែលម្អហេដ្ឋារចនាសម្ព័ន្ធ បរិក្ខារកីឡា និងការជួសជុលថែទាំ នៅវិទ្យាស្ថានជាតិអប់រំកាយ និងកីឡា"]
[null,1,"៦. អភិវឌ្ឍកម្មវិធីសិក្សា និងស្រាវជ្រាវនៅវិទ្យាស្ថានជាតិអប់រំកាយ និងកីឡា"]
[]
[]
[]
[]
[null,2,"១. អភិវឌ្ឍសមត្ថភាពមន្រ្តី និងគ្រូអប់រំកាយ និងកីឡា"]
[null,2,"២. ពង្រឹង និងពង្រីកកិច្ចសហប្រតិបត្តិការជាតិ និងអន្តរជាតិ"]
[]
[]
[]
[]
[]
[]
[]
[]
[".៤៖ ការអភិវឌ្ឍកីឡាកម្រិតខ្ពស់",1,"១. កិច្ចដំណើការអង្គភាព"]
[null,1,"២. ថវិកាលទ្ធកម្ម"]
[null,1,"៣. ពិនិត្យតាមដាន និងវាយតម្លៃ"]
[null,1,"៤. អភិវឌ្ឍកីឡាថ្នាលឆ្ពោះទៅស៊ីហ្គេមឆ្នាំ២០២៣"]
[null,1,"៥. អភិវឌ្ឍកីឡាកម្រិតខ្ពស់ "]
[null,1,"៦. អភិវឌ្ឍហេដ្ឋារចនាសម្ព័ន្ធ និងបំពាក់សម្ភាររូបវ័ន្តកីទ្បាស្របតាមស្តង់ដា"]
[null,1,"៧. ចូលរួមការប្រកួតកីឡាស៊ីហ្គេម អន្តរជាតិនានា និងប្រាក់រង្វាន់ជ័យលាភី"]
[null,1,"៨. ផលិតទស្សនាវដ្តីកីឡា និងចងក្រងឯកសារកីឡា"]
[null,1,"៩. បង្កើតសារមន្ទីរកីឡា"]
[]
[null,2,"១. អភិវឌ្ឍសមត្ថភាពស្ថាប័ន និងមន្ត្រីផ្នែកវិទ្យាសាស្រ្តកីឡា និងវេជ្ជសាស្រ្តកីឡា"]
[null,2,"២. ពង្រឹង និងអភិវឌ្ឍទីភ្នាក់ងារប្រឆាំងការប្រើប្រាស់សារធាតុដូប៉ាក្នុងវិស័យកីឡា"]
[null,2,"៣. ពង្រឹង និងពង្រីកកិច្ចសហប្រតិបត្តិការជាតិ និងអន្តរជាតិ"]
[]
[]
[]
[]
[]
[]
[]
["កម្មវិធីទី៤៖ យុវជនម្នាក់មានជំនាញមួយយ៉ាងតិចប្រចាំជីវិត"]
[".១៖ ការអភិវឌ្ឍសកម្មភាពយុវជន",1,"១. កិច្ចដំណើការអង្គភាព"]
[null,1,"២. ថវិកាលទ្ធកម្ម"]
[null,1,"៣. ពិនិត្យតាមដាន និងវាយតម្លៃ"]
[null,1,"៤. អភិវឌ្ឍក្រុមប្រឹក្សាកុមារកម្ពុជា និងក្រុមប្រឹក្សាយុវជនកម្ពុជា"]
[null,1,"៥. លើកកម្ពស់ការយល់ដឹងអំពីធុរកិច្ច អក្ខរកម្មហិរញ្ញវត្ថុ ការគ្រប់គ្រងផ្លូវចិត្ត "]
[null,1,"៦. កម្មវិធីអប់រំយុវជន និងកុមារតាមរយៈការផ្សព្វផ្សាយ "]
[null,1,"៧. លើកកម្ពស់ចលនាប្រឡងប្រណាំង៣ល្អ កូនល្អ សិស្សល្អ និងមិត្តល្អ របស់កុមារ និងយុវជន"]
[null,1,"៨. កម្មវិធីប្រឡងប្រណាំងស្នាដៃយុវជនសត្សវត្សរ៍ទី២១ "]
[null,1,"៩. កម្មវិធីផ្លាស់ប្តូរទំនាក់ទំនងយុវជនជាតិ និងអន្តរជាតិ"]
[]
[null,2,"១. អភិវឌ្ឍសមត្ថភាពស្ថាប័ន និងមន្ត្រីទទួលបន្ទុកការងារ  យុវជន នៅថ្នាក់ជាតិ និងថ្នាក់ក្រោមជាតិ"]
[]
[]
[]
[]
[]
[]
[]
[]
[]
[".២៖ ការអភិវឌ្ឍមជ្ឈមណ្ឌលយុវជន",1,"១. កិច្ចដំណើការអង្គភាព"]
[null,1,"២.​ ថវិកាលទ្ធកម្ម"]
[null,1,"៣. ពិនិត្យតាមដាន និងវាយតម្លៃ"]
[null,1,"៤. អភិវឌ្ឍមជ្ឈមណ្ឌលជាតិយុវជនកម្ពុជា និងមជ្ឈមណ្ឌលយុវជន "]
[null,1,"៥.អភិវឌ្ឍជំនាញបច្ចេកទេសនិងជំនាញទន់សម្រាប់យុវជន"]
[null,1,"៦.លើកកម្ពស់កម្មវិធីអភិវឌ្ឍសមត្ថភាពយុវជន"]
[null,1,"៧.លើកកម្ពស់ការងារស្ម័គ្រចិត្តរបស់យុវជនក្នុងកិច្ចការសង្គម"]
[null,1,"៨. អនុវត្តផែនការសកម្មភាពជាតិស្តីពីការអភិវឌ្ឍយុវជនកម្ពុជា"]
[null,1]
[null,1]
[null,2,"១. អភិវឌ្ឍសមត្ថភាពស្ថាប័ន និងមន្ត្រីទទួលបន្ទុកការងារ  យុវជន នៅថ្នាក់ជាតិ និងថ្នាក់ក្រោមជាតិ"]
[]
[]
[]
[]
[]
[]
[]
[]
[]
[".៣៖ ការពង្រឹងសកម្មភាពកាយរិទ្ធ",1,"១. កិច្ចដំណើការអង្គភាព"]
[null,1,"២. ថវិកាលទ្ធកម្ម"]
[null,1,"៣. ពិនិត្យតាមដាន និងវាយតម្លៃ"]
[null,1,"៤. ពង្រីកសមាជិកភាពកាយរឹទ្ធិ និងបណ្តុះបណ្តាលជំនាញកាយរឹទ្ធិកម្ម"]
[null,1,"៥. អនុវត្តសកម្មភាពកាយរឹទ្ធិកម្មស្របតាមកម្មវិធីរបស់អង្គការពិភពលោកនៃចលនាកាយរឹទ្ធិ"]
[null,1,"៦. ពង្រឹង និងពង្រីកកិច្ចសហប្រតិបត្តិការការងារ កាយរឹទ្ធិលើឆាកអន្តរជាតិ"]
[null,1,"៧. អនុវត្តកម្មវិធីវឌ្ឍនកម្មប័ណ្ណសញ្ញាកាយរឹទ្ធិ"]
[]
[]
[]
[null,2,"១. អភិវឌ្ឍសមត្ថភាពស្ថាប័ន និងមន្ត្រីទទួលបន្ទុកការងារ  កាយរឹទ្ធិនៅថ្នាក់ជាតិ និងថ្នាក់ក្រោមជាតិ"]
[]
[]
[]
[]
[]
[]
[]
[]
[]
["កម្មវិធីទី៥៖ ការគាំទ្រសេវាអប់រំ និងអភិបាលកិច្ចល្អ"]
[".១៖ ការអភិវឌ្ឍ និងពង្រឹងប្រព័ន្ធផែនការអប់រំ"]
[]
[]
[]
[]
[]
[]
[]
[]
[]
[null,2,"១. កិច្ចដំណើការអង្គភាព"]
[null,2,"២. ថវិកាលទ្ធកម្ម"]
[null,2,"៣. ពិនិត្យតាមដាន និងវាយតម្លៃ"]
[null,2,"៤. កសាងផែនការយុទ្ធសាស្រ្ត និងផែនការប្រតិបត្តិ"]
[null,2,"៥. អភិវឌ្ឍសមត្ថភាពស្ថាប័ន មន្រ្តី និងប្រព័ន្ធផែនការអប់រំគ្រប់កម្រិតថ្នាក់"]
[null,2,"៦. ពង្រឹង និងពង្រីកកិច្ចសហប្រតិបត្តិការជាតិ និងអន្តរជាតិ"]
[]
[]
[]
[]
[".២៖ ការគ្រប់គ្រង និងពង្រឹងប្រសិទ្ធភាពធនធានមនុស្ស"]
[]
[]
[]
[]
[]
[]
[]
[]
[]
[null,2,"១. ដំណើរការអង្គភាព"]
[null,2,"២. ថវិកាលទ្ធកម្ម"]
[null,2,"៣. ពង្រឹងប្រសិទ្ធភាព ការគ្រប់គ្រងធនធានមនុស្ស"]
[null,2,"៤. ប្រាក់បៀវត្ស"]
[null,2,"៥. កម្មវិធីគាំទ្រការងារពង្រាយគ្រូ"]
[null,2,"៦. ឧបត្ថម្ភជីវភាពគ្រូបង្រៀននៅតំបន់ដាច់ស្រយាល និង​តំបន់ជួបការលំបាក"]
[null,2,"៧. ពង្រឹងសមត្ថភាពធនធានមនុស្ស"]
[null,2,"៨. ផ្សារភ្ជាប់ការវាយតម្លៃគ្រូបង្រៀន ទៅនឹងការងារវិក្រឹតការ និងការដំឡើងថ្នាក់"]
[null,2,"៩. ការប្រឡងជ្រើសរើសគ្រូបង្រៀនឧត្តមសិក្សា"]
[null,2,"១០. ពង្រឹងប្រសិទ្ធភាពក្នុងការប្រើប្រាស់ប្រព័ន្ធព័ត៌មានគ្រប់គ្រងធនធានមនុស្ស (HRMIS) លើការគ្រប់គ្រងបុគ្គលិកអប់រំ"]
[".៣៖ ការអភិវឌ្ឍសមត្ថភាព ការងារគ្រប់គ្រង ផែនការហិរញ្ញវត្ថុ និងមូលដ្ឋានសម្ភារៈ",1,"១. ចំណាយលើអត្ថប្រយោជន៍សង្គម"]
[]
[]
[]
[]
[]
[]
[]
[]
[]
[null,2,"១. កិច្ចដំណើរការអង្គភាព"]
[null,2,"២. ថវិកាលទ្ធកម្ម"]
[null,2,"៣. ពិនិត្យតាមដាន និងវាយតម្លៃ"]
[null,2,"៤. អភិវឌ្ឍស្ថាប័ននិងការលើកកម្ពស់សមត្ថភាពមន្រ្តី"]
[null,2,"៥. ពង្រឹងយន្តការនិងអភិឌ្ឍប្រព័ន្ធព័ត៌មានវិទ្យាលើការគ្រប់គ្រងហិរញ្ញវត្ថុ"]
[]
[]
[]
[]
[]
[".៤៖ ការពង្រឹងការងារសវនកម្មផ្ទៃក្នុង"]
[]
[]
[]
[]
[]
[]
[]
[]
[]
[null,2,"១. កិច្ចដំណើរការអង្គភាព"]
[null,2,"២. ថវិកាលទ្ធកម្ម"]
[null,2,"៣. ពិនិត្យតាមដាន និងវាយតម្លៃ"]
[null,2,"៤. ពង្រឹងការអនុវត្តការងារសវនកម្មផ្ទៃក្នុង"]
[null,2,"៥. អភិវឌ្ឍសមត្ថភាពមន្ត្រីលើការងារសវនកម្មផ្ទៃក្នុង"]
[]
[]
[]
[]
[]
[".៥៖ ការពិនិត្យតាមដាន វាយតម្លៃ និងអធិការកិច្ចប្រព័ន្ធធានាគុណភាពអប់រំ",1,"១. កិច្ចដំណើរការអង្គភាព"]
[null,1,"២. ថវិកាលទ្ធកម្ម"]
[null,1,"៣. ពិនិត្យតាមដាន និងវាយតម្លៃ"]
[null,1,"៤. តេស្តរង្វាយតម្លៃថ្នាក់ជាតិលទ្ធផលសិក្សារបស់សិស្សថ្នាក់ទី៣ ទី៦ ទី៨និងទី១១"]
[null,1,"៥. អនុវត្តតេស្តថ្នាក់តំបន់(SEA-PLM) "]
[null,1,"៦. តេស្តរង្វាយតម្លៃថ្នាក់អន្តរជាតិ(PISA)"]
[null,1,"៧. បង្កើតប្រព័ន្ធរង្វាយតម្លៃនិងការធ្វើតេស្តក្នុងថ្នាក់រៀន"]
[null,1,"៨. អធិការកិច្ចតាមកាលកំណត់និងតាមប្រធានបទដើម្បីលើកកម្ពស់គុណភាពអប់រំ"]
[null,1,"៩. អធិការកិច្ចតាមតំបន់(០៨តំបន់)"]
[null,null,"១០. ពិនិត្យតាមដានតាមការធ្វើអធិការកិច្ចតាមកាលកំណត់របស់រាជធានី ខេត្ត្"]
[null,2,"១. បំប៉នសមត្ថភាពមន្រ្តីលើការអនុវត្តតេស្តរង្វាយតម្លៃលទ្ធផលសិក្សាថ្នាក់ជាតិ ថ្នាក់តំបន់ និងអន្តរជាតិ"]
[null,null,"២. ប៉នសមត្ថភាពមន្រ្តីលើការងារអធិការកិច្ចតាមកាលកំណត់ និងប្រធានបទ"]
[null,null,"៣. វាស់ស្ទង់សមត្ថភាពកម្រិតសមមូលនិងកំណត់វិញ្ញាបនបត្រដែលមានតម្លៃស្មើដោយ\nសហការជាមួយស្ថាប័នពាក់ព័ន្ធ"]
[]
[]
[]
[]
[]
[]
[]
[".៦៖ អធិការកិច្ចរដ្ឋបាល និងហិរញ្ញវត្ថុ"]
[]
[]
[]
[]
[]
[]
[]
[]
[]
[null,2,"១. កិច្ចដំណើរការអង្គភាព"]
[null,2,"២. ថវិកាលទ្ធកម្ម"]
[null,2,"៣. ពិនិត្យតាមដាន និងវាយតម្លៃ"]
[null,2,"៤. អធិការកិច្ចការងារគ្រប់គ្រងរដ្ឋបាលនិងហិរញ្ញវត្ថុនៅថ្នាក់ជាតិនិងថ្នាក់ក្រោមជាតិ"]
[null,2,"៥. អភិវឌ្ឍសមត្ថភាពមន្រ្តីជំនាញនិងផ្សព្វផ្សាយរបាយការណ៍អធិការកិច្ច"]
[]
[]
[]
[]
[]
[".៧៖ លើកកម្ពស់ការផ្សព្វផ្សាយព័ត៌មានអប់រំ និងកិច្ចសហប្រតិបត្តិការ អាស៊ាន និងស៊ីមេអូ",1,"១. កិច្ចដំណើរការអង្គភាព"]
[null,1,"២. ថវិកាលទ្ធកម្ម"]
[null,1,"៣. ពិនិត្យតាមដាន និងវាយតម្លៃ"]
[null,1,"៤. ផលិតនិងផ្សព្វផ្សាយព័ត៌មានអប់រំ"]
[null,1,"៥. លើកកម្ពស់កិច្ចសហប្រតិបត្តិការអាស៊ាន និងស៊ីមេអូ"]
[null,1,"៦. អភិវឌ្ឍសមត្ថភាពមន្ត្រីអប់រំស្តីពីការប្រមូល សរសេរ និងឆ្លើយតបព័ត៌មាន"]
[]
[]
[]
[]
[]
[]
[]
[]
[]
[]
[]
[]
[]
[]
[".៨៖ ការពង្រឹងការងារនីតិកម្ម"]
[]
[]
[]
[]
[]
[]
[]
[]
[]
[null,2,"១. កិច្ចដំណើរការអង្គភាព"]
[null,2,"២. ថវិកាលទ្ធកម្ម"]
[null,2,"៣. ពិនិត្យតាមដាន និងវាយតម្លៃ"]
[null,2,"៤. កសាងលិខិតបទដ្ឋានគតិយុត្តវិស័យអប់រំ"]
[null,2,"៥. អភិវឌ្ឍសមត្ថភាពមន្ត្រីអប់រំលើការងារនីតិកម្ម និងអភិបាលកិច្ចវិស័យអប់រំ"]
[null,2,"៦. អនុវត្តការងារកំណែទម្រង់វិមជ្ឈការនិងវិសហមជ្ឈការវិស័យអប់រំ"]
[]
[]
[]
[]
[".៩៖ ការពង្រឹងការគ្រប់គ្រងហេដ្ឋារចនាសម្ព័ន្ធអប់រំ"]
[]
[]
[]
[]
[]
[]
[]
[]
[]
[null,2,"១. កិច្ចដំណើរការអង្គភាព"]
[null,2,"២. ថវិកាលទ្ធកម្ម"]
[null,2,"៣. ពិនិត្យតាមដាន និងវាយតម្លៃ"]
[null,2,"៤. អភិវឌ្ឍសមត្ថភាពមន្ត្រីថ្នាក់ក្រោមជាតិស្តីពីការគ្រប់គ្រងហេដ្ឋារចនាសម្ព័ន្ធអប់រំ"]
[null,2,"៥. គ្រប់គ្រង ថែទាំ និងជួសជុល"]
[]
[]
[]
[]
[]
[".១០៖ ការពង្រឹងការគ្រប់គ្រង ការផ្គត់ផ្គង់សម្ភារៈ និងទ្រព្យសម្បត្តិរដ្ឋ"]
[]
[]
[]
[]
[]
[]
[]
[]
[]
[null,2,"១. កិច្ចដំណើរការអង្គភាព"]
[null,2,"២. ថវិកាលទ្ធកម្ម"]
[null,2,"៣. ពិនិត្យតាមដាន និងវាយតម្លៃ"]
[null,2,"៤. គាំទ្រ គ្រប់គ្រងនិងអភិវឌ្ឍសមត្ថភាពលើការងារសម្ភារទ្រព្យសម្បត្តិរដ្ឋ"]
[]
[]
[]
[]
[]
[]
[".១១៖ ការអភិវឌ្ឍ និងពង្រឹងប្រសិទ្ធភាពការគ្រប់គ្រង និងការធានាភាពសក្តិសិទ្ធនៃសេវារដ្ឋបាលអប់រំ"]
[]
[]
[]
[]
[]
[]
[]
[]
[]
[null,2,"១. កិច្ចដំណើរការអង្គភាព"]
[null,2,"២. ថវិកាលទ្ធកម្ម"]
[null,2,"៣. ពិនិត្យតាមដាន និងវាយតម្លៃ"]
[null,2,"៤. គាំទ្រសេវារៀបចំពិធីសម្រាប់វិស័យអប់រំ"]
[null,2,"៥. អភិវឌ្ឍសមត្ថភាពមន្ត្រីគ្រប់គ្រងរដ្ឋបាលអប់រំ"]
[]
[]
[]
[]
[]
[".១២៖ ការអភិវឌ្ឍកិច្ចសហប្រតិបត្តិការជាតិ អន្តរជាតិលើវិស័យអប់រំ",1,"១. ប្រឡងជ្រើសរើសនិស្សិតអាហារូបករណ៍"]
[]
[]
[]
[]
[]
[]
[]
[]
[]
[null,2,"១. កិច្ចដំណើរការអង្គភាព"]
[null,2,"២. ថវិកាលទ្ធកម្ម"]
[null,2,"៣. ពិនិត្យតាមដាន និងវាយតម្លៃ"]
[null,2,"៤. ពង្រឹងសមត្ថភាពមន្ត្រីក្នុងការគ្រប់គ្រងសិស្ស និស្សិតអារូបករណ៍ ផ្សព្វផ្សាយព័ត៌មានអាហារូបករណ៍ និងសហប្រតិបត្តិការ"]
[]
[]
[]
[]
[]
[]
[".១៣៖ ការអភិវឌ្ឍប្រព័ន្ធព័ត៌មានគ្រប់គ្រងអប់រំ"]
[]
[]
[]
[]
[]
[]
[]
[]
[]
[null,2,"១. កិច្ចដំណើការអង្គភាព"]
[null,2,"២. ថវិកាលទ្ធកម្ម"]
[null,2,"៣. ពិនិត្យតាមដាន និងវាយតម្លៃ"]
[null,2,"៤. អភិវឌ្ឍប្រព័ន្ធព័ត៌មានគ្រប់គ្រងអប់រំ"]
[null,2,"៥. អភិវឌ្ឍស្ថាប័ន និងសមត្ថភាពមន្រ្តីទទួលបន្ទុកការងារប្រព័ន្ធព័ត៌មានគ្រប់គ្រងអប់រំ"]
[null,2]
[]
[]
[]
[]
[".១៤៖ អភិវឌ្ឍគោលនយោបាយអប់រំ និងការស្រាវជ្រាវ"]
[]
[]
[]
[]
[]
[]
[]
[]
[]
[null,2,"១. កិច្ចដំណើការអង្គភាព"]
[null,2,"២. ថវិកាលទ្ធកម្ម"]
[null,2,"៣. ពិនិត្យតាមដាន និងវាយតម្លៃការអនុវត្តគោលនយោបាយ"]
[null,2,"៤. រៀបចំ និងអភិវឌ្ឍគោលនយោបាយអប់រំ យុវជន និងកីឡា "]
[null,2,"៥. សិក្សាស្រាវជ្រាវនិងផ្សព្វផ្សាយនិន្នាការអប់រំក្នុងប្រទេស តំបន់ និងសកលលោក"]
[null,2,"៦. អភិវឌ្ឍស្ថាប័ន និងសមត្ថភាពមន្រ្តីទទួលបន្ទុកការកសាងគោលនយោបាយអប់រំ យុវជន និងកីឡា"]
[null,2,"៧. អាហារូបរណ៍សម្រាប់ថ្នាក់បណ្ឌិតសិក្សានៅប្រទេសបារាំង"]
[]
[]
[]
[".១៥៖ អភិវឌ្ឍប្រព័ន្ធពិនិត្យតាមដាន និងវាយតម្លៃ"]
[]
[]
[]
[]
[]
[]
[]
[]
[]
[null,2,"១. កិច្ចដំណើការអង្គភាព"]
[null,2,"២. ថវិកាលទ្ធកម្ម"]
[null,2,"៣. ពិនិត្យតាមដាន និងវាយតម្លៃ"]
[null,2,"៤. ផលិតរបាយការណ៍សមិទ្ធកម្មសម្រាប់ក្រសួងអប់រំ​ យុវជន និងកីឡា"]
[null,2,"៥. អភិវឌ្ឍប្រព័ន្ធពិនិត្យតាមដាន និងវាយតម្លៃ"]
[]
[]
[]
[]
[]
[".១៦៖ ការអភិវឌ្ឍនិងពង្រឹងប្រព័ន្ធព័ត៌មានវិទ្យា"]
[]
[]
[]
[]
[]
[]
[]
[]
[]
[null,2,"១. កិច្ចដំណើរការអង្គភាព"]
[null,2,"២. ថវិកាលទ្ធកម្ម"]
[null,2,"៣. ពិនិត្យតាមដាន និងវាយតម្លៃ"]
[null,2,"៤. ផ្តល់សេវាកម្មបច្ចេកវិទ្យាព័ត៌មាននិងការអប់រំមិនផ្លូវការ"]
[null,2,"៥. អភិវឌ្ឍសមត្ថភាពមន្ត្រីអប់រំ និងសហប្រតិបត្តិការបច្ចេកវិទ្យាព័ត៌មាន"]
[]
[]
[]
[]
[]
[".១៧៖ ការពង្រឹងគុណភាព និងប្រសិទ្ធភាពការងារប្រឡងនៅមធ្យមសិក្សានិងអប់រំបច្ចេកទេស",1,"១. ការងារប្រឡងនៅមធ្យមសិក្សានិងអប់រំបច្ចេកទេស "]
[]
[]
[]
[]
[]
[]
[]
[]
[]
[null,2,"១. កិច្ចដំណើរការអង្គភាព"]
[null,2,"២. ថវិកាលទ្ធកម្ម"]
[null,2,"៣. ពិនិត្យតាមដាន និងវាយតម្លៃ"]
[null,2,"៤. ពង្រឹងសមត្ថភាពបុគ្គលិកអប់រំលើការងារប្រឡងក្នុង និងក្រៅប្រទេស"]

{"sheet":"ព័ត៌មានអង្គភាព","index":1,"n_rows":47,"n_cols":12,"rows_kept":47,"cut":false,"hidden":false,"merged":[[0,1,0,2]]}
[null,"សូមជ្រើសរើសរាជធានី-ខេត្ត",null,null,null,null,null,null,null,{"$f":"Update_8!A5","v":"សកម្មភាពរង ទី ១៖ ធានាឱ្យការអប់រំមានគុណភាព ប្រកបដោយសមធម៌ បរិយាបន្ន និងលើកកម្ពស់ឱកាសក្នុងការសិក្សាពេញមួយជីវិត"}]
[null,"រាជធានី-ខេត្ត","ខេត្តបន្ទាយមានជ័យ",null,null,"រាជធានី ខេត្ត","ល.រ","With code",null,{"$f":"Update_8!A6","v":"សកម្មភាពរង ទី ២៖ ធានាភាពស័ក្តិសិទ្ធនៃភាពជាអ្នកដឹកនាំ និងគ្រប់គ្រងរបស់មន្ត្រី អប់រំគ្រប់លំដាប់ថ្នាក់"}]
[null,"កម្មវិធីទី ១",{"$f":"Update_8!A8","v":"កម្មវិធីទី១៖ ការអភិវឌ្ឍការអប់រំក្នុងប្រព័ន្ធ ក្រៅប្រព័ន្ធ និងមិនផ្លូវការ"},null,null,"ខេត្តបន្ទាយមានជ័យ","០១",{"$f":"CONCATENATE(G3, \"៖\",F3)","v":"០១៖ខេត្តបន្ទាយមានជ័យ"},null,{"$f":"CONCATENATE(\"១.១០.\",INDEX(province_code,MATCH(province,province_list,0)),K3)","v":"១.១០.០១.១៖ ការពង្រីកការអប់រំកុមារតូច"},{"$f":"INDIRECT(\"Update_8!A\" & 9 +L3)","v":".១៖ ការពង្រីកការអប់រំកុមារតូច"},0]
[null,"អនុកម្មវិធីទី១.១០","អនុកម្មវិធីទី ១.១០៖ សេវាគាំទ្រការអភិវឌ្ឍការអប់រំក្នុងប្រព័ន្ធ ក្រៅប្រព័ន្ធ និងមិនផ្លូវការរបស់មន្ទីរជំនាញ រាជធានី ខេត្ត",null,null,"ខេត្តបាត់ដំបង","០២",{"$f":"CONCATENATE(G4, \"៖\",F4)","v":"០២៖ខេត្តបាត់ដំបង"},null,"១.១០.០១.២៖ ការពង្រឹងគុណភាព និងប្រសិទ្ធភាពនៃការអប់រំនៅបឋមសិក្សា",{"$f":"INDIRECT(\"Update_8!A\" & 9 +L4)","v":".២៖ ការពង្រឹងគុណភាព និងប្រសិទ្ធភាពនៃការអប់រំនៅបឋមសិក្សា"},20]
[null,"ចង្កោមសកម្មភាព",{"$f":"CONCATENATE(\"ចង្កោមសកម្មភាពទី \",INDEX(province_list_with_code,MATCH(province,province_list,0)))","v":"ចង្កោមសកម្មភាពទី ០១៖ខេត្តបន្ទាយមានជ័យ"},null,null,"ខេត្តកំពង់ចាម","០៣",{"$f":"CONCATENATE(G5, \"៖\",F5)","v":"០៣៖ខេត្តកំពង់ចាម"},null,"១.១០.០១.៣៖ ការចូលរៀនប្រកបដោយសមធម៌​ ការពង្រឹងគុណភាព និងប្រសិទ្ធភាពនៃការ​អប់រំនៅមធ្យមសិក្សា",".៣៖ ការចូលរៀនប្រកបដោយសមធម៌​ ការពង្រឹងគុណភាព និងប្រសិទ្ធភាពនៃការ​អប់រំនៅមធ្យមសិក្សា",40]
[null,"សកម្មភាពទី១",{"$f":"J3","v":"១.១០.០១.១៖ ការពង្រីកការអប់រំកុមារតូច"},null,null,"ខេត្តកំពង់ឆ្នាំង","០៤","០៤៖ខេត្តកំពង់ឆ្នាំង",null,"១.១០.០១.៤៖ ការពង្រីកការអប់រំក្រៅប្រព័ន្ធ",".៤៖ ការពង្រីកការអប់រំក្រៅប្រព័ន្ធ",60]
[null,"សកម្មភាពទី២",{"$f":"J4","v":"១.១០.០១.២៖ ការពង្រឹងគុណភាព និងប្រសិទ្ធភាពនៃការអប់រំនៅបឋមសិក្សា"},null,null,"ខេត្តកំពង់ស្ពឺ","០៥","០៥៖ខេត្តកំពង់ស្ពឺ",null,"១.១០.០១.៥៖ ការពង្រឹង​ និងការពង្រីកកម្មវិធីលើកកម្ពស់សុខភាពសិក្សា",".៥៖ ការពង្រឹង​ និងការពង្រីកកម្មវិធីលើកកម្ពស់សុខភាពសិក្សា",80]
[null,"សកម្មភាពទី៣","១.១០.០១.៣៖ ការចូលរៀនប្រកបដោយសមធម៌​ ការពង្រឹងគុណភាព និងប្រសិទ្ធភាពនៃការ​អប់រំនៅមធ្យមសិក្សា",null,null,"ខេត្តកំពង់ធំ","០៦","០៦៖ខេត្តកំពង់ធំ",null,"១.១០.០១.៦៖ លើកកម្ពស់គុណភាព និងប្រសិទ្ធភាពនៃការអនុវត្តកម្មវិធីអប់រំបច្ចេកទេស",".៦៖ លើកកម្ពស់គុណភាព និងប្រសិទ្ធភាពនៃការអនុវត្តកម្មវិធីអប់រំបច្ចេកទេស",100]
[null,"សកម្មភាពទី៤","១.១០.០១.៤៖ ការពង្រីកការអប់រំក្រៅប្រព័ន្ធ",null,null,"ខេត្តកំពត","០៧","០៧៖ខេត្តកំពត",null,"១.១០.០១.៧៖ ការអភិវឌ្ឍការងារបណ្តុះបណ្ដាល និងវិក្រឹតការគ្រូបង្រៀន",".៧៖ ការអភិវឌ្ឍការងារបណ្តុះបណ្ដាល និងវិក្រឹតការគ្រូបង្រៀន",120]
[null,"សកម្មភាពទី៥","១.១០.០១.៥៖ ការពង្រឹង​ និងការពង្រីកកម្មវិធីលើកកម្ពស់សុខភាពសិក្សា",null,null,"ខេត្តកណ្តាល","០៨","០៨៖ខេត្តកណ្តាល",null,"១.១០.០១.៨៖ ការអភិវឌ្ឍកម្មវិធីសិក្សា សម្ភារៈសិក្សា និងបណ្ណាល័យ",".៨៖ ការអភិវឌ្ឍកម្មវិធីសិក្សា សម្ភារៈសិក្សា និងបណ្ណាល័យ",140]
[null,"សកម្មភាពទី៦","១.១០.០១.៦៖ លើកកម្ពស់គុណភាព និងប្រសិទ្ធភាពនៃការអនុវត្តកម្មវិធីអប់រំបច្ចេកទេស",null,null,"ខេត្តកោះកុង","០៩","០៩៖ខេត្តកោះកុង",null,"១.១០.០១.៩៖ ពង្រីកការអប់រំបរិយាបន្នគ្រប់ភូមិសិក្សា",".៩៖ ពង្រីកការអប់រំបរិយាបន្នគ្រប់ភូមិសិក្សា",160]
[null,"សកម្មភាពទី៧",{"$f":"J9","v":"១.១០.០១.៧៖ ការអភិវឌ្ឍការងារបណ្តុះបណ្ដាល និងវិក្រឹតការគ្រូបង្រៀន"},null,null,"ខេត្តក្រចេះ","១០","១០៖ខេត្តក្រចេះ"]
[null,"សកម្មភាពទី៨","១.១០.០១.៨៖ ការអភិវឌ្ឍកម្មវិធីសិក្សា សម្ភារៈសិក្សា និងបណ្ណាល័យ",null,null,"ខេត្តមណ្ឌលគិរី","១១","១១៖ខេត្តមណ្ឌលគិរី",null,{"$f":"CONCATENATE(\"៣.៥.\",INDEX(province_code,MATCH(province,province_list,0)),K13)","v":"៣.៥.០១.១៖ ការអភិវឌ្ឍកីឡាមហាជន"},".១៖ ការអភិវឌ្ឍកីឡាមហាជន"]
[null,"សកម្មភាពទី៩","១.១០.០១.៩៖ ពង្រីកការអប់រំបរិយាបន្នគ្រប់ភូមិសិក្សា",null,null,"រាជធានីភ្នំពេញ","១២","១២៖រាជធានីភ្នំពេញ",null,{"$f":"CONCATENATE(\"៣.៥.\",INDEX(province_code,MATCH(province,province_list,0)),K14)","v":"៣.៥.០១.២៖ ការអភិវឌ្ឍអប់រំកាយ និងកីឡាសិស្ស និស្សិត"},".២៖ ការអភិវឌ្ឍអប់រំកាយ និងកីឡាសិស្ស និស្សិត"]
[null,"កម្មវិធីទី ៣",{"$f":"Update_8!A470","v":"កម្មវិធីទី៣៖ ការអភិវឌ្ឍវិស័យអប់រំកាយនិងកីឡា"},null,null,"ខេត្តព្រះវិហារ","១៣","១៣៖ខេត្តព្រះវិហារ",null,{"$f":"CONCATENATE(\"៣.៥.\",INDEX(province_code,MATCH(province,province_list,0)),K15)","v":"៣.៥.០១.៣៖ ការបណ្តុះបណ្តាលធនធានមនុស្សផ្នែកអប់រំកាយ និងកីឡា"},".៣៖ ការបណ្តុះបណ្តាលធនធានមនុស្សផ្នែកអប់រំកាយ និងកីឡា"]
[null,"អនុកម្មវិធីទី៣.៥","អនុកម្មវិធីទី ៣.៥៖ សេវាគាំទ្រការអភិវឌ្ឍវិស័យអប់រំកាយ និងកីឡារបស់មន្ទីរជំនាញរាជធានី ខេត្ត",null,null,"ខេត្តព្រៃវែង","១៤","១៤៖ខេត្តព្រៃវែង",null,{"$f":"CONCATENATE(\"៣.៥.\",INDEX(province_code,MATCH(province,province_list,0)),K16)","v":"៣.៥.០១.៤៖ ការអភិវឌ្ឍកីឡាកម្រិតខ្ពស់"},".៤៖ ការអភិវឌ្ឍកីឡាកម្រិតខ្ពស់"]
[null,"ចង្កោមសកម្មភាព",{"$f":"CONCATENATE(\"ចង្កោមសកម្មភាពទី \",INDEX(province_list_with_code,MATCH(province,province_list,0)))","v":"ចង្កោមសកម្មភាពទី ០១៖ខេត្តបន្ទាយមានជ័យ"},null,null,"ខេត្តពោធិ៍សាត់","១៥","១៥៖ខេត្តពោធិ៍សាត់"]
[null,"សកម្មភាពទី១",{"$f":"J13","v":"៣.៥.០១.១៖ ការអភិវឌ្ឍកីឡាមហាជន"},null,null,"ខេត្តរតនគិរី","១៦","១៦៖ខេត្តរតនគិរី",null,{"$f":"CONCATENATE(\"៤.៤.\",INDEX(province_code,MATCH(province,province_list,0)),K18)","v":"៤.៤.០១.១៖ ការអភិវឌ្ឍសកម្មភាពយុវជន"},{"$f":"INDIRECT(\"Update_8!A\" & 552 +L18)","v":".១៖ ការអភិវឌ្ឍសកម្មភាពយុវជន"},0]
[null,"សកម្មភាពទី២",{"$f":"J14","v":"៣.៥.០១.២៖ ការអភិវឌ្ឍអប់រំកាយ និងកីឡាសិស្ស និស្សិត"},null,null,"ខេត្តសៀមរាប","១៧","១៧៖ខេត្តសៀមរាប",null,{"$f":"CONCATENATE(\"៤.៤.\",INDEX(province_code,MATCH(province,province_list,0)),K19)","v":"៤.៤.០១.២៖ ការអភិវឌ្ឍមជ្ឈមណ្ឌលយុវជន"},{"$f":"INDIRECT(\"Update_8!A\" & 552 +L19)","v":".២៖ ការអភិវឌ្ឍមជ្ឈមណ្ឌលយុវជន"},20]
[null,"សកម្មភាពទី៣","៣.៥.០១.៣៖ ការបណ្តុះបណ្តាលធនធានមនុស្សផ្នែកអប់រំកាយ និងកីឡា",null,null,"ខេត្តព្រះសីហនុ","១៨","១៨៖ខេត្តព្រះសីហនុ",null,{"$f":"CONCATENATE(\"៤.៤.\",INDEX(province_code,MATCH(province,province_list,0)),K20)","v":"៤.៤.០១.៣៖ ការពង្រឹងសកម្មភាពកាយរិទ្ធ"},".៣៖ ការពង្រឹងសកម្មភាពកាយរិទ្ធ",40]
[null,"សកម្មភាពទី៤","៣.៥.០១.៤៖ ការអភិវឌ្ឍកីឡាកម្រិតខ្ពស់",null,null,"ខេត្តស្ទឹងត្រែង","១៩","១៩៖ខេត្តស្ទឹងត្រែង"]
[null,"កម្មវិធីទី ៤",{"$f":"Update_8!A551","v":"កម្មវិធីទី៤៖ យុវជនម្នាក់មានជំនាញមួយយ៉ាងតិចប្រចាំជីវិត"},null,null,"ខេត្តស្វាយរៀង","២០","២០៖ខេត្តស្វាយរៀង",null,{"$f":"CONCATENATE(\"៥.១៨.\",INDEX(province_code,MATCH(province,province_list,0)),K22)","v":"៥.១៨.០១.១៖ ការអភិវឌ្ឍ និងពង្រឹងប្រព័ន្ធផែនការអប់រំ"},{"$f":"INDIRECT(\"Update_8!A\" & 613 +L22)","v":".១៖ ការអភិវឌ្ឍ និងពង្រឹងប្រព័ន្ធផែនការអប់រំ"},0]
[null,"អនុកម្មវិធីទី៤.៤","អនុកម្មវិធីទី ៤.៤៖ សេវាគាំទ្រអភិវឌ្ឍយុវជនម្នាក់មានជំនាញមួយយ៉ាងតិចប្រចាំជីវិតរបស់\nមន្ទីរជំនាញរាជធានី ខេត្ត",null,null,"ខេត្តតាកែវ","២១","២១៖ខេត្តតាកែវ",null,"៥.១៨.០១.២៖ ការគ្រប់គ្រង និងពង្រឹងប្រសិទ្ធភាពធនធានមនុស្ស",{"$f":"INDIRECT(\"Update_8!A\" & 613 +L23)","v":".២៖ ការគ្រប់គ្រង និងពង្រឹងប្រសិទ្ធភាពធនធានមនុស្ស"},20]
[null,"ចង្កោមសកម្មភាព",{"$f":"CONCATENATE(\"ចង្កោមសកម្មភាពទី \",INDEX(province_list_with_code,MATCH(province,province_list,0)))","v":"ចង្កោមសកម្មភាពទី ០១៖ខេត្តបន្ទាយមានជ័យ"},null,null,"ខេត្តឧត្តរមានជ័យ","២២","២២៖ខេត្តឧត្តរមានជ័យ",null,"៥.១៨.០១.៣៖ ការអភិវឌ្ឍសមត្ថភាព ការងារគ្រប់គ្រង ផែនការហិរញ្ញវត្ថុ និងមូលដ្ឋានសម្ភារៈ",".៣៖ ការអភិវឌ្ឍសមត្ថភាព ការងារគ្រប់គ្រង ផែនការហិរញ្ញវត្ថុ និងមូលដ្ឋានសម្ភារៈ",40]
[null,"សកម្មភាពទី១",{"$f":"J18","v":"៤.៤.០១.១៖ ការអភិវឌ្ឍសកម្មភាពយុវជន"},null,null,"ខេត្តកែប","២៣","២៣៖ខេត្តកែប",null,"៥.១៨.០១.៤៖ ការពង្រឹងការងារសវនកម្មផ្ទៃក្នុង",".៤៖ ការពង្រឹងការងារសវនកម្មផ្ទៃក្នុង",60]
[null,"សកម្មភាពទី២",{"$f":"J19","v":"៤.៤.០១.២៖ ការអភិវឌ្ឍមជ្ឈមណ្ឌលយុវជន"},null,null,"ខេត្តប៉ៃលិន","២៤","២៤៖ខេត្តប៉ៃលិន",null,"៥.១៨.០១.៥៖ ការពិនិត្យតាមដាន វាយតម្លៃ និងអធិការកិច្ចប្រព័ន្ធធានាគុណភាពអប់រំ",".៥៖ ការពិនិត្យតាមដាន វាយតម្លៃ និងអធិការកិច្ចប្រព័ន្ធធានាគុណភាពអប់រំ",80]
[null,"សកម្មភាពទី៣",{"$f":"J20","v":"៤.៤.០១.៣៖ ការពង្រឹងសកម្មភាពកាយរិទ្ធ"},null,null,"ខេត្តត្បូងឃ្មុំ","២៥","២៥៖ខេត្តត្បូងឃ្មុំ",null,"៥.១៨.០១.៦៖ អធិការកិច្ចរដ្ឋបាល និងហិរញ្ញវត្ថុ",".៦៖ អធិការកិច្ចរដ្ឋបាល និងហិរញ្ញវត្ថុ",100]
[null,"កម្មវិធីទី ៥",{"$f":"Update_8!A612","v":"កម្មវិធីទី៥៖ ការគាំទ្រសេវាអប់រំ និងអភិបាលកិច្ចល្អ"},null,null,null,null,null,null,"៥.១៨.០១.៧៖ លើកកម្ពស់ការផ្សព្វផ្សាយព័ត៌មានអប់រំ និងកិច្ចសហប្រតិបត្តិការ អាស៊ាន និងស៊ីមេអូ",".៧៖ លើកកម្ពស់ការផ្សព្វផ្សាយព័ត៌មានអប់រំ និងកិច្ចសហប្រតិបត្តិការ អាស៊ាន និងស៊ីមេអូ",120]
[null,"អនុកម្មវិធីទី៥.១៨","អនុកម្មវិធីទី ៥.១៨៖ សេវាគាំទ្រសេវាអប់រំ និងអភិបាលកិច្ចល្អ របស់មន្ទីរជំនាញរាជធានី ខេត្ត",null,null,null,null,null,null,"៥.១៨.០១.៨៖ ការពង្រឹងការងារនីតិកម្ម",".៨៖ ការពង្រឹងការងារនីតិកម្ម",140]
[null,"ចង្កោមសកម្មភាព",{"$f":"CONCATENATE(\"ចង្កោមសកម្មភាពទី \",INDEX(province_list_with_code,MATCH(province,province_list,0)))","v":"ចង្កោមសកម្មភាពទី ០១៖ខេត្តបន្ទាយមានជ័យ"},null,null,null,null,null,null,"៥.១៨.០១.៩៖ ការពង្រឹងការគ្រប់គ្រងហេដ្ឋារចនាសម្ព័ន្ធអប់រំ",".៩៖ ការពង្រឹងការគ្រប់គ្រងហេដ្ឋារចនាសម្ព័ន្ធអប់រំ",160]
[null,"សកម្មភាពទី១",{"$f":"J22","v":"៥.១៨.០១.១៖ ការអភិវឌ្ឍ និងពង្រឹងប្រព័ន្ធផែនការអប់រំ"},null,null,"ដើមឆ្នាំ",1,null,null,"៥.១៨.០១.១០៖ ការពង្រឹងការគ្រប់គ្រង ការផ្គត់ផ្គង់សម្ភារៈ និងទ្រព្យសម្បត្តិរដ្ឋ",".១០៖ ការពង្រឹងការគ្រប់គ្រង ការផ្គត់ផ្គង់សម្ភារៈ និងទ្រព្យសម្បត្តិរដ្ឋ",180]
[null,"សកម្មភាពទី២","៥.១៨.០១.២៖ ការគ្រប់គ្រង និងពង្រឹងប្រសិទ្ធភាពធនធានមនុស្ស",null,null,"កែតម្រូវលើកទី១",2,null,null,"៥.១៨.០១.១១៖ ការអភិវឌ្ឍ និងពង្រឹងប្រសិទ្ធភាពការគ្រប់គ្រង និងការធានាភាពសក្តិសិទ្ធនៃសេវារដ្ឋបាលអប់រំ",".១១៖ ការអភិវឌ្ឍ និងពង្រឹងប្រសិទ្ធភាពការគ្រប់គ្រង និងការធានាភាពសក្តិសិទ្ធនៃសេវារដ្ឋបាលអប់រំ",200]
[null,"សកម្មភាពទី៣","៥.១៨.០១.៣៖ ការអភិវឌ្ឍសមត្ថភាព ការងារគ្រប់គ្រង ផែនការហិរញ្ញវត្ថុ និងមូលដ្ឋានសម្ភារៈ",null,null,"កែតម្រូវលើកទី២",3,null,null,"៥.១៨.០១.១២៖ ការអភិវឌ្ឍកិច្ចសហប្រតិបត្តិការជាតិ អន្តរជាតិលើវិស័យអប់រំ",".១២៖ ការអភិវឌ្ឍកិច្ចសហប្រតិបត្តិការជាតិ អន្តរជាតិលើវិស័យអប់រំ",220]
[null,"សកម្មភាពទី៤","៥.១៨.០១.៤៖ ការពង្រឹងការងារសវនកម្មផ្ទៃក្នុង",null,null,"កែតម្រូវលើកទី៣",4,null,null,"៥.១៨.០១.១៣៖ ការអភិវឌ្ឍប្រព័ន្ធព័ត៌មានគ្រប់គ្រងអប់រំ",".១៣៖ ការអភិវឌ្ឍប្រព័ន្ធព័ត៌មានគ្រប់គ្រងអប់រំ",240]
[null,"សកម្មភាពទី៥","៥.១៨.០១.៥៖ ការពិនិត្យតាមដាន វាយតម្លៃ និងអធិការកិច្ចប្រព័ន្ធធានាគុណភាពអប់រំ",null,null,"កែតម្រូវលើកទី៤",5,null,null,"៥.១៨.០១.១៤៖ អភិវឌ្ឍគោលនយោបាយអប់រំ និងការស្រាវជ្រាវ",".១៤៖ អភិវឌ្ឍគោលនយោបាយអប់រំ និងការស្រាវជ្រាវ",260]
[null,"សកម្មភាពទី៦","៥.១៨.០១.៦៖ អធិការកិច្ចរដ្ឋបាល និងហិរញ្ញវត្ថុ",null,null,null,null,null,null,"៥.១៨.០១.១៥៖ អភិវឌ្ឍប្រព័ន្ធពិនិត្យតាមដាន និងវាយតម្លៃ",".១៥៖ អភិវឌ្ឍប្រព័ន្ធពិនិត្យតាមដាន និងវាយតម្លៃ",280]
[null,"សកម្មភាពទី៧","៥.១៨.០១.៧៖ លើកកម្ពស់ការផ្សព្វផ្សាយព័ត៌មានអប់រំ និងកិច្ចសហប្រតិបត្តិការ អាស៊ាន និងស៊ីមេអូ",null,null,null,null,null,null,"៥.១៨.០១.១៦៖ ការអភិវឌ្ឍនិងពង្រឹងប្រព័ន្ធព័ត៌មានវិទ្យា",".១៦៖ ការអភិវឌ្ឍនិងពង្រឹងប្រព័ន្ធព័ត៌មានវិទ្យា",300]
[null,"សកម្មភាពទី៨","៥.១៨.០១.៨៖ ការពង្រឹងការងារនីតិកម្ម",null,null,null,null,null,null,"៥.១៨.០១.១៧៖ ការពង្រឹងគុណភាព និងប្រសិទ្ធភាពការងារប្រឡងនៅមធ្យមសិក្សានិងអប់រំបច្ចេកទេស",".១៧៖ ការពង្រឹងគុណភាព និងប្រសិទ្ធភាពការងារប្រឡងនៅមធ្យមសិក្សានិងអប់រំបច្ចេកទេស",320]
[null,"សកម្មភាពទី៩","៥.១៨.០១.៩៖ ការពង្រឹងការគ្រប់គ្រងហេដ្ឋារចនាសម្ព័ន្ធអប់រំ"]
[null,"សកម្មភាពទី១០","៥.១៨.០១.១០៖ ការពង្រឹងការគ្រប់គ្រង ការផ្គត់ផ្គង់សម្ភារៈ និងទ្រព្យសម្បត្តិរដ្ឋ"]
[null,"សកម្មភាពទី១១","៥.១៨.០១.១១៖ ការអភិវឌ្ឍ និងពង្រឹងប្រសិទ្ធភាពការគ្រប់គ្រង និងការធានាភាពសក្តិសិទ្ធនៃសេវារដ្ឋបាលអប់រំ"]
[null,"សកម្មភាពទី១២","៥.១៨.០១.១២៖ ការអភិវឌ្ឍកិច្ចសហប្រតិបត្តិការជាតិ អន្តរជាតិលើវិស័យអប់រំ"]
[null,"សកម្មភាពទី១៣","៥.១៨.០១.១៣៖ ការអភិវឌ្ឍប្រព័ន្ធព័ត៌មានគ្រប់គ្រងអប់រំ"]
[null,"សកម្មភាពទី១៤","៥.១៨.០១.១៤៖ អភិវឌ្ឍគោលនយោបាយអប់រំ និងការស្រាវជ្រាវ"]
[null,"សកម្មភាពទី១៥","៥.១៨.០១.១៥៖ អភិវឌ្ឍប្រព័ន្ធពិនិត្យតាមដាន និងវាយតម្លៃ"]
[null,"សកម្មភាពទី១៦","៥.១៨.០១.១៦៖ ការអភិវឌ្ឍនិងពង្រឹងប្រព័ន្ធព័ត៌មានវិទ្យា"]
[null,"សកម្មភាពទី១៧","៥.១៨.០១.១៧៖ ការពង្រឹងគុណភាព និងប្រសិទ្ធភាពការងារប្រឡងនៅមធ្យមសិក្សានិងអប់រំបច្ចេកទេស"]

{"sheet":"ចំណាយ-ថវិការដ្ឋ","index":2,"n_rows":782,"n_cols":13,"rows_kept":782,"cut":false,"hidden":false,"merged":[[4,0,4,12],[6,0,9,0],[7,1,7,3],[6,1,6,3],[8,1,9,1],[8,2,9,2],[8,3,9,3],[6,4,6,6],[7,4,7,6],[8,4,9,4],[8,5,9,5],[8,6,9,6],[6,7,6,9],[8,7,9,7],[8,8,9,8],[8,9,9,9],[7,7,7,9],[6,10,6,12],[7,10,7,12],[8,10,9,10],[8,11,9,11],[8,12,9,12]]}
[]
["ក្រសួងអប់រំ​​​​​​​​​​​ យុវជន និងកីឡា"]
[{"$f":"CONCATENATE(\"មន្ទីរអប់រំ យុវជន និងកីឡា\",province)","v":"មន្ទីរអប់រំ យុវជន និងកីឡាខេត្តបន្ទាយមានជ័យ"}]
[]
["ការកំណត់តម្រូវការចំណាយសម្រាប់កម្មវិធី និងអនុកម្មវិធី (ថវិការដ្ឋ)"]
[null,null,null,null,null,null,null,null,null,null,null,null,"ឯកតា៖ លានរៀល"]
["តម្រូវការឥណទាន\nតាមប្រភេទចំណាយ","ច្បាប់ហិរញ្ញវត្ថុឆ្នាំ ២០១៩",null,null,"គ្រោងតម្រូវការឥណទាន សម្រាប់ឆ្នាំ ២០២០",null,null,"គ្រោងតម្រូវការឥណទាន សម្រាប់ឆ្នាំ ២០២១",null,null,"គ្រោងតម្រូវការឥណទាន សម្រាប់ឆ្នាំ ២០២២"]
[null,"ចំណាយចរន្ដ",null,null,"ចំណាយចរន្ដ",null,null,"ចំណាយចរន្ដ",null,null,"ចំណាយចរន្ដ"]
[null,"សរុប","បន្ទុកបុគ្គលិក","ក្រៅបន្ទុកបុគ្គលិក","សរុប","បន្ទុកបុគ្គលិក","ក្រៅបន្ទុកបុគ្គលិក","សរុប","បន្ទុកបុគ្គលិក","ក្រៅបន្ទុកបុគ្គលិក","សរុប","បន្ទុកបុគ្គលិក","ក្រៅបន្ទុកបុគ្គលិក"]
[]
["សរុបរួម",{"$f":"SUM(B12,B222,B317,B389)","v":0},0,0,0,0,0,0,0,0,0,0,0]
[{"$f":"ព័ត៌មានអង្គភាព!C3","v":"កម្មវិធីទី១៖ ការអភិវឌ្ឍការអប់រំក្នុងប្រព័ន្ធ ក្រៅប្រព័ន្ធ និងមិនផ្លូវការ"},{"$f":"B13","v":0},{"$f":"C13","v":0},0,0,0,0,0,0,0,0,0,0]
[{"$f":"ព័ត៌មានអង្គភាព!C4","v":"អនុកម្មវិធីទី ១.១០៖ សេវាគាំទ្រការអភិវឌ្ឍការអប់រំក្នុងប្រព័ន្ធ ក្រៅប្រព័ន្ធ និងមិនផ្លូវការរបស់មន្ទីរជំនាញ រាជធានី ខេត្ត"},{"$f":"B14","v":0},{"$f":"C14","v":0},0,0,0,0,0,0,0,0,0,0]
[{"$f":"ព័ត៌មានអង្គភាព!C5","v":"ចង្កោមសកម្មភាពទី ០១៖ខេត្តបន្ទាយមានជ័យ"},{"$f":"SUM(B15,B38,B61,B84,B107,B130,B153,B176,B199)","v":0},0,0,0,0,0,0,0,0,0,0,0]
[{"$f":"ព័ត៌មានអង្គភាព!C6","v":"១.១០.០១.១៖ ការពង្រីកការអប់រំកុមារតូច"},{"$f":"SUM(B16,B27)","v":0},{"$f":"SUM(C16,C27)","v":0},0,0,0,0,0,0,0,0,0,0]
[{"$f":"cluster_activity_1","v":"សកម្មភាពរង ទី ១៖ ធានាឱ្យការអប់រំមានគុណភាព ប្រកបដោយសមធម៌ បរិយាបន្ន និងលើកកម្ពស់ឱកាសក្នុងការសិក្សាពេញមួយជីវិត"},{"$f":"ROUND(SUM(B17:B26),1)","v":0},{"$f":"ROUND(SUM(C17:C26),1)","v":0},{"$f":"ROUND(SUM(D17:D26),1)","v":0},0,0,0,0,0,0,0,0,0]
[{"$f":"Update_8!C9","v":"១. កិច្ចដំណើរការអង្គភាព"},{"$f":"ROUND(SUM(C17:D17),1)","v":0},null,null,{"$f":"ROUND(SUM(F17:G17),1)","v":0},null,null,{"$f":"ROUND(SUM(I17:J17),1)","v":0},null,null,{"$f":"ROUND(SUM(L17:M17),1)","v":0}]
[{"$f":"Update_8!C10","v":"២. ថវិកាលទ្ធកម្ម"},{"$f":"ROUND(SUM(C18:D18),1)","v":0},null,null,{"$f":"ROUND(SUM(F18:G18),1)","v":0},null,null,{"$f":"ROUND(SUM(I18:J18),1)","v":0},null,null,{"$f":"ROUND(SUM(L18:M18),1)","v":0}]
[{"$f":"Update_8!C11","v":"៣. ពិនិត្យតាមដាន និងវាយតម្លៃ"},0,null,null,0,null,null,0,null,null,0]
[{"$f":"Update_8!C12","v":"៤. មូលនិធីដំណើរការសាលារៀនសាធារណៈ"},0,null,null,0,null,null,0,null,null,0]
[{"$f":"Update_8!C13","v":"៥. កែលំអហេដ្ឋារចនាសម្ព័ន្ធមត្តេយ្យសិក្សា"},0,null,null,0,null,null,0,null,null,0]
[{"$f":"Update_8!C14","v":"៦. អភិវឌ្ឍការអប់រំកុមារតូចឱ្យស្របតាមបទដ្ឋាន"},{"$f":"ROUND(SUM(C22:D22),1)","v":0},null,null,{"$f":"ROUND(SUM(F22:G22),1)","v":0},null,null,{"$f":"ROUND(SUM(I22:J22),1)","v":0},null,null,{"$f":"ROUND(SUM(L22:M22),1)","v":0}]
[{"$f":"Update_8!C15","v":"៧. គ្រប់គ្រងមត្តយ្យសិក្សាសហគមន៍"},0,null,null,0,null,null,0,null,null,0]
[{"$f":"Update_8!C16","v":0},{"$f":"ROUND(SUM(C24:D24),1)","v":0},null,null,{"$f":"ROUND(SUM(F24:G24),1)","v":0},null,null,{"$f":"ROUND(SUM(I24:J24),1)","v":0},null,null,{"$f":"ROUND(SUM(L24:M24),1)","v":0}]
[{"$f":"Update_8!C17","v":0},0,null,null,0,null,null,0,null,null,0]
[{"$f":"Update_8!C18","v":0},0,null,null,0,null,null,0,null,null,0]
[{"$f":"cluster_activity_2","v":"សកម្មភាពរង ទី ២៖ ធានាភាពស័ក្តិសិទ្ធនៃភាពជាអ្នកដឹកនាំ និងគ្រប់គ្រងរបស់មន្ត្រី អប់រំគ្រប់លំដាប់ថ្នាក់"},{"$f":"ROUND(SUM(B28:B37),1)","v":0},{"$f":"ROUND(SUM(C28:C37),1)","v":0},{"$f":"ROUND(SUM(D28:D37),1)","v":0},{"$f":"ROUND(SUM(E28:E37),1)","v":0},0,0,0,0,0,{"$f":"ROUND(SUM(K28:K37),1)","v":0},{"$f":"ROUND(SUM(L28:L37),1)","v":0},0]
[{"$f":"Update_8!C19","v":"១. អភិវឌ្ឍស្ថាប័ន និងសមត្ថភាពមន្ដ្រីជំនាញ"},{"$f":"ROUND(SUM(C28:D28),1)","v":0},null,null,{"$f":"ROUND(SUM(F28:G28),1)","v":0},null,null,{"$f":"ROUND(SUM(I28:J28),1)","v":0},null,null,{"$f":"ROUND(SUM(L28:M28),1)","v":0}]
[{"$f":"Update_8!C20","v":0},{"$f":"ROUND(SUM(C29:D29),1)","v":0},null,null,{"$f":"ROUND(SUM(F29:G29),1)","v":0},null,null,{"$f":"ROUND(SUM(I29:J29),1)","v":0},null,null,{"$f":"ROUND(SUM(L29:M29),1)","v":0}]
[{"$f":"Update_8!C21","v":0},0,null,null,0,null,null,0,null,null,0]
[{"$f":"Update_8!C22","v":0},0,null,null,0,null,null,0,null,null,0]
[{"$f":"Update_8!C23","v":0},0,null,null,0,null,null,0,null,null,0]
[{"$f":"Update_8!C24","v":0},0,null,null,0,null,null,0,null,null,0]
[{"$f":"Update_8!C25","v":0},0,null,null,0,null,null,0,null,null,0]
[{"$f":"Update_8!C26","v":0},0,null,null,0,null,null,0,null,null,0]
[{"$f":"Update_8!C27","v":0},0,null,null,0,null,null,0,null,null,0]
[{"$f":"Update_8!C28","v":0},0,null,null,0,null,null,0,null,null,0]
[{"$f":"ព័ត៌មានអង្គភាព!C7","v":"១.១០.០១.២៖ ការពង្រឹងគុណភាព និងប្រសិទ្ធភាពនៃការអប់រំនៅបឋមសិក្សា"},{"$f":"SUM(B39,B50)","v":0},{"$f":"SUM(C39,C50)","v":0},0,0,0,0,0,0,0,0,0,0]
[{"$f":"cluster_activity_1","v":"សកម្មភាពរង ទី ១៖ ធានាឱ្យការអប់រំមានគុណភាព ប្រកបដោយសមធម៌ បរិយាបន្ន និងលើកកម្ពស់ឱកាសក្នុងការសិក្សាពេញមួយជីវិត"},{"$f":"ROUND(SUM(B40:B49),1)","v":0},{"$f":"ROUND(SUM(C40:C49),1)","v":0},{"$f":"ROUND(SUM(D40:D49),1)","v":0},0,0,0,0,0,0,0,0,0]
[{"$f":"Update_8!C29","v":"១. កិច្ចដំណើរការអង្គភាព"},{"$f":"ROUND(SUM(C40:D40),1)","v":0},null,null,{"$f":"ROUND(SUM(F40:G40),1)","v":0},null,null,{"$f":"ROUND(SUM(I40:J40),1)","v":0},null,null,{"$f":"ROUND(SUM(L40:M40),1)","v":0}]
[{"$f":"Update_8!C30","v":"២. ថវិកាលទ្ធកម្ម"},{"$f":"ROUND(SUM(C41:D41),1)","v":0},null,null,{"$f":"ROUND(SUM(F41:G41),1)","v":0},null,null,{"$f":"ROUND(SUM(I41:J41),1)","v":0},null,null,{"$f":"ROUND(SUM(L41:M41),1)","v":0}]
[{"$f":"Update_8!C31","v":"៣. ពិនិត្យតាមដាន និងវាយតម្លៃ"},0,null,null,0,null,null,0,null,null,0]
[{"$f":"Update_8!C32","v":"៤. មូលនិធីដំណើរការសាលារៀនសាធារណៈ"},0,null,null,0,null,null,0,null,null,0]
[{"$f":"Update_8!C33","v":"៥. សាលារៀនជំនាន់ថ្មី"},0,null,null,0,null,null,0,null,null,0]
[{"$f":"Update_8!C34","v":"៦. ឧបត្ថម្ភកម្មវិធីអាហារូបករណ៍ និងអាហារូបត្ថម្ភ"},0,null,null,0,null,null,0,null,null,0]
[{"$f":"Update_8!C35","v":"៧. ពង្រឹងគុណភាពបង្រៀន និងរៀន"},0,null,null,0,null,null,0,null,null,0]
[{"$f":"Update_8!C36","v":"៨. កម្មវិធីបង្រៀនសាកល្បងពេញមួយថ្ងៃ"},0,null,null,0,null,null,0,null,null,0]
[{"$f":"Update_8!C37","v":"៩. ការគ្រប់គ្រងតាមសាលារៀន (SBM)"},0,null,null,0,null,null,0,null,null,0]
[{"$f":"Update_8!C38","v":0},0,null,null,0,null,null,0,null,null,0]
[{"$f":"cluster_activity_2","v":"សកម្មភាពរង ទី ២៖ ធានាភាពស័ក្តិសិទ្ធនៃភាពជាអ្នកដឹកនាំ និងគ្រប់គ្រងរបស់មន្ត្រី អប់រំគ្រប់លំដាប់ថ្នាក់"},{"$f":"ROUND(SUM(B51:B60),1)","v":0},{"$f":"ROUND(SUM(C51:C60),1)","v":0},{"$f":"ROUND(SUM(D51:D60),1)","v":0},{"$f":"ROUND(SUM(E51:E60),1)","v":0},0,0,0,0,0,{"$f":"ROUND(SUM(K51:K60),1)","v":0},{"$f":"ROUND(SUM(L51:L60),1)","v":0},{"$f":"ROUND(SUM(M51:M60),1)","v":0}]
[{"$f":"Update_8!C39","v":"១. អភិវឌ្ឍស្ថាប័ន និងសមត្ថភាពមន្ដ្រីជំនាញ"},{"$f":"ROUND(SUM(C51:D51),1)","v":0},null,null,{"$f":"ROUND(SUM(F51:G51),1)","v":0},null,null,{"$f":"ROUND(SUM(I51:J51),1)","v":0},null,null,{"$f":"ROUND(SUM(L51:M51),1)","v":0}]
[{"$f":"Update_8!C40","v":0},{"$f":"ROUND(SUM(C52:D52),1)","v":0},null,null,{"$f":"ROUND(SUM(F52:G52),1)","v":0},null,null,{"$f":"ROUND(SUM(I52:J52),1)","v":0},null,null,{"$f":"ROUND(SUM(L52:M52),1)","v":0}]
[{"$f":"Update_8!C41","v":0},0,null,null,0,null,null,0,null,null,0]
[{"$f":"Update_8!C42","v":0},0,null,null,0,null,null,0,null,null,0]
[{"$f":"Update_8!C43","v":0},0,null,null,0,null,null,0,null,null,0]
[{"$f":"Update_8!C44","v":0},0,null,null,0,null,null,0,null,null,0]
[{"$f":"Update_8!C45","v":0},0,null,null,0,null,null,0,null,null,0]
[{"$f":"Update_8!C46","v":0},0,null,null,0,null,null,0,null,null,0]
[{"$f":"Update_8!C47","v":0},0,null,null,0,null,null,0,null,null,0]
[{"$f":"Update_8!C48","v":0},0,null,null,0,null,null,0,null,null,0]
[{"$f":"ព័ត៌មានអង្គភាព!C8","v":"១.១០.០១.៣៖ ការចូលរៀនប្រកបដោយសមធម៌​ ការពង្រឹងគុណភាព និងប្រសិទ្ធភាពនៃការ​អប់រំនៅមធ្យមសិក្សា"},{"$f":"SUM(B62,B73)","v":0},{"$f":"SUM(C62,C73)","v":0},0,0,0,0,0,0,0,0,0,0]
[{"$f":"cluster_activity_1","v":"សកម្មភាពរង ទី ១៖ ធានាឱ្យការអប់រំមានគុណភាព ប្រកបដោយសមធម៌ បរិយាបន្ន និងលើកកម្ពស់ឱកាសក្នុងការសិក្សាពេញមួយជីវិត"},{"$f":"ROUND(SUM(B63:B72),1)","v":0},{"$f":"ROUND(SUM(C63:C72),1)","v":0},{"$f":"ROUND(SUM(D63:D72),1)","v":0},0,0,0,0,0,0,0,0,0]
[{"$f":"Update_8!C49","v":"១. កិច្ចដំណើរការអង្គភាព"},{"$f":"ROUND(SUM(C63:D63),1)","v":0},null,null,{"$f":"ROUND(SUM(F63:G63),1)","v":0},null,null,{"$f":"ROUND(SUM(I63:J63),1)","v":0},null,null,{"$f":"ROUND(SUM(L63:M63),1)","v":0}]
[{"$f":"Update_8!C50","v":"២. ថវិកាលទ្ធកម្ម"},{"$f":"ROUND(SUM(C64:D64),1)","v":0},null,null,{"$f":"ROUND(SUM(F64:G64),1)","v":0},null,null,{"$f":"ROUND(SUM(I64:J64),1)","v":0},null,null,{"$f":"ROUND(SUM(L64:M64),1)","v":0}]
[{"$f":"Update_8!C51","v":"៣. ពិនិត្យតាមដាន និងវាយតម្លៃ"},0,null,null,0,null,null,0,null,null,0]
[{"$f":"Update_8!C52","v":"៤. មូលនិធីដំណើរការសាលារៀនសាធារណៈ"},0,null,null,0,null,null,0,null,null,0]
[{"$f":"Update_8!C53","v":"៥. ថ្នាក់ពីរភាសា បារាំង-ខ្មែរ"},0,null,null,0,null,null,0,null,null,0]
[{"$f":"Update_8!C54","v":"៦. សាលារៀនជំនាន់ថ្មី"},0,null,null,0,null,null,0,null,null,0]
[{"$f":"Update_8!C55","v":"៧. ឧបត្ថម្ភកម្មវិធីអាហារូបករណ៍"},0,null,null,0,null,null,0,null,null,0]
[{"$f":"Update_8!C56","v":"៨. លើកកម្ពស់មុខវិជ្ជា STEM"},0,null,null,0,null,null,0,null,null,0]
[{"$f":"Update_8!C57","v":"៩. ពង្រឹងសមត្ថភាពលើការងារគ្រប់គ្រង និងការបង្រៀននិងរៀន"},0,null,null,0,null,null,0,null,null,0]
[{"$f":"Update_8!C58","v":"១០. ការគ្រប់គ្រងតាមសាលារៀន (SBM)"},0,null,null,0,null,null,0,null,null,0]
[{"$f":"cluster_activity_2","v":"សកម្មភាពរង ទី ២៖ ធានាភាពស័ក្តិសិទ្ធនៃភាពជាអ្នកដឹកនាំ និងគ្រប់គ្រងរបស់មន្ត្រី អប់រំគ្រប់លំដាប់ថ្នាក់"},{"$f":"ROUND(SUM(B74:B83),1)","v":0},{"$f":"ROUND(SUM(C74:C83),1)","v":0},{"$f":"ROUND(SUM(D74:D83),1)","v":0},{"$f":"ROUND(SUM(E74:E83),1)","v":0},0,0,0,0,0,{"$f":"ROUND(SUM(K74:K83),1)","v":0},{"$f":"ROUND(SUM(L74:L83),1)","v":0},{"$f":"ROUND(SUM(M74:M83),1)","v":0}]
[{"$f":"Update_8!C59","v":"១. អភិវឌ្ឍស្ថាប័ន និងសមត្ថភាពមន្ដ្រីជំនាញ"},{"$f":"ROUND(SUM(C74:D74),1)","v":0},null,null,{"$f":"ROUND(SUM(F74:G74),1)","v":0},null,null,{"$f":"ROUND(SUM(I74:J74),1)","v":0},null,null,{"$f":"ROUND(SUM(L74:M74),1)","v":0}]
[{"$f":"Update_8!C60","v":0},{"$f":"ROUND(SUM(C75:D75),1)","v":0},null,null,{"$f":"ROUND(SUM(F75:G75),1)","v":0},null,null,{"$f":"ROUND(SUM(I75:J75),1)","v":0},null,null,{"$f":"ROUND(SUM(L75:M75),1)","v":0}]
[{"$f":"Update_8!C61","v":0},0,null,null,0,null,null,0,null,null,0]
[{"$f":"Update_8!C62","v":0},0,null,null,0,null,null,0,null,null,0]
[{"$f":"Update_8!C63","v":0},0,null,null,0,null,null,0,null,null,0]
[{"$f":"Update_8!C64","v":0},0,null,null,0,null,null,0,null,null,0]
[{"$f":"Update_8!C65","v":0},0,null,null,0,null,null,0,null,null,0]
[{"$f":"Update_8!C66","v":0},0,null,null,0,null,null,0,null,null,0]
[{"$f":"Update_8!C67","v":0},0,null,null,0,null,null,0,null,null,0]
[{"$f":"Update_8!C68","v":0},0,null,null,0,null,null,0,null,null,0]
[{"$f":"ព័ត៌មានអង្គភាព!C9","v":"១.១០.០១.៤៖ ការពង្រីកការអប់រំក្រៅប្រព័ន្ធ"},{"$f":"SUM(B85,B96)","v":0},{"$f":"SUM(C85,C96)","v":0},0,0,0,0,0,0,0,0,0,0]
[{"$f":"cluster_activity_1","v":"សកម្មភាពរង ទី ១៖ ធានាឱ្យការអប់រំមានគុណភាព ប្រកបដោយសមធម៌ បរិយាបន្ន និងលើកកម្ពស់ឱកាសក្នុងការសិក្សាពេញមួយជីវិត"},{"$f":"ROUND(SUM(B86:B95),1)","v":0},{"$f":"ROUND(SUM(C86:C95),1)","v":0},{"$f":"ROUND(SUM(D86:D95),1)","v":0},0,0,0,0,0,0,0,0,0]
[{"$f":"Update_8!C69","v":"១. កិច្ចដំណើរការអង្គភាព"},{"$f":"ROUND(SUM(C86:D86),1)","v":0},null,null,{"$f":"ROUND(SUM(F86:G86),1)","v":0},null,null,{"$f":"ROUND(SUM(I86:J86),1)","v":0},null,null,{"$f":"ROUND(SUM(L86:M86),1)","v":0}]
[{"$f":"Update_8!C70","v":"២. ថវិកាលទ្ធកម្ម"},{"$f":"ROUND(SUM(C87:D87),1)","v":0},null,null,{"$f":"ROUND(SUM(F87:G87),1)","v":0},null,null,{"$f":"ROUND(SUM(I87:J87),1)","v":0},null,null,{"$f":"ROUND(SUM(L87:M87),1)","v":0}]
[{"$f":"Update_8!C71","v":"៣. ពិនិត្យតាមដាន និងវាយតម្លៃ"},0,null,null,0,null,null,0,null,null,0]
[{"$f":"Update_8!C72","v":"៤. ប្រែក្លាយមជ្ឈមណ្ឌលសហគមន៍ទៅជាមជ្ឈមណ្ឌលសិក្សាពេញមួយជីវិត"},0,null,null,0,null,null,0,null,null,0]
[{"$f":"Update_8!C73","v":"៥. ថវិកាដំណើរការនៃការអប់រំក្រៅប្រព័ន្ធ"},0,null,null,0,null,null,0,null,null,0]
[{"$f":"Update_8!C74","v":0},0,null,null,0,null,null,0,null,null,0]
[{"$f":"Update_8!C75","v":0},0,null,null,0,null,null,0,null,null,0]
[{"$f":"Update_8!C76","v":0},0,null,null,0,null,null,0,null,null,0]
[{"$f":"Update_8!C77","v":0},0,null,null,0,null,null,0,null,null,0]
[{"$f":"Update_8!C78","v":0},0,null,null,0,null,null,0,null,null,0]
[{"$f":"cluster_activity_2","v":"សកម្មភាពរង ទី ២៖ ធានាភាពស័ក្តិសិទ្ធនៃភាពជាអ្នកដឹកនាំ និងគ្រប់គ្រងរបស់មន្ត្រី អប់រំគ្រប់លំដាប់ថ្នាក់"},{"$f":"ROUND(SUM(B97:B106),1)","v":0},{"$f":"ROUND(SUM(C97:C106),1)","v":0},{"$f":"ROUND(SUM(D97:D106),1)","v":0},{"$f":"ROUND(SUM(E97:E106),1)","v":0},0,0,0,0,0,{"$f":"ROUND(SUM(K97:K106),1)","v":0},{"$f":"ROUND(SUM(L97:L106),1)","v":0},{"$f":"ROUND(SUM(M97:M106),1)","v":0}]
[{"$f":"Update_8!C79","v":"១. អភិវឌ្ឍស្ថាប័ន និងសមត្ថភាពមន្ដ្រីជំនាញ"},{"$f":"ROUND(SUM(C97:D97),1)","v":0},null,null,{"$f":"ROUND(SUM(F97:G97),1)","v":0},null,null,{"$f":"ROUND(SUM(I97:J97),1)","v":0},null,null,{"$f":"ROUND(SUM(L97:M97),1)","v":0}]
[{"$f":"Update_8!C80","v":0},{"$f":"ROUND(SUM(C98:D98),1)","v":0},null,null,{"$f":"ROUND(SUM(F98:G98),1)","v":0},null,null,{"$f":"ROUND(SUM(I98:J98),1)","v":0},null,null,{"$f":"ROUND(SUM(L98:M98),1)","v":0}]
[{"$f":"Update_8!C81","v":0},0,null,null,0,null,null,0,null,null,0]
[{"$f":"Update_8!C82","v":0},0,null,null,0,null,null,0,null,null,0]
[{"$f":"Update_8!C83","v":0},0,null,null,0,null,null,0,null,null,0]
[{"$f":"Update_8!C84","v":0},0,null,null,0,null,null,0,null,null,0]
[{"$f":"Update_8!C85","v":0},0,null,null,0,null,null,0,null,null,0]
[{"$f":"Update_8!C86","v":0},0,null,null,0,null,null,0,null,null,0]
[{"$f":"Update_8!C87","v":0},0,null,null,0,null,null,0,null,null,0]
[{"$f":"Update_8!C88","v":0},0,null,null,0,null,null,0,null,null,0]
[{"$f":"ព័ត៌មានអង្គភាព!C10","v":"១.១០.០១.៥៖ ការពង្រឹង​ និងការពង្រីកកម្មវិធីលើកកម្ពស់សុខភាពសិក្សា"},{"$f":"SUM(B108,B119)","v":0},{"$f":"SUM(C108,C119)","v":0},0,0,0,0,0,0,0,0,0,0]
[{"$f":"cluster_activity_1","v":"សកម្មភាពរង ទី ១៖ ធានាឱ្យការអប់រំមានគុណភាព ប្រកបដោយសមធម៌ បរិយាបន្ន និងលើកកម្ពស់ឱកាសក្នុងការសិក្សាពេញមួយជីវិត"},{"$f":"ROUND(SUM(B109:B118),1)","v":0},{"$f":"ROUND(SUM(C109:C118),1)","v":0},{"$f":"ROUND(SUM(D109:D118),1)","v":0},0,0,0,0,0,0,0,0,0]
[{"$f":"Update_8!C89","v":"១. កិច្ចដំណើរការអង្គភាព"},{"$f":"ROUND(SUM(C109:D109),1)","v":0},null,null,{"$f":"ROUND(SUM(F109:G109),1)","v":0},null,null,{"$f":"ROUND(SUM(I109:J109),1)","v":0},null,null,{"$f":"ROUND(SUM(L109:M109),1)","v":0}]
[{"$f":"Update_8!C90","v":"២. ថវិកាលទ្ធកម្ម"},{"$f":"ROUND(SUM(C110:D110),1)","v":0},null,null,{"$f":"ROUND(SUM(F110:G110),1)","v":0},null,null,{"$f":"ROUND(SUM(I110:J110),1)","v":0},null,null,{"$f":"ROUND(SUM(L110:M110),1)","v":0}]
[{"$f":"Update_8!C91","v":"៣. ពិនិត្យតាមដាន និងវាយតម្លៃ"},0,null,null,0,null,null,0,null,null,0]
[{"$f":"Update_8!C92","v":"៤. លើកកម្ពស់សុខភាពចាំបាច់ដល់អ្នកសិក្សានិងបុគ្គលិកអប់រំ"},0,null,null,0,null,null,0,null,null,0]
[{"$f":"Update_8!C93","v":"៥. លើកកម្ពស់ការផ្តល់អាហារូបត្ថម្ភ"},0,null,null,0,null,null,0,null,null,0]
[{"$f":"Update_8!C94","v":"៦. លើកកម្ពស់ការផ្គត់ផ្គង់ទឹកស្អាតនិងអនាម័យ"},0,null,null,0,null,null,0,null,null,0]
[{"$f":"Update_8!C95","v":"៧. លើកកម្ពស់បរិស្ថានសិក្សាប្រកបដោយសុវត្ថិភាព បរិយាបន្ន ផាសុកភាព និងមេត្រីភាព"},0,null,null,0,null,null,0,null,null,0]
[{"$f":"Update_8!C96","v":"៨. លើកកម្ពស់សន្តិសុខនិងសណ្តាប់ធ្នាប់ក្នុងគ្រឹះស្ថានសិក្សា"},0,null,null,0,null,null,0,null,null,0]
[{"$f":"Update_8!C97","v":"៩. លើកកម្ពស់ការអប់រំសុខភាព"},0,null,null,0,null,null,0,null,null,0]
[{"$f":"Update_8!C98","v":"១០. លើកកម្ពស់ការអនុវត្តបំណិនសុខភាព"},0,null,null,0,null,null,0,null,null,0]
[{"$f":"cluster_activity_2","v":"សកម្មភាពរង ទី ២៖ ធានាភាពស័ក្តិសិទ្ធនៃភាពជាអ្នកដឹកនាំ និងគ្រប់គ្រងរបស់មន្ត្រី អប់រំគ្រប់លំដាប់ថ្នាក់"},{"$f":"ROUND(SUM(B120:B129),1)","v":0},{"$f":"ROUND(SUM(C120:C129),1)","v":0},{"$f":"ROUND(SUM(D120:D129),1)","v":0},{"$f":"ROUND(SUM(E120:E129),1)","v":0},0,0,0,0,0,{"$f":"ROUND(SUM(K120:K129),1)","v":0},{"$f":"ROUND(SUM(L120:L129),1)","v":0},{"$f":"ROUND(SUM(M120:M129),1)","v":0}]
[{"$f":"Update_8!C99","v":"១. អភិវឌ្ឍស្ថាប័ន និងសមត្ថភាពមន្ដ្រីជំនាញ"},{"$f":"ROUND(SUM(C120:D120),1)","v":0},null,null,{"$f":"ROUND(SUM(F120:G120),1)","v":0},null,null,{"$f":"ROUND(SUM(I120:J120),1)","v":0},null,null,{"$f":"ROUND(SUM(L120:M120),1)","v":0}]
[{"$f":"Update_8!C100","v":0},{"$f":"ROUND(SUM(C121:D121),1)","v":0},null,null,{"$f":"ROUND(SUM(F121:G121),1)","v":0},null,null,{"$f":"ROUND(SUM(I121:J121),1)","v":0},null,null,{"$f":"ROUND(SUM(L121:M121),1)","v":0}]
[{"$f":"Update_8!C101","v":0},0,null,null,0,null,null,0,null,null,0]
[{"$f":"Update_8!C102","v":0},0,null,null,0,null,null,0,null,null,0]
[{"$f":"Update_8!C103","v":0},0,null,null,0,null,null,0,null,null,0]
[{"$f":"Update_8!C104","v":0},0,null,null,0,null,null,0,null,null,0]
[{"$f":"Update_8!C105","v":0},0,null,null,0,null,null,0,null,null,0]
[{"$f":"Update_8!C106","v":0},0,null,null,0,null,null,0,null,null,0]
[{"$f":"Update_8!C107","v":0},0,null,null,0,null,null,0,null,null,0]
[{"$f":"Update_8!C108","v":0},0,null,null,0,null,null,0,null,null,0]
[{"$f":"ព័ត៌មានអង្គភាព!C11","v":"១.១០.០១.៦៖ លើកកម្ពស់គុណភាព និងប្រសិទ្ធភាពនៃការអនុវត្តកម្មវិធីអប់រំបច្ចេកទេស"},{"$f":"SUM(B131,B142)","v":0},{"$f":"SUM(C131,C142)","v":0},0,0,0,0,0,0,0,0,0,0]
[{"$f":"cluster_activity_1","v":"សកម្មភាពរង ទី ១៖ ធានាឱ្យការអប់រំមានគុណភាព ប្រកបដោយសមធម៌ បរិយាបន្ន និងលើកកម្ពស់ឱកាសក្នុងការសិក្សាពេញមួយជីវិត"},{"$f":"ROUND(SUM(B132:B141),1)","v":0},{"$f":"ROUND(SUM(C132:C141),1)","v":0},{"$f":"ROUND(SUM(D132:D141),1)","v":0},0,0,0,0,0,0,0,0,0]
[{"$f":"Update_8!C109","v":"១. កិច្ចដំណើរការអង្គភាព"},{"$f":"ROUND(SUM(C132:D132),1)","v":0},null,null,{"$f":"ROUND(SUM(F132:G132),1)","v":0},null,null,{"$f":"ROUND(SUM(I132:J132),1)","v":0},null,null,{"$f":"ROUND(SUM(L132:M132),1)","v":0}]
[{"$f":"Update_8!C110","v":"២. ថវិកាលទ្ធកម្ម"},{"$f":"ROUND(SUM(C133:D133),1)","v":0},null,null,{"$f":"ROUND(SUM(F133:G133),1)","v":0},null,null,{"$f":"ROUND(SUM(I133:J133),1)","v":0},null,null,{"$f":"ROUND(SUM(L133:M133),1)","v":0}]
[{"$f":"Update_8!C111","v":"៣. ពិនិត្យតាមដាន និងវាយតម្លៃ"},0,null,null,0,null,null,0,null,null,0]
[{"$f":"Update_8!C112","v":"៤. មូលនិធិដំណើរការសាលារៀនសាធារណៈ"},0,null,null,0,null,null,0,null,null,0]
[{"$f":"Update_8!C113","v":"៥. ឧបត្ថម្ភកម្មវិធីអាហារូបករណ៍"},0,null,null,0,null,null,0,null,null,0]
[{"$f":"Update_8!C114","v":"៦. ពង្រឹងគុណភាពបង្រៀននិងរៀន"},0,null,null,0,null,null,0,null,null,0]
[{"$f":"Update_8!C115","v":"៧. ពង្រឹង និងពង្រីកការបណ្តុះបណ្តាលវិជ្ជាជីវៈ បំណិនជីវិត អប់រំតម្រង់ទិសវិជ្ជាជីវៈ និងប្រឹក្សាអាជីព"},0,null,null,0,null,null,0,null,null,0]
[{"$f":"Update_8!C116","v":0},0,null,null,0,null,null,0,null,null,0]
[{"$f":"Update_8!C117","v":0},0,null,null,0,null,null,0,null,null,0]
[{"$f":"Update_8!C118","v":0},0,null,null,0,null,null,0,null,null,0]
[{"$f":"cluster_activity_2","v":"សកម្មភាពរង ទី ២៖ ធានាភាពស័ក្តិសិទ្ធនៃភាពជាអ្នកដឹកនាំ និងគ្រប់គ្រងរបស់មន្ត្រី អប់រំគ្រប់លំដាប់ថ្នាក់"},{"$f":"ROUND(SUM(B143:B152),1)","v":0},{"$f":"ROUND(SUM(C143:C152),1)","v":0},{"$f":"ROUND(SUM(D143:D152),1)","v":0},{"$f":"ROUND(SUM(E143:E152),1)","v":0},0,0,0,0,0,{"$f":"ROUND(SUM(K143:K152),1)","v":0},{"$f":"ROUND(SUM(L143:L152),1)","v":0},{"$f":"ROUND(SUM(M143:M152),1)","v":0}]
[{"$f":"Update_8!C119","v":"១. អភិវឌ្ឍស្ថាប័ន និងសមត្ថភាពមន្ដ្រីជំនាញ"},{"$f":"ROUND(SUM(C143:D143),1)","v":0},null,null,{"$f":"ROUND(SUM(F143:G143),1)","v":0},null,null,{"$f":"ROUND(SUM(I143:J143),1)","v":0},null,null,{"$f":"ROUND(SUM(L143:M143),1)","v":0}]
[{"$f":"Update_8!C120","v":0},{"$f":"ROUND(SUM(C144:D144),1)","v":0},null,null,{"$f":"ROUND(SUM(F144:G144),1)","v":0},null,null,{"$f":"ROUND(SUM(I144:J144),1)","v":0},null,null,{"$f":"ROUND(SUM(L144:M144),1)","v":0}]
[{"$f":"Update_8!C121","v":0},0,null,null,0,null,null,0,null,null,0]
[{"$f":"Update_8!C122","v":0},0,null,null,0,null,null,0,null,null,0]
[{"$f":"Update_8!C123","v":0},0,null,null,0,null,null,0,null,null,0]
[{"$f":"Update_8!C124","v":0},0,null,null,0,null,null,0,null,null,0]
[{"$f":"Update_8!C125","v":0},0,null,null,0,null,null,0,null,null,0]
[{"$f":"Update_8!C126","v":0},0,null,null,0,null,null,0,null,null,0]
[{"$f":"Update_8!C127","v":0},0,null,null,0,null,null,0,null,null,0]
[{"$f":"Update_8!C128","v":0},0,null,null,0,null,null,0,null,null,0]
[{"$f":"ព័ត៌មានអង្គភាព!C12","v":"១.១០.០១.៧៖ ការអភិវឌ្ឍការងារបណ្តុះបណ្ដាល និងវិក្រឹតការគ្រូបង្រៀន"},{"$f":"SUM(B154,B165)","v":0},{"$f":"SUM(C154,C165)","v":0},0,0,0,0,0,0,0,0,0,0]
[{"$f":"cluster_activity_1","v":"សកម្មភាពរង ទី ១៖ ធានាឱ្យការអប់រំមានគុណភាព ប្រកបដោយសមធម៌ បរិយាបន្ន និងលើកកម្ពស់ឱកាសក្នុងការសិក្សាពេញមួយជីវិត"},{"$f":"ROUND(SUM(B155:B164),1)","v":0},{"$f":"ROUND(SUM(C155:C164),1)","v":0},{"$f":"ROUND(SUM(D155:D164),1)","v":0},0,0,0,0,0,0,0,0,0]
[{"$f":"Update_8!C129","v":"១. កិច្ចដំណើរការអង្គភាព"},{"$f":"ROUND(SUM(C155:D155),1)","v":0},null,null,{"$f":"ROUND(SUM(F155:G155),1)","v":0},null,null,{"$f":"ROUND(SUM(I155:J155),1)","v":0},null,null,{"$f":"ROUND(SUM(L155:M155),1)","v":0}]
[{"$f":"Update_8!C130","v":"២. ថវិកាលទ្ធកម្ម"},{"$f":"ROUND(SUM(C156:D156),1)","v":0},null,null,{"$f":"ROUND(SUM(F156:G156),1)","v":0},null,null,{"$f":"ROUND(SUM(I156:J156),1)","v":0},null,null,{"$f":"ROUND(SUM(L156:M156),1)","v":0}]
[{"$f":"Update_8!C131","v":"៣. ពិនិត្យតាមដាន និងវាយតម្លៃ"},0,null,null,0,null,null,0,null,null,0]
[{"$f":"Update_8!C132","v":"៤. អភិវឌ្ឍវិទ្យាស្ថានគរុកោសល្យ ២ (បាត់ដំបង និងភ្នំពេញ)"},0,null,null,0,null,null,0,null,null,0]
[{"$f":"Update_8!C133","v":"៥. ថវិកាសាលាមធ្យមសិក្សាគរុកោសល្យមត្តេយ្យមជ្ឈិម"},0,null,null,0,null,null,0,null,null,0]
[{"$f":"Update_8!C134","v":"៦. ប្រឡងជ្រើសរើស និងបញ្ចប់វគ្គបណ្ដុះបណ្ដាលគ្រូបង្រៀន"},0,null,null,0,null,null,0,null,null,0]
[{"$f":"Update_8!C135","v":"៧. ថវិកាសាលាគរុកោសល្យ និងមណ្ឌលធនធាន"},0,null,null,0,null,null,0,null,null,0]
[{"$f":"Update_8!C136","v":"៨. អភិវឌ្ឍគ្រឹះស្ថានបណ្តុះបណ្តាលគ្រូ និងលើកកម្ពស់គុណវុឌ្ឍិគណៈគ្រប់គ្រង គ្រូឧទ្ទេស និងគ្រូបង្រៀន"},0,null,null,0,null,null,0,null,null,0]
[{"$f":"Update_8!C137","v":0},0,null,null,0,null,null,0,null,null,0]
[{"$f":"Update_8!C138","v":0},0,null,null,0,null,null,0,null,null,0]
[{"$f":"cluster_activity_2","v":"សកម្មភាពរង ទី ២៖ ធានាភាពស័ក្តិសិទ្ធនៃភាពជាអ្នកដឹកនាំ និងគ្រប់គ្រងរបស់មន្ត្រី អប់រំគ្រប់លំដាប់ថ្នាក់"},{"$f":"ROUND(SUM(B166:B175),1)","v":0},{"$f":"ROUND(SUM(C166:C175),1)","v":0},{"$f":"ROUND(SUM(D166:D175),1)","v":0},{"$f":"ROUND(SUM(E166:E175),1)","v":0},0,0,0,0,0,{"$f":"ROUND(SUM(K166:K175),1)","v":0},{"$f":"ROUND(SUM(L166:L175),1)","v":0},{"$f":"ROUND(SUM(M166:M175),1)","v":0}]
[{"$f":"Update_8!C139","v":0},{"$f":"ROUND(SUM(C166:D166),1)","v":0},null,null,{"$f":"ROUND(SUM(F166:G166),1)","v":0},null,null,{"$f":"ROUND(SUM(I166:J166),1)","v":0},null,null,{"$f":"ROUND(SUM(L166:M166),1)","v":0}]
[{"$f":"Update_8!C140","v":0},{"$f":"ROUND(SUM(C167:D167),1)","v":0},null,null,{"$f":"ROUND(SUM(F167:G167),1)","v":0},null,null,{"$f":"ROUND(SUM(I167:J167),1)","v":0},null,null,{"$f":"ROUND(SUM(L167:M167),1)","v":0}]
[{"$f":"Update_8!C141","v":0},0,null,null,0,null,null,0,null,null,0]
[{"$f":"Update_8!C142","v":0},0,null,null,0,null,null,0,null,null,0]
[{"$f":"Update_8!C143","v":0},0,null,null,0,null,null,0,null,null,0]
[{"$f":"Update_8!C144","v":0},0,null,null,0,null,null,0,null,null,0]
[{"$f":"Update_8!C145","v":0},0,null,null,0,null,null,0,null,null,0]
[{"$f":"Update_8!C146","v":0},0,null,null,0,null,null,0,null,null,0]
[{"$f":"Update_8!C147","v":0},0,null,null,0,null,null,0,null,null,0]
[{"$f":"Update_8!C148","v":0},0,null,null,0,null,null,0,null,null,0]
[{"$f":"ព័ត៌មានអង្គភាព!C13","v":"១.១០.០១.៨៖ ការអភិវឌ្ឍកម្មវិធីសិក្សា សម្ភារៈសិក្សា និងបណ្ណាល័យ"},{"$f":"SUM(B177,B188)","v":0},{"$f":"SUM(C177,C188)","v":0},0,0,0,0,0,0,0,0,0,0]
[{"$f":"cluster_activity_1","v":"សកម្មភាពរង ទី ១៖ ធានាឱ្យការអប់រំមានគុណភាព ប្រកបដោយសមធម៌ បរិយាបន្ន និងលើកកម្ពស់ឱកាសក្នុងការសិក្សាពេញមួយជីវិត"},{"$f":"ROUND(SUM(B178:B187),1)","v":0},{"$f":"ROUND(SUM(C178:C187),1)","v":0},{"$f":"ROUND(SUM(D178:D187),1)","v":0},0,0,0,0,0,0,0,0,0]
[{"$f":"Update_8!C149","v":"១. កិច្ចដំណើរការអង្គភាព"},{"$f":"ROUND(SUM(C178:D178),1)","v":0},null,null,{"$f":"ROUND(SUM(F178:G178),1)","v":0},null,null,{"$f":"ROUND(SUM(I178:J178),1)","v":0},null,null,{"$f":"ROUND(SUM(L178:M178),1)","v":0}]
[{"$f":"Update_8!C150","v":"២. ថវិកាលទ្ធកម្ម"},{"$f":"ROUND(SUM(C179:D179),1)","v":0},null,null,{"$f":"ROUND(SUM(F179:G179),1)","v":0},null,null,{"$f":"ROUND(SUM(I179:J179),1)","v":0},null,null,{"$f":"ROUND(SUM(L179:M179),1)","v":0}]
[{"$f":"Update_8!C151","v":"៣. ពិនិត្យតាមដាន និងវាយតម្លៃ"},0,null,null,0,null,null,0,null,null,0]
[{"$f":"Update_8!C152","v":"៤.  រៀប​ចំ​ទិវាជាតិ​អំណាន និង​ពិធី​បុណ្យផ្សេងៗ"},0,null,null,0,null,null,0,null,null,0]
[{"$f":"Update_8!C153","v":"៥. អភិវឌ្ឍកម្មវិធីសិក្សា វិធីសាស្រ្តបង្រៀន(IBL) ឯកសារ​  និងសម្ភារសិក្សា និងផ្សព្វផ្សាយ"},0,null,null,0,null,null,0,null,null,0]
[{"$f":"Update_8!C154","v":0},0,null,null,0,null,null,0,null,null,0]
[{"$f":"Update_8!C155","v":0},0,null,null,0,null,null,0,null,null,0]
[{"$f":"Update_8!C156","v":0},0,null,null,0,null,null,0,null,null,0]
[{"$f":"Update_8!C157","v":0},0,null,null,0,null,null,0,null,null,0]
[{"$f":"Update_8!C158","v":0},0,null,null,0,null,null,0,null,null,0]
[{"$f":"cluster_activity_2","v":"សកម្មភាពរង ទី ២៖ ធានាភាពស័ក្តិសិទ្ធនៃភាពជាអ្នកដឹកនាំ និងគ្រប់គ្រងរបស់មន្ត្រី អប់រំគ្រប់លំដាប់ថ្នាក់"},{"$f":"ROUND(SUM(B189:B198),1)","v":0},{"$f":"ROUND(SUM(C189:C198),1)","v":0},{"$f":"ROUND(SUM(D189:D198),1)","v":0},{"$f":"ROUND(SUM(E189:E198),1)","v":0},0,0,0,0,0,{"$f":"ROUND(SUM(K189:K198),1)","v":0},{"$f":"ROUND(SUM(L189:L198),1)","v":0},{"$f":"ROUND(SUM(M189:M198),1)","v":0}]
[{"$f":"Update_8!C159","v":"១. ពង្រឹងសមត្ថភាពមន្ដ្រីជំនាញស្តីពីកម្មវិធីសិក្សា សៀវភៅសិក្សាគោល និងបណ្ណាល័យ"},{"$f":"ROUND(SUM(C189:D189),1)","v":0},null,null,{"$f":"ROUND(SUM(F189:G189),1)","v":0},null,null,{"$f":"ROUND(SUM(I189:J189),1)","v":0},null,null,{"$f":"ROUND(SUM(L189:M189),1)","v":0}]
[{"$f":"Update_8!C160","v":0},{"$f":"ROUND(SUM(C190:D190),1)","v":0},null,null,{"$f":"ROUND(SUM(F190:G190),1)","v":0},null,null,{"$f":"ROUND(SUM(I190:J190),1)","v":0},null,null,{"$f":"ROUND(SUM(L190:M190),1)","v":0}]
[{"$f":"Update_8!C161","v":0},0,null,null,0,null,null,0,null,null,0]
[{"$f":"Update_8!C162","v":0},0,null,null,0,null,null,0,null,null,0]
[{"$f":"Update_8!C163","v":0},0,null,null,0,null,null,0,null,null,0]
[{"$f":"Update_8!C164","v":0},0,null,null,0,null,null,0,null,null,0]
[{"$f":"Update_8!C165","v":0},0,null,null,0,null,null,0,null,null,0]
[{"$f":"Update_8!C166","v":0},0,null,null,0,null,null,0,null,null,0]
[{"$f":"Update_8!C167","v":0},0,null,null,0,null,null,0,null,null,0]
[{"$f":"Update_8!C168","v":0},0,null,null,0,null,null,0,null,null,0]
[{"$f":"ព័ត៌មានអង្គភាព!C14","v":"១.១០.០១.៩៖ ពង្រីកការអប់រំបរិយាបន្នគ្រប់ភូមិសិក្សា"},{"$f":"SUM(B200,B211)","v":0},{"$f":"SUM(C200,C211)","v":0},0,0,0,0,0,0,0,0,0,0]
[{"$f":"cluster_activity_1","v":"សកម្មភាពរង ទី ១៖ ធានាឱ្យការអប់រំមានគុណភាព ប្រកបដោយសមធម៌ បរិយាបន្ន និងលើកកម្ពស់ឱកាសក្នុងការសិក្សាពេញមួយជីវិត"},{"$f":"ROUND(SUM(B201:B210),1)","v":0},{"$f":"ROUND(SUM(C201:C210),1)","v":0},{"$f":"ROUND(SUM(D201:D210),1)","v":0},0,0,0,0,0,0,0,0,0]
[{"$f":"Update_8!C169","v":"១. កិច្ចដំណើរការអង្គភាព"},{"$f":"ROUND(SUM(C201:D201),1)","v":0},null,null,{"$f":"ROUND(SUM(F201:G201),1)","v":0},null,null,{"$f":"ROUND(SUM(I201:J201),1)","v":0},null,null,{"$f":"ROUND(SUM(L201:M201),1)","v":0}]
[{"$f":"Update_8!C170","v":"២. ថវិកាលទ្ធកម្ម"},{"$f":"ROUND(SUM(C202:D202),1)","v":0},null,null,{"$f":"ROUND(SUM(F202:G202),1)","v":0},null,null,{"$f":"ROUND(SUM(I202:J202),1)","v":0},null,null,{"$f":"ROUND(SUM(L202:M202),1)","v":0}]
[{"$f":"Update_8!C171","v":"៣. ពិនិត្យតាមដាន និងវាយតម្លៃ"},0,null,null,0,null,null,0,null,null,0]
[{"$f":"Update_8!C172","v":"៤. អភិវឌ្ឍការងារអប់រំពិសេស និងពហុភាសា"},0,null,null,0,null,null,0,null,null,0]
[{"$f":"Update_8!C173","v":"៥. វិទ្យាល័យអប់រំពិសេស"},0,null,null,0,null,null,0,null,null,0]
[{"$f":"Update_8!C174","v":"៦. អភិវឌ្ឍវិទ្យាស្ថានជាតិអប់រំពិសេស"},0,null,null,0,null,null,0,null,null,0]
[{"$f":"Update_8!C175","v":"៧. អភិវឌ្ឍហេដ្ឋារចនាសម្ពន្ធ័សាលារៀនអប់រំបរិយាបន្ន"},0,null,null,0,null,null,0,null,null,0]
[{"$f":"Update_8!C176","v":0},0,null,null,0,null,null,0,null,null,0]
[{"$f":"Update_8!C177","v":0},0,null,null,0,null,null,0,null,null,0]
[{"$f":"Update_8!C178","v":0},0,null,null,0,null,null,0,null,null,0]
[{"$f":"cluster_activity_2","v":"សកម្មភាពរង ទី ២៖ ធានាភាពស័ក្តិសិទ្ធនៃភាពជាអ្នកដឹកនាំ និងគ្រប់គ្រងរបស់មន្ត្រី អប់រំគ្រប់លំដាប់ថ្នាក់"},{"$f":"ROUND(SUM(B212:B221),1)","v":0},{"$f":"ROUND(SUM(C212:C221),1)","v":0},{"$f":"ROUND(SUM(D212:D221),1)","v":0},{"$f":"ROUND(SUM(E212:E221),1)","v":0},0,0,0,0,0,{"$f":"ROUND(SUM(K212:K221),1)","v":0},{"$f":"ROUND(SUM(L212:L221),1)","v":0},{"$f":"ROUND(SUM(M212:M221),1)","v":0}]
[{"$f":"Update_8!C179","v":"១. អភិវឌ្ឍសមត្ថភាពមន្រ្តីស្តីពីអប់រំបរិយាបន្ននិងពហុភាសា និងលើកទឹកចិត្ត"},{"$f":"ROUND(SUM(C212:D212),1)","v":0},null,null,{"$f":"ROUND(SUM(F212:G212),1)","v":0},null,null,{"$f":"ROUND(SUM(I212:J212),1)","v":0},null,null,{"$f":"ROUND(SUM(L212:M212),1)","v":0}]
[{"$f":"Update_8!C180","v":0},{"$f":"ROUND(SUM(C213:D213),1)","v":0},null,null,{"$f":"ROUND(SUM(F213:G213),1)","v":0},null,null,{"$f":"ROUND(SUM(I213:J213),1)","v":0},null,null,{"$f":"ROUND(SUM(L213:M213),1)","v":0}]
[{"$f":"Update_8!C181","v":0},0,null,null,0,null,null,0,null,null,0]
[{"$f":"Update_8!C182","v":0},0,null,null,0,null,null,0,null,null,0]
[{"$f":"Update_8!C183","v":0},0,null,null,0,null,null,0,null,null,0]
[{"$f":"Update_8!C184","v":0},0,null,null,0,null,null,0,null,null,0]
[{"$f":"Update_8!C185","v":0},0,null,null,0,null,null,0,null,null,0]
[{"$f":"Update_8!C186","v":0},0,null,null,0,null,null,0,null,null,0]
[{"$f":"Update_8!C187","v":0},0,null,null,0,null,null,0,null,null,0]
[{"$f":"Update_8!C188","v":0},0,null,null,0,null,null,0,null,null,0]
[{"$f":"ព័ត៌មានអង្គភាព!C15","v":"កម្មវិធីទី៣៖ ការអភិវឌ្ឍវិស័យអប់រំកាយនិងកីឡា"},{"$f":"B223","v":0},{"$f":"C223","v":0},0,0,0,0,0,0,0,0,0,0]
[{"$f":"ព័ត៌មានអង្គភាព!C16","v":"អនុកម្មវិធីទី ៣.៥៖ សេវាគាំទ្រការអភិវឌ្ឍវិស័យអប់រំកាយ និងកីឡារបស់មន្ទីរជំនាញរាជធានី ខេត្ត"},{"$f":"B224","v":0},0,0,0,0,0,0,0,0,0,0,0]
[{"$f":"ព័ត៌មានអង្គភាព!C17","v":"ចង្កោមសកម្មភាពទី ០១៖ខេត្តបន្ទាយមានជ័យ"},{"$f":"SUM(B225,B248,B271,B294)","v":0},{"$f":"SUM(C225,C248,C271,C294)","v":0},0,0,0,0,0,0,0,0,0,0]
[{"$f":"ព័ត៌មានអង្គភាព!C18","v":"៣.៥.០១.១៖ ការអភិវឌ្ឍកីឡាមហាជន"},{"$f":"ROUND(SUM(B226,B237),1)","v":0},{"$f":"ROUND(SUM(C226,C237),1)","v":0},{"$f":"ROUND(SUM(D226,D237),1)","v":0},{"$f":"SUM(E226,E237)","v":0},0,0,0,0,0,0,0,0]
[{"$f":"cluster_activity_1","v":"សកម្មភាពរង ទី ១៖ ធានាឱ្យការអប់រំមានគុណភាព ប្រកបដោយសមធម៌ បរិយាបន្ន និងលើកកម្ពស់ឱកាសក្នុងការសិក្សាពេញមួយជីវិត"},{"$f":"ROUND(SUM(B227:B236),1)","v":0},{"$f":"ROUND(SUM(C227:C236),1)","v":0},{"$f":"ROUND(SUM(D227:D236),1)","v":0},0,0,0,0,0,0,0,0,0]
[{"$f":"Update_8!C471","v":"១. កិច្ចដំណើការអង្គភាព"},{"$f":"ROUND(SUM(C227:D227),1)","v":0},null,null,{"$f":"ROUND(SUM(F227:G227),1)","v":0},null,null,{"$f":"ROUND(SUM(I227:J227),1)","v":0},null,null,{"$f":"ROUND(SUM(L227:M227),1)","v":0}]
[{"$f":"Update_8!C472","v":"២. ថវិកាលទ្ធកម្ម"},{"$f":"ROUND(SUM(C228:D228),1)","v":0},null,null,{"$f":"ROUND(SUM(F228:G228),1)","v":0},null,null,{"$f":"ROUND(SUM(I228:J228),1)","v":0},null,null,{"$f":"ROUND(SUM(L228:M228),1)","v":0}]
[{"$f":"Update_8!C473","v":"៣. ពិនិត្យតាមដាន និងវាយតម្លៃ"},0,null,null,0,null,null,0,null,null,0]
[{"$f":"Update_8!C474","v":"៤. អភិរក្សនិងអភិវឌ្ឍកីឡាគ្រប់ប្រភេទ"},0,null,null,0,null,null,0,null,null,0]
[{"$f":"Update_8!C475","v":"៥. អភិវឌ្ឍកីឡាសម្រាប់ទាំងអស់គ្នា "},0,null,null,0,null,null,0,null,null,0]
[{"$f":"Update_8!C476","v":"៦. ផ្តល់ថវិកាគាំទ្រដល់សហព័ន្ធកីឡាជាតិ"},0,null,null,0,null,null,0,null,null,0]
[{"$f":"Update_8!C477","v":"៧. អភិវឌ្ឍ និងកែលម្អហេដ្ឋារចនាសម្ព័ន្ធ បរិក្ខារកីឡា និងការជួសជុលថែទាំ "},0,null,null,0,null,null,0,null,null,0]
[{"$f":"Update_8!C478","v":"៨. រៀបចំ និងចូលរួមការប្រកួតកីឡាលក្ខណៈជាតិ និងអន្តរជាតិ និងប្រាក់រង្វាន់"},0,null,null,0,null,null,0,null,null,0]
[{"$f":"Update_8!C479","v":0},0,null,null,0,null,null,0,null,null,0]
[{"$f":"Update_8!C480","v":0},0,null,null,0,null,null,0,null,null,0]
[{"$f":"cluster_activity_2","v":"សកម្មភាពរង ទី ២៖ ធានាភាពស័ក្តិសិទ្ធនៃភាពជាអ្នកដឹកនាំ និងគ្រប់គ្រងរបស់មន្ត្រី អប់រំគ្រប់លំដាប់ថ្នាក់"},{"$f":"ROUND(SUM(B238:B247),1)","v":0},{"$f":"ROUND(SUM(C238:C247),1)","v":0},{"$f":"ROUND(SUM(D238:D247),1)","v":0},{"$f":"ROUND(SUM(E238:E247),1)","v":0},0,0,0,0,0,{"$f":"ROUND(SUM(K238:K247),1)","v":0},{"$f":"ROUND(SUM(L238:L247),1)","v":0},{"$f":"ROUND(SUM(M238:M247),1)","v":0}]
[{"$f":"Update_8!C481","v":"១. អភិវឌ្ឍសមត្ថភាពបុគ្គលិកអប់រំ គ្រូបង្វឹក អាជ្ញាកណ្តាល ចៅក្រម និងមន្ត្រីរៀបចំការប្រកួត"},{"$f":"ROUND(SUM(C238:D238),1)","v":0},null,null,{"$f":"ROUND(SUM(F238:G238),1)","v":0},null,null,{"$f":"ROUND(SUM(I238:J238),1)","v":0},null,null,{"$f":"ROUND(SUM(L238:M238),1)","v":0}]
[{"$f":"Update_8!C482","v":"២. អនុវត្តផែនការ៥ឆ្នាំអាស៊ាន និងកិច្ចសហប្រតិបត្តិការអន្តរជាតិ"},{"$f":"ROUND(SUM(C239:D239),1)","v":0},null,null,{"$f":"ROUND(SUM(F239:G239),1)","v":0},null,null,{"$f":"ROUND(SUM(I239:J239),1)","v":0},null,null,{"$f":"ROUND(SUM(L239:M239),1)","v":0}]
[{"$f":"Update_8!C483","v":"៣. អភិវឌ្ឍក្របខ័ណ្ឌច្បាប់ និងគតិយុត្តិ"},0,null,null,0,null,null,0,null,null,0]
[{"$f":"Update_8!C484","v":0},0,null,null,0,null,null,0,null,null,0]
[{"$f":"Update_8!C485","v":0},0,null,null,0,null,null,0,null,null,0]
[{"$f":"Update_8!C486","v":0},0,null,null,0,null,null,0,null,null,0]
[{"$f":"Update_8!C487","v":0},0,null,null,0,null,null,0,null,null,0]
[{"$f":"Update_8!C488","v":0},0,null,null,0,null,null,0,null,null,0]
[{"$f":"Update_8!C489","v":0},0,null,null,0,null,null,0,null,null,0]
[{"$f":"Update_8!C490","v":0},0,null,null,0,null,null,0,null,null,0]
[{"$f":"ព័ត៌មានអង្គភាព!C19","v":"៣.៥.០១.២៖ ការអភិវឌ្ឍអប់រំកាយ និងកីឡាសិស្ស និស្សិត"},{"$f":"ROUND(SUM(B249,B260),1)","v":0},{"$f":"ROUND(SUM(C249,C260),1)","v":0},{"$f":"ROUND(SUM(D249,D260),1)","v":0},{"$f":"SUM(E249,E260)","v":0},0,0,0,0,0,0,0,0]
[{"$f":"cluster_activity_1","v":"សកម្មភាពរង ទី ១៖ ធានាឱ្យការអប់រំមានគុណភាព ប្រកបដោយសមធម៌ បរិយាបន្ន និងលើកកម្ពស់ឱកាសក្នុងការសិក្សាពេញមួយជីវិត"},{"$f":"ROUND(SUM(B250:B259),1)","v":0},{"$f":"ROUND(SUM(C250:C259),1)","v":0},{"$f":"ROUND(SUM(D250:D259),1)","v":0},0,0,0,0,0,0,0,0,0]
[{"$f":"Update_8!C491","v":"១. ​កិច្ចដំណើការអង្គភាព"},{"$f":"ROUND(SUM(C250:D250),1)","v":0},null,null,{"$f":"ROUND(SUM(F250:G250),1)","v":0},null,null,{"$f":"ROUND(SUM(I250:J250),1)","v":0},null,null,{"$f":"ROUND(SUM(L250:M250),1)","v":0}]
[{"$f":"Update_8!C492","v":"២. ថវិកាលទ្ធកម្ម"},{"$f":"ROUND(SUM(C251:D251),1)","v":0},null,null,{"$f":"ROUND(SUM(F251:G251),1)","v":0},null,null,{"$f":"ROUND(SUM(I251:J251),1)","v":0},null,null,{"$f":"ROUND(SUM(L251:M251),1)","v":0}]
[{"$f":"Update_8!C493","v":"៣. ពិនិត្យតាមដាន និងវាយតម្លៃ"},0,null,null,0,null,null,0,null,null,0]
[{"$f":"Update_8!C494","v":"៤. ពង្រឹងសកម្មភាពអប់រំកាយ និងកីឡាតាមគ្រឹះស្ថានសិក្សា សមាគម និងក្លឹបកីឡា"},0,null,null,0,null,null,0,null,null,0]
[{"$f":"Update_8!C495","v":"៥. អភិវឌ្ឍ និងកែលម្អហេដ្ឋារចនាសម្ព័ន្ធ បរិក្ខារកីឡា និងការជួសជុលថែទាំទីលានកីឡាតាមគ្រឹះស្ថានសិក្សា"},0,null,null,0,null,null,0,null,null,0]
[{"$f":"Update_8!C496","v":"៦. រៀបចំ និងចូលរួមប្រកួតកីឡាសិស្ស និស្សិតថ្នាក់ជាតិ និងអន្តរជាតិនិងប្រាក់រង្វាន់ជ័យលាភី"},0,null,null,0,null,null,0,null,null,0]
[{"$f":"Update_8!C497","v":"៧. អភិវឌ្ឍកម្មវិធីសិក្សាអប់រំកាយ និងកីឡាសម្រាប់ គ្រឹះស្ថានសិក្សា និងវិទ្យាស្ថានគរុកោសល្យ"},0,null,null,0,null,null,0,null,null,0]
[{"$f":"Update_8!C498","v":0},0,null,null,0,null,null,0,null,null,0]
[{"$f":"Update_8!C499","v":0},0,null,null,0,null,null,0,null,null,0]
[{"$f":"Update_8!C500","v":0},0,null,null,0,null,null,0,null,null,0]
[{"$f":"cluster_activity_2","v":"សកម្មភាពរង ទី ២៖ ធានាភាពស័ក្តិសិទ្ធនៃភាពជាអ្នកដឹកនាំ និងគ្រប់គ្រងរបស់មន្ត្រី អប់រំគ្រប់លំដាប់ថ្នាក់"},{"$f":"ROUND(SUM(B261:B270),1)","v":0},{"$f":"ROUND(SUM(C261:C270),1)","v":0},{"$f":"ROUND(SUM(D261:D270),1)","v":0},{"$f":"ROUND(SUM(E261:E270),1)","v":0},0,0,0,0,0,{"$f":"ROUND(SUM(K261:K270),1)","v":0},{"$f":"ROUND(SUM(L261:L270),1)","v":0},{"$f":"ROUND(SUM(M261:M270),1)","v":0}]
[{"$f":"Update_8!C501","v":"១. អភិវឌ្ឍសមត្ថភាពស្តីពីការអប់រំកាយ និងកីឡាដល់គ្រូតាមគ្រឹះស្ថានសិក្សា"},{"$f":"ROUND(SUM(C261:D261),1)","v":0},null,null,{"$f":"ROUND(SUM(F261:G261),1)","v":0},null,null,{"$f":"ROUND(SUM(I261:J261),1)","v":0},null,null,{"$f":"ROUND(SUM(L261:M261),1)","v":0}]
[{"$f":"Update_8!C502","v":"២. ពង្រឹង និងពង្រីកកិច្ចសហប្រតិបត្តិការជាតិ និងអន្តរជាតិ"},{"$f":"ROUND(SUM(C262:D262),1)","v":0},null,null,{"$f":"ROUND(SUM(F262:G262),1)","v":0},null,null,{"$f":"ROUND(SUM(I262:J262),1)","v":0},null,null,{"$f":"ROUND(SUM(L262:M262),1)","v":0}]
[{"$f":"Update_8!C503","v":0},0,null,null,0,null,null,0,null,null,0]
[{"$f":"Update_8!C504","v":0},0,null,null,0,null,null,0,null,null,0]
[{"$f":"Update_8!C505","v":0},0,null,null,0,null,null,0,null,null,0]
[{"$f":"Update_8!C506","v":0},0,null,null,0,null,null,0,null,null,0]
[{"$f":"Update_8!C507","v":0},0,null,null,0,null,null,0,null,null,0]
[{"$f":"Update_8!C508","v":0},0,null,null,0,null,null,0,null,null,0]
[{"$f":"Update_8!C509","v":0},0,null,null,0,null,null,0,null,null,0]
[{"$f":"Update_8!C510","v":0},0,null,null,0,null,null,0,null,null,0]
[{"$f":"ព័ត៌មានអង្គភាព!C20","v":"៣.៥.០១.៣៖ ការបណ្តុះបណ្តាលធនធានមនុស្សផ្នែកអប់រំកាយ និងកីឡា"},{"$f":"ROUND(SUM(B272,B283),1)","v":0},{"$f":"ROUND(SUM(C272,C283),1)","v":0},{"$f":"ROUND(SUM(D272,D283),1)","v":0},{"$f":"SUM(E272,E283)","v":0},0,0,0,0,0,0,0,0]
[{"$f":"cluster_activity_1","v":"សកម្មភាពរង ទី ១៖ ធានាឱ្យការអប់រំមានគុណភាព ប្រកបដោយសមធម៌ បរិយាបន្ន និងលើកកម្ពស់ឱកាសក្នុងការសិក្សាពេញមួយជីវិត"},{"$f":"ROUND(SUM(B273:B282),1)","v":0},{"$f":"ROUND(SUM(C273:C282),1)","v":0},{"$f":"ROUND(SUM(D273:D282),1)","v":0},0,0,0,0,0,0,0,0,0]
[{"$f":"Update_8!C511","v":"១. ​កិច្ចដំណើការអង្គភាព"},{"$f":"ROUND(SUM(C273:D273),1)","v":0},null,null,{"$f":"ROUND(SUM(F273:G273),1)","v":0},null,null,{"$f":"ROUND(SUM(I273:J273),1)","v":0},null,null,{"$f":"ROUND(SUM(L273:M273),1)","v":0}]
[{"$f":"Update_8!C512","v":"២. ថវិកាលទ្ធកម្ម"},{"$f":"ROUND(SUM(C274:D274),1)","v":0},null,null,{"$f":"ROUND(SUM(F274:G274),1)","v":0},null,null,{"$f":"ROUND(SUM(I274:J274),1)","v":0},null,null,{"$f":"ROUND(SUM(L274:M274),1)","v":0}]
[{"$f":"Update_8!C513","v":"៣. ពិនិត្យតាមដាន និងវាយតម្លៃ"},0,null,null,0,null,null,0,null,null,0]
[{"$f":"Update_8!C514","v":"៤. បណ្តុះបណ្តាលគរុសិស្ស និស្សិតអប់រំកាយនិងកីឡា"},0,null,null,0,null,null,0,null,null,0]
[{"$f":"Update_8!C515","v":"៥. អភិវឌ្ឍ និងកែលម្អហេដ្ឋារចនាសម្ព័ន្ធ បរិក្ខារកីឡា និងការជួសជុលថែទាំ នៅវិទ្យាស្ថានជាតិអប់រំកាយ និងកីឡា"},0,null,null,0,null,null,0,null,null,0]
[{"$f":"Update_8!C516","v":"៦. អភិវឌ្ឍកម្មវិធីសិក្សា និងស្រាវជ្រាវនៅវិទ្យាស្ថានជាតិអប់រំកាយ និងកីឡា"},0,null,null,0,null,null,0,null,null,0]
[{"$f":"Update_8!C517","v":0},0,null,null,0,null,null,0,null,null,0]
[{"$f":"Update_8!C518","v":0},0,null,null,0,null,null,0,null,null,0]
[{"$f":"Update_8!C519","v":0},0,null,null,0,null,null,0,null,null,0]
[{"$f":"Update_8!C520","v":0},0,null,null,0,null,null,0,null,null,0]
[{"$f":"cluster_activity_2","v":"សកម្មភាពរង ទី ២៖ ធានាភាពស័ក្តិសិទ្ធនៃភាពជាអ្នកដឹកនាំ និងគ្រប់គ្រងរបស់មន្ត្រី អប់រំគ្រប់លំដាប់ថ្នាក់"},{"$f":"ROUND(SUM(B284:B293),1)","v":0},{"$f":"ROUND(SUM(C284:C293),1)","v":0},{"$f":"ROUND(SUM(D284:D293),1)","v":0},{"$f":"ROUND(SUM(E284:E293),1)","v":0},0,0,0,0,0,{"$f":"ROUND(SUM(K284:K293),1)","v":0},{"$f":"ROUND(SUM(L284:L293),1)","v":0},{"$f":"ROUND(SUM(M284:M293),1)","v":0}]
[{"$f":"Update_8!C521","v":"១. អភិវឌ្ឍសមត្ថភាពមន្រ្តី និងគ្រូអប់រំកាយ និងកីឡា"},{"$f":"ROUND(SUM(C284:D284),1)","v":0},null,null,{"$f":"ROUND(SUM(F284:G284),1)","v":0},null,null,{"$f":"ROUND(SUM(I284:J284),1)","v":0},null,null,{"$f":"ROUND(SUM(L284:M284),1)","v":0}]
[{"$f":"Update_8!C522","v":"២. ពង្រឹង និងពង្រីកកិច្ចសហប្រតិបត្តិការជាតិ និងអន្តរជាតិ"},{"$f":"ROUND(SUM(C285:D285),1)","v":0},null,null,{"$f":"ROUND(SUM(F285:G285),1)","v":0},null,null,{"$f":"ROUND(SUM(I285:J285),1)","v":0},null,null,{"$f":"ROUND(SUM(L285:M285),1)","v":0}]
[{"$f":"Update_8!C523","v":0},0,null,null,0,null,null,0,null,null,0]
[{"$f":"Update_8!C524","v":0},0,null,null,0,null,null,0,null,null,0]
[{"$f":"Update_8!C525","v":0},0,null,null,0,null,null,0,null,null,0]
[{"$f":"Update_8!C526","v":0},0,null,null,0,null,null,0,null,null,0]
[{"$f":"Update_8!C527","v":0},0,null,null,0,null,null,0,null,null,0]
[{"$f":"Update_8!C528","v":0},0,null,null,0,null,null,0,null,null,0]
[{"$f":"Update_8!C529","v":0},0,null,null,0,null,null,0,null,null,0]
[{"$f":"Update_8!C530","v":0},0,null,null,0,null,null,0,null,null,0]
[{"$f":"ព័ត៌មានអង្គភាព!C21","v":"៣.៥.០១.៤៖ ការអភិវឌ្ឍកីឡាកម្រិតខ្ពស់"},{"$f":"ROUND(SUM(B295,B306),1)","v":0},{"$f":"ROUND(SUM(C295,C306),1)","v":0},{"$f":"ROUND(SUM(D295,D306),1)","v":0},{"$f":"SUM(E295,E306)","v":0},0,0,0,0,0,0,0,0]
[{"$f":"cluster_activity_1","v":"សកម្មភាពរង ទី ១៖ ធានាឱ្យការអប់រំមានគុណភាព ប្រកបដោយសមធម៌ បរិយាបន្ន និងលើកកម្ពស់ឱកាសក្នុងការសិក្សាពេញមួយជីវិត"},{"$f":"ROUND(SUM(B296:B305),1)","v":0},{"$f":"ROUND(SUM(C296:C305),1)","v":0},{"$f":"ROUND(SUM(D296:D305),1)","v":0},0,0,0,0,0,0,0,0,0]
[{"$f":"Update_8!C531","v":"១. កិច្ចដំណើការអង្គភាព"},{"$f":"ROUND(SUM(C296:D296),1)","v":0},null,null,{"$f":"ROUND(SUM(F296:G296),1)","v":0},null,null,{"$f":"ROUND(SUM(I296:J296),1)","v":0},null,null,{"$f":"ROUND(SUM(L296:M296),1)","v":0}]
[{"$f":"Update_8!C532","v":"២. ថវិកាលទ្ធកម្ម"},{"$f":"ROUND(SUM(C297:D297),1)","v":0},null,null,{"$f":"ROUND(SUM(F297:G297),1)","v":0},null,null,{"$f":"ROUND(SUM(I297:J297),1)","v":0},null,null,{"$f":"ROUND(SUM(L297:M297),1)","v":0}]
[{"$f":"Update_8!C533","v":"៣. ពិនិត្យតាមដាន និងវាយតម្លៃ"},0,null,null,0,null,null,0,null,null,0]
[{"$f":"Update_8!C534","v":"៤. អភិវឌ្ឍកីឡាថ្នាលឆ្ពោះទៅស៊ីហ្គេមឆ្នាំ២០២៣"},0,null,null,0,null,null,0,null,null,0]
[{"$f":"Update_8!C535","v":"៥. អភិវឌ្ឍកីឡាកម្រិតខ្ពស់ "},0,null,null,0,null,null,0,null,null,0]
[{"$f":"Update_8!C536","v":"៦. អភិវឌ្ឍហេដ្ឋារចនាសម្ព័ន្ធ និងបំពាក់សម្ភាររូបវ័ន្តកីទ្បាស្របតាមស្តង់ដា"},0,null,null,0,null,null,0,null,null,0]
[{"$f":"Update_8!C537","v":"៧. ចូលរួមការប្រកួតកីឡាស៊ីហ្គេម អន្តរជាតិនានា និងប្រាក់រង្វាន់ជ័យលាភី"},0,null,null,0,null,null,0,null,null,0]
[{"$f":"Update_8!C538","v":"៨. ផលិតទស្សនាវដ្តីកីឡា និងចងក្រងឯកសារកីឡា"},0,null,null,0,null,null,0,null,null,0]
[{"$f":"Update_8!C539","v":"៩. បង្កើតសារមន្ទីរកីឡា"},0,null,null,0,null,null,0,null,null,0]
[{"$f":"Update_8!C540","v":0},0,null,null,0,null,null,0,null,null,0]
[{"$f":"cluster_activity_2","v":"សកម្មភាពរង ទី ២៖ ធានាភាពស័ក្តិសិទ្ធនៃភាពជាអ្នកដឹកនាំ និងគ្រប់គ្រងរបស់មន្ត្រី អប់រំគ្រប់លំដាប់ថ្នាក់"},{"$f":"ROUND(SUM(B307:B316),1)","v":0},{"$f":"ROUND(SUM(C307:C316),1)","v":0},{"$f":"ROUND(SUM(D307:D316),1)","v":0},{"$f":"ROUND(SUM(E307:E316),1)","v":0},0,0,0,0,0,{"$f":"ROUND(SUM(K307:K316),1)","v":0},{"$f":"ROUND(SUM(L307:L316),1)","v":0},{"$f":"ROUND(SUM(M307:M316),1)","v":0}]
[{"$f":"Update_8!C541","v":"១. អភិវឌ្ឍសមត្ថភាពស្ថាប័ន និងមន្ត្រីផ្នែកវិទ្យាសាស្រ្តកីឡា និងវេជ្ជសាស្រ្តកីឡា"},{"$f":"ROUND(SUM(C307:D307),1)","v":0},null,null,{"$f":"ROUND(SUM(F307:G307),1)","v":0},null,null,{"$f":"ROUND(SUM(I307:J307),1)","v":0},null,null,{"$f":"ROUND(SUM(L307:M307),1)","v":0}]
[{"$f":"Update_8!C542","v":"២. ពង្រឹង និងអភិវឌ្ឍទីភ្នាក់ងារប្រឆាំងការប្រើប្រាស់សារធាតុដូប៉ាក្នុងវិស័យកីឡា"},{"$f":"ROUND(SUM(C308:D308),1)","v":0},null,null,{"$f":"ROUND(SUM(F308:G308),1)","v":0},null,null,{"$f":"ROUND(SUM(I308:J308),1)","v":0},null,null,{"$f":"ROUND(SUM(L308:M308),1)","v":0}]
[{"$f":"Update_8!C543","v":"៣. ពង្រឹង និងពង្រីកកិច្ចសហប្រតិបត្តិការជាតិ និងអន្តរជាតិ"},0,null,null,0,null,null,0,null,null,0]
[{"$f":"Update_8!C544","v":0},0,null,null,0,null,null,0,null,null,0]
[{"$f":"Update_8!C545","v":0},0,null,null,0,null,null,0,null,null,0]
[{"$f":"Update_8!C546","v":0},0,null,null,0,null,null,0,null,null,0]
[{"$f":"Update_8!C547","v":0},0,null,null,0,null,null,0,null,null,0]
[{"$f":"Update_8!C548","v":0},0,null,null,0,null,null,0,null,null,0]
[{"$f":"Update_8!C549","v":0},0,null,null,0,null,null,0,null,null,0]
[{"$f":"Update_8!C550","v":0},0,null,null,0,null,null,0,null,null,0]
[{"$f":"ព័ត៌មានអង្គភាព!C22","v":"កម្មវិធីទី៤៖ យុវជនម្នាក់មានជំនាញមួយយ៉ាងតិចប្រចាំជីវិត"},{"$f":"B318","v":0},{"$f":"C318","v":0},0,0,0,0,0,0,0,0,0,0]
[{"$f":"ព័ត៌មានអង្គភាព!C23","v":"អនុកម្មវិធីទី ៤.៤៖ សេវាគាំទ្រអភិវឌ្ឍយុវជនម្នាក់មានជំនាញមួយយ៉ាងតិចប្រចាំជីវិតរបស់\nមន្ទីរជំនាញរាជធានី ខេត្ត"},{"$f":"B319","v":0},0,0,0,0,0,0,0,0,0,0,0]
[{"$f":"ព័ត៌មានអង្គភាព!C24","v":"ចង្កោមសកម្មភាពទី ០១៖ខេត្តបន្ទាយមានជ័យ"},{"$f":"SUM(B320,B343,B366)","v":0},0,0,0,0,0,0,0,0,0,0,0]
[{"$f":"ព័ត៌មានអង្គភាព!C25","v":"៤.៤.០១.១៖ ការអភិវឌ្ឍសកម្មភាពយុវជន"},{"$f":"SUM(B321,B332)","v":0},0,0,0,0,0,0,0,0,0,0,0]
[{"$f":"cluster_activity_1","v":"សកម្មភាពរង ទី ១៖ ធានាឱ្យការអប់រំមានគុណភាព ប្រកបដោយសមធម៌ បរិយាបន្ន និងលើកកម្ពស់ឱកាសក្នុងការសិក្សាពេញមួយជីវិត"},{"$f":"ROUND(SUM(B322:B331),1)","v":0},{"$f":"ROUND(SUM(C322:C331),1)","v":0},{"$f":"ROUND(SUM(D322:D331),1)","v":0},0,0,0,0,0,0,0,0,0]
[{"$f":"Update_8!C552","v":"១. កិច្ចដំណើការអង្គភាព"},{"$f":"ROUND(SUM(C322:D322),1)","v":0},null,null,{"$f":"ROUND(SUM(F322:G322),1)","v":0},null,null,{"$f":"ROUND(SUM(I322:J322),1)","v":0},null,null,{"$f":"ROUND(SUM(L322:M322),1)","v":0}]
[{"$f":"Update_8!C553","v":"២. ថវិកាលទ្ធកម្ម"},{"$f":"ROUND(SUM(C323:D323),1)","v":0},null,null,{"$f":"ROUND(SUM(F323:G323),1)","v":0},null,null,{"$f":"ROUND(SUM(I323:J323),1)","v":0},null,null,{"$f":"ROUND(SUM(L323:M323),1)","v":0}]
[{"$f":"Update_8!C554","v":"៣. ពិនិត្យតាមដាន និងវាយតម្លៃ"},0,null,null,0,null,null,0,null,null,0]
[{"$f":"Update_8!C555","v":"៤. អភិវឌ្ឍក្រុមប្រឹក្សាកុមារកម្ពុជា និងក្រុមប្រឹក្សាយុវជនកម្ពុជា"},0,null,null,0,null,null,0,null,null,0]
[{"$f":"Update_8!C556","v":"៥. លើកកម្ពស់ការយល់ដឹងអំពីធុរកិច្ច អក្ខរកម្មហិរញ្ញវត្ថុ ការគ្រប់គ្រងផ្លូវចិត្ត "},0,null,null,0,null,null,0,null,null,0]
[{"$f":"Update_8!C557","v":"៦. កម្មវិធីអប់រំយុវជន និងកុមារតាមរយៈការផ្សព្វផ្សាយ "},0,null,null,0,null,null,0,null,null,0]
[{"$f":"Update_8!C558","v":"៧. លើកកម្ពស់ចលនាប្រឡងប្រណាំង៣ល្អ កូនល្អ សិស្សល្អ និងមិត្តល្អ របស់កុមារ និងយុវជន"},0,null,null,0,null,null,0,null,null,0]
[{"$f":"Update_8!C559","v":"៨. កម្មវិធីប្រឡងប្រណាំងស្នាដៃយុវជនសត្សវត្សរ៍ទី២១ "},0,null,null,0,null,null,0,null,null,0]
[{"$f":"Update_8!C560","v":"៩. កម្មវិធីផ្លាស់ប្តូរទំនាក់ទំនងយុវជនជាតិ និងអន្តរជាតិ"},0,null,null,0,null,null,0,null,null,0]
[{"$f":"Update_8!C561","v":0},0,null,null,0,null,null,0,null,null,0]
[{"$f":"cluster_activity_2","v":"សកម្មភាពរង ទី ២៖ ធានាភាពស័ក្តិសិទ្ធនៃភាពជាអ្នកដឹកនាំ និងគ្រប់គ្រងរបស់មន្ត្រី អប់រំគ្រប់លំដាប់ថ្នាក់"},{"$f":"ROUND(SUM(B333:B342),1)","v":0},{"$f":"ROUND(SUM(C333:C342),1)","v":0},{"$f":"ROUND(SUM(D333:D342),1)","v":0},{"$f":"ROUND(SUM(E333:E342),1)","v":0},0,0,0,0,0,{"$f":"ROUND(SUM(K333:K342),1)","v":0},{"$f":"ROUND(SUM(L333:L342),1)","v":0},{"$f":"ROUND(SUM(M333:M342),1)","v":0}]
[{"$f":"Update_8!C562","v":"១. អភិវឌ្ឍសមត្ថភាពស្ថាប័ន និងមន្ត្រីទទួលបន្ទុកការងារ  យុវជន នៅថ្នាក់ជាតិ និងថ្នាក់ក្រោមជាតិ"},{"$f":"ROUND(SUM(C333:D333),1)","v":0},null,null,{"$f":"ROUND(SUM(F333:G333),1)","v":0},null,null,{"$f":"ROUND(SUM(I333:J333),1)","v":0},null,null,{"$f":"ROUND(SUM(L333:M333),1)","v":0}]
[{"$f":"Update_8!C563","v":0},{"$f":"ROUND(SUM(C334:D334),1)","v":0},null,null,{"$f":"ROUND(SUM(F334:G334),1)","v":0},null,null,{"$f":"ROUND(SUM(I334:J334),1)","v":0},null,null,{"$f":"ROUND(SUM(L334:M334),1)","v":0}]
[{"$f":"Update_8!C564","v":0},0,null,null,0,null,null,0,null,null,0]
[{"$f":"Update_8!C565","v":0},0,null,null,0,null,null,0,null,null,0]
[{"$f":"Update_8!C566","v":0},0,null,null,0,null,null,0,null,null,0]
[{"$f":"Update_8!C567","v":0},0,null,null,0,null,null,0,null,null,0]
[{"$f":"Update_8!C568","v":0},0,null,null,0,null,null,0,null,null,0]
[{"$f":"Update_8!C569","v":0},0,null,null,0,null,null,0,null,null,0]
[{"$f":"Update_8!C570","v":0},0,null,null,0,null,null,0,null,null,0]
[{"$f":"Update_8!C571","v":0},0,null,null,0,null,null,0,null,null,0]
[{"$f":"ព័ត៌មានអង្គភាព!C26","v":"៤.៤.០១.២៖ ការអភិវឌ្ឍមជ្ឈមណ្ឌលយុវជន"},{"$f":"SUM(B344,B355)","v":0},0,0,0,0,0,0,0,0,0,0,0]
[{"$f":"cluster_activity_1","v":"សកម្មភាពរង ទី ១៖ ធានាឱ្យការអប់រំមានគុណភាព ប្រកបដោយសមធម៌ បរិយាបន្ន និងលើកកម្ពស់ឱកាសក្នុងការសិក្សាពេញមួយជីវិត"},{"$f":"ROUND(SUM(B345:B354),1)","v":0},{"$f":"ROUND(SUM(C345:C354),1)","v":0},{"$f":"ROUND(SUM(D345:D354),1)","v":0},0,0,0,0,0,0,0,0,0]
[{"$f":"Update_8!C572","v":"១. កិច្ចដំណើការអង្គភាព"},{"$f":"ROUND(SUM(C345:D345),1)","v":0},null,null,{"$f":"ROUND(SUM(F345:G345),1)","v":0},null,null,{"$f":"ROUND(SUM(I345:J345),1)","v":0},null,null,{"$f":"ROUND(SUM(L345:M345),1)","v":0}]
[{"$f":"Update_8!C573","v":"២.​ ថវិកាលទ្ធកម្ម"},{"$f":"ROUND(SUM(C346:D346),1)","v":0},null,null,{"$f":"ROUND(SUM(F346:G346),1)","v":0},null,null,{"$f":"ROUND(SUM(I346:J346),1)","v":0},null,null,{"$f":"ROUND(SUM(L346:M346),1)","v":0}]
[{"$f":"Update_8!C574","v":"៣. ពិនិត្យតាមដាន និងវាយតម្លៃ"},0,null,null,0,null,null,0,null,null,0]
[{"$f":"Update_8!C575","v":"៤. អភិវឌ្ឍមជ្ឈមណ្ឌលជាតិយុវជនកម្ពុជា និងមជ្ឈមណ្ឌលយុវជន "},0,null,null,0,null,null,0,null,null,0]
[{"$f":"Update_8!C576","v":"៥.អភិវឌ្ឍជំនាញបច្ចេកទេសនិងជំនាញទន់សម្រាប់យុវជន"},0,null,null,0,null,null,0,null,null,0]
[{"$f":"Update_8!C577","v":"៦.លើកកម្ពស់កម្មវិធីអភិវឌ្ឍសមត្ថភាពយុវជន"},0,null,null,0,null,null,0,null,null,0]
[{"$f":"Update_8!C578","v":"៧.លើកកម្ពស់ការងារស្ម័គ្រចិត្តរបស់យុវជនក្នុងកិច្ចការសង្គម"},0,null,null,0,null,null,0,null,null,0]
[{"$f":"Update_8!C579","v":"៨. អនុវត្តផែនការសកម្មភាពជាតិស្តីពីការអភិវឌ្ឍយុវជនកម្ពុជា"},0,null,null,0,null,null,0,null,null,0]
[{"$f":"Update_8!C580","v":0},0,null,null,0,null,null,0,null,null,0]
[{"$f":"Update_8!C581","v":0},0,null,null,0,null,null,0,null,null,0]
[{"$f":"cluster_activity_2","v":"សកម្មភាពរង ទី ២៖ ធានាភាពស័ក្តិសិទ្ធនៃភាពជាអ្នកដឹកនាំ និងគ្រប់គ្រងរបស់មន្ត្រី អប់រំគ្រប់លំដាប់ថ្នាក់"},{"$f":"ROUND(SUM(B356:B365),1)","v":0},{"$f":"ROUND(SUM(C356:C365),1)","v":0},{"$f":"ROUND(SUM(D356:D365),1)","v":0},{"$f":"ROUND(SUM(E356:E365),1)","v":0},0,0,0,0,0,{"$f":"ROUND(SUM(K356:K365),1)","v":0},{"$f":"ROUND(SUM(L356:L365),1)","v":0},{"$f":"ROUND(SUM(M356:M365),1)","v":0}]
[{"$f":"Update_8!C582","v":"១. អភិវឌ្ឍសមត្ថភាពស្ថាប័ន និងមន្ត្រីទទួលបន្ទុកការងារ  យុវជន នៅថ្នាក់ជាតិ និងថ្នាក់ក្រោមជាតិ"},{"$f":"ROUND(SUM(C356:D356),1)","v":0},null,null,{"$f":"ROUND(SUM(F356:G356),1)","v":0},null,null,{"$f":"ROUND(SUM(I356:J356),1)","v":0},null,null,{"$f":"ROUND(SUM(L356:M356),1)","v":0}]
[{"$f":"Update_8!C583","v":0},{"$f":"ROUND(SUM(C357:D357),1)","v":0},null,null,{"$f":"ROUND(SUM(F357:G357),1)","v":0},null,null,{"$f":"ROUND(SUM(I357:J357),1)","v":0},null,null,{"$f":"ROUND(SUM(L357:M357),1)","v":0}]
[{"$f":"Update_8!C584","v":0},0,null,null,0,null,null,0,null,null,0]
[{"$f":"Update_8!C585","v":0},0,null,null,0,null,null,0,null,null,0]
[{"$f":"Update_8!C586","v":0},0,null,null,0,null,null,0,null,null,0]
[{"$f":"Update_8!C587","v":0},0,null,null,0,null,null,0,null,null,0]
[{"$f":"Update_8!C588","v":0},0,null,null,0,null,null,0,null,null,0]
[{"$f":"Update_8!C589","v":0},0,null,null,0,null,null,0,null,null,0]
[{"$f":"Update_8!C590","v":0},0,null,null,0,null,null,0,null,null,0]
[{"$f":"Update_8!C591","v":0},0,null,null,0,null,null,0,null,null,0]
[{"$f":"ព័ត៌មានអង្គភាព!C27","v":"៤.៤.០១.៣៖ ការពង្រឹងសកម្មភាពកាយរិទ្ធ"},{"$f":"SUM(B367,B378)","v":0},0,0,0,0,0,0,0,0,0,0,0]
[{"$f":"cluster_activity_1","v":"សកម្មភាពរង ទី ១៖ ធានាឱ្យការអប់រំមានគុណភាព ប្រកបដោយសមធម៌ បរិយាបន្ន និងលើកកម្ពស់ឱកាសក្នុងការសិក្សាពេញមួយជីវិត"},{"$f":"ROUND(SUM(B368:B377),1)","v":0},{"$f":"ROUND(SUM(C368:C377),1)","v":0},{"$f":"ROUND(SUM(D368:D377),1)","v":0},0,0,0,0,0,0,0,0,0]
[{"$f":"Update_8!C592","v":"១. កិច្ចដំណើការអង្គភាព"},{"$f":"ROUND(SUM(C368:D368),1)","v":0},null,null,{"$f":"ROUND(SUM(F368:G368),1)","v":0},null,null,{"$f":"ROUND(SUM(I368:J368),1)","v":0},null,null,{"$f":"ROUND(SUM(L368:M368),1)","v":0}]
[{"$f":"Update_8!C593","v":"២. ថវិកាលទ្ធកម្ម"},{"$f":"ROUND(SUM(C369:D369),1)","v":0},null,null,{"$f":"ROUND(SUM(F369:G369),1)","v":0},null,null,{"$f":"ROUND(SUM(I369:J369),1)","v":0},null,null,{"$f":"ROUND(SUM(L369:M369),1)","v":0}]
[{"$f":"Update_8!C594","v":"៣. ពិនិត្យតាមដាន និងវាយតម្លៃ"},0,null,null,0,null,null,0,null,null,0]
[{"$f":"Update_8!C595","v":"៤. ពង្រីកសមាជិកភាពកាយរឹទ្ធិ និងបណ្តុះបណ្តាលជំនាញកាយរឹទ្ធិកម្ម"},0,null,null,0,null,null,0,null,null,0]
[{"$f":"Update_8!C596","v":"៥. អនុវត្តសកម្មភាពកាយរឹទ្ធិកម្មស្របតាមកម្មវិធីរបស់អង្គការពិភពលោកនៃចលនាកាយរឹទ្ធិ"},0,null,null,0,null,null,0,null,null,0]
[{"$f":"Update_8!C597","v":"៦. ពង្រឹង និងពង្រីកកិច្ចសហប្រតិបត្តិការការងារ កាយរឹទ្ធិលើឆាកអន្តរជាតិ"},0,null,null,0,null,null,0,null,null,0]
[{"$f":"Update_8!C598","v":"៧. អនុវត្តកម្មវិធីវឌ្ឍនកម្មប័ណ្ណសញ្ញាកាយរឹទ្ធិ"},0,null,null,0,null,null,0,null,null,0]
[{"$f":"Update_8!C599","v":0},0,null,null,0,null,null,0,null,null,0]
[{"$f":"Update_8!C600","v":0},0,null,null,0,null,null,0,null,null,0]
[{"$f":"Update_8!C601","v":0},0,null,null,0,null,null,0,null,null,0]
[{"$f":"cluster_activity_2","v":"សកម្មភាពរង ទី ២៖ ធានាភាពស័ក្តិសិទ្ធនៃភាពជាអ្នកដឹកនាំ និងគ្រប់គ្រងរបស់មន្ត្រី អប់រំគ្រប់លំដាប់ថ្នាក់"},{"$f":"ROUND(SUM(B379:B388),1)","v":0},{"$f":"ROUND(SUM(C379:C388),1)","v":0},{"$f":"ROUND(SUM(D379:D388),1)","v":0},{"$f":"ROUND(SUM(E379:E388),1)","v":0},0,0,0,0,0,{"$f":"ROUND(SUM(K379:K388),1)","v":0},{"$f":"ROUND(SUM(L379:L388),1)","v":0},{"$f":"ROUND(SUM(M379:M388),1)","v":0}]
[{"$f":"Update_8!C602","v":"១. អភិវឌ្ឍសមត្ថភាពស្ថាប័ន និងមន្ត្រីទទួលបន្ទុកការងារ  កាយរឹទ្ធិនៅថ្នាក់ជាតិ និងថ្នាក់ក្រោមជាតិ"},{"$f":"ROUND(SUM(C379:D379),1)","v":0},null,null,{"$f":"ROUND(SUM(F379:G379),1)","v":0},null,null,{"$f":"ROUND(SUM(I379:J379),1)","v":0},null,null,{"$f":"ROUND(SUM(L379:M379),1)","v":0}]
[{"$f":"Update_8!C603","v":0},{"$f":"ROUND(SUM(C380:D380),1)","v":0},null,null,{"$f":"ROUND(SUM(F380:G380),1)","v":0},null,null,{"$f":"ROUND(SUM(I380:J380),1)","v":0},null,null,{"$f":"ROUND(SUM(L380:M380),1)","v":0}]
[{"$f":"Update_8!C604","v":0},0,null,null,0,null,null,0,null,null,0]
[{"$f":"Update_8!C605","v":0},0,null,null,0,null,null,0,null,null,0]
[{"$f":"Update_8!C606","v":0},0,null,null,0,null,null,0,null,null,0]
[{"$f":"Update_8!C607","v":0},0,null,null,0,null,null,0,null,null,0]
[{"$f":"Update_8!C608","v":0},0,null,null,0,null,null,0,null,null,0]
[{"$f":"Update_8!C609","v":0},0,null,null,0,null,null,0,null,null,0]
[{"$f":"Update_8!C610","v":0},0,null,null,0,null,null,0,null,null,0]
[{"$f":"Update_8!C611","v":0},0,null,null,0,null,null,0,null,null,0]
[{"$f":"ព័ត៌មានអង្គភាព!C28","v":"កម្មវិធីទី៥៖ ការគាំទ្រសេវាអប់រំ និងអភិបាលកិច្ចល្អ"},{"$f":"B390","v":0},{"$f":"C390","v":0},0,0,0,0,0,0,0,0,0,0]
[{"$f":"ព័ត៌មានអង្គភាព!C29","v":"អនុកម្មវិធីទី ៥.១៨៖ សេវាគាំទ្រសេវាអប់រំ និងអភិបាលកិច្ចល្អ របស់មន្ទីរជំនាញរាជធានី ខេត្ត"},{"$f":"B391","v":0},0,0,0,0,0,0,0,0,0,0,0]
[{"$f":"ព័ត៌មានអង្គភាព!C30","v":"ចង្កោមសកម្មភាពទី ០១៖ខេត្តបន្ទាយមានជ័យ"},{"$f":"SUM(B392,B415,B438,B461,B484,B507,B530,B553,B576,B599,B622,B645,B668,B691,B714,B737,B760)","v":0},0,0,0,0,0,0,0,0,0,0,0]
[{"$f":"ព័ត៌មានអង្គភាព!C31","v":"៥.១៨.០១.១៖ ការអភិវឌ្ឍ និងពង្រឹងប្រព័ន្ធផែនការអប់រំ"},{"$f":"SUM(B393,B404)","v":0},{"$f":"SUM(C393,C404)","v":0},0,0,0,0,0,0,0,0,0,0]
[{"$f":"cluster_activity_1","v":"សកម្មភាពរង ទី ១៖ ធានាឱ្យការអប់រំមានគុណភាព ប្រកបដោយសមធម៌ បរិយាបន្ន និងលើកកម្ពស់ឱកាសក្នុងការសិក្សាពេញមួយជីវិត"},{"$f":"ROUND(SUM(B394:B403),1)","v":0},{"$f":"ROUND(SUM(C394:C403),1)","v":0},{"$f":"ROUND(SUM(D394:D403),1)","v":0},0,0,0,0,0,0,0,0,0]
[{"$f":"Update_8!C613","v":0},{"$f":"ROUND(SUM(C394:D394),1)","v":0},null,null,{"$f":"ROUND(SUM(F394:G394),1)","v":0},null,null,{"$f":"ROUND(SUM(I394:J394),1)","v":0},null,null,{"$f":"ROUND(SUM(L394:M394),1)","v":0}]
[{"$f":"Update_8!C614","v":0},{"$f":"ROUND(SUM(C395:D395),1)","v":0},null,null,{"$f":"ROUND(SUM(F395:G395),1)","v":0},null,null,{"$f":"ROUND(SUM(I395:J395),1)","v":0},null,null,{"$f":"ROUND(SUM(L395:M395),1)","v":0}]
[{"$f":"Update_8!C615","v":0},0,null,null,0,null,null,0,null,null,0]
[{"$f":"Update_8!C616","v":0},0,null,null,0,null,null,0,null,null,0]
[{"$f":"Update_8!C617","v":0},0,null,null,0,null,null,0,null,null,0]
[{"$f":"Update_8!C618","v":0},0,null,null,0,null,null,0,null,null,0]
[{"$f":"Update_8!C619","v":0},0,null,null,0,null,null,0,null,null,0]
[{"$f":"Update_8!C620","v":0},0,null,null,0,null,null,0,null,null,0]
[{"$f":"Update_8!C621","v":0},0,null,null,0,null,null,0,null,null,0]
[{"$f":"Update_8!C622","v":0},0,null,null,0,null,null,0,null,null,0]
[{"$f":"cluster_activity_2","v":"សកម្មភាពរង ទី ២៖ ធានាភាពស័ក្តិសិទ្ធនៃភាពជាអ្នកដឹកនាំ និងគ្រប់គ្រងរបស់មន្ត្រី អប់រំគ្រប់លំដាប់ថ្នាក់"},{"$f":"ROUND(SUM(B405:B414),1)","v":0},{"$f":"ROUND(SUM(C405:C414),1)","v":0},{"$f":"ROUND(SUM(D405:D414),1)","v":0},{"$f":"ROUND(SUM(E405:E414),1)","v":0},0,0,0,0,0,{"$f":"ROUND(SUM(K405:K414),1)","v":0},{"$f":"ROUND(SUM(L405:L414),1)","v":0},{"$f":"ROUND(SUM(M405:M414),1)","v":0}]
[{"$f":"Update_8!C623","v":"១. កិច្ចដំណើការអង្គភាព"},{"$f":"ROUND(SUM(C405:D405),1)","v":0},null,null,{"$f":"ROUND(SUM(F405:G405),1)","v":0},null,null,{"$f":"ROUND(SUM(I405:J405),1)","v":0},null,null,{"$f":"ROUND(SUM(L405:M405),1)","v":0}]
[{"$f":"Update_8!C624","v":"២. ថវិកាលទ្ធកម្ម"},{"$f":"ROUND(SUM(C406:D406),1)","v":0},null,null,{"$f":"ROUND(SUM(F406:G406),1)","v":0},null,null,{"$f":"ROUND(SUM(I406:J406),1)","v":0},null,null,{"$f":"ROUND(SUM(L406:M406),1)","v":0}]
[{"$f":"Update_8!C625","v":"៣. ពិនិត្យតាមដាន និងវាយតម្លៃ"},0,null,null,0,null,null,0,null,null,0]
[{"$f":"Update_8!C626","v":"៤. កសាងផែនការយុទ្ធសាស្រ្ត និងផែនការប្រតិបត្តិ"},0,null,null,0,null,null,0,null,null,0]
[{"$f":"Update_8!C627","v":"៥. អភិវឌ្ឍសមត្ថភាពស្ថាប័ន មន្រ្តី និងប្រព័ន្ធផែនការអប់រំគ្រប់កម្រិតថ្នាក់"},0,null,null,0,null,null,0,null,null,0]
[{"$f":"Update_8!C628","v":"៦. ពង្រឹង និងពង្រីកកិច្ចសហប្រតិបត្តិការជាតិ និងអន្តរជាតិ"},0,null,null,0,null,null,0,null,null,0]
[{"$f":"Update_8!C629","v":0},0,null,null,0,null,null,0,null,null,0]
[{"$f":"Update_8!C630","v":0},0,null,null,0,null,null,0,null,null,0]
[{"$f":"Update_8!C631","v":0},0,null,null,0,null,null,0,null,null,0]
[{"$f":"Update_8!C632","v":0},0,null,null,0,null,null,0,null,null,0]
[{"$f":"ព័ត៌មានអង្គភាព!C32","v":"៥.១៨.០១.២៖ ការគ្រប់គ្រង និងពង្រឹងប្រសិទ្ធភាពធនធានមនុស្ស"},{"$f":"SUM(B416,B427)","v":0},{"$f":"SUM(C416,C427)","v":0},0,0,0,0,0,0,0,0,0,0]
[{"$f":"cluster_activity_1","v":"សកម្មភាពរង ទី ១៖ ធានាឱ្យការអប់រំមានគុណភាព ប្រកបដោយសមធម៌ បរិយាបន្ន និងលើកកម្ពស់ឱកាសក្នុងការសិក្សាពេញមួយជីវិត"},{"$f":"ROUND(SUM(B417:B426),1)","v":0},{"$f":"ROUND(SUM(C417:C426),1)","v":0},{"$f":"ROUND(SUM(D417:D426),1)","v":0},0,0,0,0,0,0,0,0,0]
[{"$f":"Update_8!C633","v":0},{"$f":"ROUND(SUM(C417:D417),1)","v":0},null,null,{"$f":"ROUND(SUM(F417:G417),1)","v":0},null,null,{"$f":"ROUND(SUM(I417:J417),1)","v":0},null,null,{"$f":"ROUND(SUM(L417:M417),1)","v":0}]
[{"$f":"Update_8!C634","v":0},{"$f":"ROUND(SUM(C418:D418),1)","v":0},null,null,{"$f":"ROUND(SUM(F418:G418),1)","v":0},null,null,{"$f":"ROUND(SUM(I418:J418),1)","v":0},null,null,{"$f":"ROUND(SUM(L418:M418),1)","v":0}]
[{"$f":"Update_8!C635","v":0},0,null,null,0,null,null,0,null,null,0]
[{"$f":"Update_8!C636","v":0},0,null,null,0,null,null,0,null,null,0]
[{"$f":"Update_8!C637","v":0},0,null,null,0,null,null,0,null,null,0]
[{"$f":"Update_8!C638","v":0},0,null,null,0,null,null,0,null,null,0]
[{"$f":"Update_8!C639","v":0},0,null,null,0,null,null,0,null,null,0]
[{"$f":"Update_8!C640","v":0},0,null,null,0,null,null,0,null,null,0]
[{"$f":"Update_8!C641","v":0},0,null,null,0,null,null,0,null,null,0]
[{"$f":"Update_8!C642","v":0},0,null,null,0,null,null,0,null,null,0]
[{"$f":"cluster_activity_2","v":"សកម្មភាពរង ទី ២៖ ធានាភាពស័ក្តិសិទ្ធនៃភាពជាអ្នកដឹកនាំ និងគ្រប់គ្រងរបស់មន្ត្រី អប់រំគ្រប់លំដាប់ថ្នាក់"},{"$f":"ROUND(SUM(B428:B437),1)","v":0},{"$f":"ROUND(SUM(C428:C437),1)","v":0},{"$f":"ROUND(SUM(D428:D437),1)","v":0},{"$f":"ROUND(SUM(E428:E437),1)","v":0},0,0,0,0,0,{"$f":"ROUND(SUM(K428:K437),1)","v":0},{"$f":"ROUND(SUM(L428:L437),1)","v":0},{"$f":"ROUND(SUM(M428:M437),1)","v":0}]
[{"$f":"Update_8!C643","v":"១. ដំណើរការអង្គភាព"},{"$f":"ROUND(SUM(C428:D428),1)","v":0},null,null,{"$f":"ROUND(SUM(F428:G428),1)","v":0},null,null,{"$f":"ROUND(SUM(I428:J428),1)","v":0},null,null,{"$f":"ROUND(SUM(L428:M428),1)","v":0}]
[{"$f":"Update_8!C644","v":"២. ថវិកាលទ្ធកម្ម"},{"$f":"ROUND(SUM(C429:D429),1)","v":0},null,null,{"$f":"ROUND(SUM(F429:G429),1)","v":0},null,null,{"$f":"ROUND(SUM(I429:J429),1)","v":0},null,null,{"$f":"ROUND(SUM(L429:M429),1)","v":0}]
[{"$f":"Update_8!C645","v":"៣. ពង្រឹងប្រសិទ្ធភាព ការគ្រប់គ្រងធនធានមនុស្ស"},0,null,null,0,null,null,0,null,null,0]
[{"$f":"Update_8!C646","v":"៤. ប្រាក់បៀវត្ស"},0,null,null,0,null,null,0,null,null,0]
[{"$f":"Update_8!C647","v":"៥. កម្មវិធីគាំទ្រការងារពង្រាយគ្រូ"},0,null,null,0,null,null,0,null,null,0]
[{"$f":"Update_8!C648","v":"៦. ឧបត្ថម្ភជីវភាពគ្រូបង្រៀននៅតំបន់ដាច់ស្រយាល និង​តំបន់ជួបការលំបាក"},0,null,null,0,null,null,0,null,null,0]
[{"$f":"Update_8!C649","v":"៧. ពង្រឹងសមត្ថភាពធនធានមនុស្ស"},0,null,null,0,null,null,0,null,null,0]
[{"$f":"Update_8!C650","v":"៨. ផ្សារភ្ជាប់ការវាយតម្លៃគ្រូបង្រៀន ទៅនឹងការងារវិក្រឹតការ និងការដំឡើងថ្នាក់"},0,null,null,0,null,null,0,null,null,0]
[{"$f":"Update_8!C651","v":"៩. ការប្រឡងជ្រើសរើសគ្រូបង្រៀនឧត្តមសិក្សា"},0,null,null,0,null,null,0,null,null,0]
[{"$f":"Update_8!C652","v":"១០. ពង្រឹងប្រសិទ្ធភាពក្នុងការប្រើប្រាស់ប្រព័ន្ធព័ត៌មានគ្រប់គ្រងធនធានមនុស្ស (HRMIS) លើការគ្រប់គ្រងបុគ្គលិកអប់រំ"},0,null,null,0,null,null,0,null,null,0]
[{"$f":"ព័ត៌មានអង្គភាព!C33","v":"៥.១៨.០១.៣៖ ការអភិវឌ្ឍសមត្ថភាព ការងារគ្រប់គ្រង ផែនការហិរញ្ញវត្ថុ និងមូលដ្ឋានសម្ភារៈ"},{"$f":"SUM(B439,B450)","v":0},{"$f":"SUM(C439,C450)","v":0},0,0,0,0,0,0,0,0,0,0]
[{"$f":"cluster_activity_1","v":"សកម្មភាពរង ទី ១៖ ធានាឱ្យការអប់រំមានគុណភាព ប្រកបដោយសមធម៌ បរិយាបន្ន និងលើកកម្ពស់ឱកាសក្នុងការសិក្សាពេញមួយជីវិត"},{"$f":"ROUND(SUM(B440:B449),1)","v":0},{"$f":"ROUND(SUM(C440:C449),1)","v":0},{"$f":"ROUND(SUM(D440:D449),1)","v":0},0,0,0,0,0,0,0,0,0]
[{"$f":"Update_8!C653","v":"១. ចំណាយលើអត្ថប្រយោជន៍សង្គម"},{"$f":"ROUND(SUM(C440:D440),1)","v":0},null,null,{"$f":"ROUND(SUM(F440:G440),1)","v":0},null,null,{"$f":"ROUND(SUM(I440:J440),1)","v":0},null,null,{"$f":"ROUND(SUM(L440:M440),1)","v":0}]
[{"$f":"Update_8!C654","v":0},{"$f":"ROUND(SUM(C441:D441),1)","v":0},null,null,{"$f":"ROUND(SUM(F441:G441),1)","v":0},null,null,{"$f":"ROUND(SUM(I441:J441),1)","v":0},null,null,{"$f":"ROUND(SUM(L441:M441),1)","v":0}]
[{"$f":"Update_8!C655","v":0},0,null,null,0,null,null,0,null,null,0]
[{"$f":"Update_8!C656","v":0},0,null,null,0,null,null,0,null,null,0]
[{"$f":"Update_8!C657","v":0},0,null,null,0,null,null,0,null,null,0]
[{"$f":"Update_8!C658","v":0},0,null,null,0,null,null,0,null,null,0]
[{"$f":"Update_8!C659","v":0},0,null,null,0,null,null,0,null,null,0]
[{"$f":"Update_8!C660","v":0},0,null,null,0,null,null,0,null,null,0]
[{"$f":"Update_8!C661","v":0},0,null,null,0,null,null,0,null,null,0]
[{"$f":"Update_8!C662","v":0},0,null,null,0,null,null,0,null,null,0]
[{"$f":"cluster_activity_2","v":"សកម្មភាពរង ទី ២៖ ធានាភាពស័ក្តិសិទ្ធនៃភាពជាអ្នកដឹកនាំ និងគ្រប់គ្រងរបស់មន្ត្រី អប់រំគ្រប់លំដាប់ថ្នាក់"},{"$f":"ROUND(SUM(B451:B460),1)","v":0},{"$f":"ROUND(SUM(C451:C460),1)","v":0},{"$f":"ROUND(SUM(D451:D460),1)","v":0},{"$f":"ROUND(SUM(E451:E460),1)","v":0},0,0,0,0,0,{"$f":"ROUND(SUM(K451:K460),1)","v":0},{"$f":"ROUND(SUM(L451:L460),1)","v":0},{"$f":"ROUND(SUM(M451:M460),1)","v":0}]
[{"$f":"Update_8!C663","v":"១. កិច្ចដំណើរការអង្គភាព"},{"$f":"ROUND(SUM(C451:D451),1)","v":0},null,null,{"$f":"ROUND(SUM(F451:G451),1)","v":0},null,null,{"$f":"ROUND(SUM(I451:J451),1)","v":0},null,null,{"$f":"ROUND(SUM(L451:M451),1)","v":0}]
[{"$f":"Update_8!C664","v":"២. ថវិកាលទ្ធកម្ម"},{"$f":"ROUND(SUM(C452:D452),1)","v":0},null,null,{"$f":"ROUND(SUM(F452:G452),1)","v":0},null,null,{"$f":"ROUND(SUM(I452:J452),1)","v":0},null,null,{"$f":"ROUND(SUM(L452:M452),1)","v":0}]
[{"$f":"Update_8!C665","v":"៣. ពិនិត្យតាមដាន និងវាយតម្លៃ"},0,null,null,0,null,null,0,null,null,0]
[{"$f":"Update_8!C666","v":"៤. អភិវឌ្ឍស្ថាប័ននិងការលើកកម្ពស់សមត្ថភាពមន្រ្តី"},0,null,null,0,null,null,0,null,null,0]
[{"$f":"Update_8!C667","v":"៥. ពង្រឹងយន្តការនិងអភិឌ្ឍប្រព័ន្ធព័ត៌មានវិទ្យាលើការគ្រប់គ្រងហិរញ្ញវត្ថុ"},0,null,null,0,null,null,0,null,null,0]
[{"$f":"Update_8!C668","v":0},0,null,null,0,null,null,0,null,null,0]
[{"$f":"Update_8!C669","v":0},0,null,null,0,null,null,0,null,null,0]
[{"$f":"Update_8!C670","v":0},0,null,null,0,null,null,0,null,null,0]
[{"$f":"Update_8!C671","v":0},0,null,null,0,null,null,0,null,null,0]
[{"$f":"Update_8!C672","v":0},0,null,null,0,null,null,0,null,null,0]
[{"$f":"ព័ត៌មានអង្គភាព!C34","v":"៥.១៨.០១.៤៖ ការពង្រឹងការងារសវនកម្មផ្ទៃក្នុង"},{"$f":"SUM(B462,B473)","v":0},{"$f":"SUM(C462,C473)","v":0},0,0,0,0,0,0,0,0,0,0]
[{"$f":"cluster_activity_1","v":"សកម្មភាពរង ទី ១៖ ធានាឱ្យការអប់រំមានគុណភាព ប្រកបដោយសមធម៌ បរិយាបន្ន និងលើកកម្ពស់ឱកាសក្នុងការសិក្សាពេញមួយជីវិត"},{"$f":"ROUND(SUM(B463:B472),1)","v":0},{"$f":"ROUND(SUM(C463:C472),1)","v":0},{"$f":"ROUND(SUM(D463:D472),1)","v":0},0,0,0,0,0,0,0,0,0]
[{"$f":"Update_8!C673","v":0},{"$f":"ROUND(SUM(C463:D463),1)","v":0},null,null,{"$f":"ROUND(SUM(F463:G463),1)","v":0},null,null,{"$f":"ROUND(SUM(I463:J463),1)","v":0},null,null,{"$f":"ROUND(SUM(L463:M463),1)","v":0}]
[{"$f":"Update_8!C674","v":0},{"$f":"ROUND(SUM(C464:D464),1)","v":0},null,null,{"$f":"ROUND(SUM(F464:G464),1)","v":0},null,null,{"$f":"ROUND(SUM(I464:J464),1)","v":0},null,null,{"$f":"ROUND(SUM(L464:M464),1)","v":0}]
[{"$f":"Update_8!C675","v":0},0,null,null,0,null,null,0,null,null,0]
[{"$f":"Update_8!C676","v":0},0,null,null,0,null,null,0,null,null,0]
[{"$f":"Update_8!C677","v":0},0,null,null,0,null,null,0,null,null,0]
[{"$f":"Update_8!C678","v":0},0,null,null,0,null,null,0,null,null,0]
[{"$f":"Update_8!C679","v":0},0,null,null,0,null,null,0,null,null,0]
[{"$f":"Update_8!C680","v":0},0,null,null,0,null,null,0,null,null,0]
[{"$f":"Update_8!C681","v":0},0,null,null,0,null,null,0,null,null,0]
[{"$f":"Update_8!C682","v":0},0,null,null,0,null,null,0,null,null,0]
[{"$f":"cluster_activity_2","v":"សកម្មភាពរង ទី ២៖ ធានាភាពស័ក្តិសិទ្ធនៃភាពជាអ្នកដឹកនាំ និងគ្រប់គ្រងរបស់មន្ត្រី អប់រំគ្រប់លំដាប់ថ្នាក់"},{"$f":"ROUND(SUM(B474:B483),1)","v":0},{"$f":"ROUND(SUM(C474:C483),1)","v":0},{"$f":"ROUND(SUM(D474:D483),1)","v":0},{"$f":"ROUND(SUM(E474:E483),1)","v":0},0,0,0,0,0,{"$f":"ROUND(SUM(K474:K483),1)","v":0},{"$f":"ROUND(SUM(L474:L483),1)","v":0},{"$f":"ROUND(SUM(M474:M483),1)","v":0}]
[{"$f":"Update_8!C683","v":"១. កិច្ចដំណើរការអង្គភាព"},{"$f":"ROUND(SUM(C474:D474),1)","v":0},null,null,{"$f":"ROUND(SUM(F474:G474),1)","v":0},null,null,{"$f":"ROUND(SUM(I474:J474),1)","v":0},null,null,{"$f":"ROUND(SUM(L474:M474),1)","v":0}]
[{"$f":"Update_8!C684","v":"២. ថវិកាលទ្ធកម្ម"},{"$f":"ROUND(SUM(C475:D475),1)","v":0},null,null,{"$f":"ROUND(SUM(F475:G475),1)","v":0},null,null,{"$f":"ROUND(SUM(I475:J475),1)","v":0},null,null,{"$f":"ROUND(SUM(L475:M475),1)","v":0}]
[{"$f":"Update_8!C685","v":"៣. ពិនិត្យតាមដាន និងវាយតម្លៃ"},0,null,null,0,null,null,0,null,null,0]
[{"$f":"Update_8!C686","v":"៤. ពង្រឹងការអនុវត្តការងារសវនកម្មផ្ទៃក្នុង"},0,null,null,0,null,null,0,null,null,0]
[{"$f":"Update_8!C687","v":"៥. អភិវឌ្ឍសមត្ថភាពមន្ត្រីលើការងារសវនកម្មផ្ទៃក្នុង"},0,null,null,0,null,null,0,null,null,0]
[{"$f":"Update_8!C688","v":0},0,null,null,0,null,null,0,null,null,0]
[{"$f":"Update_8!C689","v":0},0,null,null,0,null,null,0,null,null,0]
[{"$f":"Update_8!C690","v":0},0,null,null,0,null,null,0,null,null,0]
[{"$f":"Update_8!C691","v":0},0,null,null,0,null,null,0,null,null,0]
[{"$f":"Update_8!C692","v":0},0,null,null,0,null,null,0,null,null,0]
[{"$f":"ព័ត៌មានអង្គភាព!C35","v":"៥.១៨.០១.៥៖ ការពិនិត្យតាមដាន វាយតម្លៃ និងអធិការកិច្ចប្រព័ន្ធធានាគុណភាពអប់រំ"},{"$f":"SUM(B485,B496)","v":0},{"$f":"SUM(C485,C496)","v":0},0,0,0,0,0,0,0,0,0,0]
[{"$f":"cluster_activity_1","v":"សកម្មភាពរង ទី ១៖ ធានាឱ្យការអប់រំមានគុណភាព ប្រកបដោយសមធម៌ បរិយាបន្ន និងលើកកម្ពស់ឱកាសក្នុងការសិក្សាពេញមួយជីវិត"},{"$f":"ROUND(SUM(B486:B495),1)","v":0},{"$f":"ROUND(SUM(C486:C495),1)","v":0},{"$f":"ROUND(SUM(D486:D495),1)","v":0},0,0,0,0,0,0,0,0,0]
[{"$f":"Update_8!C693","v":"១. កិច្ចដំណើរការអង្គភាព"},{"$f":"ROUND(SUM(C486:D486),1)","v":0},null,null,{"$f":"ROUND(SUM(F486:G486),1)","v":0},null,null,{"$f":"ROUND(SUM(I486:J486),1)","v":0},null,null,{"$f":"ROUND(SUM(L486:M486),1)","v":0}]
[{"$f":"Update_8!C694","v":"២. ថវិកាលទ្ធកម្ម"},{"$f":"ROUND(SUM(C487:D487),1)","v":0},null,null,{"$f":"ROUND(SUM(F487:G487),1)","v":0},null,null,{"$f":"ROUND(SUM(I487:J487),1)","v":0},null,null,{"$f":"ROUND(SUM(L487:M487),1)","v":0}]
[{"$f":"Update_8!C695","v":"៣. ពិនិត្យតាមដាន និងវាយតម្លៃ"},0,null,null,0,null,null,0,null,null,0]
[{"$f":"Update_8!C696","v":"៤. តេស្តរង្វាយតម្លៃថ្នាក់ជាតិលទ្ធផលសិក្សារបស់សិស្សថ្នាក់ទី៣ ទី៦ ទី៨និងទី១១"},0,null,null,0,null,null,0,null,null,0]
[{"$f":"Update_8!C697","v":"៥. អនុវត្តតេស្តថ្នាក់តំបន់(SEA-PLM) "},0,null,null,0,null,null,0,null,null,0]
[{"$f":"Update_8!C698","v":"៦. តេស្តរង្វាយតម្លៃថ្នាក់អន្តរជាតិ(PISA)"},0,null,null,0,null,null,0,null,null,0]
[{"$f":"Update_8!C699","v":"៧. បង្កើតប្រព័ន្ធរង្វាយតម្លៃនិងការធ្វើតេស្តក្នុងថ្នាក់រៀន"},0,null,null,0,null,null,0,null,null,0]
[{"$f":"Update_8!C700","v":"៨. អធិការកិច្ចតាមកាលកំណត់និងតាមប្រធានបទដើម្បីលើកកម្ពស់គុណភាពអប់រំ"},0,null,null,0,null,null,0,null,null,0]
[{"$f":"Update_8!C701","v":"៩. អធិការកិច្ចតាមតំបន់(០៨តំបន់)"},0,null,null,0,null,null,0,null,null,0]
[{"$f":"Update_8!C702","v":"១០. ពិនិត្យតាមដានតាមការធ្វើអធិការកិច្ចតាមកាលកំណត់របស់រាជធានី ខេត្ត្"},0,null,null,0,null,null,0,null,null,0]
[{"$f":"cluster_activity_2","v":"សកម្មភាពរង ទី ២៖ ធានាភាពស័ក្តិសិទ្ធនៃភាពជាអ្នកដឹកនាំ និងគ្រប់គ្រងរបស់មន្ត្រី អប់រំគ្រប់លំដាប់ថ្នាក់"},{"$f":"ROUND(SUM(B497:B506),1)","v":0},{"$f":"ROUND(SUM(C497:C506),1)","v":0},{"$f":"ROUND(SUM(D497:D506),1)","v":0},{"$f":"ROUND(SUM(E497:E506),1)","v":0},0,0,0,0,0,{"$f":"ROUND(SUM(K497:K506),1)","v":0},{"$f":"ROUND(SUM(L497:L506),1)","v":0},{"$f":"ROUND(SUM(M497:M506),1)","v":0}]
[{"$f":"Update_8!C703","v":"១. បំប៉នសមត្ថភាពមន្រ្តីលើការអនុវត្តតេស្តរង្វាយតម្លៃលទ្ធផលសិក្សាថ្នាក់ជាតិ ថ្នាក់តំបន់ និងអន្តរជាតិ"},{"$f":"ROUND(SUM(C497:D497),1)","v":0},null,null,{"$f":"ROUND(SUM(F497:G497),1)","v":0},null,null,{"$f":"ROUND(SUM(I497:J497),1)","v":0},null,null,{"$f":"ROUND(SUM(L497:M497),1)","v":0}]
[{"$f":"Update_8!C704","v":"២. ប៉នសមត្ថភាពមន្រ្តីលើការងារអធិការកិច្ចតាមកាលកំណត់ និងប្រធានបទ"},{"$f":"ROUND(SUM(C498:D498),1)","v":0},null,null,{"$f":"ROUND(SUM(F498:G498),1)","v":0},null,null,{"$f":"ROUND(SUM(I498:J498),1)","v":0},null,null,{"$f":"ROUND(SUM(L498:M498),1)","v":0}]
[{"$f":"Update_8!C705","v":"៣. វាស់ស្ទង់សមត្ថភាពកម្រិតសមមូលនិងកំណត់វិញ្ញាបនបត្រដែលមានតម្លៃស្មើដោយ\nសហការជាមួយស្ថាប័នពាក់ព័ន្ធ"},0,null,null,0,null,null,0,null,null,0]
[{"$f":"Update_8!C706","v":0},0,null,null,0,null,null,0,null,null,0]
[{"$f":"Update_8!C707","v":0},0,null,null,0,null,null,0,null,null,0]
[{"$f":"Update_8!C708","v":0},0,null,null,0,null,null,0,null,null,0]
[{"$f":"Update_8!C709","v":0},0,null,null,0,null,null,0,null,null,0]
[{"$f":"Update_8!C710","v":0},0,null,null,0,null,null,0,null,null,0]
[{"$f":"Update_8!C711","v":0},0,null,null,0,null,null,0,null,null,0]
[{"$f":"Update_8!C712","v":0},0,null,null,0,null,null,0,null,null,0]
[{"$f":"ព័ត៌មានអង្គភាព!C36","v":"៥.១៨.០១.៦៖ អធិការកិច្ចរដ្ឋបាល និងហិរញ្ញវត្ថុ"},{"$f":"SUM(B508,B519)","v":0},{"$f":"SUM(C508,C519)","v":0},0,0,0,0,0,0,0,0,0,0]
[{"$f":"cluster_activity_1","v":"សកម្មភាពរង ទី ១៖ ធានាឱ្យការអប់រំមានគុណភាព ប្រកបដោយសមធម៌ បរិយាបន្ន និងលើកកម្ពស់ឱកាសក្នុងការសិក្សាពេញមួយជីវិត"},{"$f":"ROUND(SUM(B509:B518),1)","v":0},{"$f":"ROUND(SUM(C509:C518),1)","v":0},{"$f":"ROUND(SUM(D509:D518),1)","v":0},0,0,0,0,0,0,0,0,0]
[{"$f":"Update_8!C713","v":0},{"$f":"ROUND(SUM(C509:D509),1)","v":0},null,null,{"$f":"ROUND(SUM(F509:G509),1)","v":0},null,null,{"$f":"ROUND(SUM(I509:J509),1)","v":0},null,null,{"$f":"ROUND(SUM(L509:M509),1)","v":0}]
[{"$f":"Update_8!C714","v":0},{"$f":"ROUND(SUM(C510:D510),1)","v":0},null,null,{"$f":"ROUND(SUM(F510:G510),1)","v":0},null,null,{"$f":"ROUND(SUM(I510:J510),1)","v":0},null,null,{"$f":"ROUND(SUM(L510:M510),1)","v":0}]
[{"$f":"Update_8!C715","v":0},0,null,null,0,null,null,0,null,null,0]
[{"$f":"Update_8!C716","v":0},0,null,null,0,null,null,0,null,null,0]
[{"$f":"Update_8!C717","v":0},0,null,null,0,null,null,0,null,null,0]
[{"$f":"Update_8!C718","v":0},0,null,null,0,null,null,0,null,null,0]
[{"$f":"Update_8!C719","v":0},0,null,null,0,null,null,0,null,null,0]
[{"$f":"Update_8!C720","v":0},0,null,null,0,null,null,0,null,null,0]
[{"$f":"Update_8!C721","v":0},0,null,null,0,null,null,0,null,null,0]
[{"$f":"Update_8!C722","v":0},0,null,null,0,null,null,0,null,null,0]
[{"$f":"cluster_activity_2","v":"សកម្មភាពរង ទី ២៖ ធានាភាពស័ក្តិសិទ្ធនៃភាពជាអ្នកដឹកនាំ និងគ្រប់គ្រងរបស់មន្ត្រី អប់រំគ្រប់លំដាប់ថ្នាក់"},{"$f":"ROUND(SUM(B520:B529),1)","v":0},{"$f":"ROUND(SUM(C520:C529),1)","v":0},{"$f":"ROUND(SUM(D520:D529),1)","v":0},{"$f":"ROUND(SUM(E520:E529),1)","v":0},0,0,0,0,0,{"$f":"ROUND(SUM(K520:K529),1)","v":0},{"$f":"ROUND(SUM(L520:L529),1)","v":0},{"$f":"ROUND(SUM(M520:M529),1)","v":0}]
[{"$f":"Update_8!C723","v":"១. កិច្ចដំណើរការអង្គភាព"},{"$f":"ROUND(SUM(C520:D520),1)","v":0},null,null,{"$f":"ROUND(SUM(F520:G520),1)","v":0},null,null,{"$f":"ROUND(SUM(I520:J520),1)","v":0},null,null,{"$f":"ROUND(SUM(L520:M520),1)","v":0}]
[{"$f":"Update_8!C724","v":"២. ថវិកាលទ្ធកម្ម"},{"$f":"ROUND(SUM(C521:D521),1)","v":0},null,null,{"$f":"ROUND(SUM(F521:G521),1)","v":0},null,null,{"$f":"ROUND(SUM(I521:J521),1)","v":0},null,null,{"$f":"ROUND(SUM(L521:M521),1)","v":0}]
[{"$f":"Update_8!C725","v":"៣. ពិនិត្យតាមដាន និងវាយតម្លៃ"},0,null,null,0,null,null,0,null,null,0]
[{"$f":"Update_8!C726","v":"៤. អធិការកិច្ចការងារគ្រប់គ្រងរដ្ឋបាលនិងហិរញ្ញវត្ថុនៅថ្នាក់ជាតិនិងថ្នាក់ក្រោមជាតិ"},0,null,null,0,null,null,0,null,null,0]
[{"$f":"Update_8!C727","v":"៥. អភិវឌ្ឍសមត្ថភាពមន្រ្តីជំនាញនិងផ្សព្វផ្សាយរបាយការណ៍អធិការកិច្ច"},0,null,null,0,null,null,0,null,null,0]
[{"$f":"Update_8!C728","v":0},0,null,null,0,null,null,0,null,null,0]
[{"$f":"Update_8!C729","v":0},0,null,null,0,null,null,0,null,null,0]
[{"$f":"Update_8!C730","v":0},0,null,null,0,null,null,0,null,null,0]
[{"$f":"Update_8!C731","v":0},0,null,null,0,null,null,0,null,null,0]
[{"$f":"Update_8!C732","v":0},0,null,null,0,null,null,0,null,null,0]
[{"$f":"ព័ត៌មានអង្គភាព!C37","v":"៥.១៨.០១.៧៖ លើកកម្ពស់ការផ្សព្វផ្សាយព័ត៌មានអប់រំ និងកិច្ចសហប្រតិបត្តិការ អាស៊ាន និងស៊ីមេអូ"},{"$f":"SUM(B531,B542)","v":0},{"$f":"SUM(C531,C542)","v":0},0,0,0,0,0,0,0,0,0,0]
[{"$f":"cluster_activity_1","v":"សកម្មភាពរង ទី ១៖ ធានាឱ្យការអប់រំមានគុណភាព ប្រកបដោយសមធម៌ បរិយាបន្ន និងលើកកម្ពស់ឱកាសក្នុងការសិក្សាពេញមួយជីវិត"},{"$f":"ROUND(SUM(B532:B541),1)","v":0},{"$f":"ROUND(SUM(C532:C541),1)","v":0},{"$f":"ROUND(SUM(D532:D541),1)","v":0},0,0,0,0,0,0,0,0,0]
[{"$f":"Update_8!C733","v":"១. កិច្ចដំណើរការអង្គភាព"},{"$f":"ROUND(SUM(C532:D532),1)","v":0},null,null,{"$f":"ROUND(SUM(F532:G532),1)","v":0},null,null,{"$f":"ROUND(SUM(I532:J532),1)","v":0},null,null,{"$f":"ROUND(SUM(L532:M532),1)","v":0}]
[{"$f":"Update_8!C734","v":"២. ថវិកាលទ្ធកម្ម"},{"$f":"ROUND(SUM(C533:D533),1)","v":0},null,null,{"$f":"ROUND(SUM(F533:G533),1)","v":0},null,null,{"$f":"ROUND(SUM(I533:J533),1)","v":0},null,null,{"$f":"ROUND(SUM(L533:M533),1)","v":0}]
[{"$f":"Update_8!C735","v":"៣. ពិនិត្យតាមដាន និងវាយតម្លៃ"},0,null,null,0,null,null,0,null,null,0]
[{"$f":"Update_8!C736","v":"៤. ផលិតនិងផ្សព្វផ្សាយព័ត៌មានអប់រំ"},0,null,null,0,null,null,0,null,null,0]
[{"$f":"Update_8!C737","v":"៥. លើកកម្ពស់កិច្ចសហប្រតិបត្តិការអាស៊ាន និងស៊ីមេអូ"},0,null,null,0,null,null,0,null,null,0]
[{"$f":"Update_8!C738","v":"៦. អភិវឌ្ឍសមត្ថភាពមន្ត្រីអប់រំស្តីពីការប្រមូល សរសេរ និងឆ្លើយតបព័ត៌មាន"},0,null,null,0,null,null,0,null,null,0]
[{"$f":"Update_8!C739","v":0},0,null,null,0,null,null,0,null,null,0]
[{"$f":"Update_8!C740","v":0},0,null,null,0,null,null,0,null,null,0]
[{"$f":"Update_8!C741","v":0},0,null,null,0,null,null,0,null,null,0]
[{"$f":"Update_8!C742","v":0},0,null,null,0,null,null,0,null,null,0]
[{"$f":"cluster_activity_2","v":"សកម្មភាពរង ទី ២៖ ធានាភាពស័ក្តិសិទ្ធនៃភាពជាអ្នកដឹកនាំ និងគ្រប់គ្រងរបស់មន្ត្រី អប់រំគ្រប់លំដាប់ថ្នាក់"},{"$f":"ROUND(SUM(B543:B552),1)","v":0},{"$f":"ROUND(SUM(C543:C552),1)","v":0},{"$f":"ROUND(SUM(D543:D552),1)","v":0},{"$f":"ROUND(SUM(E543:E552),1)","v":0},0,0,0,0,0,{"$f":"ROUND(SUM(K543:K552),1)","v":0},{"$f":"ROUND(SUM(L543:L552),1)","v":0},{"$f":"ROUND(SUM(M543:M552),1)","v":0}]
[{"$f":"Update_8!C743","v":0},{"$f":"ROUND(SUM(C543:D543),1)","v":0},null,null,{"$f":"ROUND(SUM(F543:G543),1)","v":0},null,null,{"$f":"ROUND(SUM(I543:J543),1)","v":0},null,null,{"$f":"ROUND(SUM(L543:M543),1)","v":0}]
[{"$f":"Update_8!C744","v":0},{"$f":"ROUND(SUM(C544:D544),1)","v":0},null,null,{"$f":"ROUND(SUM(F544:G544),1)","v":0},null,null,{"$f":"ROUND(SUM(I544:J544),1)","v":0},null,null,{"$f":"ROUND(SUM(L544:M544),1)","v":0}]
[{"$f":"Update_8!C745","v":0},0,null,null,0,null,null,0,null,null,0]
[{"$f":"Update_8!C746","v":0},0,null,null,0,null,null,0,null,null,0]
[{"$f":"Update_8!C747","v":0},0,null,null,0,null,null,0,null,null,0]
[{"$f":"Update_8!C748","v":0},0,null,null,0,null,null,0,null,null,0]
[{"$f":"Update_8!C749","v":0},0,null,null,0,null,null,0,null,null,0]
[{"$f":"Update_8!C750","v":0},0,null,null,0,null,null,0,null,null,0]
[{"$f":"Update_8!C751","v":0},0,null,null,0,null,null,0,null,null,0]
[{"$f":"Update_8!C752","v":0},0,null,null,0,null,null,0,null,null,0]
[{"$f":"ព័ត៌មានអង្គភាព!C38","v":"៥.១៨.០១.៨៖ ការពង្រឹងការងារនីតិកម្ម"},{"$f":"SUM(B554,B565)","v":0},{"$f":"SUM(C554,C565)","v":0},0,0,0,0,0,0,0,0,0,0]
[{"$f":"cluster_activity_1","v":"សកម្មភាពរង ទី ១៖ ធានាឱ្យការអប់រំមានគុណភាព ប្រកបដោយសមធម៌ បរិយាបន្ន និងលើកកម្ពស់ឱកាសក្នុងការសិក្សាពេញមួយជីវិត"},{"$f":"ROUND(SUM(B555:B564),1)","v":0},{"$f":"ROUND(SUM(C555:C564),1)","v":0},{"$f":"ROUND(SUM(D555:D564),1)","v":0},0,0,0,0,0,0,0,0,0]
[{"$f":"Update_8!C753","v":0},{"$f":"ROUND(SUM(C555:D555),1)","v":0},null,null,{"$f":"ROUND(SUM(F555:G555),1)","v":0},null,null,{"$f":"ROUND(SUM(I555:J555),1)","v":0},null,null,{"$f":"ROUND(SUM(L555:M555),1)","v":0}]
[{"$f":"Update_8!C754","v":0},{"$f":"ROUND(SUM(C556:D556),1)","v":0},null,null,{"$f":"ROUND(SUM(F556:G556),1)","v":0},null,null,{"$f":"ROUND(SUM(I556:J556),1)","v":0},null,null,{"$f":"ROUND(SUM(L556:M556),1)","v":0}]
[{"$f":"Update_8!C755","v":0},0,null,null,0,null,null,0,null,null,0]
[{"$f":"Update_8!C756","v":0},0,null,null,0,null,null,0,null,null,0]
[{"$f":"Update_8!C757","v":0},0,null,null,0,null,null,0,null,null,0]
[{"$f":"Update_8!C758","v":0},0,null,null,0,null,null,0,null,null,0]
[{"$f":"Update_8!C759","v":0},0,null,null,0,null,null,0,null,null,0]
[{"$f":"Update_8!C760","v":0},0,null,null,0,null,null,0,null,null,0]
[{"$f":"Update_8!C761","v":0},0,null,null,0,null,null,0,null,null,0]
[{"$f":"Update_8!C762","v":0},0,null,null,0,null,null,0,null,null,0]
[{"$f":"cluster_activity_2","v":"សកម្មភាពរង ទី ២៖ ធានាភាពស័ក្តិសិទ្ធនៃភាពជាអ្នកដឹកនាំ និងគ្រប់គ្រងរបស់មន្ត្រី អប់រំគ្រប់លំដាប់ថ្នាក់"},{"$f":"ROUND(SUM(B566:B575),1)","v":0},{"$f":"ROUND(SUM(C566:C575),1)","v":0},{"$f":"ROUND(SUM(D566:D575),1)","v":0},{"$f":"ROUND(SUM(E566:E575),1)","v":0},0,0,0,0,0,{"$f":"ROUND(SUM(K566:K575),1)","v":0},{"$f":"ROUND(SUM(L566:L575),1)","v":0},{"$f":"ROUND(SUM(M566:M575),1)","v":0}]
[{"$f":"Update_8!C763","v":"១. កិច្ចដំណើរការអង្គភាព"},{"$f":"ROUND(SUM(C566:D566),1)","v":0},null,null,{"$f":"ROUND(SUM(F566:G566),1)","v":0},null,null,{"$f":"ROUND(SUM(I566:J566),1)","v":0},null,null,{"$f":"ROUND(SUM(L566:M566),1)","v":0}]
[{"$f":"Update_8!C764","v":"២. ថវិកាលទ្ធកម្ម"},{"$f":"ROUND(SUM(C567:D567),1)","v":0},null,null,{"$f":"ROUND(SUM(F567:G567),1)","v":0},null,null,{"$f":"ROUND(SUM(I567:J567),1)","v":0},null,null,{"$f":"ROUND(SUM(L567:M567),1)","v":0}]
[{"$f":"Update_8!C765","v":"៣. ពិនិត្យតាមដាន និងវាយតម្លៃ"},0,null,null,0,null,null,0,null,null,0]
[{"$f":"Update_8!C766","v":"៤. កសាងលិខិតបទដ្ឋានគតិយុត្តវិស័យអប់រំ"},0,null,null,0,null,null,0,null,null,0]
[{"$f":"Update_8!C767","v":"៥. អភិវឌ្ឍសមត្ថភាពមន្ត្រីអប់រំលើការងារនីតិកម្ម និងអភិបាលកិច្ចវិស័យអប់រំ"},0,null,null,0,null,null,0,null,null,0]
[{"$f":"Update_8!C768","v":"៦. អនុវត្តការងារកំណែទម្រង់វិមជ្ឈការនិងវិសហមជ្ឈការវិស័យអប់រំ"},0,null,null,0,null,null,0,null,null,0]
[{"$f":"Update_8!C769","v":0},0,null,null,0,null,null,0,null,null,0]
[{"$f":"Update_8!C770","v":0},0,null,null,0,null,null,0,null,null,0]
[{"$f":"Update_8!C771","v":0},0,null,null,0,null,null,0,null,null,0]
[{"$f":"Update_8!C772","v":0},0,null,null,0,null,null,0,null,null,0]
[{"$f":"ព័ត៌មានអង្គភាព!C39","v":"៥.១៨.០១.៩៖ ការពង្រឹងការគ្រប់គ្រងហេដ្ឋារចនាសម្ព័ន្ធអប់រំ"},{"$f":"SUM(B577,B588)","v":0},{"$f":"SUM(C577,C588)","v":0},0,0,0,0,0,0,0,0,0,0]
[{"$f":"cluster_activity_1","v":"សកម្មភាពរង ទី ១៖ ធានាឱ្យការអប់រំមានគុណភាព ប្រកបដោយសមធម៌ បរិយាបន្ន និងលើកកម្ពស់ឱកាសក្នុងការសិក្សាពេញមួយជីវិត"},{"$f":"ROUND(SUM(B578:B587),1)","v":0},{"$f":"ROUND(SUM(C578:C587),1)","v":0},{"$f":"ROUND(SUM(D578:D587),1)","v":0},0,0,0,0,0,0,0,0,0]
[{"$f":"Update_8!C773","v":0},{"$f":"ROUND(SUM(C578:D578),1)","v":0},null,null,{"$f":"ROUND(SUM(F578:G578),1)","v":0},null,null,{"$f":"ROUND(SUM(I578:J578),1)","v":0},null,null,{"$f":"ROUND(SUM(L578:M578),1)","v":0}]
[{"$f":"Update_8!C774","v":0},{"$f":"ROUND(SUM(C579:D579),1)","v":0},null,null,{"$f":"ROUND(SUM(F579:G579),1)","v":0},null,null,{"$f":"ROUND(SUM(I579:J579),1)","v":0},null,null,{"$f":"ROUND(SUM(L579:M579),1)","v":0}]
[{"$f":"Update_8!C775","v":0},0,null,null,0,null,null,0,null,null,0]
[{"$f":"Update_8!C776","v":0},0,null,null,0,null,null,0,null,null,0]
[{"$f":"Update_8!C777","v":0},0,null,null,0,null,null,0,null,null,0]
[{"$f":"Update_8!C778","v":0},0,null,null,0,null,null,0,null,null,0]
[{"$f":"Update_8!C779","v":0},0,null,null,0,null,null,0,null,null,0]
[{"$f":"Update_8!C780","v":0},0,null,null,0,null,null,0,null,null,0]
[{"$f":"Update_8!C781","v":0},0,null,null,0,null,null,0,null,null,0]
[{"$f":"Update_8!C782","v":0},0,null,null,0,null,null,0,null,null,0]
[{"$f":"cluster_activity_2","v":"សកម្មភាពរង ទី ២៖ ធានាភាពស័ក្តិសិទ្ធនៃភាពជាអ្នកដឹកនាំ និងគ្រប់គ្រងរបស់មន្ត្រី អប់រំគ្រប់លំដាប់ថ្នាក់"},{"$f":"ROUND(SUM(B589:B598),1)","v":0},{"$f":"ROUND(SUM(C589:C598),1)","v":0},{"$f":"ROUND(SUM(D589:D598),1)","v":0},{"$f":"ROUND(SUM(E589:E598),1)","v":0},0,0,0,0,0,{"$f":"ROUND(SUM(K589:K598),1)","v":0},{"$f":"ROUND(SUM(L589:L598),1)","v":0},{"$f":"ROUND(SUM(M589:M598),1)","v":0}]
[{"$f":"Update_8!C783","v":"១. កិច្ចដំណើរការអង្គភាព"},{"$f":"ROUND(SUM(C589:D589),1)","v":0},null,null,{"$f":"ROUND(SUM(F589:G589),1)","v":0},null,null,{"$f":"ROUND(SUM(I589:J589),1)","v":0},null,null,{"$f":"ROUND(SUM(L589:M589),1)","v":0}]
[{"$f":"Update_8!C784","v":"២. ថវិកាលទ្ធកម្ម"},{"$f":"ROUND(SUM(C590:D590),1)","v":0},null,null,{"$f":"ROUND(SUM(F590:G590),1)","v":0},null,null,{"$f":"ROUND(SUM(I590:J590),1)","v":0},null,null,{"$f":"ROUND(SUM(L590:M590),1)","v":0}]
[{"$f":"Update_8!C785","v":"៣. ពិនិត្យតាមដាន និងវាយតម្លៃ"},0,null,null,0,null,null,0,null,null,0]
[{"$f":"Update_8!C786","v":"៤. អភិវឌ្ឍសមត្ថភាពមន្ត្រីថ្នាក់ក្រោមជាតិស្តីពីការគ្រប់គ្រងហេដ្ឋារចនាសម្ព័ន្ធអប់រំ"},0,null,null,0,null,null,0,null,null,0]
[{"$f":"Update_8!C787","v":"៥. គ្រប់គ្រង ថែទាំ និងជួសជុល"},0,null,null,0,null,null,0,null,null,0]
[{"$f":"Update_8!C788","v":0},0,null,null,0,null,null,0,null,null,0]
[{"$f":"Update_8!C789","v":0},0,null,null,0,null,null,0,null,null,0]
[{"$f":"Update_8!C790","v":0},0,null,null,0,null,null,0,null,null,0]
[{"$f":"Update_8!C791","v":0},0,null,null,0,null,null,0,null,null,0]
[{"$f":"Update_8!C792","v":0},0,null,null,0,null,null,0,null,null,0]
[{"$f":"ព័ត៌មានអង្គភាព!C40","v":"៥.១៨.០១.១០៖ ការពង្រឹងការគ្រប់គ្រង ការផ្គត់ផ្គង់សម្ភារៈ និងទ្រព្យសម្បត្តិរដ្ឋ"},{"$f":"SUM(B600,B611)","v":0},{"$f":"SUM(C600,C611)","v":0},{"$f":"SUM(D600,D611)","v":0},0,0,0,0,0,0,0,0,0]
[{"$f":"cluster_activity_1","v":"សកម្មភាពរង ទី ១៖ ធានាឱ្យការអប់រំមានគុណភាព ប្រកបដោយសមធម៌ បរិយាបន្ន និងលើកកម្ពស់ឱកាសក្នុងការសិក្សាពេញមួយជីវិត"},{"$f":"ROUND(SUM(B601:B610),1)","v":0},{"$f":"ROUND(SUM(C601:C610),1)","v":0},{"$f":"ROUND(SUM(D601:D610),1)","v":0},0,0,0,0,0,0,0,0,0]
[{"$f":"Update_8!C793","v":0},{"$f":"ROUND(SUM(C601:D601),1)","v":0},null,null,{"$f":"ROUND(SUM(F601:G601),1)","v":0},null,null,{"$f":"ROUND(SUM(I601:J601),1)","v":0},null,null,{"$f":"ROUND(SUM(L601:M601),1)","v":0}]
[{"$f":"Update_8!C794","v":0},{"$f":"ROUND(SUM(C602:D602),1)","v":0},null,null,{"$f":"ROUND(SUM(F602:G602),1)","v":0},null,null,{"$f":"ROUND(SUM(I602:J602),1)","v":0},null,null,{"$f":"ROUND(SUM(L602:M602),1)","v":0}]
[{"$f":"Update_8!C795","v":0},0,null,null,0,null,null,0,null,null,0]
[{"$f":"Update_8!C796","v":0},0,null,null,0,null,null,0,null,null,0]
[{"$f":"Update_8!C797","v":0},0,null,null,0,null,null,0,null,null,0]
[{"$f":"Update_8!C798","v":0},0,null,null,0,null,null,0,null,null,0]
[{"$f":"Update_8!C799","v":0},0,null,null,0,null,null,0,null,null,0]
[{"$f":"Update_8!C800","v":0},0,null,null,0,null,null,0,null,null,0]
[{"$f":"Update_8!C801","v":0},0,null,null,0,null,null,0,null,null,0]
[{"$f":"Update_8!C802","v":0},0,null,null,0,null,null,0,null,null,0]
[{"$f":"cluster_activity_2","v":"សកម្មភាពរង ទី ២៖ ធានាភាពស័ក្តិសិទ្ធនៃភាពជាអ្នកដឹកនាំ និងគ្រប់គ្រងរបស់មន្ត្រី អប់រំគ្រប់លំដាប់ថ្នាក់"},{"$f":"ROUND(SUM(B612:B621),1)","v":0},{"$f":"ROUND(SUM(C612:C621),1)","v":0},{"$f":"ROUND(SUM(D612:D621),1)","v":0},{"$f":"ROUND(SUM(E612:E621),1)","v":0},0,0,0,0,0,{"$f":"ROUND(SUM(K612:K621),1)","v":0},{"$f":"ROUND(SUM(L612:L621),1)","v":0},{"$f":"ROUND(SUM(M612:M621),1)","v":0}]
[{"$f":"Update_8!C803","v":"១. កិច្ចដំណើរការអង្គភាព"},{"$f":"ROUND(SUM(C612:D612),1)","v":0},null,null,{"$f":"ROUND(SUM(F612:G612),1)","v":0},null,null,{"$f":"ROUND(SUM(I612:J612),1)","v":0},null,null,{"$f":"ROUND(SUM(L612:M612),1)","v":0}]
[{"$f":"Update_8!C804","v":"២. ថវិកាលទ្ធកម្ម"},{"$f":"ROUND(SUM(C613:D613),1)","v":0},null,null,{"$f":"ROUND(SUM(F613:G613),1)","v":0},null,null,{"$f":"ROUND(SUM(I613:J613),1)","v":0},null,null,{"$f":"ROUND(SUM(L613:M613),1)","v":0}]
[{"$f":"Update_8!C805","v":"៣. ពិនិត្យតាមដាន និងវាយតម្លៃ"},0,null,null,0,null,null,0,null,null,0]
[{"$f":"Update_8!C806","v":"៤. គាំទ្រ គ្រប់គ្រងនិងអភិវឌ្ឍសមត្ថភាពលើការងារសម្ភារទ្រព្យសម្បត្តិរដ្ឋ"},0,null,null,0,null,null,0,null,null,0]
[{"$f":"Update_8!C807","v":0},0,null,null,0,null,null,0,null,null,0]
[{"$f":"Update_8!C808","v":0},0,null,null,0,null,null,0,null,null,0]
[{"$f":"Update_8!C809","v":0},0,null,null,0,null,null,0,null,null,0]
[{"$f":"Update_8!C810","v":0},0,null,null,0,null,null,0,null,null,0]
[{"$f":"Update_8!C811","v":0},0,null,null,0,null,null,0,null,null,0]
[{"$f":"Update_8!C812","v":0},0,null,null,0,null,null,0,null,null,0]
[{"$f":"ព័ត៌មានអង្គភាព!C41","v":"៥.១៨.០១.១១៖ ការអភិវឌ្ឍ និងពង្រឹងប្រសិទ្ធភាពការគ្រប់គ្រង និងការធានាភាពសក្តិសិទ្ធនៃសេវារដ្ឋបាលអប់រំ"},{"$f":"SUM(B623,B634)","v":0},{"$f":"SUM(C623,C634)","v":0},{"$f":"SUM(D623,D634)","v":0},0,0,0,0,0,0,0,0,0]
[{"$f":"cluster_activity_1","v":"សកម្មភាពរង ទី ១៖ ធានាឱ្យការអប់រំមានគុណភាព ប្រកបដោយសមធម៌ បរិយាបន្ន និងលើកកម្ពស់ឱកាសក្នុងការសិក្សាពេញមួយជីវិត"},{"$f":"ROUND(SUM(B624:B633),1)","v":0},{"$f":"ROUND(SUM(C624:C633),1)","v":0},{"$f":"ROUND(SUM(D624:D633),1)","v":0},0,0,0,0,0,0,0,0,0]
[{"$f":"Update_8!C813","v":0},{"$f":"ROUND(SUM(C624:D624),1)","v":0},null,null,{"$f":"ROUND(SUM(F624:G624),1)","v":0},null,null,{"$f":"ROUND(SUM(I624:J624),1)","v":0},null,null,{"$f":"ROUND(SUM(L624:M624),1)","v":0}]
[{"$f":"Update_8!C814","v":0},{"$f":"ROUND(SUM(C625:D625),1)","v":0},null,null,{"$f":"ROUND(SUM(F625:G625),1)","v":0},null,null,{"$f":"ROUND(SUM(I625:J625),1)","v":0},null,null,{"$f":"ROUND(SUM(L625:M625),1)","v":0}]
[{"$f":"Update_8!C815","v":0},0,null,null,0,null,null,0,null,null,0]
[{"$f":"Update_8!C816","v":0},0,null,null,0,null,null,0,null,null,0]
[{"$f":"Update_8!C817","v":0},0,null,null,0,null,null,0,null,null,0]
[{"$f":"Update_8!C818","v":0},0,null,null,0,null,null,0,null,null,0]
[{"$f":"Update_8!C819","v":0},0,null,null,0,null,null,0,null,null,0]
[{"$f":"Update_8!C820","v":0},0,null,null,0,null,null,0,null,null,0]
[{"$f":"Update_8!C821","v":0},0,null,null,0,null,null,0,null,null,0]
[{"$f":"Update_8!C822","v":0},0,null,null,0,null,null,0,null,null,0]
[{"$f":"cluster_activity_2","v":"សកម្មភាពរង ទី ២៖ ធានាភាពស័ក្តិសិទ្ធនៃភាពជាអ្នកដឹកនាំ និងគ្រប់គ្រងរបស់មន្ត្រី អប់រំគ្រប់លំដាប់ថ្នាក់"},{"$f":"ROUND(SUM(B635:B644),1)","v":0},{"$f":"ROUND(SUM(C635:C644),1)","v":0},{"$f":"ROUND(SUM(D635:D644),1)","v":0},{"$f":"ROUND(SUM(E635:E644),1)","v":0},0,0,0,0,0,{"$f":"ROUND(SUM(K635:K644),1)","v":0},{"$f":"ROUND(SUM(L635:L644),1)","v":0},{"$f":"ROUND(SUM(M635:M644),1)","v":0}]
[{"$f":"Update_8!C823","v":"១. កិច្ចដំណើរការអង្គភាព"},{"$f":"ROUND(SUM(C635:D635),1)","v":0},null,null,{"$f":"ROUND(SUM(F635:G635),1)","v":0},null,null,{"$f":"ROUND(SUM(I635:J635),1)","v":0},null,null,{"$f":"ROUND(SUM(L635:M635),1)","v":0}]
[{"$f":"Update_8!C824","v":"២. ថវិកាលទ្ធកម្ម"},{"$f":"ROUND(SUM(C636:D636),1)","v":0},null,null,{"$f":"ROUND(SUM(F636:G636),1)","v":0},null,null,{"$f":"ROUND(SUM(I636:J636),1)","v":0},null,null,{"$f":"ROUND(SUM(L636:M636),1)","v":0}]
[{"$f":"Update_8!C825","v":"៣. ពិនិត្យតាមដាន និងវាយតម្លៃ"},0,null,null,0,null,null,0,null,null,0]
[{"$f":"Update_8!C826","v":"៤. គាំទ្រសេវារៀបចំពិធីសម្រាប់វិស័យអប់រំ"},0,null,null,0,null,null,0,null,null,0]
[{"$f":"Update_8!C827","v":"៥. អភិវឌ្ឍសមត្ថភាពមន្ត្រីគ្រប់គ្រងរដ្ឋបាលអប់រំ"},0,null,null,0,null,null,0,null,null,0]
[{"$f":"Update_8!C828","v":0},0,null,null,0,null,null,0,null,null,0]
[{"$f":"Update_8!C829","v":0},0,null,null,0,null,null,0,null,null,0]
[{"$f":"Update_8!C830","v":0},0,null,null,0,null,null,0,null,null,0]
[{"$f":"Update_8!C831","v":0},0,null,null,0,null,null,0,null,null,0]
[{"$f":"Update_8!C832","v":0},0,null,null,0,null,null,0,null,null,0]
[{"$f":"ព័ត៌មានអង្គភាព!C42","v":"៥.១៨.០១.១២៖ ការអភិវឌ្ឍកិច្ចសហប្រតិបត្តិការជាតិ អន្តរជាតិលើវិស័យអប់រំ"},{"$f":"SUM(B646,B657)","v":0},{"$f":"SUM(C646,C657)","v":0},0,0,0,0,0,0,0,0,0,0]
[{"$f":"cluster_activity_1","v":"សកម្មភាពរង ទី ១៖ ធានាឱ្យការអប់រំមានគុណភាព ប្រកបដោយសមធម៌ បរិយាបន្ន និងលើកកម្ពស់ឱកាសក្នុងការសិក្សាពេញមួយជីវិត"},{"$f":"ROUND(SUM(B647:B656),1)","v":0},{"$f":"ROUND(SUM(C647:C656),1)","v":0},{"$f":"ROUND(SUM(D647:D656),1)","v":0},0,0,0,0,0,0,0,0,0]
[{"$f":"Update_8!C833","v":"១. ប្រឡងជ្រើសរើសនិស្សិតអាហារូបករណ៍"},{"$f":"ROUND(SUM(C647:D647),1)","v":0},null,null,{"$f":"ROUND(SUM(F647:G647),1)","v":0},null,null,{"$f":"ROUND(SUM(I647:J647),1)","v":0},null,null,{"$f":"ROUND(SUM(L647:M647),1)","v":0}]
[{"$f":"Update_8!C834","v":0},{"$f":"ROUND(SUM(C648:D648),1)","v":0},null,null,{"$f":"ROUND(SUM(F648:G648),1)","v":0},null,null,{"$f":"ROUND(SUM(I648:J648),1)","v":0},null,null,{"$f":"ROUND(SUM(L648:M648),1)","v":0}]
[{"$f":"Update_8!C835","v":0},0,null,null,0,null,null,0,null,null,0]
[{"$f":"Update_8!C836","v":0},0,null,null,0,null,null,0,null,null,0]
[{"$f":"Update_8!C837","v":0},0,null,null,0,null,null,0,null,null,0]
[{"$f":"Update_8!C838","v":0},0,null,null,0,null,null,0,null,null,0]
[{"$f":"Update_8!C839","v":0},0,null,null,0,null,null,0,null,null,0]
[{"$f":"Update_8!C840","v":0},0,null,null,0,null,null,0,null,null,0]
[{"$f":"Update_8!C841","v":0},0,null,null,0,null,null,0,null,null,0]
[{"$f":"Update_8!C842","v":0},0,null,null,0,null,null,0,null,null,0]
[{"$f":"cluster_activity_2","v":"សកម្មភាពរង ទី ២៖ ធានាភាពស័ក្តិសិទ្ធនៃភាពជាអ្នកដឹកនាំ និងគ្រប់គ្រងរបស់មន្ត្រី អប់រំគ្រប់លំដាប់ថ្នាក់"},{"$f":"ROUND(SUM(B658:B667),1)","v":0},{"$f":"ROUND(SUM(C658:C667),1)","v":0},{"$f":"ROUND(SUM(D658:D667),1)","v":0},{"$f":"ROUND(SUM(E658:E667),1)","v":0},0,0,0,0,0,{"$f":"ROUND(SUM(K658:K667),1)","v":0},{"$f":"ROUND(SUM(L658:L667),1)","v":0},{"$f":"ROUND(SUM(M658:M667),1)","v":0}]
[{"$f":"Update_8!C843","v":"១. កិច្ចដំណើរការអង្គភាព"},{"$f":"ROUND(SUM(C658:D658),1)","v":0},null,null,{"$f":"ROUND(SUM(F658:G658),1)","v":0},null,null,{"$f":"ROUND(SUM(I658:J658),1)","v":0},null,null,{"$f":"ROUND(SUM(L658:M658),1)","v":0}]
[{"$f":"Update_8!C844","v":"២. ថវិកាលទ្ធកម្ម"},{"$f":"ROUND(SUM(C659:D659),1)","v":0},null,null,{"$f":"ROUND(SUM(F659:G659),1)","v":0},null,null,{"$f":"ROUND(SUM(I659:J659),1)","v":0},null,null,{"$f":"ROUND(SUM(L659:M659),1)","v":0}]
[{"$f":"Update_8!C845","v":"៣. ពិនិត្យតាមដាន និងវាយតម្លៃ"},0,null,null,0,null,null,0,null,null,0]
[{"$f":"Update_8!C846","v":"៤. ពង្រឹងសមត្ថភាពមន្ត្រីក្នុងការគ្រប់គ្រងសិស្ស និស្សិតអារូបករណ៍ ផ្សព្វផ្សាយព័ត៌មានអាហារូបករណ៍ និងសហប្រតិបត្តិការ"},0,null,null,0,null,null,0,null,null,0]
[{"$f":"Update_8!C847","v":0},0,null,null,0,null,null,0,null,null,0]
[{"$f":"Update_8!C848","v":0},0,null,null,0,null,null,0,null,null,0]
[{"$f":"Update_8!C849","v":0},0,null,null,0,null,null,0,null,null,0]
[{"$f":"Update_8!C850","v":0},0,null,null,0,null,null,0,null,null,0]
[{"$f":"Update_8!C851","v":0},0,null,null,0,null,null,0,null,null,0]
[{"$f":"Update_8!C852","v":0},0,null,null,0,null,null,0,null,null,0]
[{"$f":"ព័ត៌មានអង្គភាព!C43","v":"៥.១៨.០១.១៣៖ ការអភិវឌ្ឍប្រព័ន្ធព័ត៌មានគ្រប់គ្រងអប់រំ"},{"$f":"SUM(B669,B680)","v":0},{"$f":"SUM(C669,C680)","v":0},0,0,0,0,0,0,0,0,0,0]
[{"$f":"cluster_activity_1","v":"សកម្មភាពរង ទី ១៖ ធានាឱ្យការអប់រំមានគុណភាព ប្រកបដោយសមធម៌ បរិយាបន្ន និងលើកកម្ពស់ឱកាសក្នុងការសិក្សាពេញមួយជីវិត"},{"$f":"ROUND(SUM(B670:B679),1)","v":0},{"$f":"ROUND(SUM(C670:C679),1)","v":0},{"$f":"ROUND(SUM(D670:D679),1)","v":0},0,0,0,0,0,0,0,0,0]
[{"$f":"Update_8!C853","v":0},{"$f":"ROUND(SUM(C670:D670),1)","v":0},null,null,{"$f":"ROUND(SUM(F670:G670),1)","v":0},null,null,{"$f":"ROUND(SUM(I670:J670),1)","v":0},null,null,{"$f":"ROUND(SUM(L670:M670),1)","v":0}]
[{"$f":"Update_8!C854","v":0},{"$f":"ROUND(SUM(C671:D671),1)","v":0},null,null,{"$f":"ROUND(SUM(F671:G671),1)","v":0},null,null,{"$f":"ROUND(SUM(I671:J671),1)","v":0},null,null,{"$f":"ROUND(SUM(L671:M671),1)","v":0}]
[{"$f":"Update_8!C855","v":0},0,null,null,0,null,null,0,null,null,0]
[{"$f":"Update_8!C856","v":0},0,null,null,0,null,null,0,null,null,0]
[{"$f":"Update_8!C857","v":0},0,null,null,0,null,null,0,null,null,0]
[{"$f":"Update_8!C858","v":0},0,null,null,0,null,null,0,null,null,0]
[{"$f":"Update_8!C859","v":0},0,null,null,0,null,null,0,null,null,0]
[{"$f":"Update_8!C860","v":0},0,null,null,0,null,null,0,null,null,0]
[{"$f":"Update_8!C861","v":0},0,null,null,0,null,null,0,null,null,0]
[{"$f":"Update_8!C862","v":0},0,null,null,0,null,null,0,null,null,0]
[{"$f":"cluster_activity_2","v":"សកម្មភាពរង ទី ២៖ ធានាភាពស័ក្តិសិទ្ធនៃភាពជាអ្នកដឹកនាំ និងគ្រប់គ្រងរបស់មន្ត្រី អប់រំគ្រប់លំដាប់ថ្នាក់"},{"$f":"ROUND(SUM(B681:B690),1)","v":0},{"$f":"ROUND(SUM(C681:C690),1)","v":0},{"$f":"ROUND(SUM(D681:D690),1)","v":0},{"$f":"ROUND(SUM(E681:E690),1)","v":0},0,0,0,0,0,{"$f":"ROUND(SUM(K681:K690),1)","v":0},{"$f":"ROUND(SUM(L681:L690),1)","v":0},{"$f":"ROUND(SUM(M681:M690),1)","v":0}]
[{"$f":"Update_8!C863","v":"១. កិច្ចដំណើការអង្គភាព"},{"$f":"ROUND(SUM(C681:D681),1)","v":0},null,null,{"$f":"ROUND(SUM(F681:G681),1)","v":0},null,null,{"$f":"ROUND(SUM(I681:J681),1)","v":0},null,null,{"$f":"ROUND(SUM(L681:M681),1)","v":0}]
[{"$f":"Update_8!C864","v":"២. ថវិកាលទ្ធកម្ម"},{"$f":"ROUND(SUM(C682:D682),1)","v":0},null,null,{"$f":"ROUND(SUM(F682:G682),1)","v":0},null,null,{"$f":"ROUND(SUM(I682:J682),1)","v":0},null,null,{"$f":"ROUND(SUM(L682:M682),1)","v":0}]
[{"$f":"Update_8!C865","v":"៣. ពិនិត្យតាមដាន និងវាយតម្លៃ"},0,null,null,0,null,null,0,null,null,0]
[{"$f":"Update_8!C866","v":"៤. អភិវឌ្ឍប្រព័ន្ធព័ត៌មានគ្រប់គ្រងអប់រំ"},0,null,null,0,null,null,0,null,null,0]
[{"$f":"Update_8!C867","v":"៥. អភិវឌ្ឍស្ថាប័ន និងសមត្ថភាពមន្រ្តីទទួលបន្ទុកការងារប្រព័ន្ធព័ត៌មានគ្រប់គ្រងអប់រំ"},0,null,null,0,null,null,0,null,null,0]
[{"$f":"Update_8!C868","v":0},0,null,null,0,null,null,0,null,null,0]
[{"$f":"Update_8!C869","v":0},0,null,null,0,null,null,0,null,null,0]
[{"$f":"Update_8!C870","v":0},0,null,null,0,null,null,0,null,null,0]
[{"$f":"Update_8!C871","v":0},0,null,null,0,null,null,0,null,null,0]
[{"$f":"Update_8!C872","v":0},0,null,null,0,null,null,0,null,null,0]
[{"$f":"ព័ត៌មានអង្គភាព!C44","v":"៥.១៨.០១.១៤៖ អភិវឌ្ឍគោលនយោបាយអប់រំ និងការស្រាវជ្រាវ"},{"$f":"SUM(B692,B703)","v":0},{"$f":"SUM(C692,C703)","v":0},0,0,0,0,0,0,0,0,0,0]
[{"$f":"cluster_activity_1","v":"សកម្មភាពរង ទី ១៖ ធានាឱ្យការអប់រំមានគុណភាព ប្រកបដោយសមធម៌ បរិយាបន្ន និងលើកកម្ពស់ឱកាសក្នុងការសិក្សាពេញមួយជីវិត"},{"$f":"ROUND(SUM(B693:B702),1)","v":0},{"$f":"ROUND(SUM(C693:C702),1)","v":0},{"$f":"ROUND(SUM(D693:D702),1)","v":0},0,0,0,0,0,0,0,0,0]
[{"$f":"Update_8!C873","v":0},{"$f":"ROUND(SUM(C693:D693),1)","v":0},null,null,{"$f":"ROUND(SUM(F693:G693),1)","v":0},null,null,{"$f":"ROUND(SUM(I693:J693),1)","v":0},null,null,{"$f":"ROUND(SUM(L693:M693),1)","v":0}]
[{"$f":"Update_8!C874","v":0},{"$f":"ROUND(SUM(C694:D694),1)","v":0},null,null,{"$f":"ROUND(SUM(F694:G694),1)","v":0},null,null,{"$f":"ROUND(SUM(I694:J694),1)","v":0},null,null,{"$f":"ROUND(SUM(L694:M694),1)","v":0}]
[{"$f":"Update_8!C875","v":0},0,null,null,0,null,null,0,null,null,0]
[{"$f":"Update_8!C876","v":0},0,null,null,0,null,null,0,null,null,0]
[{"$f":"Update_8!C877","v":0},0,null,null,0,null,null,0,null,null,0]
[{"$f":"Update_8!C878","v":0},0,null,null,0,null,null,0,null,null,0]
[{"$f":"Update_8!C879","v":0},0,null,null,0,null,null,0,null,null,0]
[{"$f":"Update_8!C880","v":0},0,null,null,0,null,null,0,null,null,0]
[{"$f":"Update_8!C881","v":0},0,null,null,0,null,null,0,null,null,0]
[{"$f":"Update_8!C882","v":0},0,null,null,0,null,null,0,null,null,0]
[{"$f":"cluster_activity_2","v":"សកម្មភាពរង ទី ២៖ ធានាភាពស័ក្តិសិទ្ធនៃភាពជាអ្នកដឹកនាំ និងគ្រប់គ្រងរបស់មន្ត្រី អប់រំគ្រប់លំដាប់ថ្នាក់"},{"$f":"ROUND(SUM(B704:B713),1)","v":0},{"$f":"ROUND(SUM(C704:C713),1)","v":0},{"$f":"ROUND(SUM(D704:D713),1)","v":0},{"$f":"ROUND(SUM(E704:E713),1)","v":0},0,0,0,0,0,{"$f":"ROUND(SUM(K704:K713),1)","v":0},{"$f":"ROUND(SUM(L704:L713),1)","v":0},{"$f":"ROUND(SUM(M704:M713),1)","v":0}]
[{"$f":"Update_8!C883","v":"១. កិច្ចដំណើការអង្គភាព"},{"$f":"ROUND(SUM(C704:D704),1)","v":0},null,null,{"$f":"ROUND(SUM(F704:G704),1)","v":0},null,null,{"$f":"ROUND(SUM(I704:J704),1)","v":0},null,null,{"$f":"ROUND(SUM(L704:M704),1)","v":0}]
[{"$f":"Update_8!C884","v":"២. ថវិកាលទ្ធកម្ម"},{"$f":"ROUND(SUM(C705:D705),1)","v":0},null,null,{"$f":"ROUND(SUM(F705:G705),1)","v":0},null,null,{"$f":"ROUND(SUM(I705:J705),1)","v":0},null,null,{"$f":"ROUND(SUM(L705:M705),1)","v":0}]
[{"$f":"Update_8!C885","v":"៣. ពិនិត្យតាមដាន និងវាយតម្លៃការអនុវត្តគោលនយោបាយ"},0,null,null,0,null,null,0,null,null,0]
[{"$f":"Update_8!C886","v":"៤. រៀបចំ និងអភិវឌ្ឍគោលនយោបាយអប់រំ យុវជន និងកីឡា "},0,null,null,0,null,null,0,null,null,0]
[{"$f":"Update_8!C887","v":"៥. សិក្សាស្រាវជ្រាវនិងផ្សព្វផ្សាយនិន្នាការអប់រំក្នុងប្រទេស តំបន់ និងសកលលោក"},0,null,null,0,null,null,0,null,null,0]
[{"$f":"Update_8!C888","v":"៦. អភិវឌ្ឍស្ថាប័ន និងសមត្ថភាពមន្រ្តីទទួលបន្ទុកការកសាងគោលនយោបាយអប់រំ យុវជន និងកីឡា"},0,null,null,0,null,null,0,null,null,0]
[{"$f":"Update_8!C889","v":"៧. អាហារូបរណ៍សម្រាប់ថ្នាក់បណ្ឌិតសិក្សានៅប្រទេសបារាំង"},0,null,null,0,null,null,0,null,null,0]
[{"$f":"Update_8!C890","v":0},0,null,null,0,null,null,0,null,null,0]
[{"$f":"Update_8!C891","v":0},0,null,null,0,null,null,0,null,null,0]
[{"$f":"Update_8!C892","v":0},0,null,null,0,null,null,0,null,null,0]
[{"$f":"ព័ត៌មានអង្គភាព!C45","v":"៥.១៨.០១.១៥៖ អភិវឌ្ឍប្រព័ន្ធពិនិត្យតាមដាន និងវាយតម្លៃ"},{"$f":"SUM(B715,B726)","v":0},{"$f":"SUM(C715,C726)","v":0},0,0,0,0,0,0,0,0,0,0]
[{"$f":"cluster_activity_1","v":"សកម្មភាពរង ទី ១៖ ធានាឱ្យការអប់រំមានគុណភាព ប្រកបដោយសមធម៌ បរិយាបន្ន និងលើកកម្ពស់ឱកាសក្នុងការសិក្សាពេញមួយជីវិត"},{"$f":"ROUND(SUM(B716:B725),1)","v":0},{"$f":"ROUND(SUM(C716:C725),1)","v":0},{"$f":"ROUND(SUM(D716:D725),1)","v":0},0,0,0,0,0,0,0,0,0]
[{"$f":"Update_8!C893","v":0},{"$f":"ROUND(SUM(C716:D716),1)","v":0},null,null,{"$f":"ROUND(SUM(F716:G716),1)","v":0},null,null,{"$f":"ROUND(SUM(I716:J716),1)","v":0},null,null,{"$f":"ROUND(SUM(L716:M716),1)","v":0}]
[{"$f":"Update_8!C894","v":0},{"$f":"ROUND(SUM(C717:D717),1)","v":0},null,null,{"$f":"ROUND(SUM(F717:G717),1)","v":0},null,null,{"$f":"ROUND(SUM(I717:J717),1)","v":0},null,null,{"$f":"ROUND(SUM(L717:M717),1)","v":0}]
[{"$f":"Update_8!C895","v":0},0,null,null,0,null,null,0,null,null,0]
[{"$f":"Update_8!C896","v":0},0,null,null,0,null,null,0,null,null,0]
[{"$f":"Update_8!C897","v":0},0,null,null,0,null,null,0,null,null,0]
[{"$f":"Update_8!C898","v":0},0,null,null,0,null,null,0,null,null,0]
[{"$f":"Update_8!C899","v":0},0,null,null,0,null,null,0,null,null,0]
[{"$f":"Update_8!C900","v":0},0,null,null,0,null,null,0,null,null,0]
[{"$f":"Update_8!C901","v":0},0,null,null,0,null,null,0,null,null,0]
[{"$f":"Update_8!C902","v":0},0,null,null,0,null,null,0,null,null,0]
[{"$f":"cluster_activity_2","v":"សកម្មភាពរង ទី ២៖ ធានាភាពស័ក្តិសិទ្ធនៃភាពជាអ្នកដឹកនាំ និងគ្រប់គ្រងរបស់មន្ត្រី អប់រំគ្រប់លំដាប់ថ្នាក់"},{"$f":"ROUND(SUM(B727:B736),1)","v":0},{"$f":"ROUND(SUM(C727:C736),1)","v":0},{"$f":"ROUND(SUM(D727:D736),1)","v":0},{"$f":"ROUND(SUM(E727:E736),1)","v":0},0,0,0,0,0,{"$f":"ROUND(SUM(K727:K736),1)","v":0},{"$f":"ROUND(SUM(L727:L736),1)","v":0},{"$f":"ROUND(SUM(M727:M736),1)","v":0}]
[{"$f":"Update_8!C903","v":"១. កិច្ចដំណើការអង្គភាព"},{"$f":"ROUND(SUM(C727:D727),1)","v":0},null,null,{"$f":"ROUND(SUM(F727:G727),1)","v":0},null,null,{"$f":"ROUND(SUM(I727:J727),1)","v":0},null,null,{"$f":"ROUND(SUM(L727:M727),1)","v":0}]
[{"$f":"Update_8!C904","v":"២. ថវិកាលទ្ធកម្ម"},{"$f":"ROUND(SUM(C728:D728),1)","v":0},null,null,{"$f":"ROUND(SUM(F728:G728),1)","v":0},null,null,{"$f":"ROUND(SUM(I728:J728),1)","v":0},null,null,{"$f":"ROUND(SUM(L728:M728),1)","v":0}]
[{"$f":"Update_8!C905","v":"៣. ពិនិត្យតាមដាន និងវាយតម្លៃ"},0,null,null,0,null,null,0,null,null,0]
[{"$f":"Update_8!C906","v":"៤. ផលិតរបាយការណ៍សមិទ្ធកម្មសម្រាប់ក្រសួងអប់រំ​ យុវជន និងកីឡា"},0,null,null,0,null,null,0,null,null,0]
[{"$f":"Update_8!C907","v":"៥. អភិវឌ្ឍប្រព័ន្ធពិនិត្យតាមដាន និងវាយតម្លៃ"},0,null,null,0,null,null,0,null,null,0]
[{"$f":"Update_8!C908","v":0},0,null,null,0,null,null,0,null,null,0]
[{"$f":"Update_8!C909","v":0},0,null,null,0,null,null,0,null,null,0]
[{"$f":"Update_8!C910","v":0},0,null,null,0,null,null,0,null,null,0]
[{"$f":"Update_8!C911","v":0},0,null,null,0,null,null,0,null,null,0]
[{"$f":"Update_8!C912","v":0},0,null,null,0,null,null,0,null,null,0]
[{"$f":"ព័ត៌មានអង្គភាព!C46","v":"៥.១៨.០១.១៦៖ ការអភិវឌ្ឍនិងពង្រឹងប្រព័ន្ធព័ត៌មានវិទ្យា"},{"$f":"SUM(B738,B749)","v":0},{"$f":"SUM(C738,C749)","v":0},0,0,0,0,0,0,0,0,0,0]
[{"$f":"cluster_activity_1","v":"សកម្មភាពរង ទី ១៖ ធានាឱ្យការអប់រំមានគុណភាព ប្រកបដោយសមធម៌ បរិយាបន្ន និងលើកកម្ពស់ឱកាសក្នុងការសិក្សាពេញមួយជីវិត"},{"$f":"ROUND(SUM(B739:B748),1)","v":0},{"$f":"ROUND(SUM(C739:C748),1)","v":0},{"$f":"ROUND(SUM(D739:D748),1)","v":0},0,0,0,0,0,0,0,0,0]
[{"$f":"Update_8!C913","v":0},{"$f":"ROUND(SUM(C739:D739),1)","v":0},null,null,{"$f":"ROUND(SUM(F739:G739),1)","v":0},null,null,{"$f":"ROUND(SUM(I739:J739),1)","v":0},null,null,{"$f":"ROUND(SUM(L739:M739),1)","v":0}]
[{"$f":"Update_8!C914","v":0},{"$f":"ROUND(SUM(C740:D740),1)","v":0},null,null,{"$f":"ROUND(SUM(F740:G740),1)","v":0},null,null,{"$f":"ROUND(SUM(I740:J740),1)","v":0},null,null,{"$f":"ROUND(SUM(L740:M740),1)","v":0}]
[{"$f":"Update_8!C915","v":0},0,null,null,0,null,null,0,null,null,0]
[{"$f":"Update_8!C916","v":0},0,null,null,0,null,null,0,null,null,0]
[{"$f":"Update_8!C917","v":0},0,null,null,0,null,null,0,null,null,0]
[{"$f":"Update_8!C918","v":0},0,null,null,0,null,null,0,null,null,0]
[{"$f":"Update_8!C919","v":0},0,null,null,0,null,null,0,null,null,0]
[{"$f":"Update_8!C920","v":0},0,null,null,0,null,null,0,null,null,0]
[{"$f":"Update_8!C921","v":0},0,null,null,0,null,null,0,null,null,0]
[{"$f":"Update_8!C922","v":0},0,null,null,0,null,null,0,null,null,0]
[{"$f":"cluster_activity_2","v":"សកម្មភាពរង ទី ២៖ ធានាភាពស័ក្តិសិទ្ធនៃភាពជាអ្នកដឹកនាំ និងគ្រប់គ្រងរបស់មន្ត្រី អប់រំគ្រប់លំដាប់ថ្នាក់"},{"$f":"ROUND(SUM(B750:B759),1)","v":0},{"$f":"ROUND(SUM(C750:C759),1)","v":0},{"$f":"ROUND(SUM(D750:D759),1)","v":0},{"$f":"ROUND(SUM(E750:E759),1)","v":0},0,0,0,0,0,{"$f":"ROUND(SUM(K750:K759),1)","v":0},{"$f":"ROUND(SUM(L750:L759),1)","v":0},{"$f":"ROUND(SUM(M750:M759),1)","v":0}]
[{"$f":"Update_8!C923","v":"១. កិច្ចដំណើរការអង្គភាព"},{"$f":"ROUND(SUM(C750:D750),1)","v":0},null,null,{"$f":"ROUND(SUM(F750:G750),1)","v":0},null,null,{"$f":"ROUND(SUM(I750:J750),1)","v":0},null,null,{"$f":"ROUND(SUM(L750:M750),1)","v":0}]
[{"$f":"Update_8!C924","v":"២. ថវិកាលទ្ធកម្ម"},{"$f":"ROUND(SUM(C751:D751),1)","v":0},null,null,{"$f":"ROUND(SUM(F751:G751),1)","v":0},null,null,{"$f":"ROUND(SUM(I751:J751),1)","v":0},null,null,{"$f":"ROUND(SUM(L751:M751),1)","v":0}]
[{"$f":"Update_8!C925","v":"៣. ពិនិត្យតាមដាន និងវាយតម្លៃ"},0,null,null,0,null,null,0,null,null,0]
[{"$f":"Update_8!C926","v":"៤. ផ្តល់សេវាកម្មបច្ចេកវិទ្យាព័ត៌មាននិងការអប់រំមិនផ្លូវការ"},0,null,null,0,null,null,0,null,null,0]
[{"$f":"Update_8!C927","v":"៥. អភិវឌ្ឍសមត្ថភាពមន្ត្រីអប់រំ និងសហប្រតិបត្តិការបច្ចេកវិទ្យាព័ត៌មាន"},0,null,null,0,null,null,0,null,null,0]
[{"$f":"Update_8!C928","v":0},0,null,null,0,null,null,0,null,null,0]
[{"$f":"Update_8!C929","v":0},0,null,null,0,null,null,0,null,null,0]
[{"$f":"Update_8!C930","v":0},0,null,null,0,null,null,0,null,null,0]
[{"$f":"Update_8!C931","v":0},0,null,null,0,null,null,0,null,null,0]
[{"$f":"Update_8!C932","v":0},0,null,null,0,null,null,0,null,null,0]
[{"$f":"ព័ត៌មានអង្គភាព!C47","v":"៥.១៨.០១.១៧៖ ការពង្រឹងគុណភាព និងប្រសិទ្ធភាពការងារប្រឡងនៅមធ្យមសិក្សានិងអប់រំបច្ចេកទេស"},{"$f":"SUM(B761,B772)","v":0},{"$f":"SUM(C761,C772)","v":0},0,0,0,0,0,0,0,0,0,0]
[{"$f":"cluster_activity_1","v":"សកម្មភាពរង ទី ១៖ ធានាឱ្យការអប់រំមានគុណភាព ប្រកបដោយសមធម៌ បរិយាបន្ន និងលើកកម្ពស់ឱកាសក្នុងការសិក្សាពេញមួយជីវិត"},{"$f":"ROUND(SUM(B762:B771),1)","v":0},{"$f":"ROUND(SUM(C762:C771),1)","v":0},{"$f":"ROUND(SUM(D762:D771),1)","v":0},0,0,0,0,0,0,0,0,0]
[{"$f":"Update_8!C933","v":"១. ការងារប្រឡងនៅមធ្យមសិក្សានិងអប់រំបច្ចេកទេស "},{"$f":"ROUND(SUM(C762:D762),1)","v":0},null,null,{"$f":"ROUND(SUM(F762:G762),1)","v":0},null,null,{"$f":"ROUND(SUM(I762:J762),1)","v":0},null,null,{"$f":"ROUND(SUM(L762:M762),1)","v":0}]
[{"$f":"Update_8!C934","v":0},{"$f":"ROUND(SUM(C763:D763),1)","v":0},null,null,{"$f":"ROUND(SUM(F763:G763),1)","v":0},null,null,{"$f":"ROUND(SUM(I763:J763),1)","v":0},null,null,{"$f":"ROUND(SUM(L763:M763),1)","v":0}]
[{"$f":"Update_8!C935","v":0},0,null,null,0,null,null,0,null,null,0]
[{"$f":"Update_8!C936","v":0},0,null,null,0,null,null,0,null,null,0]
[{"$f":"Update_8!C937","v":0},0,null,null,0,null,null,0,null,null,0]
[{"$f":"Update_8!C938","v":0},0,null,null,0,null,null,0,null,null,0]
[{"$f":"Update_8!C939","v":0},0,null,null,0,null,null,0,null,null,0]
[{"$f":"Update_8!C940","v":0},0,null,null,0,null,null,0,null,null,0]
[{"$f":"Update_8!C941","v":0},0,null,null,0,null,null,0,null,null,0]
[{"$f":"Update_8!C942","v":0},0,null,null,0,null,null,0,null,null,0]
[{"$f":"cluster_activity_2","v":"សកម្មភាពរង ទី ២៖ ធានាភាពស័ក្តិសិទ្ធនៃភាពជាអ្នកដឹកនាំ និងគ្រប់គ្រងរបស់មន្ត្រី អប់រំគ្រប់លំដាប់ថ្នាក់"},{"$f":"ROUND(SUM(B773:B782),1)","v":0},{"$f":"ROUND(SUM(C773:C782),1)","v":0},{"$f":"ROUND(SUM(D773:D782),1)","v":0},{"$f":"ROUND(SUM(E773:E782),1)","v":0},0,0,0,0,0,{"$f":"ROUND(SUM(K773:K782),1)","v":0},{"$f":"ROUND(SUM(L773:L782),1)","v":0},{"$f":"ROUND(SUM(M773:M782),1)","v":0}]
[{"$f":"Update_8!C943","v":"១. កិច្ចដំណើរការអង្គភាព"},{"$f":"ROUND(SUM(C773:D773),1)","v":0},null,null,{"$f":"ROUND(SUM(F773:G773),1)","v":0},null,null,{"$f":"ROUND(SUM(I773:J773),1)","v":0},null,null,{"$f":"ROUND(SUM(L773:M773),1)","v":0}]
[{"$f":"Update_8!C944","v":"២. ថវិកាលទ្ធកម្ម"},{"$f":"ROUND(SUM(C774:D774),1)","v":0},null,null,{"$f":"ROUND(SUM(F774:G774),1)","v":0},null,null,{"$f":"ROUND(SUM(I774:J774),1)","v":0},null,null,{"$f":"ROUND(SUM(L774:M774),1)","v":0}]
[{"$f":"Update_8!C945","v":"៣. ពិនិត្យតាមដាន និងវាយតម្លៃ"},0,null,null,0,null,null,0,null,null,0]
[{"$f":"Update_8!C946","v":"៤. ពង្រឹងសមត្ថភាពបុគ្គលិកអប់រំលើការងារប្រឡងក្នុង និងក្រៅប្រទេស"},0,null,null,0,null,null,0,null,null,0]
[{"$f":"Update_8!C947","v":0},0,null,null,0,null,null,0,null,null,0]
[{"$f":"Update_8!C948","v":0},0,null,null,0,null,null,0,null,null,0]
[{"$f":"Update_8!C949","v":0},0,null,null,0,null,null,0,null,null,0]
[{"$f":"Update_8!C950","v":0},0,null,null,0,null,null,0,null,null,0]
[{"$f":"Update_8!C951","v":0},0,null,null,0,null,null,0,null,null,0]
[{"$f":"Update_8!C952","v":0},0,null,null,0,null,null,0,null,null,0]

{"sheet":"Table 4.0","index":3,"n_rows":120,"n_cols":13,"rows_kept":120,"cut":false,"hidden":false,"merged":[[4,0,4,12],[6,0,7,0],[6,1,6,3],[6,4,6,6],[6,7,6,9],[6,10,6,12]]}
[]
[]
["ក្រសួងអប់រំ​​​​​​​​​​​ យុវជន និងកីឡា"]
[{"$f":"CONCATENATE(\"មន្ទីរអប់រំ យុវជន និងកីឡា\",province)","v":"មន្ទីរអប់រំ យុវជន និងកីឡាខេត្តបន្ទាយមានជ័យ"}]
["សរុបការកំណត់តម្រូវការចំណាយសម្រាប់កម្មវិធី និងអនុកម្មវិធី"]
[null,null,null,null,null,null,null,null,null,null,null,null,"ឯកតា៖ លានរៀល"]
["តម្រូវការឥណទាន\nតាមប្រភេទចំណាយ","ច្បាប់ហិរញ្ញវត្ថុ \nឆ្នាំ ២០១៩",null,null,"គ្រោងតម្រូវការឥណទាន\nសម្រាប់ឆ្នាំ ២០២០",null,null,"គ្រោងតម្រូវការឥណទាន\nសម្រាប់ឆ្នាំ ២០២១",null,null,"គ្រោងតម្រូវការឥណទាន\nសម្រាប់ឆ្នាំ ២០២២"]
[null,"សរុប","បន្ទុកបុគ្គលិក","ក្រៅបន្ទុក​បុគ្គលិក","សរុប","បន្ទុកបុគ្គលិក","ក្រៅបន្ទុក​បុគ្គលិក","សរុប","បន្ទុកបុគ្គលិក","ក្រៅបន្ទុក​បុគ្គលិក","សរុប","បន្ទុកបុគ្គលិក","ក្រៅបន្ទុក​បុគ្គលិក"]
["សរុបរួម",{"$f":"SUM(C9:D9)","v":0},{"$f":"SUM(C10,C40,C55,C67)","v":0},0,{"$f":"SUM(F9:G9)","v":0},{"$f":"SUM(F10,F40,F55,F67)","v":0},0,{"$f":"SUM(I9:J9)","v":0},{"$f":"SUM(I10,I40,I55,I67)","v":0},0,{"$f":"SUM(L9:M9)","v":0},{"$f":"SUM(L10,L40,L55,L67)","v":0},0]
[{"$f":"'ចំណាយ-ថវិការដ្ឋ'!A12","v":"កម្មវិធីទី១៖ ការអភិវឌ្ឍការអប់រំក្នុងប្រព័ន្ធ ក្រៅប្រព័ន្ធ និងមិនផ្លូវការ"},{"$f":"SUM(C10:D10)","v":0},{"$f":"C11","v":0},0,{"$f":"SUM(F10:G10)","v":0},0,0,{"$f":"SUM(I10:J10)","v":0},0,0,{"$f":"SUM(L10:M10)","v":0},0,0]
[{"$f":"'ចំណាយ-ថវិការដ្ឋ'!A13","v":"អនុកម្មវិធីទី ១.១០៖ សេវាគាំទ្រការអភិវឌ្ឍការអប់រំក្នុងប្រព័ន្ធ ក្រៅប្រព័ន្ធ និងមិនផ្លូវការរបស់មន្ទីរជំនាញ រាជធានី ខេត្ត"},0,0,0,0,0,0,0,0,0,0,0,0]
[{"$f":"'ចំណាយ-ថវិការដ្ឋ'!A14","v":"ចង្កោមសកម្មភាពទី ០១៖ខេត្តបន្ទាយមានជ័យ"},0,{"$f":"SUM(C13,C16,C19,C22,C25,C28,C31,C34,C37)","v":0},{"$f":"SUM(D13,D16,D19,D22,D25,D28,D31,D34,D37)","v":0},0,{"$f":"SUM(F13,F16,F19,F22,F25,F28,F31,F34,F37)","v":0},0,0,{"$f":"SUM(I13,I16,I19,I22,I25,I28,I31,I34,I37)","v":0},0,0,{"$f":"SUM(L13,L16,L19,L22,L25,L28,L31,L34,L37)","v":0},0]
[{"$f":"'ចំណាយ-ថវិការដ្ឋ'!A15","v":"១.១០.០១.១៖ ការពង្រីកការអប់រំកុមារតូច"},0,{"$f":"SUM(C14:C15)","v":0},{"$f":"SUM(D14:D15)","v":0},0,{"$f":"SUM(F14:F15)","v":0},{"$f":"SUM(G14:G15)","v":0},0,{"$f":"SUM(I14:I15)","v":0},{"$f":"SUM(J14:J15)","v":0},0,{"$f":"SUM(L14:L15)","v":0},{"$f":"SUM(M14:M15)","v":0}]
[{"$f":"cluster_activity_1","v":"សកម្មភាពរង ទី ១៖ ធានាឱ្យការអប់រំមានគុណភាព ប្រកបដោយសមធម៌ បរិយាបន្ន និងលើកកម្ពស់ឱកាសក្នុងការសិក្សាពេញមួយជីវិត"},{"$f":"SUM(C14:D14)","v":0},{"$f":"INDEX(staff_exp2018,MATCH(A13,activities,0)+1)","v":0},{"$f":"INDEX(non_staffexp2018,MATCH(A13,activities,0)+1)","v":0},{"$f":"SUM(F14:G14)","v":0},{"$f":"INDEX(staff_exp2019,MATCH(A13,activities,0)+1)","v":0},{"$f":"INDEX(non_staffexp2019,MATCH(A13,activities,0)+1)","v":0},{"$f":"SUM(I14:J14)","v":0},{"$f":"INDEX(staff_exp2020,MATCH(A13,activities,0)+1)","v":0},{"$f":"INDEX(non_staffexp2020,MATCH(A13,activities,0)+1)","v":0},{"$f":"SUM(L14:M14)","v":0},{"$f":"INDEX(staff_exp2021,MATCH(A13,activities,0)+1)","v":0},{"$f":"INDEX(non_staffexp2021,MATCH(A13,activities,0)+1)","v":0}]
[{"$f":"cluster_activity_2","v":"សកម្មភាពរង ទី ២៖ ធានាភាពស័ក្តិសិទ្ធនៃភាពជាអ្នកដឹកនាំ និងគ្រប់គ្រងរបស់មន្ត្រី អប់រំគ្រប់លំដាប់ថ្នាក់"},{"$f":"SUM(C15:D15)","v":0},{"$f":"INDEX(staff_exp2018,MATCH(A13,activities,0)+12)","v":0},{"$f":"INDEX(non_staffexp2018,MATCH(A13,activities,0)+12)","v":0},{"$f":"SUM(F15:G15)","v":0},{"$f":"INDEX(staff_exp2019,MATCH(A13,activities,0)+12)","v":0},{"$f":"INDEX(non_staffexp2019,MATCH(A13,activities,0)+12)","v":0},{"$f":"SUM(I15:J15)","v":0},{"$f":"INDEX(staff_exp2020,MATCH(A13,activities,0)+12)","v":0},{"$f":"INDEX(non_staffexp2020,MATCH(A13,activities,0)+12)","v":0},{"$f":"SUM(L15:M15)","v":0},{"$f":"INDEX(staff_exp2021,MATCH(A13,activities,0)+12)","v":0},{"$f":"INDEX(non_staffexp2021,MATCH(A13,activities,0)+12)","v":0}]
[{"$f":"'ចំណាយ-ថវិការដ្ឋ'!A38","v":"១.១០.០១.២៖ ការពង្រឹងគុណភាព និងប្រសិទ្ធភាពនៃការអប់រំនៅបឋមសិក្សា"},0,{"$f":"SUM(C17:C18)","v":0},0,0,{"$f":"SUM(F17:F18)","v":0},0,0,{"$f":"SUM(I17:I18)","v":0},0,0,{"$f":"SUM(L17:L18)","v":0},0]
[{"$f":"cluster_activity_1","v":"សកម្មភាពរង ទី ១៖ ធានាឱ្យការអប់រំមានគុណភាព ប្រកបដោយសមធម៌ បរិយាបន្ន និងលើកកម្ពស់ឱកាសក្នុងការសិក្សាពេញមួយជីវិត"},{"$f":"SUM(C17:D17)","v":0},{"$f":"INDEX(staff_exp2018,MATCH(A16,activities,0)+1)","v":0},{"$f":"INDEX(non_staffexp2018,MATCH(A16,activities,0)+1)","v":0},{"$f":"SUM(F17:G17)","v":0},{"$f":"INDEX(staff_exp2019,MATCH(A16,activities,0)+1)","v":0},{"$f":"INDEX(non_staffexp2019,MATCH(A16,activities,0)+1)","v":0},{"$f":"SUM(I17:J17)","v":0},{"$f":"INDEX(staff_exp2020,MATCH(A16,activities,0)+1)","v":0},{"$f":"INDEX(non_staffexp2020,MATCH(A16,activities,0)+1)","v":0},{"$f":"SUM(L17:M17)","v":0},{"$f":"INDEX(staff_exp2021,MATCH(A16,activities,0)+1)","v":0},{"$f":"INDEX(non_staffexp2021,MATCH(A16,activities,0)+1)","v":0}]
[{"$f":"cluster_activity_2","v":"សកម្មភាពរង ទី ២៖ ធានាភាពស័ក្តិសិទ្ធនៃភាពជាអ្នកដឹកនាំ និងគ្រប់គ្រងរបស់មន្ត្រី អប់រំគ្រប់លំដាប់ថ្នាក់"},{"$f":"SUM(C18:D18)","v":0},{"$f":"INDEX(staff_exp2018,MATCH(A16,activities,0)+12)","v":0},{"$f":"INDEX(non_staffexp2018,MATCH(A16,activities,0)+12)","v":0},{"$f":"SUM(F18:G18)","v":0},{"$f":"INDEX(staff_exp2019,MATCH(A16,activities,0)+12)","v":0},{"$f":"INDEX(non_staffexp2019,MATCH(A16,activities,0)+12)","v":0},{"$f":"SUM(I18:J18)","v":0},{"$f":"INDEX(staff_exp2020,MATCH(A16,activities,0)+12)","v":0},{"$f":"INDEX(non_staffexp2020,MATCH(A16,activities,0)+12)","v":0},{"$f":"SUM(L18:M18)","v":0},{"$f":"INDEX(staff_exp2021,MATCH(A16,activities,0)+12)","v":0},{"$f":"INDEX(non_staffexp2021,MATCH(A16,activities,0)+12)","v":0}]
[{"$f":"'ចំណាយ-ថវិការដ្ឋ'!A61","v":"១.១០.០១.៣៖ ការចូលរៀនប្រកបដោយសមធម៌​ ការពង្រឹងគុណភាព និងប្រសិទ្ធភាពនៃការ​អប់រំនៅមធ្យមសិក្សា"},0,{"$f":"SUM(C20:C21)","v":0},0,0,{"$f":"SUM(F20:F21)","v":0},0,0,{"$f":"SUM(I20:I21)","v":0},0,0,{"$f":"SUM(L20:L21)","v":0},0]
[{"$f":"cluster_activity_1","v":"សកម្មភាពរង ទី ១៖ ធានាឱ្យការអប់រំមានគុណភាព ប្រកបដោយសមធម៌ បរិយាបន្ន និងលើកកម្ពស់ឱកាសក្នុងការសិក្សាពេញមួយជីវិត"},{"$f":"SUM(C20:D20)","v":0},{"$f":"INDEX(staff_exp2018,MATCH(A19,activities,0)+1)","v":0},{"$f":"INDEX(non_staffexp2018,MATCH(A19,activities,0)+1)","v":0},{"$f":"SUM(F20:G20)","v":0},{"$f":"INDEX(staff_exp2019,MATCH(A19,activities,0)+1)","v":0},{"$f":"INDEX(non_staffexp2019,MATCH(A19,activities,0)+1)","v":0},{"$f":"SUM(I20:J20)","v":0},{"$f":"INDEX(staff_exp2020,MATCH(A19,activities,0)+1)","v":0},{"$f":"INDEX(non_staffexp2020,MATCH(A19,activities,0)+1)","v":0},{"$f":"SUM(L20:M20)","v":0},{"$f":"INDEX(staff_exp2021,MATCH(A19,activities,0)+1)","v":0},{"$f":"INDEX(non_staffexp2021,MATCH(A19,activities,0)+1)","v":0}]
[{"$f":"cluster_activity_2","v":"សកម្មភាពរង ទី ២៖ ធានាភាពស័ក្តិសិទ្ធនៃភាពជាអ្នកដឹកនាំ និងគ្រប់គ្រងរបស់មន្ត្រី អប់រំគ្រប់លំដាប់ថ្នាក់"},{"$f":"SUM(C21:D21)","v":0},{"$f":"INDEX(staff_exp2018,MATCH(A19,activities,0)+12)","v":0},{"$f":"INDEX(non_staffexp2018,MATCH(A19,activities,0)+12)","v":0},{"$f":"SUM(F21:G21)","v":0},{"$f":"INDEX(staff_exp2019,MATCH(A19,activities,0)+12)","v":0},{"$f":"INDEX(non_staffexp2019,MATCH(A19,activities,0)+12)","v":0},{"$f":"SUM(I21:J21)","v":0},{"$f":"INDEX(staff_exp2020,MATCH(A19,activities,0)+12)","v":0},{"$f":"INDEX(non_staffexp2020,MATCH(A19,activities,0)+12)","v":0},{"$f":"SUM(L21:M21)","v":0},{"$f":"INDEX(staff_exp2021,MATCH(A19,activities,0)+12)","v":0},{"$f":"INDEX(non_staffexp2021,MATCH(A19,activities,0)+12)","v":0}]
[{"$f":"'ចំណាយ-ថវិការដ្ឋ'!A84","v":"១.១០.០១.៤៖ ការពង្រីកការអប់រំក្រៅប្រព័ន្ធ"},0,{"$f":"SUM(C23:C24)","v":0},0,0,{"$f":"SUM(F23:F24)","v":0},0,0,{"$f":"SUM(I23:I24)","v":0},0,0,{"$f":"SUM(L23:L24)","v":0},0]
[{"$f":"cluster_activity_1","v":"សកម្មភាពរង ទី ១៖ ធានាឱ្យការអប់រំមានគុណភាព ប្រកបដោយសមធម៌ បរិយាបន្ន និងលើកកម្ពស់ឱកាសក្នុងការសិក្សាពេញមួយជីវិត"},{"$f":"SUM(C23:D23)","v":0},{"$f":"INDEX(staff_exp2018,MATCH(A22,activities,0)+1)","v":0},{"$f":"INDEX(non_staffexp2018,MATCH(A22,activities,0)+1)","v":0},{"$f":"SUM(F23:G23)","v":0},{"$f":"INDEX(staff_exp2019,MATCH(A22,activities,0)+1)","v":0},{"$f":"INDEX(non_staffexp2019,MATCH(A22,activities,0)+1)","v":0},{"$f":"SUM(I23:J23)","v":0},{"$f":"INDEX(staff_exp2020,MATCH(A22,activities,0)+1)","v":0},{"$f":"INDEX(non_staffexp2020,MATCH(A22,activities,0)+1)","v":0},{"$f":"SUM(L23:M23)","v":0},{"$f":"INDEX(staff_exp2021,MATCH(A22,activities,0)+1)","v":0},{"$f":"INDEX(non_staffexp2021,MATCH(A22,activities,0)+1)","v":0}]
[{"$f":"cluster_activity_2","v":"សកម្មភាពរង ទី ២៖ ធានាភាពស័ក្តិសិទ្ធនៃភាពជាអ្នកដឹកនាំ និងគ្រប់គ្រងរបស់មន្ត្រី អប់រំគ្រប់លំដាប់ថ្នាក់"},{"$f":"SUM(C24:D24)","v":0},{"$f":"INDEX(staff_exp2018,MATCH(A22,activities,0)+12)","v":0},{"$f":"INDEX(non_staffexp2018,MATCH(A22,activities,0)+12)","v":0},{"$f":"SUM(F24:G24)","v":0},{"$f":"INDEX(staff_exp2019,MATCH(A22,activities,0)+12)","v":0},{"$f":"INDEX(non_staffexp2019,MATCH(A22,activities,0)+12)","v":0},{"$f":"SUM(I24:J24)","v":0},{"$f":"INDEX(staff_exp2020,MATCH(A22,activities,0)+12)","v":0},{"$f":"INDEX(non_staffexp2020,MATCH(A22,activities,0)+12)","v":0},{"$f":"SUM(L24:M24)","v":0},{"$f":"INDEX(staff_exp2021,MATCH(A22,activities,0)+12)","v":0},{"$f":"INDEX(non_staffexp2021,MATCH(A22,activities,0)+12)","v":0}]
[{"$f":"'ចំណាយ-ថវិការដ្ឋ'!A107","v":"១.១០.០១.៥៖ ការពង្រឹង​ និងការពង្រីកកម្មវិធីលើកកម្ពស់សុខភាពសិក្សា"},0,{"$f":"SUM(C26:C27)","v":0},0,0,{"$f":"SUM(F26:F27)","v":0},0,0,{"$f":"SUM(I26:I27)","v":0},0,0,{"$f":"SUM(L26:L27)","v":0},0]
[{"$f":"cluster_activity_1","v":"សកម្មភាពរង ទី ១៖ ធានាឱ្យការអប់រំមានគុណភាព ប្រកបដោយសមធម៌ បរិយាបន្ន និងលើកកម្ពស់ឱកាសក្នុងការសិក្សាពេញមួយជីវិត"},{"$f":"SUM(C26:D26)","v":0},{"$f":"INDEX(staff_exp2018,MATCH(A25,activities,0)+1)","v":0},{"$f":"INDEX(non_staffexp2018,MATCH(A25,activities,0)+1)","v":0},{"$f":"SUM(F26:G26)","v":0},{"$f":"INDEX(staff_exp2019,MATCH(A25,activities,0)+1)","v":0},{"$f":"INDEX(non_staffexp2019,MATCH(A25,activities,0)+1)","v":0},{"$f":"SUM(I26:J26)","v":0},{"$f":"INDEX(staff_exp2020,MATCH(A25,activities,0)+1)","v":0},{"$f":"INDEX(non_staffexp2020,MATCH(A25,activities,0)+1)","v":0},{"$f":"SUM(L26:M26)","v":0},{"$f":"INDEX(staff_exp2021,MATCH(A25,activities,0)+1)","v":0},{"$f":"INDEX(non_staffexp2021,MATCH(A25,activities,0)+1)","v":0}]
[{"$f":"cluster_activity_2","v":"សកម្មភាពរង ទី ២៖ ធានាភាពស័ក្តិសិទ្ធនៃភាពជាអ្នកដឹកនាំ និងគ្រប់គ្រងរបស់មន្ត្រី អប់រំគ្រប់លំដាប់ថ្នាក់"},{"$f":"SUM(C27:D27)","v":0},{"$f":"INDEX(staff_exp2018,MATCH(A25,activities,0)+12)","v":0},{"$f":"INDEX(non_staffexp2018,MATCH(A25,activities,0)+12)","v":0},{"$f":"SUM(F27:G27)","v":0},{"$f":"INDEX(staff_exp2019,MATCH(A25,activities,0)+12)","v":0},{"$f":"INDEX(non_staffexp2019,MATCH(A25,activities,0)+12)","v":0},{"$f":"SUM(I27:J27)","v":0},{"$f":"INDEX(staff_exp2020,MATCH(A25,activities,0)+12)","v":0},{"$f":"INDEX(non_staffexp2020,MATCH(A25,activities,0)+12)","v":0},{"$f":"SUM(L27:M27)","v":0},{"$f":"INDEX(staff_exp2021,MATCH(A25,activities,0)+12)","v":0},{"$f":"INDEX(non_staffexp2021,MATCH(A25,activities,0)+12)","v":0}]
[{"$f":"'ចំណាយ-ថវិការដ្ឋ'!A130","v":"១.១០.០១.៦៖ លើកកម្ពស់គុណភាព និងប្រសិទ្ធភាពនៃការអនុវត្តកម្មវិធីអប់រំបច្ចេកទេស"},0,{"$f":"SUM(C29:C30)","v":0},0,0,{"$f":"SUM(F29:F30)","v":0},0,0,{"$f":"SUM(I29:I30)","v":0},0,0,{"$f":"SUM(L29:L30)","v":0},0]
[{"$f":"cluster_activity_1","v":"សកម្មភាពរង ទី ១៖ ធានាឱ្យការអប់រំមានគុណភាព ប្រកបដោយសមធម៌ បរិយាបន្ន និងលើកកម្ពស់ឱកាសក្នុងការសិក្សាពេញមួយជីវិត"},{"$f":"SUM(C29:D29)","v":0},{"$f":"INDEX(staff_exp2018,MATCH(A28,activities,0)+1)","v":0},{"$f":"INDEX(non_staffexp2018,MATCH(A28,activities,0)+1)","v":0},{"$f":"SUM(F29:G29)","v":0},{"$f":"INDEX(staff_exp2019,MATCH(A28,activities,0)+1)","v":0},{"$f":"INDEX(non_staffexp2019,MATCH(A28,activities,0)+1)","v":0},{"$f":"SUM(I29:J29)","v":0},{"$f":"INDEX(staff_exp2020,MATCH(A28,activities,0)+1)","v":0},{"$f":"INDEX(non_staffexp2020,MATCH(A28,activities,0)+1)","v":0},{"$f":"SUM(L29:M29)","v":0},{"$f":"INDEX(staff_exp2021,MATCH(A28,activities,0)+1)","v":0},{"$f":"INDEX(non_staffexp2021,MATCH(A28,activities,0)+1)","v":0}]
[{"$f":"cluster_activity_2","v":"សកម្មភាពរង ទី ២៖ ធានាភាពស័ក្តិសិទ្ធនៃភាពជាអ្នកដឹកនាំ និងគ្រប់គ្រងរបស់មន្ត្រី អប់រំគ្រប់លំដាប់ថ្នាក់"},{"$f":"SUM(C30:D30)","v":0},{"$f":"INDEX(staff_exp2018,MATCH(A28,activities,0)+12)","v":0},{"$f":"INDEX(non_staffexp2018,MATCH(A28,activities,0)+12)","v":0},{"$f":"SUM(F30:G30)","v":0},{"$f":"INDEX(staff_exp2019,MATCH(A28,activities,0)+12)","v":0},{"$f":"INDEX(non_staffexp2019,MATCH(A28,activities,0)+12)","v":0},{"$f":"SUM(I30:J30)","v":0},{"$f":"INDEX(staff_exp2020,MATCH(A28,activities,0)+12)","v":0},{"$f":"INDEX(non_staffexp2020,MATCH(A28,activities,0)+12)","v":0},{"$f":"SUM(L30:M30)","v":0},{"$f":"INDEX(staff_exp2021,MATCH(A28,activities,0)+12)","v":0},{"$f":"INDEX(non_staffexp2021,MATCH(A28,activities,0)+12)","v":0}]
[{"$f":"'ចំណាយ-ថវិការដ្ឋ'!A153","v":"១.១០.០១.៧៖ ការអភិវឌ្ឍការងារបណ្តុះបណ្ដាល និងវិក្រឹតការគ្រូបង្រៀន"},0,{"$f":"SUM(C32:C33)","v":0},0,0,{"$f":"SUM(F32:F33)","v":0},0,0,{"$f":"SUM(I32:I33)","v":0},0,0,{"$f":"SUM(L32:L33)","v":0},0]
[{"$f":"cluster_activity_1","v":"សកម្មភាពរង ទី ១៖ ធានាឱ្យការអប់រំមានគុណភាព ប្រកបដោយសមធម៌ បរិយាបន្ន និងលើកកម្ពស់ឱកាសក្នុងការសិក្សាពេញមួយជីវិត"},{"$f":"SUM(C32:D32)","v":0},{"$f":"INDEX(staff_exp2018,MATCH(A31,activities,0)+1)","v":0},{"$f":"INDEX(non_staffexp2018,MATCH(A31,activities,0)+1)","v":0},{"$f":"SUM(F32:G32)","v":0},{"$f":"INDEX(staff_exp2019,MATCH(A31,activities,0)+1)","v":0},{"$f":"INDEX(non_staffexp2019,MATCH(A31,activities,0)+1)","v":0},{"$f":"SUM(I32:J32)","v":0},{"$f":"INDEX(staff_exp2020,MATCH(A31,activities,0)+1)","v":0},{"$f":"INDEX(non_staffexp2020,MATCH(A31,activities,0)+1)","v":0},{"$f":"SUM(L32:M32)","v":0},{"$f":"INDEX(staff_exp2021,MATCH(A31,activities,0)+1)","v":0},{"$f":"INDEX(non_staffexp2021,MATCH(A31,activities,0)+1)","v":0}]
[{"$f":"cluster_activity_2","v":"សកម្មភាពរង ទី ២៖ ធានាភាពស័ក្តិសិទ្ធនៃភាពជាអ្នកដឹកនាំ និងគ្រប់គ្រងរបស់មន្ត្រី អប់រំគ្រប់លំដាប់ថ្នាក់"},{"$f":"SUM(C33:D33)","v":0},{"$f":"INDEX(staff_exp2018,MATCH(A31,activities,0)+12)","v":0},{"$f":"INDEX(non_staffexp2018,MATCH(A31,activities,0)+12)","v":0},{"$f":"SUM(F33:G33)","v":0},{"$f":"INDEX(staff_exp2019,MATCH(A31,activities,0)+12)","v":0},{"$f":"INDEX(non_staffexp2019,MATCH(A31,activities,0)+12)","v":0},{"$f":"SUM(I33:J33)","v":0},{"$f":"INDEX(staff_exp2020,MATCH(A31,activities,0)+12)","v":0},{"$f":"INDEX(non_staffexp2020,MATCH(A31,activities,0)+12)","v":0},{"$f":"SUM(L33:M33)","v":0},{"$f":"INDEX(staff_exp2021,MATCH(A31,activities,0)+12)","v":0},{"$f":"INDEX(non_staffexp2021,MATCH(A31,activities,0)+12)","v":0}]
[{"$f":"'ចំណាយ-ថវិការដ្ឋ'!A176","v":"១.១០.០១.៨៖ ការអភិវឌ្ឍកម្មវិធីសិក្សា សម្ភារៈសិក្សា និងបណ្ណាល័យ"},0,{"$f":"SUM(C35:C36)","v":0},0,0,{"$f":"SUM(F35:F36)","v":0},0,0,{"$f":"SUM(I35:I36)","v":0},0,0,{"$f":"SUM(L35:L36)","v":0},0]
[{"$f":"cluster_activity_1","v":"សកម្មភាពរង ទី ១៖ ធានាឱ្យការអប់រំមានគុណភាព ប្រកបដោយសមធម៌ បរិយាបន្ន និងលើកកម្ពស់ឱកាសក្នុងការសិក្សាពេញមួយជីវិត"},{"$f":"SUM(C35:D35)","v":0},{"$f":"INDEX(staff_exp2018,MATCH(A34,activities,0)+1)","v":0},{"$f":"INDEX(non_staffexp2018,MATCH(A34,activities,0)+1)","v":0},{"$f":"SUM(F35:G35)","v":0},{"$f":"INDEX(staff_exp2019,MATCH(A34,activities,0)+1)","v":0},{"$f":"INDEX(non_staffexp2019,MATCH(A34,activities,0)+1)","v":0},{"$f":"SUM(I35:J35)","v":0},{"$f":"INDEX(staff_exp2020,MATCH(A34,activities,0)+1)","v":0},{"$f":"INDEX(non_staffexp2020,MATCH(A34,activities,0)+1)","v":0},{"$f":"SUM(L35:M35)","v":0},{"$f":"INDEX(staff_exp2021,MATCH(A34,activities,0)+1)","v":0},{"$f":"INDEX(non_staffexp2021,MATCH(A34,activities,0)+1)","v":0}]
[{"$f":"cluster_activity_2","v":"សកម្មភាពរង ទី ២៖ ធានាភាពស័ក្តិសិទ្ធនៃភាពជាអ្នកដឹកនាំ និងគ្រប់គ្រងរបស់មន្ត្រី អប់រំគ្រប់លំដាប់ថ្នាក់"},{"$f":"SUM(C36:D36)","v":0},{"$f":"INDEX(staff_exp2018,MATCH(A34,activities,0)+12)","v":0},{"$f":"INDEX(non_staffexp2018,MATCH(A34,activities,0)+12)","v":0},{"$f":"SUM(F36:G36)","v":0},{"$f":"INDEX(staff_exp2019,MATCH(A34,activities,0)+12)","v":0},{"$f":"INDEX(non_staffexp2019,MATCH(A34,activities,0)+12)","v":0},{"$f":"SUM(I36:J36)","v":0},{"$f":"INDEX(staff_exp2020,MATCH(A34,activities,0)+12)","v":0},{"$f":"INDEX(non_staffexp2020,MATCH(A34,activities,0)+12)","v":0},{"$f":"SUM(L36:M36)","v":0},{"$f":"INDEX(staff_exp2021,MATCH(A34,activities,0)+12)","v":0},{"$f":"INDEX(non_staffexp2021,MATCH(A34,activities,0)+12)","v":0}]
[{"$f":"'ចំណាយ-ថវិការដ្ឋ'!A199","v":"១.១០.០១.៩៖ ពង្រីកការអប់រំបរិយាបន្នគ្រប់ភូមិសិក្សា"},0,{"$f":"SUM(C38:C39)","v":0},0,0,{"$f":"SUM(F38:F39)","v":0},0,0,{"$f":"SUM(I38:I39)","v":0},0,0,{"$f":"SUM(L38:L39)","v":0},0]
[{"$f":"cluster_activity_1","v":"សកម្មភាពរង ទី ១៖ ធានាឱ្យការអប់រំមានគុណភាព ប្រកបដោយសមធម៌ បរិយាបន្ន និងលើកកម្ពស់ឱកាសក្នុងការសិក្សាពេញមួយជីវិត"},{"$f":"SUM(C38:D38)","v":0},{"$f":"INDEX(staff_exp2018,MATCH(A37,activities,0)+1)","v":0},{"$f":"INDEX(non_staffexp2018,MATCH(A37,activities,0)+1)","v":0},{"$f":"SUM(F38:G38)","v":0},{"$f":"INDEX(staff_exp2019,MATCH(A37,activities,0)+1)","v":0},{"$f":"INDEX(non_staffexp2019,MATCH(A37,activities,0)+1)","v":0},{"$f":"SUM(I38:J38)","v":0},{"$f":"INDEX(staff_exp2020,MATCH(A37,activities,0)+1)","v":0},{"$f":"INDEX(non_staffexp2020,MATCH(A37,activities,0)+1)","v":0},{"$f":"SUM(L38:M38)","v":0},{"$f":"INDEX(staff_exp2021,MATCH(A37,activities,0)+1)","v":0},{"$f":"INDEX(non_staffexp2021,MATCH(A37,activities,0)+1)","v":0}]
[{"$f":"cluster_activity_2","v":"សកម្មភាពរង ទី ២៖ ធានាភាពស័ក្តិសិទ្ធនៃភាពជាអ្នកដឹកនាំ និងគ្រប់គ្រងរបស់មន្ត្រី អប់រំគ្រប់លំដាប់ថ្នាក់"},{"$f":"SUM(C39:D39)","v":0},{"$f":"INDEX(staff_exp2018,MATCH(A37,activities,0)+12)","v":0},{"$f":"INDEX(non_staffexp2018,MATCH(A37,activities,0)+12)","v":0},{"$f":"SUM(F39:G39)","v":0},{"$f":"INDEX(staff_exp2019,MATCH(A37,activities,0)+12)","v":0},{"$f":"INDEX(non_staffexp2019,MATCH(A37,activities,0)+12)","v":0},{"$f":"SUM(I39:J39)","v":0},{"$f":"INDEX(staff_exp2020,MATCH(A37,activities,0)+12)","v":0},{"$f":"INDEX(non_staffexp2020,MATCH(A37,activities,0)+12)","v":0},{"$f":"SUM(L39:M39)","v":0},{"$f":"INDEX(staff_exp2021,MATCH(A37,activities,0)+12)","v":0},{"$f":"INDEX(non_staffexp2021,MATCH(A37,activities,0)+12)","v":0}]
[{"$f":"'ចំណាយ-ថវិការដ្ឋ'!A222","v":"កម្មវិធីទី៣៖ ការអភិវឌ្ឍវិស័យអប់រំកាយនិងកីឡា"},0,{"$f":"C41","v":0},0,0,0,0,0,0,0,0,0,0]
[{"$f":"'ចំណាយ-ថវិការដ្ឋ'!A223","v":"អនុកម្មវិធីទី ៣.៥៖ សេវាគាំទ្រការអភិវឌ្ឍវិស័យអប់រំកាយ និងកីឡារបស់មន្ទីរជំនាញរាជធានី ខេត្ត"},0,0,0,0,0,0,0,0,0,0,0,0]
[{"$f":"'ចំណាយ-ថវិការដ្ឋ'!A224","v":"ចង្កោមសកម្មភាពទី ០១៖ខេត្តបន្ទាយមានជ័យ"},0,{"$f":"SUM(C43,C46,C49,C52)","v":0},{"$f":"SUM(D43,D46,D49,D52)","v":0},0,{"$f":"SUM(F43,F46,F49,F52)","v":0},0,0,{"$f":"SUM(I43,I46,I49,I52)","v":0},0,0,{"$f":"SUM(L43,L46,L49,L52)","v":0},0]
[{"$f":"'ចំណាយ-ថវិការដ្ឋ'!A225","v":"៣.៥.០១.១៖ ការអភិវឌ្ឍកីឡាមហាជន"},0,{"$f":"SUM(C44:C45)","v":0},0,0,{"$f":"SUM(F44:F45)","v":0},0,0,{"$f":"SUM(I44:I45)","v":0},0,0,{"$f":"SUM(L44:L45)","v":0},0]
[{"$f":"cluster_activity_1","v":"សកម្មភាពរង ទី ១៖ ធានាឱ្យការអប់រំមានគុណភាព ប្រកបដោយសមធម៌ បរិយាបន្ន និងលើកកម្ពស់ឱកាសក្នុងការសិក្សាពេញមួយជីវិត"},{"$f":"SUM(C44:D44)","v":0},{"$f":"INDEX(staff_exp2018,MATCH(A43,activities,0)+1)","v":0},{"$f":"INDEX(non_staffexp2018,MATCH(A43,activities,0)+1)","v":0},{"$f":"SUM(F44:G44)","v":0},{"$f":"INDEX(staff_exp2019,MATCH(A43,activities,0)+1)","v":0},{"$f":"INDEX(non_staffexp2019,MATCH(A43,activities,0)+1)","v":0},{"$f":"SUM(I44:J44)","v":0},{"$f":"INDEX(staff_exp2020,MATCH(A43,activities,0)+1)","v":0},{"$f":"INDEX(non_staffexp2020,MATCH(A43,activities,0)+1)","v":0},{"$f":"SUM(L44:M44)","v":0},{"$f":"INDEX(staff_exp2021,MATCH(A43,activities,0)+1)","v":0},{"$f":"INDEX(non_staffexp2021,MATCH(A43,activities,0)+1)","v":0}]
[{"$f":"cluster_activity_2","v":"សកម្មភាពរង ទី ២៖ ធានាភាពស័ក្តិសិទ្ធនៃភាពជាអ្នកដឹកនាំ និងគ្រប់គ្រងរបស់មន្ត្រី អប់រំគ្រប់លំដាប់ថ្នាក់"},{"$f":"SUM(C45:D45)","v":0},{"$f":"INDEX(staff_exp2018,MATCH(A43,activities,0)+12)","v":0},{"$f":"INDEX(non_staffexp2018,MATCH(A43,activities,0)+12)","v":0},{"$f":"SUM(F45:G45)","v":0},{"$f":"INDEX(staff_exp2019,MATCH(A43,activities,0)+12)","v":0},{"$f":"INDEX(non_staffexp2019,MATCH(A43,activities,0)+12)","v":0},{"$f":"SUM(I45:J45)","v":0},{"$f":"INDEX(staff_exp2020,MATCH(A43,activities,0)+12)","v":0},{"$f":"INDEX(non_staffexp2020,MATCH(A43,activities,0)+12)","v":0},{"$f":"SUM(L45:M45)","v":0},{"$f":"INDEX(staff_exp2021,MATCH(A43,activities,0)+12)","v":0},{"$f":"INDEX(non_staffexp2021,MATCH(A43,activities,0)+12)","v":0}]
[{"$f":"'ចំណាយ-ថវិការដ្ឋ'!A248","v":"៣.៥.០១.២៖ ការអភិវឌ្ឍអប់រំកាយ និងកីឡាសិស្ស និស្សិត"},{"$f":"SUM(C46:D46)","v":0},{"$f":"SUM(C47:C48)","v":0},0,{"$f":"SUM(F46:G46)","v":0},{"$f":"SUM(F47:F48)","v":0},0,{"$f":"SUM(I46:J46)","v":0},{"$f":"SUM(I47:I48)","v":0},0,{"$f":"SUM(L46:M46)","v":0},{"$f":"SUM(L47:L48)","v":0},0]
[{"$f":"cluster_activity_1","v":"សកម្មភាពរង ទី ១៖ ធានាឱ្យការអប់រំមានគុណភាព ប្រកបដោយសមធម៌ បរិយាបន្ន និងលើកកម្ពស់ឱកាសក្នុងការសិក្សាពេញមួយជីវិត"},{"$f":"SUM(C47:D47)","v":0},{"$f":"INDEX(staff_exp2018,MATCH(A46,activities,0)+1)","v":0},{"$f":"INDEX(non_staffexp2018,MATCH(A46,activities,0)+1)","v":0},{"$f":"SUM(F47:G47)","v":0},{"$f":"INDEX(staff_exp2019,MATCH(A46,activities,0)+1)","v":0},{"$f":"INDEX(non_staffexp2019,MATCH(A46,activities,0)+1)","v":0},{"$f":"SUM(I47:J47)","v":0},{"$f":"INDEX(staff_exp2020,MATCH(A46,activities,0)+1)","v":0},{"$f":"INDEX(non_staffexp2020,MATCH(A46,activities,0)+1)","v":0},{"$f":"SUM(L47:M47)","v":0},{"$f":"INDEX(staff_exp2021,MATCH(A46,activities,0)+1)","v":0},{"$f":"INDEX(non_staffexp2021,MATCH(A46,activities,0)+1)","v":0}]
[{"$f":"cluster_activity_2","v":"សកម្មភាពរង ទី ២៖ ធានាភាពស័ក្តិសិទ្ធនៃភាពជាអ្នកដឹកនាំ និងគ្រប់គ្រងរបស់មន្ត្រី អប់រំគ្រប់លំដាប់ថ្នាក់"},{"$f":"SUM(C48:D48)","v":0},{"$f":"INDEX(staff_exp2018,MATCH(A46,activities,0)+12)","v":0},{"$f":"INDEX(non_staffexp2018,MATCH(A46,activities,0)+12)","v":0},{"$f":"SUM(F48:G48)","v":0},{"$f":"INDEX(staff_exp2019,MATCH(A46,activities,0)+12)","v":0},{"$f":"INDEX(non_staffexp2019,MATCH(A46,activities,0)+12)","v":0},{"$f":"SUM(I48:J48)","v":0},{"$f":"INDEX(staff_exp2020,MATCH(A46,activities,0)+12)","v":0},{"$f":"INDEX(non_staffexp2020,MATCH(A46,activities,0)+12)","v":0},{"$f":"SUM(L48:M48)","v":0},{"$f":"INDEX(staff_exp2021,MATCH(A46,activities,0)+12)","v":0},{"$f":"INDEX(non_staffexp2021,MATCH(A46,activities,0)+12)","v":0}]
[{"$f":"'ចំណាយ-ថវិការដ្ឋ'!A271","v":"៣.៥.០១.៣៖ ការបណ្តុះបណ្តាលធនធានមនុស្សផ្នែកអប់រំកាយ និងកីឡា"},{"$f":"SUM(C49:D49)","v":0},{"$f":"SUM(C50:C51)","v":0},0,{"$f":"SUM(F49:G49)","v":0},{"$f":"SUM(F50:F51)","v":0},0,{"$f":"SUM(I49:J49)","v":0},{"$f":"SUM(I50:I51)","v":0},0,{"$f":"SUM(L49:M49)","v":0},{"$f":"SUM(L50:L51)","v":0},0]
[{"$f":"cluster_activity_1","v":"សកម្មភាពរង ទី ១៖ ធានាឱ្យការអប់រំមានគុណភាព ប្រកបដោយសមធម៌ បរិយាបន្ន និងលើកកម្ពស់ឱកាសក្នុងការសិក្សាពេញមួយជីវិត"},{"$f":"SUM(C50:D50)","v":0},{"$f":"INDEX(staff_exp2018,MATCH(A49,activities,0)+1)","v":0},{"$f":"INDEX(non_staffexp2018,MATCH(A49,activities,0)+1)","v":0},{"$f":"SUM(F50:G50)","v":0},{"$f":"INDEX(staff_exp2019,MATCH(A49,activities,0)+1)","v":0},{"$f":"INDEX(non_staffexp2019,MATCH(A49,activities,0)+1)","v":0},{"$f":"SUM(I50:J50)","v":0},{"$f":"INDEX(staff_exp2020,MATCH(A49,activities,0)+1)","v":0},{"$f":"INDEX(non_staffexp2020,MATCH(A49,activities,0)+1)","v":0},{"$f":"SUM(L50:M50)","v":0},{"$f":"INDEX(staff_exp2021,MATCH(A49,activities,0)+1)","v":0},{"$f":"INDEX(non_staffexp2021,MATCH(A49,activities,0)+1)","v":0}]
[{"$f":"cluster_activity_2","v":"សកម្មភាពរង ទី ២៖ ធានាភាពស័ក្តិសិទ្ធនៃភាពជាអ្នកដឹកនាំ និងគ្រប់គ្រងរបស់មន្ត្រី អប់រំគ្រប់លំដាប់ថ្នាក់"},{"$f":"SUM(C51:D51)","v":0},{"$f":"INDEX(staff_exp2018,MATCH(A49,activities,0)+12)","v":0},{"$f":"INDEX(non_staffexp2018,MATCH(A49,activities,0)+12)","v":0},{"$f":"SUM(F51:G51)","v":0},{"$f":"INDEX(staff_exp2019,MATCH(A49,activities,0)+12)","v":0},{"$f":"INDEX(non_staffexp2019,MATCH(A49,activities,0)+12)","v":0},{"$f":"SUM(I51:J51)","v":0},{"$f":"INDEX(staff_exp2020,MATCH(A49,activities,0)+12)","v":0},{"$f":"INDEX(non_staffexp2020,MATCH(A49,activities,0)+12)","v":0},{"$f":"SUM(L51:M51)","v":0},{"$f":"INDEX(staff_exp2021,MATCH(A49,activities,0)+12)","v":0},{"$f":"INDEX(non_staffexp2021,MATCH(A49,activities,0)+12)","v":0}]
[{"$f":"'ចំណាយ-ថវិការដ្ឋ'!A294","v":"៣.៥.០១.៤៖ ការអភិវឌ្ឍកីឡាកម្រិតខ្ពស់"},{"$f":"SUM(C52:D52)","v":0},{"$f":"SUM(C53:C54)","v":0},0,{"$f":"SUM(F52:G52)","v":0},{"$f":"SUM(F53:F54)","v":0},0,{"$f":"SUM(I52:J52)","v":0},{"$f":"SUM(I53:I54)","v":0},0,{"$f":"SUM(L52:M52)","v":0},{"$f":"SUM(L53:L54)","v":0},0]
[{"$f":"cluster_activity_1","v":"សកម្មភាពរង ទី ១៖ ធានាឱ្យការអប់រំមានគុណភាព ប្រកបដោយសមធម៌ បរិយាបន្ន និងលើកកម្ពស់ឱកាសក្នុងការសិក្សាពេញមួយជីវិត"},{"$f":"SUM(C53:D53)","v":0},{"$f":"INDEX(staff_exp2018,MATCH(A52,activities,0)+1)","v":0},{"$f":"INDEX(non_staffexp2018,MATCH(A52,activities,0)+1)","v":0},{"$f":"SUM(F53:G53)","v":0},{"$f":"INDEX(staff_exp2019,MATCH(A52,activities,0)+1)","v":0},{"$f":"INDEX(non_staffexp2019,MATCH(A52,activities,0)+1)","v":0},{"$f":"SUM(I53:J53)","v":0},{"$f":"INDEX(staff_exp2020,MATCH(A52,activities,0)+1)","v":0},{"$f":"INDEX(non_staffexp2020,MATCH(A52,activities,0)+1)","v":0},{"$f":"SUM(L53:M53)","v":0},{"$f":"INDEX(staff_exp2021,MATCH(A52,activities,0)+1)","v":0},{"$f":"INDEX(non_staffexp2021,MATCH(A52,activities,0)+1)","v":0}]
[{"$f":"cluster_activity_2","v":"សកម្មភាពរង ទី ២៖ ធានាភាពស័ក្តិសិទ្ធនៃភាពជាអ្នកដឹកនាំ និងគ្រប់គ្រងរបស់មន្ត្រី អប់រំគ្រប់លំដាប់ថ្នាក់"},{"$f":"SUM(C54:D54)","v":0},{"$f":"INDEX(staff_exp2018,MATCH(A52,activities,0)+12)","v":0},{"$f":"INDEX(non_staffexp2018,MATCH(A52,activities,0)+12)","v":0},{"$f":"SUM(F54:G54)","v":0},{"$f":"INDEX(staff_exp2019,MATCH(A52,activities,0)+12)","v":0},{"$f":"INDEX(non_staffexp2019,MATCH(A52,activities,0)+12)","v":0},{"$f":"SUM(I54:J54)","v":0},{"$f":"INDEX(staff_exp2020,MATCH(A52,activities,0)+12)","v":0},{"$f":"INDEX(non_staffexp2020,MATCH(A52,activities,0)+12)","v":0},{"$f":"SUM(L54:M54)","v":0},{"$f":"INDEX(staff_exp2021,MATCH(A52,activities,0)+12)","v":0},{"$f":"INDEX(non_staffexp2021,MATCH(A52,activities,0)+12)","v":0}]
[{"$f":"'ចំណាយ-ថវិការដ្ឋ'!A317","v":"កម្មវិធីទី៤៖ យុវជនម្នាក់មានជំនាញមួយយ៉ាងតិចប្រចាំជីវិត"},0,{"$f":"C56","v":0},0,0,0,0,0,0,0,0,0,0]
[{"$f":"'ចំណាយ-ថវិការដ្ឋ'!A318","v":"អនុកម្មវិធីទី ៤.៤៖ សេវាគាំទ្រអភិវឌ្ឍយុវជនម្នាក់មានជំនាញមួយយ៉ាងតិចប្រចាំជីវិតរបស់\nមន្ទីរជំនាញរាជធានី ខេត្ត"},0,0,0,0,0,0,0,0,0,0,0,0]
[{"$f":"'ចំណាយ-ថវិការដ្ឋ'!A319","v":"ចង្កោមសកម្មភាពទី ០១៖ខេត្តបន្ទាយមានជ័យ"},0,{"$f":"SUM(C58,C61,C64)","v":0},0,0,{"$f":"SUM(F58,F61,F64)","v":0},0,0,{"$f":"SUM(I58,I61,I64)","v":0},0,0,{"$f":"SUM(L58,L61,L64)","v":0},0]
[{"$f":"'ចំណាយ-ថវិការដ្ឋ'!A320","v":"៤.៤.០១.១៖ ការអភិវឌ្ឍសកម្មភាពយុវជន"},0,{"$f":"SUM(C59:C60)","v":0},0,0,{"$f":"SUM(F59:F60)","v":0},0,0,{"$f":"SUM(I59:I60)","v":0},0,0,{"$f":"SUM(L59:L60)","v":0},0]
[{"$f":"cluster_activity_1","v":"សកម្មភាពរង ទី ១៖ ធានាឱ្យការអប់រំមានគុណភាព ប្រកបដោយសមធម៌ បរិយាបន្ន និងលើកកម្ពស់ឱកាសក្នុងការសិក្សាពេញមួយជីវិត"},{"$f":"SUM(C59:D59)","v":0},{"$f":"INDEX(staff_exp2018,MATCH(A58,activities,0)+1)","v":0},{"$f":"INDEX(non_staffexp2018,MATCH(A58,activities,0)+1)","v":0},{"$f":"SUM(F59:G59)","v":0},{"$f":"INDEX(staff_exp2019,MATCH(A58,activities,0)+1)","v":0},{"$f":"INDEX(non_staffexp2019,MATCH(A58,activities,0)+1)","v":0},{"$f":"SUM(I59:J59)","v":0},{"$f":"INDEX(staff_exp2020,MATCH(A58,activities,0)+1)","v":0},{"$f":"INDEX(non_staffexp2020,MATCH(A58,activities,0)+1)","v":0},{"$f":"SUM(L59:M59)","v":0},{"$f":"INDEX(staff_exp2021,MATCH(A58,activities,0)+1)","v":0},{"$f":"INDEX(non_staffexp2021,MATCH(A58,activities,0)+1)","v":0}]
[{"$f":"cluster_activity_2","v":"សកម្មភាពរង ទី ២៖ ធានាភាពស័ក្តិសិទ្ធនៃភាពជាអ្នកដឹកនាំ និងគ្រប់គ្រងរបស់មន្ត្រី អប់រំគ្រប់លំដាប់ថ្នាក់"},{"$f":"SUM(C60:D60)","v":0},{"$f":"INDEX(staff_exp2018,MATCH(A58,activities,0)+12)","v":0},{"$f":"INDEX(non_staffexp2018,MATCH(A58,activities,0)+12)","v":0},{"$f":"SUM(F60:G60)","v":0},{"$f":"INDEX(staff_exp2019,MATCH(A58,activities,0)+12)","v":0},{"$f":"INDEX(non_staffexp2019,MATCH(A58,activities,0)+12)","v":0},{"$f":"SUM(I60:J60)","v":0},{"$f":"INDEX(staff_exp2020,MATCH(A58,activities,0)+12)","v":0},{"$f":"INDEX(non_staffexp2020,MATCH(A58,activities,0)+12)","v":0},{"$f":"SUM(L60:M60)","v":0},{"$f":"INDEX(staff_exp2021,MATCH(A58,activities,0)+12)","v":0},{"$f":"INDEX(non_staffexp2021,MATCH(A58,activities,0)+12)","v":0}]
[{"$f":"'ចំណាយ-ថវិការដ្ឋ'!A343","v":"៤.៤.០១.២៖ ការអភិវឌ្ឍមជ្ឈមណ្ឌលយុវជន"},0,{"$f":"SUM(C62:C63)","v":0},0,0,{"$f":"SUM(F62:F63)","v":0},0,0,{"$f":"SUM(I62:I63)","v":0},0,0,{"$f":"SUM(L62:L63)","v":0},0]
[{"$f":"cluster_activity_1","v":"សកម្មភាពរង ទី ១៖ ធានាឱ្យការអប់រំមានគុណភាព ប្រកបដោយសមធម៌ បរិយាបន្ន និងលើកកម្ពស់ឱកាសក្នុងការសិក្សាពេញមួយជីវិត"},{"$f":"SUM(C62:D62)","v":0},{"$f":"INDEX(staff_exp2018,MATCH(A61,activities,0)+1)","v":0},{"$f":"INDEX(non_staffexp2018,MATCH(A61,activities,0)+1)","v":0},{"$f":"SUM(F62:G62)","v":0},{"$f":"INDEX(staff_exp2019,MATCH(A61,activities,0)+1)","v":0},{"$f":"INDEX(non_staffexp2019,MATCH(A61,activities,0)+1)","v":0},{"$f":"SUM(I62:J62)","v":0},{"$f":"INDEX(staff_exp2020,MATCH(A61,activities,0)+1)","v":0},{"$f":"INDEX(non_staffexp2020,MATCH(A61,activities,0)+1)","v":0},{"$f":"SUM(L62:M62)","v":0},{"$f":"INDEX(staff_exp2021,MATCH(A61,activities,0)+1)","v":0},{"$f":"INDEX(non_staffexp2021,MATCH(A61,activities,0)+1)","v":0}]
[{"$f":"cluster_activity_2","v":"សកម្មភាពរង ទី ២៖ ធានាភាពស័ក្តិសិទ្ធនៃភាពជាអ្នកដឹកនាំ និងគ្រប់គ្រងរបស់មន្ត្រី អប់រំគ្រប់លំដាប់ថ្នាក់"},{"$f":"SUM(C63:D63)","v":0},{"$f":"INDEX(staff_exp2018,MATCH(A61,activities,0)+12)","v":0},{"$f":"INDEX(non_staffexp2018,MATCH(A61,activities,0)+12)","v":0},{"$f":"SUM(F63:G63)","v":0},{"$f":"INDEX(staff_exp2019,MATCH(A61,activities,0)+12)","v":0},{"$f":"INDEX(non_staffexp2019,MATCH(A61,activities,0)+12)","v":0},{"$f":"SUM(I63:J63)","v":0},{"$f":"INDEX(staff_exp2020,MATCH(A61,activities,0)+12)","v":0},{"$f":"INDEX(non_staffexp2020,MATCH(A61,activities,0)+12)","v":0},{"$f":"SUM(L63:M63)","v":0},{"$f":"INDEX(staff_exp2021,MATCH(A61,activities,0)+12)","v":0},{"$f":"INDEX(non_staffexp2021,MATCH(A61,activities,0)+12)","v":0}]
[{"$f":"'ចំណាយ-ថវិការដ្ឋ'!A366","v":"៤.៤.០១.៣៖ ការពង្រឹងសកម្មភាពកាយរិទ្ធ"},0,{"$f":"SUM(C65:C66)","v":0},0,0,{"$f":"SUM(F65:F66)","v":0},0,0,{"$f":"SUM(I65:I66)","v":0},0,0,{"$f":"SUM(L65:L66)","v":0},0]
[{"$f":"cluster_activity_1","v":"សកម្មភាពរង ទី ១៖ ធានាឱ្យការអប់រំមានគុណភាព ប្រកបដោយសមធម៌ បរិយាបន្ន និងលើកកម្ពស់ឱកាសក្នុងការសិក្សាពេញមួយជីវិត"},{"$f":"SUM(C65:D65)","v":0},{"$f":"INDEX(staff_exp2018,MATCH(A64,activities,0)+1)","v":0},{"$f":"INDEX(non_staffexp2018,MATCH(A64,activities,0)+1)","v":0},{"$f":"SUM(F65:G65)","v":0},{"$f":"INDEX(staff_exp2019,MATCH(A64,activities,0)+1)","v":0},{"$f":"INDEX(non_staffexp2019,MATCH(A64,activities,0)+1)","v":0},{"$f":"SUM(I65:J65)","v":0},{"$f":"INDEX(staff_exp2020,MATCH(A64,activities,0)+1)","v":0},{"$f":"INDEX(non_staffexp2020,MATCH(A64,activities,0)+1)","v":0},{"$f":"SUM(L65:M65)","v":0},{"$f":"INDEX(staff_exp2021,MATCH(A64,activities,0)+1)","v":0},{"$f":"INDEX(non_staffexp2021,MATCH(A64,activities,0)+1)","v":0}]
[{"$f":"cluster_activity_2","v":"សកម្មភាពរង ទី ២៖ ធានាភាពស័ក្តិសិទ្ធនៃភាពជាអ្នកដឹកនាំ និងគ្រប់គ្រងរបស់មន្ត្រី អប់រំគ្រប់លំដាប់ថ្នាក់"},{"$f":"SUM(C66:D66)","v":0},{"$f":"INDEX(staff_exp2018,MATCH(A64,activities,0)+12)","v":0},{"$f":"INDEX(non_staffexp2018,MATCH(A64,activities,0)+12)","v":0},{"$f":"SUM(F66:G66)","v":0},{"$f":"INDEX(staff_exp2019,MATCH(A64,activities,0)+12)","v":0},{"$f":"INDEX(non_staffexp2019,MATCH(A64,activities,0)+12)","v":0},{"$f":"SUM(I66:J66)","v":0},{"$f":"INDEX(staff_exp2020,MATCH(A64,activities,0)+12)","v":0},{"$f":"INDEX(non_staffexp2020,MATCH(A64,activities,0)+12)","v":0},{"$f":"SUM(L66:M66)","v":0},{"$f":"INDEX(staff_exp2021,MATCH(A64,activities,0)+12)","v":0},{"$f":"INDEX(non_staffexp2021,MATCH(A64,activities,0)+12)","v":0}]
[{"$f":"'ចំណាយ-ថវិការដ្ឋ'!A389","v":"កម្មវិធីទី៥៖ ការគាំទ្រសេវាអប់រំ និងអភិបាលកិច្ចល្អ"},0,{"$f":"C68","v":0},0,0,0,0,0,0,0,0,0,0]
[{"$f":"'ចំណាយ-ថវិការដ្ឋ'!A390","v":"អនុកម្មវិធីទី ៥.១៨៖ សេវាគាំទ្រសេវាអប់រំ និងអភិបាលកិច្ចល្អ របស់មន្ទីរជំនាញរាជធានី ខេត្ត"},0,0,0,0,0,0,0,0,0,0,0,0]
[{"$f":"'ចំណាយ-ថវិការដ្ឋ'!A391","v":"ចង្កោមសកម្មភាពទី ០១៖ខេត្តបន្ទាយមានជ័យ"},0,{"$f":"SUM(C70,C73,C76,C79,C82,C85,C88,C91,C94,C97,C100,C103,C106,C109,C112,C115,C118)","v":0},0,0,{"$f":"SUM(F70,F73,F76,F79,F82,F85,F88,F91,F94,F97,F100,F103,F106,F109,F112,F115,F118)","v":0},0,0,{"$f":"SUM(I70,I73,I76,I79,I82,I85,I88,I91,I94,I97,I100,I103,I106,I109,I112,I115,I118)","v":0},0,0,{"$f":"SUM(L70,L73,L76,L79,L82,L85,L88,L91,L94,L97,L100,L103,L106,L109,L112,L115,L118)","v":0},0]
[{"$f":"'ចំណាយ-ថវិការដ្ឋ'!A392","v":"៥.១៨.០១.១៖ ការអភិវឌ្ឍ និងពង្រឹងប្រព័ន្ធផែនការអប់រំ"},{"$f":"SUM(C70:D70)","v":0},{"$f":"SUM(C71:C72)","v":0},0,{"$f":"SUM(F70:G70)","v":0},{"$f":"SUM(F71:F72)","v":0},0,{"$f":"SUM(I70:J70)","v":0},{"$f":"SUM(I71:I72)","v":0},0,{"$f":"SUM(L70:M70)","v":0},{"$f":"SUM(L71:L72)","v":0},0]
[{"$f":"cluster_activity_1","v":"សកម្មភាពរង ទី ១៖ ធានាឱ្យការអប់រំមានគុណភាព ប្រកបដោយសមធម៌ បរិយាបន្ន និងលើកកម្ពស់ឱកាសក្នុងការសិក្សាពេញមួយជីវិត"},0,{"$f":"INDEX(staff_exp2018,MATCH(A70,activities,0)+1)","v":0},{"$f":"INDEX(non_staffexp2018,MATCH(A70,activities,0)+1)","v":0},0,{"$f":"INDEX(staff_exp2019,MATCH(A70,activities,0)+1)","v":0},{"$f":"INDEX(non_staffexp2019,MATCH(A70,activities,0)+1)","v":0},0,{"$f":"INDEX(staff_exp2020,MATCH(A70,activities,0)+1)","v":0},{"$f":"INDEX(non_staffexp2020,MATCH(A70,activities,0)+1)","v":0},0,{"$f":"INDEX(staff_exp2021,MATCH(A70,activities,0)+1)","v":0},{"$f":"INDEX(non_staffexp2021,MATCH(A70,activities,0)+1)","v":0}]
[{"$f":"cluster_activity_2","v":"សកម្មភាពរង ទី ២៖ ធានាភាពស័ក្តិសិទ្ធនៃភាពជាអ្នកដឹកនាំ និងគ្រប់គ្រងរបស់មន្ត្រី អប់រំគ្រប់លំដាប់ថ្នាក់"},0,{"$f":"INDEX(staff_exp2018,MATCH(A70,activities,0)+12)","v":0},{"$f":"INDEX(non_staffexp2018,MATCH(A70,activities,0)+12)","v":0},0,{"$f":"INDEX(staff_exp2019,MATCH(A70,activities,0)+12)","v":0},{"$f":"INDEX(non_staffexp2019,MATCH(A70,activities,0)+12)","v":0},0,{"$f":"INDEX(staff_exp2020,MATCH(A70,activities,0)+12)","v":0},{"$f":"INDEX(non_staffexp2020,MATCH(A70,activities,0)+12)","v":0},0,{"$f":"INDEX(staff_exp2021,MATCH(A70,activities,0)+12)","v":0},{"$f":"INDEX(non_staffexp2021,MATCH(A70,activities,0)+12)","v":0}]
[{"$f":"'ចំណាយ-ថវិការដ្ឋ'!A415","v":"៥.១៨.០១.២៖ ការគ្រប់គ្រង និងពង្រឹងប្រសិទ្ធភាពធនធានមនុស្ស"},0,{"$f":"SUM(C74:C75)","v":0},0,0,{"$f":"SUM(F74:F75)","v":0},0,0,{"$f":"SUM(I74:I75)","v":0},0,0,{"$f":"SUM(L74:L75)","v":0},0]
[{"$f":"cluster_activity_1","v":"សកម្មភាពរង ទី ១៖ ធានាឱ្យការអប់រំមានគុណភាព ប្រកបដោយសមធម៌ បរិយាបន្ន និងលើកកម្ពស់ឱកាសក្នុងការសិក្សាពេញមួយជីវិត"},0,{"$f":"INDEX(staff_exp2018,MATCH(A73,activities,0)+1)","v":0},{"$f":"INDEX(non_staffexp2018,MATCH(A73,activities,0)+1)","v":0},0,{"$f":"INDEX(staff_exp2019,MATCH(A73,activities,0)+1)","v":0},{"$f":"INDEX(non_staffexp2019,MATCH(A73,activities,0)+1)","v":0},0,{"$f":"INDEX(staff_exp2020,MATCH(A73,activities,0)+1)","v":0},{"$f":"INDEX(non_staffexp2020,MATCH(A73,activities,0)+1)","v":0},0,{"$f":"INDEX(staff_exp2021,MATCH(A73,activities,0)+1)","v":0},{"$f":"INDEX(non_staffexp2021,MATCH(A73,activities,0)+1)","v":0}]
[{"$f":"cluster_activity_2","v":"សកម្មភាពរង ទី ២៖ ធានាភាពស័ក្តិសិទ្ធនៃភាពជាអ្នកដឹកនាំ និងគ្រប់គ្រងរបស់មន្ត្រី អប់រំគ្រប់លំដាប់ថ្នាក់"},0,{"$f":"INDEX(staff_exp2018,MATCH(A73,activities,0)+12)","v":0},{"$f":"INDEX(non_staffexp2018,MATCH(A73,activities,0)+12)","v":0},0,{"$f":"INDEX(staff_exp2019,MATCH(A73,activities,0)+12)","v":0},{"$f":"INDEX(non_staffexp2019,MATCH(A73,activities,0)+12)","v":0},0,{"$f":"INDEX(staff_exp2020,MATCH(A73,activities,0)+12)","v":0},{"$f":"INDEX(non_staffexp2020,MATCH(A73,activities,0)+12)","v":0},0,{"$f":"INDEX(staff_exp2021,MATCH(A73,activities,0)+12)","v":0},{"$f":"INDEX(non_staffexp2021,MATCH(A73,activities,0)+12)","v":0}]
[{"$f":"'ចំណាយ-ថវិការដ្ឋ'!A438","v":"៥.១៨.០១.៣៖ ការអភិវឌ្ឍសមត្ថភាព ការងារគ្រប់គ្រង ផែនការហិរញ្ញវត្ថុ និងមូលដ្ឋានសម្ភារៈ"},0,{"$f":"SUM(C77:C78)","v":0},0,0,{"$f":"SUM(F77:F78)","v":0},0,0,{"$f":"SUM(I77:I78)","v":0},0,0,{"$f":"SUM(L77:L78)","v":0},0]
[{"$f":"cluster_activity_1","v":"សកម្មភាពរង ទី ១៖ ធានាឱ្យការអប់រំមានគុណភាព ប្រកបដោយសមធម៌ បរិយាបន្ន និងលើកកម្ពស់ឱកាសក្នុងការសិក្សាពេញមួយជីវិត"},0,{"$f":"INDEX(staff_exp2018,MATCH(A76,activities,0)+1)","v":0},{"$f":"INDEX(non_staffexp2018,MATCH(A76,activities,0)+1)","v":0},0,{"$f":"INDEX(staff_exp2019,MATCH(A76,activities,0)+1)","v":0},{"$f":"INDEX(non_staffexp2019,MATCH(A76,activities,0)+1)","v":0},0,{"$f":"INDEX(staff_exp2020,MATCH(A76,activities,0)+1)","v":0},{"$f":"INDEX(non_staffexp2020,MATCH(A76,activities,0)+1)","v":0},0,{"$f":"INDEX(staff_exp2021,MATCH(A76,activities,0)+1)","v":0},{"$f":"INDEX(non_staffexp2021,MATCH(A76,activities,0)+1)","v":0}]
[{"$f":"cluster_activity_2","v":"សកម្មភាពរង ទី ២៖ ធានាភាពស័ក្តិសិទ្ធនៃភាពជាអ្នកដឹកនាំ និងគ្រប់គ្រងរបស់មន្ត្រី អប់រំគ្រប់លំដាប់ថ្នាក់"},0,{"$f":"INDEX(staff_exp2018,MATCH(A76,activities,0)+12)","v":0},{"$f":"INDEX(non_staffexp2018,MATCH(A76,activities,0)+12)","v":0},0,{"$f":"INDEX(staff_exp2019,MATCH(A76,activities,0)+12)","v":0},{"$f":"INDEX(non_staffexp2019,MATCH(A76,activities,0)+12)","v":0},0,{"$f":"INDEX(staff_exp2020,MATCH(A76,activities,0)+12)","v":0},{"$f":"INDEX(non_staffexp2020,MATCH(A76,activities,0)+12)","v":0},0,{"$f":"INDEX(staff_exp2021,MATCH(A76,activities,0)+12)","v":0},{"$f":"INDEX(non_staffexp2021,MATCH(A76,activities,0)+12)","v":0}]
[{"$f":"'ចំណាយ-ថវិការដ្ឋ'!A461","v":"៥.១៨.០១.៤៖ ការពង្រឹងការងារសវនកម្មផ្ទៃក្នុង"},0,{"$f":"SUM(C80:C81)","v":0},0,0,{"$f":"SUM(F80:F81)","v":0},0,0,{"$f":"SUM(I80:I81)","v":0},0,0,{"$f":"SUM(L80:L81)","v":0},0]
[{"$f":"cluster_activity_1","v":"សកម្មភាពរង ទី ១៖ ធានាឱ្យការអប់រំមានគុណភាព ប្រកបដោយសមធម៌ បរិយាបន្ន និងលើកកម្ពស់ឱកាសក្នុងការសិក្សាពេញមួយជីវិត"},0,{"$f":"INDEX(staff_exp2018,MATCH(A79,activities,0)+1)","v":0},{"$f":"INDEX(non_staffexp2018,MATCH(A79,activities,0)+1)","v":0},0,{"$f":"INDEX(staff_exp2019,MATCH(A79,activities,0)+1)","v":0},{"$f":"INDEX(non_staffexp2019,MATCH(A79,activities,0)+1)","v":0},0,{"$f":"INDEX(staff_exp2020,MATCH(A79,activities,0)+1)","v":0},{"$f":"INDEX(non_staffexp2020,MATCH(A79,activities,0)+1)","v":0},0,{"$f":"INDEX(staff_exp2021,MATCH(A79,activities,0)+1)","v":0},{"$f":"INDEX(non_staffexp2021,MATCH(A79,activities,0)+1)","v":0}]
[{"$f":"cluster_activity_2","v":"សកម្មភាពរង ទី ២៖ ធានាភាពស័ក្តិសិទ្ធនៃភាពជាអ្នកដឹកនាំ និងគ្រប់គ្រងរបស់មន្ត្រី អប់រំគ្រប់លំដាប់ថ្នាក់"},0,{"$f":"INDEX(staff_exp2018,MATCH(A79,activities,0)+12)","v":0},{"$f":"INDEX(non_staffexp2018,MATCH(A79,activities,0)+12)","v":0},0,{"$f":"INDEX(staff_exp2019,MATCH(A79,activities,0)+12)","v":0},{"$f":"INDEX(non_staffexp2019,MATCH(A79,activities,0)+12)","v":0},0,{"$f":"INDEX(staff_exp2020,MATCH(A79,activities,0)+12)","v":0},{"$f":"INDEX(non_staffexp2020,MATCH(A79,activities,0)+12)","v":0},0,{"$f":"INDEX(staff_exp2021,MATCH(A79,activities,0)+12)","v":0},{"$f":"INDEX(non_staffexp2021,MATCH(A79,activities,0)+12)","v":0}]
[{"$f":"'ចំណាយ-ថវិការដ្ឋ'!A484","v":"៥.១៨.០១.៥៖ ការពិនិត្យតាមដាន វាយតម្លៃ និងអធិការកិច្ចប្រព័ន្ធធានាគុណភាពអប់រំ"},0,{"$f":"SUM(C83:C84)","v":0},0,0,{"$f":"SUM(F83:F84)","v":0},0,0,{"$f":"SUM(I83:I84)","v":0},0,0,{"$f":"SUM(L83:L84)","v":0},0]
[{"$f":"cluster_activity_1","v":"សកម្មភាពរង ទី ១៖ ធានាឱ្យការអប់រំមានគុណភាព ប្រកបដោយសមធម៌ បរិយាបន្ន និងលើកកម្ពស់ឱកាសក្នុងការសិក្សាពេញមួយជីវិត"},0,{"$f":"INDEX(staff_exp2018,MATCH(A82,activities,0)+1)","v":0},{"$f":"INDEX(non_staffexp2018,MATCH(A82,activities,0)+1)","v":0},0,{"$f":"INDEX(staff_exp2019,MATCH(A82,activities,0)+1)","v":0},{"$f":"INDEX(non_staffexp2019,MATCH(A82,activities,0)+1)","v":0},0,{"$f":"INDEX(staff_exp2020,MATCH(A82,activities,0)+1)","v":0},{"$f":"INDEX(non_staffexp2020,MATCH(A82,activities,0)+1)","v":0},0,{"$f":"INDEX(staff_exp2021,MATCH(A82,activities,0)+1)","v":0},{"$f":"INDEX(non_staffexp2021,MATCH(A82,activities,0)+1)","v":0}]
[{"$f":"cluster_activity_2","v":"សកម្មភាពរង ទី ២៖ ធានាភាពស័ក្តិសិទ្ធនៃភាពជាអ្នកដឹកនាំ និងគ្រប់គ្រងរបស់មន្ត្រី អប់រំគ្រប់លំដាប់ថ្នាក់"},0,{"$f":"INDEX(staff_exp2018,MATCH(A82,activities,0)+12)","v":0},{"$f":"INDEX(non_staffexp2018,MATCH(A82,activities,0)+12)","v":0},0,{"$f":"INDEX(staff_exp2019,MATCH(A82,activities,0)+12)","v":0},{"$f":"INDEX(non_staffexp2019,MATCH(A82,activities,0)+12)","v":0},0,{"$f":"INDEX(staff_exp2020,MATCH(A82,activities,0)+12)","v":0},{"$f":"INDEX(non_staffexp2020,MATCH(A82,activities,0)+12)","v":0},0,{"$f":"INDEX(staff_exp2021,MATCH(A82,activities,0)+12)","v":0},{"$f":"INDEX(non_staffexp2021,MATCH(A82,activities,0)+12)","v":0}]
[{"$f":"'ចំណាយ-ថវិការដ្ឋ'!A507","v":"៥.១៨.០១.៦៖ អធិការកិច្ចរដ្ឋបាល និងហិរញ្ញវត្ថុ"},0,{"$f":"SUM(C86:C87)","v":0},0,0,{"$f":"SUM(F86:F87)","v":0},0,0,{"$f":"SUM(I86:I87)","v":0},0,0,{"$f":"SUM(L86:L87)","v":0},0]
[{"$f":"cluster_activity_1","v":"សកម្មភាពរង ទី ១៖ ធានាឱ្យការអប់រំមានគុណភាព ប្រកបដោយសមធម៌ បរិយាបន្ន និងលើកកម្ពស់ឱកាសក្នុងការសិក្សាពេញមួយជីវិត"},0,{"$f":"INDEX(staff_exp2018,MATCH(A85,activities,0)+1)","v":0},{"$f":"INDEX(non_staffexp2018,MATCH(A85,activities,0)+1)","v":0},0,{"$f":"INDEX(staff_exp2019,MATCH(A85,activities,0)+1)","v":0},{"$f":"INDEX(non_staffexp2019,MATCH(A85,activities,0)+1)","v":0},0,{"$f":"INDEX(staff_exp2020,MATCH(A85,activities,0)+1)","v":0},{"$f":"INDEX(non_staffexp2020,MATCH(A85,activities,0)+1)","v":0},0,{"$f":"INDEX(staff_exp2021,MATCH(A85,activities,0)+1)","v":0},{"$f":"INDEX(non_staffexp2021,MATCH(A85,activities,0)+1)","v":0}]
[{"$f":"cluster_activity_2","v":"សកម្មភាពរង ទី ២៖ ធានាភាពស័ក្តិសិទ្ធនៃភាពជាអ្នកដឹកនាំ និងគ្រប់គ្រងរបស់មន្ត្រី អប់រំគ្រប់លំដាប់ថ្នាក់"},0,{"$f":"INDEX(staff_exp2018,MATCH(A85,activities,0)+12)","v":0},{"$f":"INDEX(non_staffexp2018,MATCH(A85,activities,0)+12)","v":0},0,{"$f":"INDEX(staff_exp2019,MATCH(A85,activities,0)+12)","v":0},{"$f":"INDEX(non_staffexp2019,MATCH(A85,activities,0)+12)","v":0},0,{"$f":"INDEX(staff_exp2020,MATCH(A85,activities,0)+12)","v":0},{"$f":"INDEX(non_staffexp2020,MATCH(A85,activities,0)+12)","v":0},0,{"$f":"INDEX(staff_exp2021,MATCH(A85,activities,0)+12)","v":0},{"$f":"INDEX(non_staffexp2021,MATCH(A85,activities,0)+12)","v":0}]
[{"$f":"'ចំណាយ-ថវិការដ្ឋ'!A530","v":"៥.១៨.០១.៧៖ លើកកម្ពស់ការផ្សព្វផ្សាយព័ត៌មានអប់រំ និងកិច្ចសហប្រតិបត្តិការ អាស៊ាន និងស៊ីមេអូ"},0,{"$f":"SUM(C89:C90)","v":0},0,0,{"$f":"SUM(F89:F90)","v":0},0,0,{"$f":"SUM(I89:I90)","v":0},0,0,{"$f":"SUM(L89:L90)","v":0},0]
[{"$f":"cluster_activity_1","v":"សកម្មភាពរង ទី ១៖ ធានាឱ្យការអប់រំមានគុណភាព ប្រកបដោយសមធម៌ បរិយាបន្ន និងលើកកម្ពស់ឱកាសក្នុងការសិក្សាពេញមួយជីវិត"},0,{"$f":"INDEX(staff_exp2018,MATCH(A88,activities,0)+1)","v":0},{"$f":"INDEX(non_staffexp2018,MATCH(A88,activities,0)+1)","v":0},0,{"$f":"INDEX(staff_exp2019,MATCH(A88,activities,0)+1)","v":0},{"$f":"INDEX(non_staffexp2019,MATCH(A88,activities,0)+1)","v":0},0,{"$f":"INDEX(staff_exp2020,MATCH(A88,activities,0)+1)","v":0},{"$f":"INDEX(non_staffexp2020,MATCH(A88,activities,0)+1)","v":0},0,{"$f":"INDEX(staff_exp2021,MATCH(A88,activities,0)+1)","v":0},{"$f":"INDEX(non_staffexp2021,MATCH(A88,activities,0)+1)","v":0}]
[{"$f":"cluster_activity_2","v":"សកម្មភាពរង ទី ២៖ ធានាភាពស័ក្តិសិទ្ធនៃភាពជាអ្នកដឹកនាំ និងគ្រប់គ្រងរបស់មន្ត្រី អប់រំគ្រប់លំដាប់ថ្នាក់"},0,{"$f":"INDEX(staff_exp2018,MATCH(A88,activities,0)+12)","v":0},{"$f":"INDEX(non_staffexp2018,MATCH(A88,activities,0)+12)","v":0},0,{"$f":"INDEX(staff_exp2019,MATCH(A88,activities,0)+12)","v":0},{"$f":"INDEX(non_staffexp2019,MATCH(A88,activities,0)+12)","v":0},0,{"$f":"INDEX(staff_exp2020,MATCH(A88,activities,0)+12)","v":0},{"$f":"INDEX(non_staffexp2020,MATCH(A88,activities,0)+12)","v":0},0,{"$f":"INDEX(staff_exp2021,MATCH(A88,activities,0)+12)","v":0},{"$f":"INDEX(non_staffexp2021,MATCH(A88,activities,0)+12)","v":0}]
[{"$f":"'ចំណាយ-ថវិការដ្ឋ'!A553","v":"៥.១៨.០១.៨៖ ការពង្រឹងការងារនីតិកម្ម"},0,{"$f":"SUM(C92:C93)","v":0},0,0,{"$f":"SUM(F92:F93)","v":0},0,0,{"$f":"SUM(I92:I93)","v":0},0,0,{"$f":"SUM(L92:L93)","v":0},0]
[{"$f":"cluster_activity_1","v":"សកម្មភាពរង ទី ១៖ ធានាឱ្យការអប់រំមានគុណភាព ប្រកបដោយសមធម៌ បរិយាបន្ន និងលើកកម្ពស់ឱកាសក្នុងការសិក្សាពេញមួយជីវិត"},0,{"$f":"INDEX(staff_exp2018,MATCH(A91,activities,0)+1)","v":0},{"$f":"INDEX(non_staffexp2018,MATCH(A91,activities,0)+1)","v":0},0,{"$f":"INDEX(staff_exp2019,MATCH(A91,activities,0)+1)","v":0},{"$f":"INDEX(non_staffexp2019,MATCH(A91,activities,0)+1)","v":0},0,{"$f":"INDEX(staff_exp2020,MATCH(A91,activities,0)+1)","v":0},{"$f":"INDEX(non_staffexp2020,MATCH(A91,activities,0)+1)","v":0},0,{"$f":"INDEX(staff_exp2021,MATCH(A91,activities,0)+1)","v":0},{"$f":"INDEX(non_staffexp2021,MATCH(A91,activities,0)+1)","v":0}]
[{"$f":"cluster_activity_2","v":"សកម្មភាពរង ទី ២៖ ធានាភាពស័ក្តិសិទ្ធនៃភាពជាអ្នកដឹកនាំ និងគ្រប់គ្រងរបស់មន្ត្រី អប់រំគ្រប់លំដាប់ថ្នាក់"},0,{"$f":"INDEX(staff_exp2018,MATCH(A91,activities,0)+12)","v":0},{"$f":"INDEX(non_staffexp2018,MATCH(A91,activities,0)+12)","v":0},0,{"$f":"INDEX(staff_exp2019,MATCH(A91,activities,0)+12)","v":0},{"$f":"INDEX(non_staffexp2019,MATCH(A91,activities,0)+12)","v":0},0,{"$f":"INDEX(staff_exp2020,MATCH(A91,activities,0)+12)","v":0},{"$f":"INDEX(non_staffexp2020,MATCH(A91,activities,0)+12)","v":0},0,{"$f":"INDEX(staff_exp2021,MATCH(A91,activities,0)+12)","v":0},{"$f":"INDEX(non_staffexp2021,MATCH(A91,activities,0)+12)","v":0}]
[{"$f":"'ចំណាយ-ថវិការដ្ឋ'!A576","v":"៥.១៨.០១.៩៖ ការពង្រឹងការគ្រប់គ្រងហេដ្ឋារចនាសម្ព័ន្ធអប់រំ"},0,{"$f":"SUM(C95:C96)","v":0},0,0,{"$f":"SUM(F95:F96)","v":0},0,0,{"$f":"SUM(I95:I96)","v":0},0,0,{"$f":"SUM(L95:L96)","v":0},0]
[{"$f":"cluster_activity_1","v":"សកម្មភាពរង ទី ១៖ ធានាឱ្យការអប់រំមានគុណភាព ប្រកបដោយសមធម៌ បរិយាបន្ន និងលើកកម្ពស់ឱកាសក្នុងការសិក្សាពេញមួយជីវិត"},0,{"$f":"INDEX(staff_exp2018,MATCH(A94,activities,0)+1)","v":0},{"$f":"INDEX(non_staffexp2018,MATCH(A94,activities,0)+1)","v":0},0,{"$f":"INDEX(staff_exp2019,MATCH(A94,activities,0)+1)","v":0},{"$f":"INDEX(non_staffexp2019,MATCH(A94,activities,0)+1)","v":0},0,{"$f":"INDEX(staff_exp2020,MATCH(A94,activities,0)+1)","v":0},{"$f":"INDEX(non_staffexp2020,MATCH(A94,activities,0)+1)","v":0},0,{"$f":"INDEX(staff_exp2021,MATCH(A94,activities,0)+1)","v":0},{"$f":"INDEX(non_staffexp2021,MATCH(A94,activities,0)+1)","v":0}]
[{"$f":"cluster_activity_2","v":"សកម្មភាពរង ទី ២៖ ធានាភាពស័ក្តិសិទ្ធនៃភាពជាអ្នកដឹកនាំ និងគ្រប់គ្រងរបស់មន្ត្រី អប់រំគ្រប់លំដាប់ថ្នាក់"},0,{"$f":"INDEX(staff_exp2018,MATCH(A94,activities,0)+12)","v":0},{"$f":"INDEX(non_staffexp2018,MATCH(A94,activities,0)+12)","v":0},0,{"$f":"INDEX(staff_exp2019,MATCH(A94,activities,0)+12)","v":0},{"$f":"INDEX(non_staffexp2019,MATCH(A94,activities,0)+12)","v":0},0,{"$f":"INDEX(staff_exp2020,MATCH(A94,activities,0)+12)","v":0},{"$f":"INDEX(non_staffexp2020,MATCH(A94,activities,0)+12)","v":0},0,{"$f":"INDEX(staff_exp2021,MATCH(A94,activities,0)+12)","v":0},{"$f":"INDEX(non_staffexp2021,MATCH(A94,activities,0)+12)","v":0}]
[{"$f":"'ចំណាយ-ថវិការដ្ឋ'!A599","v":"៥.១៨.០១.១០៖ ការពង្រឹងការគ្រប់គ្រង ការផ្គត់ផ្គង់សម្ភារៈ និងទ្រព្យសម្បត្តិរដ្ឋ"},0,{"$f":"SUM(C98:C99)","v":0},0,0,{"$f":"SUM(F98:F99)","v":0},0,0,{"$f":"SUM(I98:I99)","v":0},0,0,{"$f":"SUM(L98:L99)","v":0},0]
[{"$f":"cluster_activity_1","v":"សកម្មភាពរង ទី ១៖ ធានាឱ្យការអប់រំមានគុណភាព ប្រកបដោយសមធម៌ បរិយាបន្ន និងលើកកម្ពស់ឱកាសក្នុងការសិក្សាពេញមួយជីវិត"},0,{"$f":"INDEX(staff_exp2018,MATCH(A97,activities,0)+1)","v":0},{"$f":"INDEX(non_staffexp2018,MATCH(A97,activities,0)+1)","v":0},0,{"$f":"INDEX(staff_exp2019,MATCH(A97,activities,0)+1)","v":0},{"$f":"INDEX(non_staffexp2019,MATCH(A97,activities,0)+1)","v":0},0,{"$f":"INDEX(staff_exp2020,MATCH(A97,activities,0)+1)","v":0},{"$f":"INDEX(non_staffexp2020,MATCH(A97,activities,0)+1)","v":0},0,{"$f":"INDEX(staff_exp2021,MATCH(A97,activities,0)+1)","v":0},{"$f":"INDEX(non_staffexp2021,MATCH(A97,activities,0)+1)","v":0}]
[{"$f":"cluster_activity_2","v":"សកម្មភាពរង ទី ២៖ ធានាភាពស័ក្តិសិទ្ធនៃភាពជាអ្នកដឹកនាំ និងគ្រប់គ្រងរបស់មន្ត្រី អប់រំគ្រប់លំដាប់ថ្នាក់"},0,{"$f":"INDEX(staff_exp2018,MATCH(A97,activities,0)+12)","v":0},{"$f":"INDEX(non_staffexp2018,MATCH(A97,activities,0)+12)","v":0},0,{"$f":"INDEX(staff_exp2019,MATCH(A97,activities,0)+12)","v":0},{"$f":"INDEX(non_staffexp2019,MATCH(A97,activities,0)+12)","v":0},0,{"$f":"INDEX(staff_exp2020,MATCH(A97,activities,0)+12)","v":0},{"$f":"INDEX(non_staffexp2020,MATCH(A97,activities,0)+12)","v":0},0,{"$f":"INDEX(staff_exp2021,MATCH(A97,activities,0)+12)","v":0},{"$f":"INDEX(non_staffexp2021,MATCH(A97,activities,0)+12)","v":0}]
[{"$f":"'ចំណាយ-ថវិការដ្ឋ'!A622","v":"៥.១៨.០១.១១៖ ការអភិវឌ្ឍ និងពង្រឹងប្រសិទ្ធភាពការគ្រប់គ្រង និងការធានាភាពសក្តិសិទ្ធនៃសេវារដ្ឋបាលអប់រំ"},0,{"$f":"SUM(C101:C102)","v":0},0,0,{"$f":"SUM(F101:F102)","v":0},0,0,{"$f":"SUM(I101:I102)","v":0},0,0,{"$f":"SUM(L101:L102)","v":0},0]
[{"$f":"cluster_activity_1","v":"សកម្មភាពរង ទី ១៖ ធានាឱ្យការអប់រំមានគុណភាព ប្រកបដោយសមធម៌ បរិយាបន្ន និងលើកកម្ពស់ឱកាសក្នុងការសិក្សាពេញមួយជីវិត"},0,{"$f":"INDEX(staff_exp2018,MATCH(A100,activities,0)+1)","v":0},{"$f":"INDEX(non_staffexp2018,MATCH(A100,activities,0)+1)","v":0},0,{"$f":"INDEX(staff_exp2019,MATCH(A100,activities,0)+1)","v":0},{"$f":"INDEX(non_staffexp2019,MATCH(A100,activities,0)+1)","v":0},0,{"$f":"INDEX(staff_exp2020,MATCH(A100,activities,0)+1)","v":0},{"$f":"INDEX(non_staffexp2020,MATCH(A100,activities,0)+1)","v":0},0,{"$f":"INDEX(staff_exp2021,MATCH(A100,activities,0)+1)","v":0},{"$f":"INDEX(non_staffexp2021,MATCH(A100,activities,0)+1)","v":0}]
[{"$f":"cluster_activity_2","v":"សកម្មភាពរង ទី ២៖ ធានាភាពស័ក្តិសិទ្ធនៃភាពជាអ្នកដឹកនាំ និងគ្រប់គ្រងរបស់មន្ត្រី អប់រំគ្រប់លំដាប់ថ្នាក់"},0,{"$f":"INDEX(staff_exp2018,MATCH(A100,activities,0)+12)","v":0},{"$f":"INDEX(non_staffexp2018,MATCH(A100,activities,0)+12)","v":0},0,{"$f":"INDEX(staff_exp2019,MATCH(A100,activities,0)+12)","v":0},{"$f":"INDEX(non_staffexp2019,MATCH(A100,activities,0)+12)","v":0},0,{"$f":"INDEX(staff_exp2020,MATCH(A100,activities,0)+12)","v":0},{"$f":"INDEX(non_staffexp2020,MATCH(A100,activities,0)+12)","v":0},0,{"$f":"INDEX(staff_exp2021,MATCH(A100,activities,0)+12)","v":0},{"$f":"INDEX(non_staffexp2021,MATCH(A100,activities,0)+12)","v":0}]
[{"$f":"'ចំណាយ-ថវិការដ្ឋ'!A645","v":"៥.១៨.០១.១២៖ ការអភិវឌ្ឍកិច្ចសហប្រតិបត្តិការជាតិ អន្តរជាតិលើវិស័យអប់រំ"},0,{"$f":"SUM(C104:C105)","v":0},0,0,{"$f":"SUM(F104:F105)","v":0},0,0,{"$f":"SUM(I104:I105)","v":0},0,0,{"$f":"SUM(L104:L105)","v":0},0]
[{"$f":"cluster_activity_1","v":"សកម្មភាពរង ទី ១៖ ធានាឱ្យការអប់រំមានគុណភាព ប្រកបដោយសមធម៌ បរិយាបន្ន និងលើកកម្ពស់ឱកាសក្នុងការសិក្សាពេញមួយជីវិត"},0,{"$f":"INDEX(staff_exp2018,MATCH(A103,activities,0)+1)","v":0},{"$f":"INDEX(non_staffexp2018,MATCH(A103,activities,0)+1)","v":0},0,{"$f":"INDEX(staff_exp2019,MATCH(A103,activities,0)+1)","v":0},{"$f":"INDEX(non_staffexp2019,MATCH(A103,activities,0)+1)","v":0},0,{"$f":"INDEX(staff_exp2020,MATCH(A103,activities,0)+1)","v":0},{"$f":"INDEX(non_staffexp2020,MATCH(A103,activities,0)+1)","v":0},0,{"$f":"INDEX(staff_exp2021,MATCH(A103,activities,0)+1)","v":0},{"$f":"INDEX(non_staffexp2021,MATCH(A103,activities,0)+1)","v":0}]
[{"$f":"cluster_activity_2","v":"សកម្មភាពរង ទី ២៖ ធានាភាពស័ក្តិសិទ្ធនៃភាពជាអ្នកដឹកនាំ និងគ្រប់គ្រងរបស់មន្ត្រី អប់រំគ្រប់លំដាប់ថ្នាក់"},0,{"$f":"INDEX(staff_exp2018,MATCH(A103,activities,0)+12)","v":0},{"$f":"INDEX(non_staffexp2018,MATCH(A103,activities,0)+12)","v":0},0,{"$f":"INDEX(staff_exp2019,MATCH(A103,activities,0)+12)","v":0},{"$f":"INDEX(non_staffexp2019,MATCH(A103,activities,0)+12)","v":0},0,{"$f":"INDEX(staff_exp2020,MATCH(A103,activities,0)+12)","v":0},{"$f":"INDEX(non_staffexp2020,MATCH(A103,activities,0)+12)","v":0},0,{"$f":"INDEX(staff_exp2021,MATCH(A103,activities,0)+12)","v":0},{"$f":"INDEX(non_staffexp2021,MATCH(A103,activities,0)+12)","v":0}]
[{"$f":"'ចំណាយ-ថវិការដ្ឋ'!A668","v":"៥.១៨.០១.១៣៖ ការអភិវឌ្ឍប្រព័ន្ធព័ត៌មានគ្រប់គ្រងអប់រំ"},0,{"$f":"SUM(C107:C108)","v":0},0,0,{"$f":"SUM(F107:F108)","v":0},0,0,{"$f":"SUM(I107:I108)","v":0},0,0,{"$f":"SUM(L107:L108)","v":0},0]
[{"$f":"cluster_activity_1","v":"សកម្មភាពរង ទី ១៖ ធានាឱ្យការអប់រំមានគុណភាព ប្រកបដោយសមធម៌ បរិយាបន្ន និងលើកកម្ពស់ឱកាសក្នុងការសិក្សាពេញមួយជីវិត"},0,{"$f":"INDEX(staff_exp2018,MATCH(A106,activities,0)+1)","v":0},{"$f":"INDEX(non_staffexp2018,MATCH(A106,activities,0)+1)","v":0},0,{"$f":"INDEX(staff_exp2019,MATCH(A106,activities,0)+1)","v":0},{"$f":"INDEX(non_staffexp2019,MATCH(A106,activities,0)+1)","v":0},0,{"$f":"INDEX(staff_exp2020,MATCH(A106,activities,0)+1)","v":0},{"$f":"INDEX(non_staffexp2020,MATCH(A106,activities,0)+1)","v":0},0,{"$f":"INDEX(staff_exp2021,MATCH(A106,activities,0)+1)","v":0},{"$f":"INDEX(non_staffexp2021,MATCH(A106,activities,0)+1)","v":0}]
[{"$f":"cluster_activity_2","v":"សកម្មភាពរង ទី ២៖ ធានាភាពស័ក្តិសិទ្ធនៃភាពជាអ្នកដឹកនាំ និងគ្រប់គ្រងរបស់មន្ត្រី អប់រំគ្រប់លំដាប់ថ្នាក់"},0,{"$f":"INDEX(staff_exp2018,MATCH(A106,activities,0)+12)","v":0},{"$f":"INDEX(non_staffexp2018,MATCH(A106,activities,0)+12)","v":0},0,{"$f":"INDEX(staff_exp2019,MATCH(A106,activities,0)+12)","v":0},{"$f":"INDEX(non_staffexp2019,MATCH(A106,activities,0)+12)","v":0},0,{"$f":"INDEX(staff_exp2020,MATCH(A106,activities,0)+12)","v":0},{"$f":"INDEX(non_staffexp2020,MATCH(A106,activities,0)+12)","v":0},0,{"$f":"INDEX(staff_exp2021,MATCH(A106,activities,0)+12)","v":0},{"$f":"INDEX(non_staffexp2021,MATCH(A106,activities,0)+12)","v":0}]
[{"$f":"'ចំណាយ-ថវិការដ្ឋ'!A691","v":"៥.១៨.០១.១៤៖ អភិវឌ្ឍគោលនយោបាយអប់រំ និងការស្រាវជ្រាវ"},0,{"$f":"SUM(C110:C111)","v":0},0,0,{"$f":"SUM(F110:F111)","v":0},0,0,{"$f":"SUM(I110:I111)","v":0},0,0,{"$f":"SUM(L110:L111)","v":0},0]
[{"$f":"cluster_activity_1","v":"សកម្មភាពរង ទី ១៖ ធានាឱ្យការអប់រំមានគុណភាព ប្រកបដោយសមធម៌ បរិយាបន្ន និងលើកកម្ពស់ឱកាសក្នុងការសិក្សាពេញមួយជីវិត"},0,{"$f":"INDEX(staff_exp2018,MATCH(A109,activities,0)+1)","v":0},{"$f":"INDEX(non_staffexp2018,MATCH(A109,activities,0)+1)","v":0},0,{"$f":"INDEX(staff_exp2019,MATCH(A109,activities,0)+1)","v":0},{"$f":"INDEX(non_staffexp2019,MATCH(A109,activities,0)+1)","v":0},0,{"$f":"INDEX(staff_exp2020,MATCH(A109,activities,0)+1)","v":0},{"$f":"INDEX(non_staffexp2020,MATCH(A109,activities,0)+1)","v":0},0,{"$f":"INDEX(staff_exp2021,MATCH(A109,activities,0)+1)","v":0},{"$f":"INDEX(non_staffexp2021,MATCH(A109,activities,0)+1)","v":0}]
[{"$f":"cluster_activity_2","v":"សកម្មភាពរង ទី ២៖ ធានាភាពស័ក្តិសិទ្ធនៃភាពជាអ្នកដឹកនាំ និងគ្រប់គ្រងរបស់មន្ត្រី អប់រំគ្រប់លំដាប់ថ្នាក់"},0,{"$f":"INDEX(staff_exp2018,MATCH(A109,activities,0)+12)","v":0},{"$f":"INDEX(non_staffexp2018,MATCH(A109,activities,0)+12)","v":0},0,{"$f":"INDEX(staff_exp2019,MATCH(A109,activities,0)+12)","v":0},{"$f":"INDEX(non_staffexp2019,MATCH(A109,activities,0)+12)","v":0},0,{"$f":"INDEX(staff_exp2020,MATCH(A109,activities,0)+12)","v":0},{"$f":"INDEX(non_staffexp2020,MATCH(A109,activities,0)+12)","v":0},0,{"$f":"INDEX(staff_exp2021,MATCH(A109,activities,0)+12)","v":0},{"$f":"INDEX(non_staffexp2021,MATCH(A109,activities,0)+12)","v":0}]
[{"$f":"'ចំណាយ-ថវិការដ្ឋ'!A714","v":"៥.១៨.០១.១៥៖ អភិវឌ្ឍប្រព័ន្ធពិនិត្យតាមដាន និងវាយតម្លៃ"},0,{"$f":"SUM(C113:C114)","v":0},0,0,{"$f":"SUM(F113:F114)","v":0},0,0,{"$f":"SUM(I113:I114)","v":0},0,0,{"$f":"SUM(L113:L114)","v":0},0]
[{"$f":"cluster_activity_1","v":"សកម្មភាពរង ទី ១៖ ធានាឱ្យការអប់រំមានគុណភាព ប្រកបដោយសមធម៌ បរិយាបន្ន និងលើកកម្ពស់ឱកាសក្នុងការសិក្សាពេញមួយជីវិត"},0,{"$f":"INDEX(staff_exp2018,MATCH(A112,activities,0)+1)","v":0},{"$f":"INDEX(non_staffexp2018,MATCH(A112,activities,0)+1)","v":0},0,{"$f":"INDEX(staff_exp2019,MATCH(A112,activities,0)+1)","v":0},{"$f":"INDEX(non_staffexp2019,MATCH(A112,activities,0)+1)","v":0},0,{"$f":"INDEX(staff_exp2020,MATCH(A112,activities,0)+1)","v":0},{"$f":"INDEX(non_staffexp2020,MATCH(A112,activities,0)+1)","v":0},0,{"$f":"INDEX(staff_exp2021,MATCH(A112,activities,0)+1)","v":0},{"$f":"INDEX(non_staffexp2021,MATCH(A112,activities,0)+1)","v":0}]
[{"$f":"cluster_activity_2","v":"សកម្មភាពរង ទី ២៖ ធានាភាពស័ក្តិសិទ្ធនៃភាពជាអ្នកដឹកនាំ និងគ្រប់គ្រងរបស់មន្ត្រី អប់រំគ្រប់លំដាប់ថ្នាក់"},0,{"$f":"INDEX(staff_exp2018,MATCH(A112,activities,0)+12)","v":0},{"$f":"INDEX(non_staffexp2018,MATCH(A112,activities,0)+12)","v":0},0,{"$f":"INDEX(staff_exp2019,MATCH(A112,activities,0)+12)","v":0},{"$f":"INDEX(non_staffexp2019,MATCH(A112,activities,0)+12)","v":0},0,{"$f":"INDEX(staff_exp2020,MATCH(A112,activities,0)+12)","v":0},{"$f":"INDEX(non_staffexp2020,MATCH(A112,activities,0)+12)","v":0},0,{"$f":"INDEX(staff_exp2021,MATCH(A112,activities,0)+12)","v":0},{"$f":"INDEX(non_staffexp2021,MATCH(A112,activities,0)+12)","v":0}]
[{"$f":"'ចំណាយ-ថវិការដ្ឋ'!A737","v":"៥.១៨.០១.១៦៖ ការអភិវឌ្ឍនិងពង្រឹងប្រព័ន្ធព័ត៌មានវិទ្យា"},0,{"$f":"SUM(C116:C117)","v":0},0,0,{"$f":"SUM(F116:F117)","v":0},0,0,{"$f":"SUM(I116:I117)","v":0},0,0,{"$f":"SUM(L116:L117)","v":0},0]
[{"$f":"cluster_activity_1","v":"សកម្មភាពរង ទី ១៖ ធានាឱ្យការអប់រំមានគុណភាព ប្រកបដោយសមធម៌ បរិយាបន្ន និងលើកកម្ពស់ឱកាសក្នុងការសិក្សាពេញមួយជីវិត"},0,{"$f":"INDEX(staff_exp2018,MATCH(A115,activities,0)+1)","v":0},{"$f":"INDEX(non_staffexp2018,MATCH(A115,activities,0)+1)","v":0},0,{"$f":"INDEX(staff_exp2019,MATCH(A115,activities,0)+1)","v":0},{"$f":"INDEX(non_staffexp2019,MATCH(A115,activities,0)+1)","v":0},0,{"$f":"INDEX(staff_exp2020,MATCH(A115,activities,0)+1)","v":0},{"$f":"INDEX(non_staffexp2020,MATCH(A115,activities,0)+1)","v":0},0,{"$f":"INDEX(staff_exp2021,MATCH(A115,activities,0)+1)","v":0},{"$f":"INDEX(non_staffexp2021,MATCH(A115,activities,0)+1)","v":0}]
[{"$f":"cluster_activity_2","v":"សកម្មភាពរង ទី ២៖ ធានាភាពស័ក្តិសិទ្ធនៃភាពជាអ្នកដឹកនាំ និងគ្រប់គ្រងរបស់មន្ត្រី អប់រំគ្រប់លំដាប់ថ្នាក់"},0,{"$f":"INDEX(staff_exp2018,MATCH(A115,activities,0)+12)","v":0},{"$f":"INDEX(non_staffexp2018,MATCH(A115,activities,0)+12)","v":0},0,{"$f":"INDEX(staff_exp2019,MATCH(A115,activities,0)+12)","v":0},{"$f":"INDEX(non_staffexp2019,MATCH(A115,activities,0)+12)","v":0},0,{"$f":"INDEX(staff_exp2020,MATCH(A115,activities,0)+12)","v":0},{"$f":"INDEX(non_staffexp2020,MATCH(A115,activities,0)+12)","v":0},0,{"$f":"INDEX(staff_exp2021,MATCH(A115,activities,0)+12)","v":0},{"$f":"INDEX(non_staffexp2021,MATCH(A115,activities,0)+12)","v":0}]
[{"$f":"'ចំណាយ-ថវិការដ្ឋ'!A760","v":"៥.១៨.០១.១៧៖ ការពង្រឹងគុណភាព និងប្រសិទ្ធភាពការងារប្រឡងនៅមធ្យមសិក្សានិងអប់រំបច្ចេកទេស"},0,{"$f":"SUM(C119:C120)","v":0},0,0,{"$f":"SUM(F119:F120)","v":0},0,0,{"$f":"SUM(I119:I120)","v":0},0,0,{"$f":"SUM(L119:L120)","v":0},0]
[{"$f":"cluster_activity_1","v":"សកម្មភាពរង ទី ១៖ ធានាឱ្យការអប់រំមានគុណភាព ប្រកបដោយសមធម៌ បរិយាបន្ន និងលើកកម្ពស់ឱកាសក្នុងការសិក្សាពេញមួយជីវិត"},0,{"$f":"INDEX(staff_exp2018,MATCH(A118,activities,0)+1)","v":0},{"$f":"INDEX(non_staffexp2018,MATCH(A118,activities,0)+1)","v":0},0,{"$f":"INDEX(staff_exp2019,MATCH(A118,activities,0)+1)","v":0},{"$f":"INDEX(non_staffexp2019,MATCH(A118,activities,0)+1)","v":0},0,{"$f":"INDEX(staff_exp2020,MATCH(A118,activities,0)+1)","v":0},{"$f":"INDEX(non_staffexp2020,MATCH(A118,activities,0)+1)","v":0},0,{"$f":"INDEX(staff_exp2021,MATCH(A118,activities,0)+1)","v":0},{"$f":"INDEX(non_staffexp2021,MATCH(A118,activities,0)+1)","v":0}]
[{"$f":"cluster_activity_2","v":"សកម្មភាពរង ទី ២៖ ធានាភាពស័ក្តិសិទ្ធនៃភាពជាអ្នកដឹកនាំ និងគ្រប់គ្រងរបស់មន្ត្រី អប់រំគ្រប់លំដាប់ថ្នាក់"},0,{"$f":"INDEX(staff_exp2018,MATCH(A118,activities,0)+12)","v":0},{"$f":"INDEX(non_staffexp2018,MATCH(A118,activities,0)+12)","v":0},0,{"$f":"INDEX(staff_exp2019,MATCH(A118,activities,0)+12)","v":0},{"$f":"INDEX(non_staffexp2019,MATCH(A118,activities,0)+12)","v":0},0,{"$f":"INDEX(staff_exp2020,MATCH(A118,activities,0)+12)","v":0},{"$f":"INDEX(non_staffexp2020,MATCH(A118,activities,0)+12)","v":0},0,{"$f":"INDEX(staff_exp2021,MATCH(A118,activities,0)+12)","v":0},{"$f":"INDEX(non_staffexp2021,MATCH(A118,activities,0)+12)","v":0}]

{"sheet":"Table 4.1","index":4,"n_rows":54,"n_cols":13,"rows_kept":54,"cut":false,"hidden":false,"merged":[[4,0,4,12],[6,0,7,0],[6,1,6,3],[6,4,6,6],[6,7,6,9],[6,10,6,12]]}
[]
[]
["ក្រសួងអប់រំ​​​​​​​​​​​ យុវជន និងកីឡា"]
[{"$f":"CONCATENATE(\"មន្ទីរអប់រំ យុវជន និងកីឡា\",province)","v":"មន្ទីរអប់រំ យុវជន និងកីឡាខេត្តបន្ទាយមានជ័យ"}]
["សរុបការកំណត់តម្រូវការចំណាយសម្រាប់កម្មវិធី និងអនុកម្មវិធី"]
["តារាង ៤.១ ",null,null,null,null,null,null,null,null,null,null,null,"ឯកតា៖ លានរៀល"]
["តម្រូវការឥណទាន\nតាមប្រភេទចំណាយ","ច្បាប់ហិរញ្ញវត្ថុ \nឆ្នាំ ២០១៩",null,null,"គ្រោងតម្រូវការឥណទាន\nសម្រាប់ឆ្នាំ ២០២០",null,null,"គ្រោងតម្រូវការឥណទាន\nសម្រាប់ឆ្នាំ ២០២១",null,null,"គ្រោងតម្រូវការឥណទាន\nសម្រាប់ឆ្នាំ ២០២២"]
[null,"ថវិការដ្ឋ","ថវិកាដៃគូ \nអភិវឌ្ឍ","ផ្សេងៗ","ថវិការដ្ឋ","ថវិកាដៃគូ \nអភិវឌ្ឍ","ផ្សេងៗ","ថវិការដ្ឋ","ថវិកាដៃគូ \nអភិវឌ្ឍ","ផ្សេងៗ","ថវិការដ្ឋ","ថវិកាដៃគូ \nអភិវឌ្ឍ","ផ្សេងៗ"]
["សរុបរួម",{"$f":"SUM(B10,B22,B29,B35)","v":0},null,null,{"$f":"SUM(E10,E22,E29,E35)","v":0},null,null,0,null,null,0]
[{"$f":"'ចំណាយ-ថវិការដ្ឋ'!A12","v":"កម្មវិធីទី១៖ ការអភិវឌ្ឍការអប់រំក្នុងប្រព័ន្ធ ក្រៅប្រព័ន្ធ និងមិនផ្លូវការ"},{"$f":"B11","v":0},null,null,0,null,null,0,null,null,0]
[{"$f":"'ចំណាយ-ថវិការដ្ឋ'!A13","v":"អនុកម្មវិធីទី ១.១០៖ សេវាគាំទ្រការអភិវឌ្ឍការអប់រំក្នុងប្រព័ន្ធ ក្រៅប្រព័ន្ធ និងមិនផ្លូវការរបស់មន្ទីរជំនាញ រាជធានី ខេត្ត"},0,null,null,0,null,null,0,null,null,0]
[{"$f":"'ចំណាយ-ថវិការដ្ឋ'!A14","v":"ចង្កោមសកម្មភាពទី ០១៖ខេត្តបន្ទាយមានជ័យ"},{"$f":"SUM(B13:B21)","v":0},null,null,0,null,null,0,null,null,0]
[{"$f":"'ចំណាយ-ថវិការដ្ឋ'!A15","v":"១.១០.០១.១៖ ការពង្រីកការអប់រំកុមារតូច"},{"$f":"INDEX(total2018,MATCH(A13,activities,0))","v":0},null,null,{"$f":"INDEX(total2019,MATCH(A13,activities,0))","v":0},null,null,{"$f":"INDEX(total2020,MATCH(A13,activities,0))","v":0},null,null,{"$f":"INDEX(total2021,MATCH(A13,activities,0))","v":0}]
[{"$f":"'ចំណាយ-ថវិការដ្ឋ'!A38","v":"១.១០.០១.២៖ ការពង្រឹងគុណភាព និងប្រសិទ្ធភាពនៃការអប់រំនៅបឋមសិក្សា"},0,null,null,0,null,null,0,null,null,0]
[{"$f":"'ចំណាយ-ថវិការដ្ឋ'!A61","v":"១.១០.០១.៣៖ ការចូលរៀនប្រកបដោយសមធម៌​ ការពង្រឹងគុណភាព និងប្រសិទ្ធភាពនៃការ​អប់រំនៅមធ្យមសិក្សា"},0,null,null,0,null,null,0,null,null,0]
[{"$f":"'ចំណាយ-ថវិការដ្ឋ'!A84","v":"១.១០.០១.៤៖ ការពង្រីកការអប់រំក្រៅប្រព័ន្ធ"},0,null,null,0,null,null,0,null,null,0]
[{"$f":"'ចំណាយ-ថវិការដ្ឋ'!A107","v":"១.១០.០១.៥៖ ការពង្រឹង​ និងការពង្រីកកម្មវិធីលើកកម្ពស់សុខភាពសិក្សា"},0,null,null,0,null,null,0,null,null,0]
[{"$f":"'ចំណាយ-ថវិការដ្ឋ'!A130","v":"១.១០.០១.៦៖ លើកកម្ពស់គុណភាព និងប្រសិទ្ធភាពនៃការអនុវត្តកម្មវិធីអប់រំបច្ចេកទេស"},0,null,null,0,null,null,0,null,null,0]
[{"$f":"'ចំណាយ-ថវិការដ្ឋ'!A153","v":"១.១០.០១.៧៖ ការអភិវឌ្ឍការងារបណ្តុះបណ្ដាល និងវិក្រឹតការគ្រូបង្រៀន"},0,null,null,0,null,null,0,null,null,0]
[{"$f":"'ចំណាយ-ថវិការដ្ឋ'!A176","v":"១.១០.០១.៨៖ ការអភិវឌ្ឍកម្មវិធីសិក្សា សម្ភារៈសិក្សា និងបណ្ណាល័យ"},0,null,null,0,null,null,0,null,null,0]
[{"$f":"'ចំណាយ-ថវិការដ្ឋ'!A199","v":"១.១០.០១.៩៖ ពង្រីកការអប់រំបរិយាបន្នគ្រប់ភូមិសិក្សា"},0,null,null,0,null,null,0,null,null,0]
[{"$f":"'ចំណាយ-ថវិការដ្ឋ'!A222","v":"កម្មវិធីទី៣៖ ការអភិវឌ្ឍវិស័យអប់រំកាយនិងកីឡា"},{"$f":"B23","v":0},null,null,0,null,null,0,null,null,0]
[{"$f":"'ចំណាយ-ថវិការដ្ឋ'!A223","v":"អនុកម្មវិធីទី ៣.៥៖ សេវាគាំទ្រការអភិវឌ្ឍវិស័យអប់រំកាយ និងកីឡារបស់មន្ទីរជំនាញរាជធានី ខេត្ត"},0,null,null,0,null,null,0,null,null,0]
[{"$f":"'ចំណាយ-ថវិការដ្ឋ'!A224","v":"ចង្កោមសកម្មភាពទី ០១៖ខេត្តបន្ទាយមានជ័យ"},{"$f":"SUM(B25:B28)","v":0},null,null,{"$f":"SUM(E25:E28)","v":0},null,null,{"$f":"SUM(H25:H28)","v":0},null,null,{"$f":"SUM(K25:K28)","v":0}]
[{"$f":"'ចំណាយ-ថវិការដ្ឋ'!A225","v":"៣.៥.០១.១៖ ការអភិវឌ្ឍកីឡាមហាជន"},{"$f":"INDEX(total2018,MATCH(A25,activities,0))","v":0},null,null,{"$f":"INDEX(total2019,MATCH(A25,activities,0))","v":0},null,null,{"$f":"INDEX(total2020,MATCH(A25,activities,0))","v":0},null,null,{"$f":"INDEX(total2021,MATCH(A25,activities,0))","v":0}]
[{"$f":"'ចំណាយ-ថវិការដ្ឋ'!A248","v":"៣.៥.០១.២៖ ការអភិវឌ្ឍអប់រំកាយ និងកីឡាសិស្ស និស្សិត"},{"$f":"INDEX(total2018,MATCH(A26,activities,0))","v":0},null,null,{"$f":"INDEX(total2019,MATCH(A26,activities,0))","v":0},null,null,{"$f":"INDEX(total2020,MATCH(A26,activities,0))","v":0},null,null,{"$f":"INDEX(total2021,MATCH(A26,activities,0))","v":0}]
[{"$f":"'ចំណាយ-ថវិការដ្ឋ'!A271","v":"៣.៥.០១.៣៖ ការបណ្តុះបណ្តាលធនធានមនុស្សផ្នែកអប់រំកាយ និងកីឡា"},{"$f":"INDEX(total2018,MATCH(A27,activities,0))","v":0},null,null,{"$f":"INDEX(total2019,MATCH(A27,activities,0))","v":0},null,null,{"$f":"INDEX(total2020,MATCH(A27,activities,0))","v":0},null,null,{"$f":"INDEX(total2021,MATCH(A27,activities,0))","v":0}]
[{"$f":"'ចំណាយ-ថវិការដ្ឋ'!A294","v":"៣.៥.០១.៤៖ ការអភិវឌ្ឍកីឡាកម្រិតខ្ពស់"},{"$f":"INDEX(total2018,MATCH(A28,activities,0))","v":0},null,null,{"$f":"INDEX(total2019,MATCH(A28,activities,0))","v":0},null,null,{"$f":"INDEX(total2020,MATCH(A28,activities,0))","v":0},null,null,{"$f":"INDEX(total2021,MATCH(A28,activities,0))","v":0}]
[{"$f":"'ចំណាយ-ថវិការដ្ឋ'!A317","v":"កម្មវិធីទី៤៖ យុវជនម្នាក់មានជំនាញមួយយ៉ាងតិចប្រចាំជីវិត"},{"$f":"B30","v":0},null,null,0,null,null,0,null,null,0]
[{"$f":"'ចំណាយ-ថវិការដ្ឋ'!A318","v":"អនុកម្មវិធីទី ៤.៤៖ សេវាគាំទ្រអភិវឌ្ឍយុវជនម្នាក់មានជំនាញមួយយ៉ាងតិចប្រចាំជីវិតរបស់\nមន្ទីរជំនាញរាជធានី ខេត្ត"},0,null,null,0,null,null,0,null,null,0]
[{"$f":"'ចំណាយ-ថវិការដ្ឋ'!A319","v":"ចង្កោមសកម្មភាពទី ០១៖ខេត្តបន្ទាយមានជ័យ"},{"$f":"SUM(B32:B34)","v":0},null,null,0,null,null,0,null,null,0]
[{"$f":"'ចំណាយ-ថវិការដ្ឋ'!A320","v":"៤.៤.០១.១៖ ការអភិវឌ្ឍសកម្មភាពយុវជន"},{"$f":"INDEX(total2018,MATCH(A32,activities,0))","v":0},null,null,{"$f":"INDEX(total2019,MATCH(A32,activities,0))","v":0},null,null,{"$f":"INDEX(total2020,MATCH(A32,activities,0))","v":0},null,null,{"$f":"INDEX(total2021,MATCH(A32,activities,0))","v":0}]
[{"$f":"'ចំណាយ-ថវិការដ្ឋ'!A343","v":"៤.៤.០១.២៖ ការអភិវឌ្ឍមជ្ឈមណ្ឌលយុវជន"},{"$f":"INDEX(total2018,MATCH(A33,activities,0))","v":0},null,null,{"$f":"INDEX(total2019,MATCH(A33,activities,0))","v":0},null,null,{"$f":"INDEX(total2020,MATCH(A33,activities,0))","v":0},null,null,{"$f":"INDEX(total2021,MATCH(A33,activities,0))","v":0}]
[{"$f":"'ចំណាយ-ថវិការដ្ឋ'!A366","v":"៤.៤.០១.៣៖ ការពង្រឹងសកម្មភាពកាយរិទ្ធ"},{"$f":"INDEX(total2018,MATCH(A34,activities,0))","v":0},null,null,{"$f":"INDEX(total2019,MATCH(A34,activities,0))","v":0},null,null,{"$f":"INDEX(total2020,MATCH(A34,activities,0))","v":0},null,null,{"$f":"INDEX(total2021,MATCH(A34,activities,0))","v":0}]
[{"$f":"'ចំណាយ-ថវិការដ្ឋ'!A389","v":"កម្មវិធីទី៥៖ ការគាំទ្រសេវាអប់រំ និងអភិបាលកិច្ចល្អ"},{"$f":"B36","v":0},null,null,{"$f":"E36","v":0},null,null,0,null,null,0]
[{"$f":"'ចំណាយ-ថវិការដ្ឋ'!A390","v":"អនុកម្មវិធីទី ៥.១៨៖ សេវាគាំទ្រសេវាអប់រំ និងអភិបាលកិច្ចល្អ របស់មន្ទីរជំនាញរាជធានី ខេត្ត"},{"$f":"B37","v":0},null,null,0,null,null,0,null,null,0]
[{"$f":"'ចំណាយ-ថវិការដ្ឋ'!A391","v":"ចង្កោមសកម្មភាពទី ០១៖ខេត្តបន្ទាយមានជ័យ"},{"$f":"SUM(B38:B54)","v":0},null,null,{"$f":"SUM(E38:E54)","v":0},null,null,0,null,null,0]
[{"$f":"'ចំណាយ-ថវិការដ្ឋ'!A392","v":"៥.១៨.០១.១៖ ការអភិវឌ្ឍ និងពង្រឹងប្រព័ន្ធផែនការអប់រំ"},{"$f":"INDEX(total2018,MATCH(A38,activities,0))","v":0},null,null,{"$f":"INDEX(total2019,MATCH(A38,activities,0))","v":0},null,null,{"$f":"INDEX(total2020,MATCH(A38,activities,0))","v":0},null,null,{"$f":"INDEX(total2021,MATCH(A38,activities,0))","v":0}]
[{"$f":"'ចំណាយ-ថវិការដ្ឋ'!A415","v":"៥.១៨.០១.២៖ ការគ្រប់គ្រង និងពង្រឹងប្រសិទ្ធភាពធនធានមនុស្ស"},0,null,null,0,null,null,0,null,null,0]
[{"$f":"'ចំណាយ-ថវិការដ្ឋ'!A438","v":"៥.១៨.០១.៣៖ ការអភិវឌ្ឍសមត្ថភាព ការងារគ្រប់គ្រង ផែនការហិរញ្ញវត្ថុ និងមូលដ្ឋានសម្ភារៈ"},0,null,null,0,null,null,0,null,null,0]
[{"$f":"'ចំណាយ-ថវិការដ្ឋ'!A461","v":"៥.១៨.០១.៤៖ ការពង្រឹងការងារសវនកម្មផ្ទៃក្នុង"},0,null,null,0,null,null,0,null,null,0]
[{"$f":"'ចំណាយ-ថវិការដ្ឋ'!A484","v":"៥.១៨.០១.៥៖ ការពិនិត្យតាមដាន វាយតម្លៃ និងអធិការកិច្ចប្រព័ន្ធធានាគុណភាពអប់រំ"},0,null,null,0,null,null,0,null,null,0]
[{"$f":"'ចំណាយ-ថវិការដ្ឋ'!A507","v":"៥.១៨.០១.៦៖ អធិការកិច្ចរដ្ឋបាល និងហិរញ្ញវត្ថុ"},0,null,null,0,null,null,0,null,null,0]
[{"$f":"'ចំណាយ-ថវិការដ្ឋ'!A530","v":"៥.១៨.០១.៧៖ លើកកម្ពស់ការផ្សព្វផ្សាយព័ត៌មានអប់រំ និងកិច្ចសហប្រតិបត្តិការ អាស៊ាន និងស៊ីមេអូ"},0,null,null,0,null,null,0,null,null,0]
[{"$f":"'ចំណាយ-ថវិការដ្ឋ'!A553","v":"៥.១៨.០១.៨៖ ការពង្រឹងការងារនីតិកម្ម"},0,null,null,0,null,null,0,null,null,0]
[{"$f":"'ចំណាយ-ថវិការដ្ឋ'!A576","v":"៥.១៨.០១.៩៖ ការពង្រឹងការគ្រប់គ្រងហេដ្ឋារចនាសម្ព័ន្ធអប់រំ"},0,null,null,0,null,null,0,null,null,0]
[{"$f":"'ចំណាយ-ថវិការដ្ឋ'!A599","v":"៥.១៨.០១.១០៖ ការពង្រឹងការគ្រប់គ្រង ការផ្គត់ផ្គង់សម្ភារៈ និងទ្រព្យសម្បត្តិរដ្ឋ"},0,null,null,0,null,null,0,null,null,0]
[{"$f":"'ចំណាយ-ថវិការដ្ឋ'!A622","v":"៥.១៨.០១.១១៖ ការអភិវឌ្ឍ និងពង្រឹងប្រសិទ្ធភាពការគ្រប់គ្រង និងការធានាភាពសក្តិសិទ្ធនៃសេវារដ្ឋបាលអប់រំ"},0,null,null,0,null,null,0,null,null,0]
[{"$f":"'ចំណាយ-ថវិការដ្ឋ'!A645","v":"៥.១៨.០១.១២៖ ការអភិវឌ្ឍកិច្ចសហប្រតិបត្តិការជាតិ អន្តរជាតិលើវិស័យអប់រំ"},0,null,null,0,null,null,0,null,null,0]
[{"$f":"'ចំណាយ-ថវិការដ្ឋ'!A668","v":"៥.១៨.០១.១៣៖ ការអភិវឌ្ឍប្រព័ន្ធព័ត៌មានគ្រប់គ្រងអប់រំ"},0,null,null,0,null,null,0,null,null,0]
[{"$f":"'ចំណាយ-ថវិការដ្ឋ'!A691","v":"៥.១៨.០១.១៤៖ អភិវឌ្ឍគោលនយោបាយអប់រំ និងការស្រាវជ្រាវ"},0,null,null,0,null,null,0,null,null,0]
[{"$f":"'ចំណាយ-ថវិការដ្ឋ'!A714","v":"៥.១៨.០១.១៥៖ អភិវឌ្ឍប្រព័ន្ធពិនិត្យតាមដាន និងវាយតម្លៃ"},0,null,null,0,null,null,0,null,null,0]
[{"$f":"'ចំណាយ-ថវិការដ្ឋ'!A737","v":"៥.១៨.០១.១៦៖ ការអភិវឌ្ឍនិងពង្រឹងប្រព័ន្ធព័ត៌មានវិទ្យា"},0,null,null,0,null,null,0,null,null,0]
[{"$f":"'ចំណាយ-ថវិការដ្ឋ'!A760","v":"៥.១៨.០១.១៧៖ ការពង្រឹងគុណភាព និងប្រសិទ្ធភាពការងារប្រឡងនៅមធ្យមសិក្សានិងអប់រំបច្ចេកទេស"},0,null,null,0,null,null,0,null,null,0]

{"sheet":"Table 4.2","index":5,"n_rows":150,"n_cols":13,"rows_kept":150,"cut":false,"hidden":false,"merged":[[3,0,3,12],[5,0,6,0],[5,1,5,3],[5,4,5,6],[5,7,5,9],[5,10,5,12]]}
[]
["ក្រសួងអប់រំ​​​​​​​​​​​ យុវជន និងកីឡា"]
[{"$f":"CONCATENATE(\"មន្ទីរអប់រំ យុវជន និងកីឡា\",province)","v":"មន្ទីរអប់រំ យុវជន និងកីឡាខេត្តបន្ទាយមានជ័យ"}]
["តារាង ៤ ការកំណត់តម្រូវការចំណាយសម្រាប់កម្មវិធី និងអនុកម្មវិធី"]
[null,null,null,null,null,null,null,null,null,null,null,null,"ឯកតា៖ លានរៀល"]
["តម្រូវការឥណទាន\nតាមប្រភេទចំណាយ","ច្បាប់ហិរញ្ញវត្ថុ \nឆ្នាំ ២០១៩",null,null,"គ្រោងតម្រូវការឥណទាន\nសម្រាប់ឆ្នាំ ២០២០",null,null,"គ្រោងតម្រូវការឥណទាន\nសម្រាប់ឆ្នាំ ២០២១",null,null,"គ្រោងតម្រូវការឥណទាន\nសម្រាប់ឆ្នាំ ២០២២"]
[null,"ថវិការដ្ឋ","ថវិកាដៃគូ \nអភិវឌ្ឍ","ផ្សេងៗ","ថវិការដ្ឋ","ថវិកាដៃគូ \nអភិវឌ្ឍ","ផ្សេងៗ","ថវិការដ្ឋ","ថវិកាដៃគូ \nអភិវឌ្ឍ","ផ្សេងៗ","ថវិការដ្ឋ","ថវិកាដៃគូ \nអភិវឌ្ឍ","ផ្សេងៗ"]
["សរុបរួម",{"$f":"SUM(B9,B12)","v":0},null,null,{"$f":"SUM(E9,E12)","v":0},null,null,0,null,null,0]
["□ សរុបចំណាយចរន្ដ",{"$f":"SUM(B10:B11)","v":0},null,null,{"$f":"SUM(E10:E11)","v":0},null,null,0,null,null,0]
["•  បន្ទុកបុគ្គលិក",{"$f":"SUM(B21,B54,B87,B120)","v":0},null,null,{"$f":"SUM(E21,E54,E87,E120)","v":0},null,null,{"$f":"SUM(H21,H54,H87,H120)","v":0},null,null,{"$f":"SUM(K21,K54,K87,K120)","v":0}]
["•  ក្រៅបន្ទុកបុគ្គលិក",{"$f":"SUM(B22,B55,B88,B121)","v":0},null,null,{"$f":"SUM(E22,E55,E88,E121)","v":0},null,null,{"$f":"SUM(H22,H55,H88,H121)","v":0},null,null,{"$f":"SUM(K22,K55,K88,K121)","v":0}]
["□ សរុបចំណាយមូលធន",{"$f":"SUM(B13,B16)","v":0},null,null,{"$f":"SUM(E13,E16)","v":0},null,null,0,null,null,0]
["•  គម្រោងវិនិយោគ",{"$f":"SUM(B14:B15)","v":0},null,null,{"$f":"SUM(E14:E15)","v":0},null,null,0,null,null,0]
["- មានហិរញ្ញប្បទាន",{"$f":"SUM(B25,B58,B91,B124)","v":0},null,null,{"$f":"SUM(E25,E58,E91,E124)","v":0},null,null,{"$f":"SUM(H25,H58,H91,H124)","v":0},null,null,{"$f":"SUM(K25,K58,K91,K124)","v":0}]
["- មិនទាន់មានហិរញ្ញប្បទាន",{"$f":"SUM(B26,B59,B92,B125)","v":0},null,null,{"$f":"SUM(E26,E59,E92,E125)","v":0},null,null,{"$f":"SUM(H26,H59,H92,H125)","v":0},null,null,{"$f":"SUM(K26,K59,K92,K125)","v":0}]
["•  ជំនួយបច្ចេកទេស",{"$f":"SUM(B17:B18)","v":0},null,null,{"$f":"SUM(E17:E18)","v":0},null,null,0,null,null,0]
["- មានហិរញ្ញប្បទាន",{"$f":"SUM(B28,B61,B94,B127)","v":0},null,null,{"$f":"SUM(E28,E61,E94,E127)","v":0},null,null,{"$f":"SUM(H28,H61,H94,H127)","v":0},null,null,{"$f":"SUM(K28,K61,K94,K127)","v":0}]
["- មិនទាន់មានហិរញ្ញប្បទាន",{"$f":"SUM(B29,B62,B95,B128)","v":0},null,null,{"$f":"SUM(E29,E62,E95,E128)","v":0},null,null,{"$f":"SUM(H29,H62,H95,H128)","v":0},null,null,{"$f":"SUM(K29,K62,K95,K128)","v":0}]
[{"$f":"ព័ត៌មានអង្គភាព!C3","v":"កម្មវិធីទី១៖ ការអភិវឌ្ឍការអប់រំក្នុងប្រព័ន្ធ ក្រៅប្រព័ន្ធ និងមិនផ្លូវការ"},{"$f":"SUM(B20,B23)","v":0},null,null,{"$f":"SUM(E20,E23)","v":0},null,null,0,null,null,0]
["□ សរុបចំណាយចរន្ដ",{"$f":"SUM(B21:B22)","v":0},null,null,{"$f":"SUM(E21:E22)","v":0},null,null,0,null,null,0]
["•  បន្ទុកបុគ្គលិក",{"$f":"B32","v":0},null,null,{"$f":"E32","v":0},null,null,{"$f":"H32","v":0},null,null,{"$f":"K32","v":0}]
["•  ក្រៅបន្ទុកបុគ្គលិក",{"$f":"B33","v":0},null,null,{"$f":"E33","v":0},null,null,{"$f":"H33","v":0},null,null,{"$f":"K33","v":0}]
["□ សរុបចំណាយមូលធន",{"$f":"SUM(B24,B27)","v":0},null,null,{"$f":"SUM(E24,E27)","v":0},null,null,0,null,null,0]
["•  គម្រោងវិនិយោគ",{"$f":"SUM(B25:B26)","v":0},null,null,{"$f":"SUM(E25:E26)","v":0},null,null,0,null,null,0]
["- មានហិរញ្ញប្បទាន",{"$f":"B36","v":0},null,null,{"$f":"E36","v":0},null,null,{"$f":"H36","v":0},null,null,{"$f":"K36","v":0}]
["- មិនទាន់មានហិរញ្ញប្បទាន",0,null,null,0,null,null,0,null,null,0]
["•  ជំនួយបច្ចេកទេស",{"$f":"SUM(B28:B29)","v":0},null,null,{"$f":"SUM(E28:E29)","v":0},null,null,0,null,null,0]
["- មានហិរញ្ញប្បទាន",{"$f":"B39","v":0},null,null,{"$f":"E39","v":0},null,null,{"$f":"H39","v":0},null,null,{"$f":"K39","v":0}]
["- មិនទាន់មានហិរញ្ញប្បទាន",0,null,null,0,null,null,0,null,null,0]
[{"$f":"ព័ត៌មានអង្គភាព!C4","v":"អនុកម្មវិធីទី ១.១០៖ សេវាគាំទ្រការអភិវឌ្ឍការអប់រំក្នុងប្រព័ន្ធ ក្រៅប្រព័ន្ធ និងមិនផ្លូវការរបស់មន្ទីរជំនាញ រាជធានី ខេត្ត"},{"$f":"SUM(B31,B34)","v":0},null,null,{"$f":"SUM(E31,E34)","v":0},null,null,{"$f":"SUM(H31,H34)","v":0},null,null,{"$f":"SUM(K31,K34)","v":0}]
["□ សរុបចំណាយចរន្ដ",{"$f":"SUM(B32:B33)","v":0},null,null,{"$f":"SUM(E32:E33)","v":0},null,null,{"$f":"SUM(H32:H33)","v":0},null,null,{"$f":"SUM(K32:K33)","v":0}]
["•  បន្ទុកបុគ្គលិក",{"$f":"B43","v":0},null,null,{"$f":"E43","v":0},null,null,{"$f":"H43","v":0},null,null,{"$f":"K43","v":0}]
["•  ក្រៅបន្ទុកបុគ្គលិក",{"$f":"B44","v":0},null,null,0,null,null,0,null,null,0]
["□ សរុបចំណាយមូលធន",{"$f":"SUM(B35,B38)","v":0},null,null,{"$f":"SUM(E35,E38)","v":0},null,null,{"$f":"SUM(H35,H38)","v":0},null,null,{"$f":"SUM(K35,K38)","v":0}]
["•  គម្រោងវិនិយោគ",{"$f":"SUM(B36:B37)","v":0},null,null,{"$f":"SUM(E36:E37)","v":0},null,null,{"$f":"SUM(H36:H37)","v":0},null,null,{"$f":"SUM(K36:K37)","v":0}]
["- មានហិរញ្ញប្បទាន",{"$f":"B47","v":0},null,null,{"$f":"E47","v":0},null,null,{"$f":"H47","v":0},null,null,{"$f":"K47","v":0}]
["- មិនទាន់មានហិរញ្ញប្បទាន",0,null,null,0,null,null,0,null,null,0]
["•  ជំនួយបច្ចេកទេស",{"$f":"SUM(B39:B40)","v":0},null,null,{"$f":"SUM(E39:E40)","v":0},null,null,{"$f":"SUM(H39:H40)","v":0},null,null,{"$f":"SUM(K39:K40)","v":0}]
["- មានហិរញ្ញប្បទាន",{"$f":"B50","v":0},null,null,{"$f":"E50","v":0},null,null,{"$f":"H50","v":0},null,null,{"$f":"K50","v":0}]
["- មិនទាន់មានហិរញ្ញប្បទាន",0,null,null,0,null,null,0,null,null,0]
[{"$f":"ព័ត៌មានអង្គភាព!C5","v":"ចង្កោមសកម្មភាពទី ០១៖ខេត្តបន្ទាយមានជ័យ"},{"$f":"SUM(B42,B45)","v":0},null,null,{"$f":"SUM(E42,E45)","v":0},null,null,{"$f":"SUM(H42,H45)","v":0},null,null,{"$f":"SUM(K42,K45)","v":0}]
["□ សរុបចំណាយចរន្ដ",{"$f":"SUM(B43:B44)","v":0},null,null,{"$f":"SUM(E43:E44)","v":0},null,null,{"$f":"SUM(H43:H44)","v":0},null,null,{"$f":"SUM(K43:K44)","v":0}]
["•  បន្ទុកបុគ្គលិក",{"$f":"'Table 4 MEF'!B43","v":0},null,null,{"$f":"'Table 4 MEF'!E43","v":0},null,null,{"$f":"'Table 4 MEF'!H43","v":0},null,null,{"$f":"'Table 4 MEF'!K43","v":0}]
["•  ក្រៅបន្ទុកបុគ្គលិក",{"$f":"'Table 4 MEF'!B44","v":0},null,null,{"$f":"'Table 4 MEF'!E44","v":0},null,null,{"$f":"'Table 4 MEF'!H44","v":0},null,null,{"$f":"'Table 4 MEF'!K44","v":0}]
["□ សរុបចំណាយមូលធន",{"$f":"SUM(B46,B49)","v":0},null,null,{"$f":"SUM(E46,E49)","v":0},null,null,{"$f":"SUM(H46,H49)","v":0},null,null,{"$f":"SUM(K46,K49)","v":0}]
["•  គម្រោងវិនិយោគ",{"$f":"SUM(B47:B48)","v":0},null,null,{"$f":"SUM(E47:E48)","v":0},null,null,{"$f":"SUM(H47:H48)","v":0},null,null,{"$f":"SUM(K47:K48)","v":0}]
["- មានហិរញ្ញប្បទាន",{"$f":"'Table 4 MEF'!B47","v":0},null,null,{"$f":"'Table 4 MEF'!E47","v":0},null,null,{"$f":"'Table 4 MEF'!H47","v":0},null,null,{"$f":"'Table 4 MEF'!K47","v":0}]
["- មិនទាន់មានហិរញ្ញប្បទាន",{"$f":"'Table 4 MEF'!B48","v":0},null,null,{"$f":"'Table 4 MEF'!E48","v":0},null,null,{"$f":"'Table 4 MEF'!H48","v":0},null,null,{"$f":"'Table 4 MEF'!K48","v":0}]
["•  ជំនួយបច្ចេកទេស",{"$f":"SUM(B50:B51)","v":0},null,null,{"$f":"SUM(E50:E51)","v":0},null,null,{"$f":"SUM(H50:H51)","v":0},null,null,{"$f":"SUM(K50:K51)","v":0}]
["- មានហិរញ្ញប្បទាន",{"$f":"'Table 4 MEF'!B50","v":0},null,null,{"$f":"'Table 4 MEF'!E50","v":0},null,null,{"$f":"'Table 4 MEF'!H50","v":0},null,null,{"$f":"'Table 4 MEF'!K50","v":0}]
["- មិនទាន់មានហិរញ្ញប្បទាន",{"$f":"'Table 4 MEF'!B51","v":0},null,null,{"$f":"'Table 4 MEF'!E51","v":0},null,null,{"$f":"'Table 4 MEF'!H51","v":0},null,null,{"$f":"'Table 4 MEF'!K51","v":0}]
[{"$f":"ព័ត៌មានអង្គភាព!C15","v":"កម្មវិធីទី៣៖ ការអភិវឌ្ឍវិស័យអប់រំកាយនិងកីឡា"},{"$f":"SUM(B53,B56)","v":0},null,null,{"$f":"SUM(E53,E56)","v":0},null,null,0,null,null,0]
["□ សរុបចំណាយចរន្ដ",{"$f":"SUM(B54:B55)","v":0},null,null,{"$f":"SUM(E54:E55)","v":0},null,null,{"$f":"SUM(H54:H55)","v":0},null,null,{"$f":"SUM(K54:K55)","v":0}]
["•  បន្ទុកបុគ្គលិក",{"$f":"B65","v":0},null,null,{"$f":"E65","v":0},null,null,{"$f":"H65","v":0},null,null,{"$f":"K65","v":0}]
["•  ក្រៅបន្ទុកបុគ្គលិក",{"$f":"B66","v":0},null,null,0,null,null,0,null,null,0]
["□ សរុបចំណាយមូលធន",{"$f":"SUM(B57,B60)","v":0},null,null,{"$f":"SUM(E57,E60)","v":0},null,null,{"$f":"SUM(H57,H60)","v":0},null,null,{"$f":"SUM(K57,K60)","v":0}]
["•  គម្រោងវិនិយោគ",{"$f":"SUM(B58:B59)","v":0},null,null,{"$f":"SUM(E58:E59)","v":0},null,null,{"$f":"SUM(H58:H59)","v":0},null,null,{"$f":"SUM(K58:K59)","v":0}]
["- មានហិរញ្ញប្បទាន",{"$f":"B69","v":0},null,null,{"$f":"E69","v":0},null,null,{"$f":"H69","v":0},null,null,{"$f":"K69","v":0}]
["- មិនទាន់មានហិរញ្ញប្បទាន",0,null,null,0,null,null,0,null,null,0]
["•  ជំនួយបច្ចេកទេស",{"$f":"SUM(B61:B62)","v":0},null,null,{"$f":"SUM(E61:E62)","v":0},null,null,{"$f":"SUM(H61:H62)","v":0},null,null,{"$f":"SUM(K61:K62)","v":0}]
["- មានហិរញ្ញប្បទាន",{"$f":"B72","v":0},null,null,{"$f":"E72","v":0},null,null,{"$f":"H72","v":0},null,null,{"$f":"K72","v":0}]
["- មិនទាន់មានហិរញ្ញប្បទាន",0,null,null,0,null,null,0,null,null,0]
[{"$f":"ព័ត៌មានអង្គភាព!C16","v":"អនុកម្មវិធីទី ៣.៥៖ សេវាគាំទ្រការអភិវឌ្ឍវិស័យអប់រំកាយ និងកីឡារបស់មន្ទីរជំនាញរាជធានី ខេត្ត"},{"$f":"SUM(B64,B67)","v":0},null,null,{"$f":"SUM(E64,E67)","v":0},null,null,{"$f":"SUM(H64,H67)","v":0},null,null,{"$f":"SUM(K64,K67)","v":0}]
["□ សរុបចំណាយចរន្ដ",{"$f":"SUM(B65:B66)","v":0},null,null,{"$f":"SUM(E65:E66)","v":0},null,null,{"$f":"SUM(H65:H66)","v":0},null,null,{"$f":"SUM(K65:K66)","v":0}]
["•  បន្ទុកបុគ្គលិក",{"$f":"B76","v":0},null,null,{"$f":"E76","v":0},null,null,{"$f":"H76","v":0},null,null,{"$f":"K76","v":0}]
["•  ក្រៅបន្ទុកបុគ្គលិក",{"$f":"B77","v":0},null,null,0,null,null,0,null,null,0]
["□ សរុបចំណាយមូលធន",{"$f":"SUM(B68,B71)","v":0},null,null,{"$f":"SUM(E68,E71)","v":0},null,null,{"$f":"SUM(H68,H71)","v":0},null,null,{"$f":"SUM(K68,K71)","v":0}]
["•  គម្រោងវិនិយោគ",{"$f":"SUM(B69:B70)","v":0},null,null,{"$f":"SUM(E69:E70)","v":0},null,null,{"$f":"SUM(H69:H70)","v":0},null,null,{"$f":"SUM(K69:K70)","v":0}]
["- មានហិរញ្ញប្បទាន",{"$f":"B80","v":0},null,null,{"$f":"E80","v":0},null,null,{"$f":"H80","v":0},null,null,{"$f":"K80","v":0}]
["- មិនទាន់មានហិរញ្ញប្បទាន",0,null,null,0,null,null,0,null,null,0]
["•  ជំនួយបច្ចេកទេស",{"$f":"SUM(B72:B73)","v":0},null,null,{"$f":"SUM(E72:E73)","v":0},null,null,{"$f":"SUM(H72:H73)","v":0},null,null,{"$f":"SUM(K72:K73)","v":0}]
["- មានហិរញ្ញប្បទាន",{"$f":"B83","v":0},null,null,{"$f":"E83","v":0},null,null,{"$f":"H83","v":0},null,null,{"$f":"K83","v":0}]
["- មិនទាន់មានហិរញ្ញប្បទាន",0,null,null,0,null,null,0,null,null,0]
[{"$f":"ព័ត៌មានអង្គភាព!C5","v":"ចង្កោមសកម្មភាពទី ០១៖ខេត្តបន្ទាយមានជ័យ"},{"$f":"SUM(B75,B78)","v":0},null,null,{"$f":"SUM(E75,E78)","v":0},null,null,{"$f":"SUM(H75,H78)","v":0},null,null,{"$f":"SUM(K75,K78)","v":0}]
["□ សរុបចំណាយចរន្ដ",{"$f":"SUM(B76:B77)","v":0},null,null,{"$f":"SUM(E76:E77)","v":0},null,null,{"$f":"SUM(H76:H77)","v":0},null,null,{"$f":"SUM(K76:K77)","v":0}]
["•  បន្ទុកបុគ្គលិក",{"$f":"'Table 4 MEF'!B175","v":0},null,null,{"$f":"'Table 4 MEF'!E175","v":0},null,null,{"$f":"'Table 4 MEF'!H175","v":0},null,null,{"$f":"'Table 4 MEF'!K175","v":0}]
["•  ក្រៅបន្ទុកបុគ្គលិក",{"$f":"'Table 4 MEF'!B176","v":0},null,null,{"$f":"'Table 4 MEF'!E176","v":0},null,null,{"$f":"'Table 4 MEF'!H176","v":0},null,null,{"$f":"'Table 4 MEF'!K176","v":0}]
["□ សរុបចំណាយមូលធន",{"$f":"SUM(B79,B82)","v":0},null,null,{"$f":"SUM(E79,E82)","v":0},null,null,{"$f":"SUM(H79,H82)","v":0},null,null,{"$f":"SUM(K79,K82)","v":0}]
["•  គម្រោងវិនិយោគ",{"$f":"SUM(B80:B81)","v":0},null,null,{"$f":"SUM(E80:E81)","v":0},null,null,{"$f":"SUM(H80:H81)","v":0},null,null,{"$f":"SUM(K80:K81)","v":0}]
["- មានហិរញ្ញប្បទាន",{"$f":"'Table 4 MEF'!B179","v":0},null,null,{"$f":"'Table 4 MEF'!E179","v":0},null,null,{"$f":"'Table 4 MEF'!H179","v":0},null,null,{"$f":"'Table 4 MEF'!K179","v":0}]
["- មិនទាន់មានហិរញ្ញប្បទាន",{"$f":"'Table 4 MEF'!B180","v":0},null,null,{"$f":"'Table 4 MEF'!E180","v":0},null,null,{"$f":"'Table 4 MEF'!H180","v":0},null,null,{"$f":"'Table 4 MEF'!K180","v":0}]
["•  ជំនួយបច្ចេកទេស",{"$f":"SUM(B83:B84)","v":0},null,null,{"$f":"SUM(E83:E84)","v":0},null,null,{"$f":"SUM(H83:H84)","v":0},null,null,{"$f":"SUM(K83:K84)","v":0}]
["- មានហិរញ្ញប្បទាន",{"$f":"'Table 4 MEF'!B182","v":0},null,null,{"$f":"'Table 4 MEF'!E182","v":0},null,null,{"$f":"'Table 4 MEF'!H182","v":0},null,null,{"$f":"'Table 4 MEF'!K182","v":0}]
["- មិនទាន់មានហិរញ្ញប្បទាន",{"$f":"'Table 4 MEF'!B183","v":0},null,null,{"$f":"'Table 4 MEF'!E183","v":0},null,null,{"$f":"'Table 4 MEF'!H183","v":0},null,null,{"$f":"'Table 4 MEF'!K183","v":0}]
[{"$f":"ព័ត៌មានអង្គភាព!C22","v":"កម្មវិធីទី៤៖ យុវជនម្នាក់មានជំនាញមួយយ៉ាងតិចប្រចាំជីវិត"},{"$f":"SUM(B86,B89)","v":0},null,null,{"$f":"SUM(E86,E89)","v":0},null,null,0,null,null,0]
["□ សរុបចំណាយចរន្ដ",{"$f":"SUM(B87:B88)","v":0},null,null,{"$f":"SUM(E87:E88)","v":0},null,null,{"$f":"SUM(H87:H88)","v":0},null,null,{"$f":"SUM(K87:K88)","v":0}]
["•  បន្ទុកបុគ្គលិក",{"$f":"B98","v":0},null,null,{"$f":"E98","v":0},null,null,{"$f":"H98","v":0},null,null,{"$f":"K98","v":0}]
["•  ក្រៅបន្ទុកបុគ្គលិក",{"$f":"B99","v":0},null,null,0,null,null,0,null,null,0]
["□ សរុបចំណាយមូលធន",{"$f":"SUM(B90,B93)","v":0},null,null,{"$f":"SUM(E90,E93)","v":0},null,null,{"$f":"SUM(H90,H93)","v":0},null,null,{"$f":"SUM(K90,K93)","v":0}]
["•  គម្រោងវិនិយោគ",{"$f":"SUM(B91:B92)","v":0},null,null,{"$f":"SUM(E91:E92)","v":0},null,null,{"$f":"SUM(H91:H92)","v":0},null,null,{"$f":"SUM(K91:K92)","v":0}]
["- មានហិរញ្ញប្បទាន",{"$f":"B102","v":0},null,null,{"$f":"E102","v":0},null,null,{"$f":"H102","v":0},null,null,{"$f":"K102","v":0}]
["- មិនទាន់មានហិរញ្ញប្បទាន",0,null,null,0,null,null,0,null,null,0]
["•  ជំនួយបច្ចេកទេស",{"$f":"SUM(B94:B95)","v":0},null,null,{"$f":"SUM(E94:E95)","v":0},null,null,{"$f":"SUM(H94:H95)","v":0},null,null,{"$f":"SUM(K94:K95)","v":0}]
["- មានហិរញ្ញប្បទាន",{"$f":"B105","v":0},null,null,{"$f":"E105","v":0},null,null,{"$f":"H105","v":0},null,null,{"$f":"K105","v":0}]
["- មិនទាន់មានហិរញ្ញប្បទាន",0,null,null,0,null,null,0,null,null,0]
[{"$f":"ព័ត៌មានអង្គភាព!C23","v":"អនុកម្មវិធីទី ៤.៤៖ សេវាគាំទ្រអភិវឌ្ឍយុវជនម្នាក់មានជំនាញមួយយ៉ាងតិចប្រចាំជីវិតរបស់\nមន្ទីរជំនាញរាជធានី ខេត្ត"},{"$f":"SUM(B97,B100)","v":0},null,null,{"$f":"SUM(E97,E100)","v":0},null,null,{"$f":"SUM(H97,H100)","v":0},null,null,{"$f":"SUM(K97,K100)","v":0}]
["□ សរុបចំណាយចរន្ដ",{"$f":"SUM(B98:B99)","v":0},null,null,{"$f":"SUM(E98:E99)","v":0},null,null,{"$f":"SUM(H98:H99)","v":0},null,null,{"$f":"SUM(K98:K99)","v":0}]
["•  បន្ទុកបុគ្គលិក",{"$f":"B109","v":0},null,null,{"$f":"E109","v":0},null,null,{"$f":"H109","v":0},null,null,{"$f":"K109","v":0}]
["•  ក្រៅបន្ទុកបុគ្គលិក",{"$f":"B110","v":0},null,null,0,null,null,0,null,null,0]
["□ សរុបចំណាយមូលធន",{"$f":"SUM(B101,B104)","v":0},null,null,{"$f":"SUM(E101,E104)","v":0},null,null,{"$f":"SUM(H101,H104)","v":0},null,null,{"$f":"SUM(K101,K104)","v":0}]
["•  គម្រោងវិនិយោគ",{"$f":"SUM(B102:B103)","v":0},null,null,{"$f":"SUM(E102:E103)","v":0},null,null,{"$f":"SUM(H102:H103)","v":0},null,null,{"$f":"SUM(K102:K103)","v":0}]
["- មានហិរញ្ញប្បទាន",{"$f":"B113","v":0},null,null,{"$f":"E113","v":0},null,null,{"$f":"H113","v":0},null,null,{"$f":"K113","v":0}]
["- មិនទាន់មានហិរញ្ញប្បទាន",0,null,null,0,null,null,0,null,null,0]
["•  ជំនួយបច្ចេកទេស",{"$f":"SUM(B105:B106)","v":0},null,null,{"$f":"SUM(E105:E106)","v":0},null,null,{"$f":"SUM(H105:H106)","v":0},null,null,{"$f":"SUM(K105:K106)","v":0}]
["- មានហិរញ្ញប្បទាន",{"$f":"B116","v":0},null,null,{"$f":"E116","v":0},null,null,{"$f":"H116","v":0},null,null,{"$f":"K116","v":0}]
["- មិនទាន់មានហិរញ្ញប្បទាន",0,null,null,0,null,null,0,null,null,0]
[{"$f":"ព័ត៌មានអង្គភាព!C24","v":"ចង្កោមសកម្មភាពទី ០១៖ខេត្តបន្ទាយមានជ័យ"},{"$f":"SUM(B108,B111)","v":0},null,null,{"$f":"SUM(E108,E111)","v":0},null,null,{"$f":"SUM(H108,H111)","v":0},null,null,{"$f":"SUM(K108,K111)","v":0}]
["□ សរុបចំណាយចរន្ដ",{"$f":"SUM(B109:B110)","v":0},null,null,{"$f":"SUM(E109:E110)","v":0},null,null,{"$f":"SUM(H109:H110)","v":0},null,null,{"$f":"SUM(K109:K110)","v":0}]
["•  បន្ទុកបុគ្គលិក",{"$f":"'Table 4 MEF'!B252","v":0},null,null,{"$f":"'Table 4 MEF'!E252","v":0},null,null,{"$f":"'Table 4 MEF'!H252","v":0},null,null,{"$f":"'Table 4 MEF'!K252","v":0}]
["•  ក្រៅបន្ទុកបុគ្គលិក",{"$f":"'Table 4 MEF'!B253","v":0},null,null,{"$f":"'Table 4 MEF'!E253","v":0},null,null,{"$f":"'Table 4 MEF'!H253","v":0},null,null,{"$f":"'Table 4 MEF'!K253","v":0}]
["□ សរុបចំណាយមូលធន",{"$f":"SUM(B112,B115)","v":0},null,null,{"$f":"SUM(E112,E115)","v":0},null,null,{"$f":"SUM(H112,H115)","v":0},null,null,{"$f":"SUM(K112,K115)","v":0}]
["•  គម្រោងវិនិយោគ",{"$f":"SUM(B113:B114)","v":0},null,null,{"$f":"SUM(E113:E114)","v":0},null,null,{"$f":"SUM(H113:H114)","v":0},null,null,{"$f":"SUM(K113:K114)","v":0}]
["- មានហិរញ្ញប្បទាន",{"$f":"'Table 4 MEF'!B256","v":0},null,null,{"$f":"'Table 4 MEF'!E256","v":0},null,null,{"$f":"'Table 4 MEF'!H256","v":0},null,null,{"$f":"'Table 4 MEF'!K256","v":0}]
["- មិនទាន់មានហិរញ្ញប្បទាន",{"$f":"'Table 4 MEF'!B257","v":0},null,null,{"$f":"'Table 4 MEF'!E257","v":0},null,null,{"$f":"'Table 4 MEF'!H257","v":0},null,null,{"$f":"'Table 4 MEF'!K257","v":0}]
["•  ជំនួយបច្ចេកទេស",{"$f":"SUM(B116:B117)","v":0},null,null,{"$f":"SUM(E116:E117)","v":0},null,null,{"$f":"SUM(H116:H117)","v":0},null,null,{"$f":"SUM(K116:K117)","v":0}]
["- មានហិរញ្ញប្បទាន",{"$f":"'Table 4 MEF'!B259","v":0},null,null,{"$f":"'Table 4 MEF'!E259","v":0},null,null,{"$f":"'Table 4 MEF'!H259","v":0},null,null,{"$f":"'Table 4 MEF'!K259","v":0}]
["- មិនទាន់មានហិរញ្ញប្បទាន",{"$f":"'Table 4 MEF'!B260","v":0},null,null,{"$f":"'Table 4 MEF'!E260","v":0},null,null,{"$f":"'Table 4 MEF'!H260","v":0},null,null,{"$f":"'Table 4 MEF'!K260","v":0}]
[{"$f":"ព័ត៌មានអង្គភាព!C28","v":"កម្មវិធីទី៥៖ ការគាំទ្រសេវាអប់រំ និងអភិបាលកិច្ចល្អ"},{"$f":"SUM(B119,B122)","v":0},null,null,{"$f":"SUM(E119,E122)","v":0},null,null,0,null,null,0]
["□ សរុបចំណាយចរន្ដ",{"$f":"SUM(B120:B121)","v":0},null,null,{"$f":"SUM(E120:E121)","v":0},null,null,{"$f":"SUM(H120:H121)","v":0},null,null,{"$f":"SUM(K120:K121)","v":0}]
["•  បន្ទុកបុគ្គលិក",{"$f":"B131","v":0},null,null,{"$f":"E131","v":0},null,null,{"$f":"H131","v":0},null,null,{"$f":"K131","v":0}]
["•  ក្រៅបន្ទុកបុគ្គលិក",{"$f":"B132","v":0},null,null,0,null,null,0,null,null,0]
["□ សរុបចំណាយមូលធន",{"$f":"SUM(B123,B126)","v":0},null,null,{"$f":"SUM(E123,E126)","v":0},null,null,{"$f":"SUM(H123,H126)","v":0},null,null,{"$f":"SUM(K123,K126)","v":0}]
["•  គម្រោងវិនិយោគ",{"$f":"SUM(B124:B125)","v":0},null,null,{"$f":"SUM(E124:E125)","v":0},null,null,{"$f":"SUM(H124:H125)","v":0},null,null,{"$f":"SUM(K124:K125)","v":0}]
["- មានហិរញ្ញប្បទាន",{"$f":"B135","v":0},null,null,{"$f":"E135","v":0},null,null,{"$f":"H135","v":0},null,null,{"$f":"K135","v":0}]
["- មិនទាន់មានហិរញ្ញប្បទាន",0,null,null,0,null,null,0,null,null,0]
["•  ជំនួយបច្ចេកទេស",{"$f":"SUM(B127:B128)","v":0},null,null,{"$f":"SUM(E127:E128)","v":0},null,null,{"$f":"SUM(H127:H128)","v":0},null,null,{"$f":"SUM(K127:K128)","v":0}]
["- មានហិរញ្ញប្បទាន",{"$f":"B138","v":0},null,null,{"$f":"E138","v":0},null,null,{"$f":"H138","v":0},null,null,{"$f":"K138","v":0}]
["- មិនទាន់មានហិរញ្ញប្បទាន",0,null,null,0,null,null,0,null,null,0]
[{"$f":"ព័ត៌មានអង្គភាព!C29","v":"អនុកម្មវិធីទី ៥.១៨៖ សេវាគាំទ្រសេវាអប់រំ និងអភិបាលកិច្ចល្អ របស់មន្ទីរជំនាញរាជធានី ខេត្ត"},{"$f":"SUM(B130,B133)","v":0},null,null,{"$f":"SUM(E130,E133)","v":0},null,null,{"$f":"SUM(H130,H133)","v":0},null,null,{"$f":"SUM(K130,K133)","v":0}]
["□ សរុបចំណាយចរន្ដ",{"$f":"SUM(B131:B132)","v":0},null,null,{"$f":"SUM(E131:E132)","v":0},null,null,{"$f":"SUM(H131:H132)","v":0},null,null,{"$f":"SUM(K131:K132)","v":0}]
["•  បន្ទុកបុគ្គលិក",{"$f":"B142","v":0},null,null,{"$f":"E142","v":0},null,null,{"$f":"H142","v":0},null,null,{"$f":"K142","v":0}]
["•  ក្រៅបន្ទុកបុគ្គលិក",{"$f":"B143","v":0},null,null,0,null,null,0,null,null,0]
["□ សរុបចំណាយមូលធន",{"$f":"SUM(B134,B137)","v":0},null,null,{"$f":"SUM(E134,E137)","v":0},null,null,{"$f":"SUM(H134,H137)","v":0},null,null,{"$f":"SUM(K134,K137)","v":0}]
["•  គម្រោងវិនិយោគ",{"$f":"SUM(B135:B136)","v":0},null,null,{"$f":"SUM(E135:E136)","v":0},null,null,{"$f":"SUM(H135:H136)","v":0},null,null,{"$f":"SUM(K135:K136)","v":0}]
["- មានហិរញ្ញប្បទាន",{"$f":"B146","v":0},null,null,{"$f":"E146","v":0},null,null,{"$f":"H146","v":0},null,null,{"$f":"K146","v":0}]
["- មិនទាន់មានហិរញ្ញប្បទាន",0,null,null,0,null,null,0,null,null,0]
["•  ជំនួយបច្ចេកទេស",{"$f":"SUM(B138:B139)","v":0},null,null,{"$f":"SUM(E138:E139)","v":0},null,null,{"$f":"SUM(H138:H139)","v":0},null,null,{"$f":"SUM(K138:K139)","v":0}]
["- មានហិរញ្ញប្បទាន",{"$f":"B149","v":0},null,null,{"$f":"E149","v":0},null,null,{"$f":"H149","v":0},null,null,{"$f":"K149","v":0}]
["- មិនទាន់មានហិរញ្ញប្បទាន",0,null,null,0,null,null,0,null,null,0]
[{"$f":"ព័ត៌មានអង្គភាព!C30","v":"ចង្កោមសកម្មភាពទី ០១៖ខេត្តបន្ទាយមានជ័យ"},{"$f":"SUM(B141,B144)","v":0},null,null,{"$f":"SUM(E141,E144)","v":0},null,null,{"$f":"SUM(H141,H144)","v":0},null,null,{"$f":"SUM(K141,K144)","v":0}]
["□ សរុបចំណាយចរន្ដ",{"$f":"SUM(B142:B143)","v":0},null,null,{"$f":"SUM(E142:E143)","v":0},null,null,{"$f":"SUM(H142:H143)","v":0},null,null,{"$f":"SUM(K142:K143)","v":0}]
["•  បន្ទុកបុគ្គលិក",{"$f":"'Table 4 MEF'!B318","v":0},null,null,{"$f":"'Table 4 MEF'!E318","v":0},null,null,{"$f":"'Table 4 MEF'!H318","v":0},null,null,{"$f":"'Table 4 MEF'!K318","v":0}]
["•  ក្រៅបន្ទុកបុគ្គលិក",{"$f":"'Table 4 MEF'!B319","v":0},null,null,{"$f":"'Table 4 MEF'!E319","v":0},null,null,{"$f":"'Table 4 MEF'!H319","v":0},null,null,{"$f":"'Table 4 MEF'!K319","v":0}]
["□ សរុបចំណាយមូលធន",{"$f":"SUM(B145,B148)","v":0},null,null,{"$f":"SUM(E145,E148)","v":0},null,null,{"$f":"SUM(H145,H148)","v":0},null,null,{"$f":"SUM(K145,K148)","v":0}]
["•  គម្រោងវិនិយោគ",{"$f":"SUM(B146:B147)","v":0},null,null,{"$f":"SUM(E146:E147)","v":0},null,null,{"$f":"SUM(H146:H147)","v":0},null,null,{"$f":"SUM(K146:K147)","v":0}]
["- មានហិរញ្ញប្បទាន",{"$f":"'Table 4 MEF'!B322","v":0},null,null,{"$f":"'Table 4 MEF'!E322","v":0},null,null,{"$f":"'Table 4 MEF'!H322","v":0},null,null,{"$f":"'Table 4 MEF'!K322","v":0}]
["- មិនទាន់មានហិរញ្ញប្បទាន",{"$f":"'Table 4 MEF'!B323","v":0},null,null,{"$f":"'Table 4 MEF'!E323","v":0},null,null,{"$f":"'Table 4 MEF'!H323","v":0},null,null,{"$f":"'Table 4 MEF'!K323","v":0}]
["•  ជំនួយបច្ចេកទេស",{"$f":"SUM(B149:B150)","v":0},null,null,{"$f":"SUM(E149:E150)","v":0},null,null,{"$f":"SUM(H149:H150)","v":0},null,null,{"$f":"SUM(K149:K150)","v":0}]
["- មានហិរញ្ញប្បទាន",{"$f":"'Table 4 MEF'!B325","v":0},null,null,{"$f":"'Table 4 MEF'!E325","v":0},null,null,{"$f":"'Table 4 MEF'!H325","v":0},null,null,{"$f":"'Table 4 MEF'!K325","v":0}]
["- មិនទាន់មានហិរញ្ញប្បទាន",{"$f":"'Table 4 MEF'!B326","v":0},null,null,{"$f":"'Table 4 MEF'!E326","v":0},null,null,{"$f":"'Table 4 MEF'!H326","v":0},null,null,{"$f":"'Table 4 MEF'!K326","v":0}]

{"sheet":"Table 4.3","index":6,"n_rows":23,"n_cols":13,"rows_kept":23,"cut":false,"hidden":false,"merged":[[4,0,4,12],[6,0,7,0],[6,1,6,3],[6,4,6,6],[6,7,6,9],[6,10,6,12]]}
[]
[]
["ក្រសួងអប់រំ​​​​​​​​​​​ យុវជន និងកីឡា"]
[{"$f":"CONCATENATE(\"មន្ទីរអប់រំ យុវជន និងកីឡា\",province)","v":"មន្ទីរអប់រំ យុវជន និងកីឡាខេត្តបន្ទាយមានជ័យ"}]
["សរុបការកំណត់តម្រូវការចំណាយសម្រាប់កម្មវិធី និងអនុកម្មវិធី"]
[null,null,null,null,null,null,null,null,null,null,null,null,"ឯកតា៖ លានរៀល"]
["តម្រូវការឥណទាន\nតាមប្រភេទចំណាយ","ច្បាប់ហិរញ្ញវត្ថុ \nឆ្នាំ ២០១៩",null,null,"គ្រោងតម្រូវការឥណទាន\nសម្រាប់ឆ្នាំ ២០២០",null,null,"គ្រោងតម្រូវការឥណទាន\nសម្រាប់ឆ្នាំ ២០២១",null,null,"គ្រោងតម្រូវការឥណទាន\nសម្រាប់ឆ្នាំ ២០២២"]
[null,"ថវិការដ្ឋ","ថវិកាដៃគូ \nអភិវឌ្ឍ","ផ្សេងៗ","ថវិការដ្ឋ","ថវិកាដៃគូ \nអភិវឌ្ឍ","ផ្សេងៗ","ថវិការដ្ឋ","ថវិកាដៃគូ \nអភិវឌ្ឍ","ផ្សេងៗ","ថវិការដ្ឋ","ថវិកាដៃគូ \nអភិវឌ្ឍ","ផ្សេងៗ"]
["សរុបរួម",{"$f":"SUM(B10:B11)","v":0},null,null,{"$f":"SUM(E10:E11)","v":0},null,null,{"$f":"SUM(H10:H11)","v":0},null,null,{"$f":"SUM(K10:K11)","v":0}]
[{"$f":"RIGHT(A13,LEN(A13)-13)","v":" ១៖ ធានាឱ្យការអប់រំមានគុណភាព ប្រកបដោយសមធម៌ បរិយាបន្ន និងលើកកម្ពស់ឱកាសក្នុងការសិក្សាពេញមួយជីវិត"},{"$f":"SUM(B13,B16,B19,B22)","v":0},null,null,{"$f":"SUM(E13,E16,E19,E22)","v":0},null,null,{"$f":"SUM(H13,H16,H19,H22)","v":0},null,null,{"$f":"SUM(K13,K16,K19,K22)","v":0}]
[{"$f":"RIGHT(A14,LEN(A14)-13)","v":" ២៖ ធានាភាពស័ក្តិសិទ្ធនៃភាពជាអ្នកដឹកនាំ និងគ្រប់គ្រងរបស់មន្ត្រី អប់រំគ្រប់លំដាប់ថ្នាក់"},{"$f":"SUM(B14,B17,B20,B23)","v":0},null,null,{"$f":"SUM(E14,E17,E20,E23)","v":0},null,null,{"$f":"SUM(H14,H17,H20,H23)","v":0},null,null,{"$f":"SUM(K14,K17,K20,K23)","v":0}]
[{"$f":"'ចំណាយ-ថវិការដ្ឋ'!A12","v":"កម្មវិធីទី១៖ ការអភិវឌ្ឍការអប់រំក្នុងប្រព័ន្ធ ក្រៅប្រព័ន្ធ និងមិនផ្លូវការ"},{"$f":"SUM(B13:B14)","v":0},null,null,{"$f":"SUM(E13:E14)","v":0},null,null,{"$f":"SUM(H13:H14)","v":0},null,null,{"$f":"SUM(K13:K14)","v":0}]
[{"$f":"cluster_activity_1","v":"សកម្មភាពរង ទី ១៖ ធានាឱ្យការអប់រំមានគុណភាព ប្រកបដោយសមធម៌ បរិយាបន្ន និងលើកកម្ពស់ឱកាសក្នុងការសិក្សាពេញមួយជីវិត"},{"$f":"SUM('Table 4.0'!B14,'Table 4.0'!B17,'Table 4.0'!B20,'Table 4.0'!B23,'Table 4.0'!B26,'Table 4.0'!B29,'Table 4.0'!B32,'Table 4.0'!B35,'Table 4.0'!B38)","v":0},null,null,{"$f":"SUM('Table 4.0'!E14,'Table 4.0'!E17,'Table 4.0'!E20,'Table 4.0'!E23,'Table 4.0'!E26,'Table 4.0'!E29,'Table 4.0'!E32,'Table 4.0'!E35,'Table 4.0'!E38)","v":0},null,null,{"$f":"SUM('Table 4.0'!H14,'Table 4.0'!H17,'Table 4.0'!H20,'Table 4.0'!H23,'Table 4.0'!H26,'Table 4.0'!H29,'Table 4.0'!H32,'Table 4.0'!H35,'Table 4.0'!H38)","v":0},null,null,{"$f":"SUM('Table 4.0'!K14,'Table 4.0'!K17,'Table 4.0'!K20,'Table 4.0'!K23,'Table 4.0'!K26,'Table 4.0'!K29,'Table 4.0'!K32,'Table 4.0'!K35,'Table 4.0'!K38)","v":0}]
[{"$f":"cluster_activity_2","v":"សកម្មភាពរង ទី ២៖ ធានាភាពស័ក្តិសិទ្ធនៃភាពជាអ្នកដឹកនាំ និងគ្រប់គ្រងរបស់មន្ត្រី អប់រំគ្រប់លំដាប់ថ្នាក់"},{"$f":"SUM('Table 4.0'!B15,'Table 4.0'!B18,'Table 4.0'!B21,'Table 4.0'!B24,'Table 4.0'!B27,'Table 4.0'!B30,'Table 4.0'!B33,'Table 4.0'!B36,'Table 4.0'!B39)","v":0},null,null,{"$f":"SUM('Table 4.0'!E15,'Table 4.0'!E18,'Table 4.0'!E21,'Table 4.0'!E24,'Table 4.0'!E27,'Table 4.0'!E30,'Table 4.0'!E33,'Table 4.0'!E36,'Table 4.0'!E39)","v":0},null,null,{"$f":"SUM('Table 4.0'!H15,'Table 4.0'!H18,'Table 4.0'!H21,'Table 4.0'!H24,'Table 4.0'!H27,'Table 4.0'!H30,'Table 4.0'!H33,'Table 4.0'!H36,'Table 4.0'!H39)","v":0},null,null,{"$f":"SUM('Table 4.0'!K15,'Table 4.0'!K18,'Table 4.0'!K21,'Table 4.0'!K24,'Table 4.0'!K27,'Table 4.0'!K30,'Table 4.0'!K33,'Table 4.0'!K36,'Table 4.0'!K39)","v":0}]
[{"$f":"'ចំណាយ-ថវិការដ្ឋ'!A222","v":"កម្មវិធីទី៣៖ ការអភិវឌ្ឍវិស័យអប់រំកាយនិងកីឡា"},{"$f":"SUM(B16:B17)","v":0},null,null,{"$f":"SUM(E16:E17)","v":0},null,null,{"$f":"SUM(H16:H17)","v":0},null,null,{"$f":"SUM(K16:K17)","v":0}]
[{"$f":"cluster_activity_1","v":"សកម្មភាពរង ទី ១៖ ធានាឱ្យការអប់រំមានគុណភាព ប្រកបដោយសមធម៌ បរិយាបន្ន និងលើកកម្ពស់ឱកាសក្នុងការសិក្សាពេញមួយជីវិត"},{"$f":"SUM('Table 4.0'!B44,'Table 4.0'!B47,'Table 4.0'!B50,'Table 4.0'!B53)","v":0},null,null,{"$f":"SUM('Table 4.0'!E44,'Table 4.0'!E47,'Table 4.0'!E50,'Table 4.0'!E53)","v":0},null,null,{"$f":"SUM('Table 4.0'!H44,'Table 4.0'!H47,'Table 4.0'!H50,'Table 4.0'!H53)","v":0},null,null,{"$f":"SUM('Table 4.0'!K44,'Table 4.0'!K47,'Table 4.0'!K50,'Table 4.0'!K53)","v":0}]
[{"$f":"cluster_activity_2","v":"សកម្មភាពរង ទី ២៖ ធានាភាពស័ក្តិសិទ្ធនៃភាពជាអ្នកដឹកនាំ និងគ្រប់គ្រងរបស់មន្ត្រី អប់រំគ្រប់លំដាប់ថ្នាក់"},{"$f":"SUM('Table 4.0'!B45,'Table 4.0'!B48,'Table 4.0'!B51,'Table 4.0'!B54)","v":0},null,null,{"$f":"SUM('Table 4.0'!E45,'Table 4.0'!E48,'Table 4.0'!E51,'Table 4.0'!E54)","v":0},null,null,{"$f":"SUM('Table 4.0'!H45,'Table 4.0'!H48,'Table 4.0'!H51,'Table 4.0'!H54)","v":0},null,null,{"$f":"SUM('Table 4.0'!K45,'Table 4.0'!K48,'Table 4.0'!K51,'Table 4.0'!K54)","v":0}]
[{"$f":"'ចំណាយ-ថវិការដ្ឋ'!A317","v":"កម្មវិធីទី៤៖ យុវជនម្នាក់មានជំនាញមួយយ៉ាងតិចប្រចាំជីវិត"},{"$f":"SUM(B19:B20)","v":0},null,null,{"$f":"SUM(E19:E20)","v":0},null,null,{"$f":"SUM(H19:H20)","v":0},null,null,{"$f":"SUM(K19:K20)","v":0}]
[{"$f":"cluster_activity_1","v":"សកម្មភាពរង ទី ១៖ ធានាឱ្យការអប់រំមានគុណភាព ប្រកបដោយសមធម៌ បរិយាបន្ន និងលើកកម្ពស់ឱកាសក្នុងការសិក្សាពេញមួយជីវិត"},{"$f":"SUM('Table 4.0'!B59,'Table 4.0'!B62,'Table 4.0'!B65)","v":0},null,null,{"$f":"SUM('Table 4.0'!E59,'Table 4.0'!E62,'Table 4.0'!E65)","v":0},null,null,{"$f":"SUM('Table 4.0'!H59,'Table 4.0'!H62,'Table 4.0'!H65)","v":0},null,null,{"$f":"SUM('Table 4.0'!K59,'Table 4.0'!K62,'Table 4.0'!K65)","v":0}]
[{"$f":"cluster_activity_2","v":"សកម្មភាពរង ទី ២៖ ធានាភាពស័ក្តិសិទ្ធនៃភាពជាអ្នកដឹកនាំ និងគ្រប់គ្រងរបស់មន្ត្រី អប់រំគ្រប់លំដាប់ថ្នាក់"},{"$f":"SUM('Table 4.0'!B60,'Table 4.0'!B63,'Table 4.0'!B66)","v":0},null,null,{"$f":"SUM('Table 4.0'!E60,'Table 4.0'!E63,'Table 4.0'!E66)","v":0},null,null,{"$f":"SUM('Table 4.0'!H60,'Table 4.0'!H63,'Table 4.0'!H66)","v":0},null,null,{"$f":"SUM('Table 4.0'!K60,'Table 4.0'!K63,'Table 4.0'!K66)","v":0}]
[{"$f":"'ចំណាយ-ថវិការដ្ឋ'!A389","v":"កម្មវិធីទី៥៖ ការគាំទ្រសេវាអប់រំ និងអភិបាលកិច្ចល្អ"},{"$f":"SUM(B22:B23)","v":0},null,null,{"$f":"SUM(E22:E23)","v":0},null,null,{"$f":"SUM(H22:H23)","v":0},null,null,{"$f":"SUM(K22:K23)","v":0}]
[{"$f":"cluster_activity_1","v":"សកម្មភាពរង ទី ១៖ ធានាឱ្យការអប់រំមានគុណភាព ប្រកបដោយសមធម៌ បរិយាបន្ន និងលើកកម្ពស់ឱកាសក្នុងការសិក្សាពេញមួយជីវិត"},{"$f":"SUM('Table 4.0'!B71,'Table 4.0'!B74,'Table 4.0'!B77,'Table 4.0'!B80,'Table 4.0'!B83,'Table 4.0'!B86,'Table 4.0'!B89,'Table 4.0'!B92,'Table 4.0'!B95,'Table 4.0'!B98,'Table 4.0'!B101,'Table 4.0'!B104,'Table 4.0'!B107,'Table 4.0'!B110,'Table 4.0'!B113,'Table 4.0'!B116,'Table 4.0'!B119)","v":0},null,null,{"$f":"SUM('Table 4.0'!E71,'Table 4.0'!E74,'Table 4.0'!E77,'Table 4.0'!E80,'Table 4.0'!E83,'Table 4.0'!E86,'Table 4.0'!E89,'Table 4.0'!E92,'Table 4.0'!E95,'Table 4.0'!E98,'Table 4.0'!E101,'Table 4.0'!E104,'Table 4.0'!E107,'Table 4.0'!E110,'Table 4.0'!E113,'Table 4.0'!E116,'Table 4.0'!E119)","v":0},null,null,{"$f":"SUM('Table 4.0'!H71,'Table 4.0'!H74,'Table 4.0'!H77,'Table 4.0'!H80,'Table 4.0'!H83,'Table 4.0'!H86,'Table 4.0'!H89,'Table 4.0'!H92,'Table 4.0'!H95,'Table 4.0'!H98,'Table 4.0'!H101,'Table 4.0'!H104,'Table 4.0'!H107,'Table 4.0'!H110,'Table 4.0'!H113,'Table 4.0'!H116,'Table 4.0'!H119)","v":0},null,null,{"$f":"SUM('Table 4.0'!K71,'Table 4.0'!K74,'Table 4.0'!K77,'Table 4.0'!K80,'Table 4.0'!K83,'Table 4.0'!K86,'Table 4.0'!K89,'Table 4.0'!K92,'Table 4.0'!K95,'Table 4.0'!K98,'Table 4.0'!K101,'Table 4.0'!K104,'Table 4.0'!K107,'Table 4.0'!K110,'Table 4.0'!K113,'Table 4.0'!K116,'Table 4.0'!K119)","v":0}]
[{"$f":"cluster_activity_2","v":"សកម្មភាពរង ទី ២៖ ធានាភាពស័ក្តិសិទ្ធនៃភាពជាអ្នកដឹកនាំ និងគ្រប់គ្រងរបស់មន្ត្រី អប់រំគ្រប់លំដាប់ថ្នាក់"},{"$f":"SUM('Table 4.0'!B72,'Table 4.0'!B75,'Table 4.0'!B78,'Table 4.0'!B81,'Table 4.0'!B84,'Table 4.0'!B87,'Table 4.0'!B90,'Table 4.0'!B93,'Table 4.0'!B96,'Table 4.0'!B99,'Table 4.0'!B102,'Table 4.0'!B105,'Table 4.0'!B108,'Table 4.0'!B111,'Table 4.0'!B114,'Table 4.0'!B117,'Table 4.0'!B120)","v":0},null,null,{"$f":"SUM('Table 4.0'!E72,'Table 4.0'!E75,'Table 4.0'!E78,'Table 4.0'!E81,'Table 4.0'!E84,'Table 4.0'!E87,'Table 4.0'!E90,'Table 4.0'!E93,'Table 4.0'!E96,'Table 4.0'!E99,'Table 4.0'!E102,'Table 4.0'!E105,'Table 4.0'!E108,'Table 4.0'!E111,'Table 4.0'!E114,'Table 4.0'!E117,'Table 4.0'!E120)","v":0},null,null,{"$f":"SUM('Table 4.0'!H72,'Table 4.0'!H75,'Table 4.0'!H78,'Table 4.0'!H81,'Table 4.0'!H84,'Table 4.0'!H87,'Table 4.0'!H90,'Table 4.0'!H93,'Table 4.0'!H96,'Table 4.0'!H99,'Table 4.0'!H102,'Table 4.0'!H105,'Table 4.0'!H108,'Table 4.0'!H111,'Table 4.0'!H114,'Table 4.0'!H117,'Table 4.0'!H120)","v":0},null,null,{"$f":"SUM('Table 4.0'!K72,'Table 4.0'!K75,'Table 4.0'!K78,'Table 4.0'!K81,'Table 4.0'!K84,'Table 4.0'!K87,'Table 4.0'!K90,'Table 4.0'!K93,'Table 4.0'!K96,'Table 4.0'!K99,'Table 4.0'!K102,'Table 4.0'!K105,'Table 4.0'!K108,'Table 4.0'!K111,'Table 4.0'!K114,'Table 4.0'!K117,'Table 4.0'!K120)","v":0}]

{"sheet":"Table 4.4","index":7,"n_rows":782,"n_cols":13,"rows_kept":782,"cut":false,"hidden":false,"merged":[[8,11,9,11],[8,6,9,6],[8,7,9,7],[8,8,9,8],[8,9,9,9],[8,10,9,10],[4,0,4,12],[6,0,9,0],[6,1,6,3],[6,4,6,6],[6,7,6,9],[6,10,6,12],[7,1,7,3],[7,4,7,6],[7,7,7,9],[7,10,7,12],[8,12,9,12],[8,1,9,1],[8,2,9,2],[8,3,9,3],[8,4,9,4],[8,5,9,5]]}
[]
["ក្រសួងអប់រំ​​​​​​​​​​​ យុវជន និងកីឡា"]
[{"$f":"CONCATENATE(\"មន្ទីរអប់រំ យុវជន និងកីឡា\",province)","v":"មន្ទីរអប់រំ យុវជន និងកីឡាខេត្តបន្ទាយមានជ័យ"}]
[]
["ការកំណត់តម្រូវការចំណាយសម្រាប់កម្មវិធី និងអនុកម្មវិធី (ថវិការដ្ឋ)"]
[null,null,null,null,null,null,null,null,null,null,null,null,"ឯកតា៖ លានរៀល"]
["តម្រូវការឥណទាន\nតាមប្រភេទចំណាយ","ច្បាប់ហិរញ្ញវត្ថុឆ្នាំ ២០១៩",null,null,"គ្រោងតម្រូវការឥណទាន សម្រាប់ឆ្នាំ ២០២០",null,null,"គ្រោងតម្រូវការឥណទាន សម្រាប់ឆ្នាំ ២០២១",null,null,"គ្រោងតម្រូវការឥណទាន សម្រាប់ឆ្នាំ ២០២២"]
[null,"ចំណាយចរន្ដ",null,null,"ចំណាយចរន្ដ",null,null,"ចំណាយចរន្ដ",null,null,"ចំណាយចរន្ដ"]
[null,"សរុប","បន្ទុកបុគ្គលិក","ក្រៅបន្ទុកបុគ្គលិក","សរុប","បន្ទុកបុគ្គលិក","ក្រៅបន្ទុកបុគ្គលិក","សរុប","បន្ទុកបុគ្គលិក","ក្រៅបន្ទុកបុគ្គលិក","សរុប","បន្ទុកបុគ្គលិក","ក្រៅបន្ទុកបុគ្គលិក"]
[]
["សរុបរួម",{"$f":"SUM(B12,B222,B317,B389)","v":0},0,0,0,0,0,0,0,0,0,0,0]
[{"$f":"ព័ត៌មានអង្គភាព!C3","v":"កម្មវិធីទី១៖ ការអភិវឌ្ឍការអប់រំក្នុងប្រព័ន្ធ ក្រៅប្រព័ន្ធ និងមិនផ្លូវការ"},{"$f":"B13","v":0},{"$f":"C13","v":0},0,0,0,0,0,0,0,0,0,0]
[{"$f":"ព័ត៌មានអង្គភាព!C4","v":"អនុកម្មវិធីទី ១.១០៖ សេវាគាំទ្រការអភិវឌ្ឍការអប់រំក្នុងប្រព័ន្ធ ក្រៅប្រព័ន្ធ និងមិនផ្លូវការរបស់មន្ទីរជំនាញ រាជធានី ខេត្ត"},{"$f":"B14","v":0},0,0,0,0,0,0,0,0,0,0,0]
[{"$f":"ព័ត៌មានអង្គភាព!C5","v":"ចង្កោមសកម្មភាពទី ០១៖ខេត្តបន្ទាយមានជ័យ"},{"$f":"SUM(B15,B38,B61,B84,B107,B130,B153,B176,B199)","v":0},0,0,0,0,0,0,0,0,0,0,0]
[{"$f":"ព័ត៌មានអង្គភាព!C6","v":"១.១០.០១.១៖ ការពង្រីកការអប់រំកុមារតូច"},{"$f":"SUM(B16,B27)","v":0},{"$f":"SUM(C16,C27)","v":0},0,0,0,0,0,0,0,0,0,0]
[{"$f":"cluster_activity_1","v":"សកម្មភាពរង ទី ១៖ ធានាឱ្យការអប់រំមានគុណភាព ប្រកបដោយសមធម៌ បរិយាបន្ន និងលើកកម្ពស់ឱកាសក្នុងការសិក្សាពេញមួយជីវិត"},{"$f":"ROUND(SUM(B17:B26),1)","v":0},{"$f":"ROUND(SUM(C17:C26),1)","v":0},{"$f":"ROUND(SUM(D17:D26),1)","v":0},0,0,0,0,0,0,0,0,0]
[{"$f":"Update_8!C9","v":"១. កិច្ចដំណើរការអង្គភាព"},{"$f":"ROUND(SUM(C17:D17),1)","v":0},{"$f":"'ចំណាយ-ថវិការដ្ឋ'!C17","v":0},{"$f":"'ចំណាយ-ថវិការដ្ឋ'!D17","v":0},{"$f":"ROUND(SUM(F17:G17),1)","v":0},{"$f":"'ចំណាយ-ថវិការដ្ឋ'!F17","v":0},{"$f":"'ចំណាយ-ថវិការដ្ឋ'!G17","v":0},{"$f":"ROUND(SUM(I17:J17),1)","v":0},{"$f":"'ចំណាយ-ថវិការដ្ឋ'!I17","v":0},{"$f":"'ចំណាយ-ថវិការដ្ឋ'!J17","v":0},{"$f":"ROUND(SUM(L17:M17),1)","v":0},{"$f":"'ចំណាយ-ថវិការដ្ឋ'!L17","v":0},{"$f":"'ចំណាយ-ថវិការដ្ឋ'!M17","v":0}]
[{"$f":"Update_8!C10","v":"២. ថវិកាលទ្ធកម្ម"},{"$f":"ROUND(SUM(C18:D18),1)","v":0},{"$f":"'ចំណាយ-ថវិការដ្ឋ'!C18","v":0},{"$f":"'ចំណាយ-ថវិការដ្ឋ'!D18","v":0},0,{"$f":"'ចំណាយ-ថវិការដ្ឋ'!F18","v":0},{"$f":"'ចំណាយ-ថវិការដ្ឋ'!G18","v":0},0,{"$f":"'ចំណាយ-ថវិការដ្ឋ'!I18","v":0},{"$f":"'ចំណាយ-ថវិការដ្ឋ'!J18","v":0},0,{"$f":"'ចំណាយ-ថវិការដ្ឋ'!L18","v":0},{"$f":"'ចំណាយ-ថវិការដ្ឋ'!M18","v":0}]
[{"$f":"Update_8!C11","v":"៣. ពិនិត្យតាមដាន និងវាយតម្លៃ"},0,{"$f":"'ចំណាយ-ថវិការដ្ឋ'!C19","v":0},{"$f":"'ចំណាយ-ថវិការដ្ឋ'!D19","v":0},0,{"$f":"'ចំណាយ-ថវិការដ្ឋ'!F19","v":0},{"$f":"'ចំណាយ-ថវិការដ្ឋ'!G19","v":0},0,{"$f":"'ចំណាយ-ថវិការដ្ឋ'!I19","v":0},{"$f":"'ចំណាយ-ថវិការដ្ឋ'!J19","v":0},0,{"$f":"'ចំណាយ-ថវិការដ្ឋ'!L19","v":0},{"$f":"'ចំណាយ-ថវិការដ្ឋ'!M19","v":0}]
[{"$f":"Update_8!C12","v":"៤. មូលនិធីដំណើរការសាលារៀនសាធារណៈ"},0,{"$f":"'ចំណាយ-ថវិការដ្ឋ'!C20","v":0},{"$f":"'ចំណាយ-ថវិការដ្ឋ'!D20","v":0},0,{"$f":"'ចំណាយ-ថវិការដ្ឋ'!F20","v":0},{"$f":"'ចំណាយ-ថវិការដ្ឋ'!G20","v":0},0,{"$f":"'ចំណាយ-ថវិការដ្ឋ'!I20","v":0},{"$f":"'ចំណាយ-ថវិការដ្ឋ'!J20","v":0},0,{"$f":"'ចំណាយ-ថវិការដ្ឋ'!L20","v":0},{"$f":"'ចំណាយ-ថវិការដ្ឋ'!M20","v":0}]
[{"$f":"Update_8!C13","v":"៥. កែលំអហេដ្ឋារចនាសម្ព័ន្ធមត្តេយ្យសិក្សា"},0,{"$f":"'ចំណាយ-ថវិការដ្ឋ'!C21","v":0},{"$f":"'ចំណាយ-ថវិការដ្ឋ'!D21","v":0},0,{"$f":"'ចំណាយ-ថវិការដ្ឋ'!F21","v":0},{"$f":"'ចំណាយ-ថវិការដ្ឋ'!G21","v":0},0,{"$f":"'ចំណាយ-ថវិការដ្ឋ'!I21","v":0},{"$f":"'ចំណាយ-ថវិការដ្ឋ'!J21","v":0},0,{"$f":"'ចំណាយ-ថវិការដ្ឋ'!L21","v":0},{"$f":"'ចំណាយ-ថវិការដ្ឋ'!M21","v":0}]
[{"$f":"Update_8!C14","v":"៦. អភិវឌ្ឍការអប់រំកុមារតូចឱ្យស្របតាមបទដ្ឋាន"},0,{"$f":"'ចំណាយ-ថវិការដ្ឋ'!C22","v":0},{"$f":"'ចំណាយ-ថវិការដ្ឋ'!D22","v":0},0,{"$f":"'ចំណាយ-ថវិការដ្ឋ'!F22","v":0},{"$f":"'ចំណាយ-ថវិការដ្ឋ'!G22","v":0},0,{"$f":"'ចំណាយ-ថវិការដ្ឋ'!I22","v":0},{"$f":"'ចំណាយ-ថវិការដ្ឋ'!J22","v":0},0,{"$f":"'ចំណាយ-ថវិការដ្ឋ'!L22","v":0},{"$f":"'ចំណាយ-ថវិការដ្ឋ'!M22","v":0}]
[{"$f":"Update_8!C15","v":"៧. គ្រប់គ្រងមត្តយ្យសិក្សាសហគមន៍"},0,{"$f":"'ចំណាយ-ថវិការដ្ឋ'!C23","v":0},{"$f":"'ចំណាយ-ថវិការដ្ឋ'!D23","v":0},0,{"$f":"'ចំណាយ-ថវិការដ្ឋ'!F23","v":0},{"$f":"'ចំណាយ-ថវិការដ្ឋ'!G23","v":0},0,{"$f":"'ចំណាយ-ថវិការដ្ឋ'!I23","v":0},{"$f":"'ចំណាយ-ថវិការដ្ឋ'!J23","v":0},0,{"$f":"'ចំណាយ-ថវិការដ្ឋ'!L23","v":0},{"$f":"'ចំណាយ-ថវិការដ្ឋ'!M23","v":0}]
[{"$f":"Update_8!C16","v":0},0,{"$f":"'ចំណាយ-ថវិការដ្ឋ'!C24","v":0},{"$f":"'ចំណាយ-ថវិការដ្ឋ'!D24","v":0},0,{"$f":"'ចំណាយ-ថវិការដ្ឋ'!F24","v":0},{"$f":"'ចំណាយ-ថវិការដ្ឋ'!G24","v":0},0,{"$f":"'ចំណាយ-ថវិការដ្ឋ'!I24","v":0},{"$f":"'ចំណាយ-ថវិការដ្ឋ'!J24","v":0},0,{"$f":"'ចំណាយ-ថវិការដ្ឋ'!L24","v":0},{"$f":"'ចំណាយ-ថវិការដ្ឋ'!M24","v":0}]
[{"$f":"Update_8!C17","v":0},0,{"$f":"'ចំណាយ-ថវិការដ្ឋ'!C25","v":0},{"$f":"'ចំណាយ-ថវិការដ្ឋ'!D25","v":0},0,{"$f":"'ចំណាយ-ថវិការដ្ឋ'!F25","v":0},{"$f":"'ចំណាយ-ថវិការដ្ឋ'!G25","v":0},0,{"$f":"'ចំណាយ-ថវិការដ្ឋ'!I25","v":0},{"$f":"'ចំណាយ-ថវិការដ្ឋ'!J25","v":0},0,{"$f":"'ចំណាយ-ថវិការដ្ឋ'!L25","v":0},{"$f":"'ចំណាយ-ថវិការដ្ឋ'!M25","v":0}]
[{"$f":"Update_8!C18","v":0},0,{"$f":"'ចំណាយ-ថវិការដ្ឋ'!C26","v":0},{"$f":"'ចំណាយ-ថវិការដ្ឋ'!D26","v":0},0,{"$f":"'ចំណាយ-ថវិការដ្ឋ'!F26","v":0},{"$f":"'ចំណាយ-ថវិការដ្ឋ'!G26","v":0},0,{"$f":"'ចំណាយ-ថវិការដ្ឋ'!I26","v":0},{"$f":"'ចំណាយ-ថវិការដ្ឋ'!J26","v":0},0,{"$f":"'ចំណាយ-ថវិការដ្ឋ'!L26","v":0},{"$f":"'ចំណាយ-ថវិការដ្ឋ'!M26","v":0}]
[{"$f":"cluster_activity_2","v":"សកម្មភាពរង ទី ២៖ ធានាភាពស័ក្តិសិទ្ធនៃភាពជាអ្នកដឹកនាំ និងគ្រប់គ្រងរបស់មន្ត្រី អប់រំគ្រប់លំដាប់ថ្នាក់"},{"$f":"ROUND(SUM(B28:B37),1)","v":0},{"$f":"ROUND(SUM(C28:C37),1)","v":0},{"$f":"ROUND(SUM(D28:D37),1)","v":0},{"$f":"ROUND(SUM(E28:E37),1)","v":0},0,0,0,0,0,{"$f":"ROUND(SUM(K28:K37),1)","v":0},{"$f":"ROUND(SUM(L28:L37),1)","v":0},0]
[{"$f":"Update_8!C19","v":"១. អភិវឌ្ឍស្ថាប័ន និងសមត្ថភាពមន្ដ្រីជំនាញ"},{"$f":"ROUND(SUM(C28:D28),1)","v":0},{"$f":"'ចំណាយ-ថវិការដ្ឋ'!C28","v":0},{"$f":"'ចំណាយ-ថវិការដ្ឋ'!D28","v":0},{"$f":"ROUND(SUM(F28:G28),1)","v":0},{"$f":"'ចំណាយ-ថវិការដ្ឋ'!F28","v":0},{"$f":"'ចំណាយ-ថវិការដ្ឋ'!G28","v":0},{"$f":"ROUND(SUM(I28:J28),1)","v":0},{"$f":"'ចំណាយ-ថវិការដ្ឋ'!I28","v":0},{"$f":"'ចំណាយ-ថវិការដ្ឋ'!J28","v":0},{"$f":"ROUND(SUM(L28:M28),1)","v":0},{"$f":"'ចំណាយ-ថវិការដ្ឋ'!L28","v":0},{"$f":"'ចំណាយ-ថវិការដ្ឋ'!M28","v":0}]
[{"$f":"Update_8!C20","v":0},{"$f":"ROUND(SUM(C29:D29),1)","v":0},{"$f":"'ចំណាយ-ថវិការដ្ឋ'!C29","v":0},{"$f":"'ចំណាយ-ថវិការដ្ឋ'!D29","v":0},0,{"$f":"'ចំណាយ-ថវិការដ្ឋ'!F29","v":0},{"$f":"'ចំណាយ-ថវិការដ្ឋ'!G29","v":0},0,{"$f":"'ចំណាយ-ថវិការដ្ឋ'!I29","v":0},{"$f":"'ចំណាយ-ថវិការដ្ឋ'!J29","v":0},0,{"$f":"'ចំណាយ-ថវិការដ្ឋ'!L29","v":0},{"$f":"'ចំណាយ-ថវិការដ្ឋ'!M29","v":0}]
[{"$f":"Update_8!C21","v":0},0,{"$f":"'ចំណាយ-ថវិការដ្ឋ'!C30","v":0},{"$f":"'ចំណាយ-ថវិការដ្ឋ'!D30","v":0},0,{"$f":"'ចំណាយ-ថវិការដ្ឋ'!F30","v":0},{"$f":"'ចំណាយ-ថវិការដ្ឋ'!G30","v":0},0,{"$f":"'ចំណាយ-ថវិការដ្ឋ'!I30","v":0},{"$f":"'ចំណាយ-ថវិការដ្ឋ'!J30","v":0},0,{"$f":"'ចំណាយ-ថវិការដ្ឋ'!L30","v":0},{"$f":"'ចំណាយ-ថវិការដ្ឋ'!M30","v":0}]
[{"$f":"Update_8!C22","v":0},0,{"$f":"'ចំណាយ-ថវិការដ្ឋ'!C31","v":0},{"$f":"'ចំណាយ-ថវិការដ្ឋ'!D31","v":0},0,{"$f":"'ចំណាយ-ថវិការដ្ឋ'!F31","v":0},{"$f":"'ចំណាយ-ថវិការដ្ឋ'!G31","v":0},0,{"$f":"'ចំណាយ-ថវិការដ្ឋ'!I31","v":0},{"$f":"'ចំណាយ-ថវិការដ្ឋ'!J31","v":0},0,{"$f":"'ចំណាយ-ថវិការដ្ឋ'!L31","v":0},{"$f":"'ចំណាយ-ថវិការដ្ឋ'!M31","v":0}]
[{"$f":"Update_8!C23","v":0},0,{"$f":"'ចំណាយ-ថវិការដ្ឋ'!C32","v":0},{"$f":"'ចំណាយ-ថវិការដ្ឋ'!D32","v":0},0,{"$f":"'ចំណាយ-ថវិការដ្ឋ'!F32","v":0},{"$f":"'ចំណាយ-ថវិការដ្ឋ'!G32","v":0},0,{"$f":"'ចំណាយ-ថវិការដ្ឋ'!I32","v":0},{"$f":"'ចំណាយ-ថវិការដ្ឋ'!J32","v":0},0,{"$f":"'ចំណាយ-ថវិការដ្ឋ'!L32","v":0},{"$f":"'ចំណាយ-ថវិការដ្ឋ'!M32","v":0}]
[{"$f":"Update_8!C24","v":0},0,{"$f":"'ចំណាយ-ថវិការដ្ឋ'!C33","v":0},{"$f":"'ចំណាយ-ថវិការដ្ឋ'!D33","v":0},0,{"$f":"'ចំណាយ-ថវិការដ្ឋ'!F33","v":0},{"$f":"'ចំណាយ-ថវិការដ្ឋ'!G33","v":0},0,{"$f":"'ចំណាយ-ថវិការដ្ឋ'!I33","v":0},{"$f":"'ចំណាយ-ថវិការដ្ឋ'!J33","v":0},0,{"$f":"'ចំណាយ-ថវិការដ្ឋ'!L33","v":0},{"$f":"'ចំណាយ-ថវិការដ្ឋ'!M33","v":0}]
[{"$f":"Update_8!C25","v":0},0,{"$f":"'ចំណាយ-ថវិការដ្ឋ'!C34","v":0},{"$f":"'ចំណាយ-ថវិការដ្ឋ'!D34","v":0},0,{"$f":"'ចំណាយ-ថវិការដ្ឋ'!F34","v":0},{"$f":"'ចំណាយ-ថវិការដ្ឋ'!G34","v":0},0,{"$f":"'ចំណាយ-ថវិការដ្ឋ'!I34","v":0},{"$f":"'ចំណាយ-ថវិការដ្ឋ'!J34","v":0},0,{"$f":"'ចំណាយ-ថវិការដ្ឋ'!L34","v":0},{"$f":"'ចំណាយ-ថវិការដ្ឋ'!M34","v":0}]
[{"$f":"Update_8!C26","v":0},0,{"$f":"'ចំណាយ-ថវិការដ្ឋ'!C35","v":0},{"$f":"'ចំណាយ-ថវិការដ្ឋ'!D35","v":0},0,{"$f":"'ចំណាយ-ថវិការដ្ឋ'!F35","v":0},{"$f":"'ចំណាយ-ថវិការដ្ឋ'!G35","v":0},0,{"$f":"'ចំណាយ-ថវិការដ្ឋ'!I35","v":0},{"$f":"'ចំណាយ-ថវិការដ្ឋ'!J35","v":0},0,{"$f":"'ចំណាយ-ថវិការដ្ឋ'!L35","v":0},{"$f":"'ចំណាយ-ថវិការដ្ឋ'!M35","v":0}]
[{"$f":"Update_8!C27","v":0},0,{"$f":"'ចំណាយ-ថវិការដ្ឋ'!C36","v":0},{"$f":"'ចំណាយ-ថវិការដ្ឋ'!D36","v":0},0,{"$f":"'ចំណាយ-ថវិការដ្ឋ'!F36","v":0},{"$f":"'ចំណាយ-ថវិការដ្ឋ'!G36","v":0},0,{"$f":"'ចំណាយ-ថវិការដ្ឋ'!I36","v":0},{"$f":"'ចំណាយ-ថវិការដ្ឋ'!J36","v":0},0,{"$f":"'ចំណាយ-ថវិការដ្ឋ'!L36","v":0},{"$f":"'ចំណាយ-ថវិការដ្ឋ'!M36","v":0}]
[{"$f":"Update_8!C28","v":0},0,{"$f":"'ចំណាយ-ថវិការដ្ឋ'!C37","v":0},{"$f":"'ចំណាយ-ថវិការដ្ឋ'!D37","v":0},0,{"$f":"'ចំណាយ-ថវិការដ្ឋ'!F37","v":0},{"$f":"'ចំណាយ-ថវិការដ្ឋ'!G37","v":0},0,{"$f":"'ចំណាយ-ថវិការដ្ឋ'!I37","v":0},{"$f":"'ចំណាយ-ថវិការដ្ឋ'!J37","v":0},0,{"$f":"'ចំណាយ-ថវិការដ្ឋ'!L37","v":0},{"$f":"'ចំណាយ-ថវិការដ្ឋ'!M37","v":0}]
[{"$f":"ព័ត៌មានអង្គភាព!C7","v":"១.១០.០១.២៖ ការពង្រឹងគុណភាព និងប្រសិទ្ធភាពនៃការអប់រំនៅបឋមសិក្សា"},{"$f":"SUM(B39,B50)","v":0},{"$f":"SUM(C39,C50)","v":0},0,0,0,0,0,0,0,0,0,0]
[{"$f":"cluster_activity_1","v":"សកម្មភាពរង ទី ១៖ ធានាឱ្យការអប់រំមានគុណភាព ប្រកបដោយសមធម៌ បរិយាបន្ន និងលើកកម្ពស់ឱកាសក្នុងការសិក្សាពេញមួយជីវិត"},{"$f":"ROUND(SUM(B40:B49),1)","v":0},{"$f":"ROUND(SUM(C40:C49),1)","v":0},{"$f":"ROUND(SUM(D40:D49),1)","v":0},0,0,0,0,0,0,0,0,0]
[{"$f":"Update_8!C29","v":"១. កិច្ចដំណើរការអង្គភាព"},{"$f":"ROUND(SUM(C40:D40),1)","v":0},{"$f":"'ចំណាយ-ថវិការដ្ឋ'!C40","v":0},{"$f":"'ចំណាយ-ថវិការដ្ឋ'!D40","v":0},{"$f":"ROUND(SUM(F40:G40),1)","v":0},{"$f":"'ចំណាយ-ថវិការដ្ឋ'!F40","v":0},{"$f":"'ចំណាយ-ថវិការដ្ឋ'!G40","v":0},{"$f":"ROUND(SUM(I40:J40),1)","v":0},{"$f":"'ចំណាយ-ថវិការដ្ឋ'!I40","v":0},{"$f":"'ចំណាយ-ថវិការដ្ឋ'!J40","v":0},{"$f":"ROUND(SUM(L40:M40),1)","v":0},{"$f":"'ចំណាយ-ថវិការដ្ឋ'!L40","v":0},{"$f":"'ចំណាយ-ថវិការដ្ឋ'!M40","v":0}]
[{"$f":"Update_8!C30","v":"២. ថវិកាលទ្ធកម្ម"},{"$f":"ROUND(SUM(C41:D41),1)","v":0},{"$f":"'ចំណាយ-ថវិការដ្ឋ'!C41","v":0},{"$f":"'ចំណាយ-ថវិការដ្ឋ'!D41","v":0},0,{"$f":"'ចំណាយ-ថវិការដ្ឋ'!F41","v":0},{"$f":"'ចំណាយ-ថវិការដ្ឋ'!G41","v":0},0,{"$f":"'ចំណាយ-ថវិការដ្ឋ'!I41","v":0},{"$f":"'ចំណាយ-ថវិការដ្ឋ'!J41","v":0},0,{"$f":"'ចំណាយ-ថវិការដ្ឋ'!L41","v":0},{"$f":"'ចំណាយ-ថវិការដ្ឋ'!M41","v":0}]
[{"$f":"Update_8!C31","v":"៣. ពិនិត្យតាមដាន និងវាយតម្លៃ"},0,{"$f":"'ចំណាយ-ថវិការដ្ឋ'!C42","v":0},{"$f":"'ចំណាយ-ថវិការដ្ឋ'!D42","v":0},0,{"$f":"'ចំណាយ-ថវិការដ្ឋ'!F42","v":0},{"$f":"'ចំណាយ-ថវិការដ្ឋ'!G42","v":0},0,{"$f":"'ចំណាយ-ថវិការដ្ឋ'!I42","v":0},{"$f":"'ចំណាយ-ថវិការដ្ឋ'!J42","v":0},0,{"$f":"'ចំណាយ-ថវិការដ្ឋ'!L42","v":0},{"$f":"'ចំណាយ-ថវិការដ្ឋ'!M42","v":0}]
[{"$f":"Update_8!C32","v":"៤. មូលនិធីដំណើរការសាលារៀនសាធារណៈ"},0,{"$f":"'ចំណាយ-ថវិការដ្ឋ'!C43","v":0},{"$f":"'ចំណាយ-ថវិការដ្ឋ'!D43","v":0},0,{"$f":"'ចំណាយ-ថវិការដ្ឋ'!F43","v":0},{"$f":"'ចំណាយ-ថវិការដ្ឋ'!G43","v":0},0,{"$f":"'ចំណាយ-ថវិការដ្ឋ'!I43","v":0},{"$f":"'ចំណាយ-ថវិការដ្ឋ'!J43","v":0},0,{"$f":"'ចំណាយ-ថវិការដ្ឋ'!L43","v":0},{"$f":"'ចំណាយ-ថវិការដ្ឋ'!M43","v":0}]
[{"$f":"Update_8!C33","v":"៥. សាលារៀនជំនាន់ថ្មី"},0,{"$f":"'ចំណាយ-ថវិការដ្ឋ'!C44","v":0},{"$f":"'ចំណាយ-ថវិការដ្ឋ'!D44","v":0},0,{"$f":"'ចំណាយ-ថវិការដ្ឋ'!F44","v":0},{"$f":"'ចំណាយ-ថវិការដ្ឋ'!G44","v":0},0,{"$f":"'ចំណាយ-ថវិការដ្ឋ'!I44","v":0},{"$f":"'ចំណាយ-ថវិការដ្ឋ'!J44","v":0},0,{"$f":"'ចំណាយ-ថវិការដ្ឋ'!L44","v":0},{"$f":"'ចំណាយ-ថវិការដ្ឋ'!M44","v":0}]
[{"$f":"Update_8!C34","v":"៦. ឧបត្ថម្ភកម្មវិធីអាហារូបករណ៍ និងអាហារូបត្ថម្ភ"},0,{"$f":"'ចំណាយ-ថវិការដ្ឋ'!C45","v":0},{"$f":"'ចំណាយ-ថវិការដ្ឋ'!D45","v":0},0,{"$f":"'ចំណាយ-ថវិការដ្ឋ'!F45","v":0},{"$f":"'ចំណាយ-ថវិការដ្ឋ'!G45","v":0},0,{"$f":"'ចំណាយ-ថវិការដ្ឋ'!I45","v":0},{"$f":"'ចំណាយ-ថវិការដ្ឋ'!J45","v":0},0,{"$f":"'ចំណាយ-ថវិការដ្ឋ'!L45","v":0},{"$f":"'ចំណាយ-ថវិការដ្ឋ'!M45","v":0}]
[{"$f":"Update_8!C35","v":"៧. ពង្រឹងគុណភាពបង្រៀន និងរៀន"},0,{"$f":"'ចំណាយ-ថវិការដ្ឋ'!C46","v":0},{"$f":"'ចំណាយ-ថវិការដ្ឋ'!D46","v":0},0,{"$f":"'ចំណាយ-ថវិការដ្ឋ'!F46","v":0},{"$f":"'ចំណាយ-ថវិការដ្ឋ'!G46","v":0},0,{"$f":"'ចំណាយ-ថវិការដ្ឋ'!I46","v":0},{"$f":"'ចំណាយ-ថវិការដ្ឋ'!J46","v":0},0,{"$f":"'ចំណាយ-ថវិការដ្ឋ'!L46","v":0},{"$f":"'ចំណាយ-ថវិការដ្ឋ'!M46","v":0}]
[{"$f":"Update_8!C36","v":"៨. កម្មវិធីបង្រៀនសាកល្បងពេញមួយថ្ងៃ"},0,{"$f":"'ចំណាយ-ថវិការដ្ឋ'!C47","v":0},{"$f":"'ចំណាយ-ថវិការដ្ឋ'!D47","v":0},0,{"$f":"'ចំណាយ-ថវិការដ្ឋ'!F47","v":0},{"$f":"'ចំណាយ-ថវិការដ្ឋ'!G47","v":0},0,{"$f":"'ចំណាយ-ថវិការដ្ឋ'!I47","v":0},{"$f":"'ចំណាយ-ថវិការដ្ឋ'!J47","v":0},0,{"$f":"'ចំណាយ-ថវិការដ្ឋ'!L47","v":0},{"$f":"'ចំណាយ-ថវិការដ្ឋ'!M47","v":0}]
[{"$f":"Update_8!C37","v":"៩. ការគ្រប់គ្រងតាមសាលារៀន (SBM)"},0,{"$f":"'ចំណាយ-ថវិការដ្ឋ'!C48","v":0},{"$f":"'ចំណាយ-ថវិការដ្ឋ'!D48","v":0},0,{"$f":"'ចំណាយ-ថវិការដ្ឋ'!F48","v":0},{"$f":"'ចំណាយ-ថវិការដ្ឋ'!G48","v":0},0,{"$f":"'ចំណាយ-ថវិការដ្ឋ'!I48","v":0},{"$f":"'ចំណាយ-ថវិការដ្ឋ'!J48","v":0},0,{"$f":"'ចំណាយ-ថវិការដ្ឋ'!L48","v":0},{"$f":"'ចំណាយ-ថវិការដ្ឋ'!M48","v":0}]
[{"$f":"Update_8!C38","v":0},0,{"$f":"'ចំណាយ-ថវិការដ្ឋ'!C49","v":0},{"$f":"'ចំណាយ-ថវិការដ្ឋ'!D49","v":0},0,{"$f":"'ចំណាយ-ថវិការដ្ឋ'!F49","v":0},{"$f":"'ចំណាយ-ថវិការដ្ឋ'!G49","v":0},0,{"$f":"'ចំណាយ-ថវិការដ្ឋ'!I49","v":0},{"$f":"'ចំណាយ-ថវិការដ្ឋ'!J49","v":0},0,{"$f":"'ចំណាយ-ថវិការដ្ឋ'!L49","v":0},{"$f":"'ចំណាយ-ថវិការដ្ឋ'!M49","v":0}]
[{"$f":"cluster_activity_2","v":"សកម្មភាពរង ទី ២៖ ធានាភាពស័ក្តិសិទ្ធនៃភាពជាអ្នកដឹកនាំ និងគ្រប់គ្រងរបស់មន្ត្រី អប់រំគ្រប់លំដាប់ថ្នាក់"},{"$f":"ROUND(SUM(B51:B60),1)","v":0},{"$f":"ROUND(SUM(C51:C60),1)","v":0},{"$f":"ROUND(SUM(D51:D60),1)","v":0},{"$f":"ROUND(SUM(E51:E60),1)","v":0},0,0,0,0,0,{"$f":"ROUND(SUM(K51:K60),1)","v":0},{"$f":"ROUND(SUM(L51:L60),1)","v":0},{"$f":"ROUND(SUM(M51:M60),1)","v":0}]
[{"$f":"Update_8!C39","v":"១. អភិវឌ្ឍស្ថាប័ន និងសមត្ថភាពមន្ដ្រីជំនាញ"},{"$f":"ROUND(SUM(C51:D51),1)","v":0},{"$f":"'ចំណាយ-ថវិការដ្ឋ'!C51","v":0},{"$f":"'ចំណាយ-ថវិការដ្ឋ'!D51","v":0},{"$f":"ROUND(SUM(F51:G51),1)","v":0},{"$f":"'ចំណាយ-ថវិការដ្ឋ'!F51","v":0},{"$f":"'ចំណាយ-ថវិការដ្ឋ'!G51","v":0},{"$f":"ROUND(SUM(I51:J51),1)","v":0},{"$f":"'ចំណាយ-ថវិការដ្ឋ'!I51","v":0},{"$f":"'ចំណាយ-ថវិការដ្ឋ'!J51","v":0},{"$f":"ROUND(SUM(L51:M51),1)","v":0},{"$f":"'ចំណាយ-ថវិការដ្ឋ'!L51","v":0},{"$f":"'ចំណាយ-ថវិការដ្ឋ'!M51","v":0}]
[{"$f":"Update_8!C40","v":0},{"$f":"ROUND(SUM(C52:D52),1)","v":0},{"$f":"'ចំណាយ-ថវិការដ្ឋ'!C52","v":0},{"$f":"'ចំណាយ-ថវិការដ្ឋ'!D52","v":0},0,{"$f":"'ចំណាយ-ថវិការដ្ឋ'!F52","v":0},{"$f":"'ចំណាយ-ថវិការដ្ឋ'!G52","v":0},0,{"$f":"'ចំណាយ-ថវិការដ្ឋ'!I52","v":0},{"$f":"'ចំណាយ-ថវិការដ្ឋ'!J52","v":0},0,{"$f":"'ចំណាយ-ថវិការដ្ឋ'!L52","v":0},{"$f":"'ចំណាយ-ថវិការដ្ឋ'!M52","v":0}]
[{"$f":"Update_8!C41","v":0},0,{"$f":"'ចំណាយ-ថវិការដ្ឋ'!C53","v":0},{"$f":"'ចំណាយ-ថវិការដ្ឋ'!D53","v":0},0,{"$f":"'ចំណាយ-ថវិការដ្ឋ'!F53","v":0},{"$f":"'ចំណាយ-ថវិការដ្ឋ'!G53","v":0},0,{"$f":"'ចំណាយ-ថវិការដ្ឋ'!I53","v":0},{"$f":"'ចំណាយ-ថវិការដ្ឋ'!J53","v":0},0,{"$f":"'ចំណាយ-ថវិការដ្ឋ'!L53","v":0},{"$f":"'ចំណាយ-ថវិការដ្ឋ'!M53","v":0}]
[{"$f":"Update_8!C42","v":0},0,{"$f":"'ចំណាយ-ថវិការដ្ឋ'!C54","v":0},{"$f":"'ចំណាយ-ថវិការដ្ឋ'!D54","v":0},0,{"$f":"'ចំណាយ-ថវិការដ្ឋ'!F54","v":0},{"$f":"'ចំណាយ-ថវិការដ្ឋ'!G54","v":0},0,{"$f":"'ចំណាយ-ថវិការដ្ឋ'!I54","v":0},{"$f":"'ចំណាយ-ថវិការដ្ឋ'!J54","v":0},0,{"$f":"'ចំណាយ-ថវិការដ្ឋ'!L54","v":0},{"$f":"'ចំណាយ-ថវិការដ្ឋ'!M54","v":0}]
[{"$f":"Update_8!C43","v":0},0,{"$f":"'ចំណាយ-ថវិការដ្ឋ'!C55","v":0},{"$f":"'ចំណាយ-ថវិការដ្ឋ'!D55","v":0},0,{"$f":"'ចំណាយ-ថវិការដ្ឋ'!F55","v":0},{"$f":"'ចំណាយ-ថវិការដ្ឋ'!G55","v":0},0,{"$f":"'ចំណាយ-ថវិការដ្ឋ'!I55","v":0},{"$f":"'ចំណាយ-ថវិការដ្ឋ'!J55","v":0},0,{"$f":"'ចំណាយ-ថវិការដ្ឋ'!L55","v":0},{"$f":"'ចំណាយ-ថវិការដ្ឋ'!M55","v":0}]
[{"$f":"Update_8!C44","v":0},0,{"$f":"'ចំណាយ-ថវិការដ្ឋ'!C56","v":0},{"$f":"'ចំណាយ-ថវិការដ្ឋ'!D56","v":0},0,{"$f":"'ចំណាយ-ថវិការដ្ឋ'!F56","v":0},{"$f":"'ចំណាយ-ថវិការដ្ឋ'!G56","v":0},0,{"$f":"'ចំណាយ-ថវិការដ្ឋ'!I56","v":0},{"$f":"'ចំណាយ-ថវិការដ្ឋ'!J56","v":0},0,{"$f":"'ចំណាយ-ថវិការដ្ឋ'!L56","v":0},{"$f":"'ចំណាយ-ថវិការដ្ឋ'!M56","v":0}]
[{"$f":"Update_8!C45","v":0},0,{"$f":"'ចំណាយ-ថវិការដ្ឋ'!C57","v":0},{"$f":"'ចំណាយ-ថវិការដ្ឋ'!D57","v":0},0,{"$f":"'ចំណាយ-ថវិការដ្ឋ'!F57","v":0},{"$f":"'ចំណាយ-ថវិការដ្ឋ'!G57","v":0},0,{"$f":"'ចំណាយ-ថវិការដ្ឋ'!I57","v":0},{"$f":"'ចំណាយ-ថវិការដ្ឋ'!J57","v":0},0,{"$f":"'ចំណាយ-ថវិការដ្ឋ'!L57","v":0},{"$f":"'ចំណាយ-ថវិការដ្ឋ'!M57","v":0}]
[{"$f":"Update_8!C46","v":0},0,{"$f":"'ចំណាយ-ថវិការដ្ឋ'!C58","v":0},{"$f":"'ចំណាយ-ថវិការដ្ឋ'!D58","v":0},0,{"$f":"'ចំណាយ-ថវិការដ្ឋ'!F58","v":0},{"$f":"'ចំណាយ-ថវិការដ្ឋ'!G58","v":0},0,{"$f":"'ចំណាយ-ថវិការដ្ឋ'!I58","v":0},{"$f":"'ចំណាយ-ថវិការដ្ឋ'!J58","v":0},0,{"$f":"'ចំណាយ-ថវិការដ្ឋ'!L58","v":0},{"$f":"'ចំណាយ-ថវិការដ្ឋ'!M58","v":0}]
[{"$f":"Update_8!C47","v":0},0,{"$f":"'ចំណាយ-ថវិការដ្ឋ'!C59","v":0},{"$f":"'ចំណាយ-ថវិការដ្ឋ'!D59","v":0},0,{"$f":"'ចំណាយ-ថវិការដ្ឋ'!F59","v":0},{"$f":"'ចំណាយ-ថវិការដ្ឋ'!G59","v":0},0,{"$f":"'ចំណាយ-ថវិការដ្ឋ'!I59","v":0},{"$f":"'ចំណាយ-ថវិការដ្ឋ'!J59","v":0},0,{"$f":"'ចំណាយ-ថវិការដ្ឋ'!L59","v":0},{"$f":"'ចំណាយ-ថវិការដ្ឋ'!M59","v":0}]
[{"$f":"Update_8!C48","v":0},0,{"$f":"'ចំណាយ-ថវិការដ្ឋ'!C60","v":0},{"$f":"'ចំណាយ-ថវិការដ្ឋ'!D60","v":0},0,{"$f":"'ចំណាយ-ថវិការដ្ឋ'!F60","v":0},{"$f":"'ចំណាយ-ថវិការដ្ឋ'!G60","v":0},0,{"$f":"'ចំណាយ-ថវិការដ្ឋ'!I60","v":0},{"$f":"'ចំណាយ-ថវិការដ្ឋ'!J60","v":0},0,{"$f":"'ចំណាយ-ថវិការដ្ឋ'!L60","v":0},{"$f":"'ចំណាយ-ថវិការដ្ឋ'!M60","v":0}]
[{"$f":"ព័ត៌មានអង្គភាព!C8","v":"១.១០.០១.៣៖ ការចូលរៀនប្រកបដោយសមធម៌​ ការពង្រឹងគុណភាព និងប្រសិទ្ធភាពនៃការ​អប់រំនៅមធ្យមសិក្សា"},{"$f":"SUM(B62,B73)","v":0},{"$f":"SUM(C62,C73)","v":0},0,0,0,0,0,0,0,0,0,0]
[{"$f":"cluster_activity_1","v":"សកម្មភាពរង ទី ១៖ ធានាឱ្យការអប់រំមានគុណភាព ប្រកបដោយសមធម៌ បរិយាបន្ន និងលើកកម្ពស់ឱកាសក្នុងការសិក្សាពេញមួយជីវិត"},{"$f":"ROUND(SUM(B63:B72),1)","v":0},{"$f":"ROUND(SUM(C63:C72),1)","v":0},{"$f":"ROUND(SUM(D63:D72),1)","v":0},0,0,0,0,0,0,0,0,0]
[{"$f":"Update_8!C49","v":"១. កិច្ចដំណើរការអង្គភាព"},{"$f":"ROUND(SUM(C63:D63),1)","v":0},{"$f":"'ចំណាយ-ថវិការដ្ឋ'!C63","v":0},{"$f":"'ចំណាយ-ថវិការដ្ឋ'!D63","v":0},{"$f":"ROUND(SUM(F63:G63),1)","v":0},{"$f":"'ចំណាយ-ថវិការដ្ឋ'!F63","v":0},{"$f":"'ចំណាយ-ថវិការដ្ឋ'!G63","v":0},{"$f":"ROUND(SUM(I63:J63),1)","v":0},{"$f":"'ចំណាយ-ថវិការដ្ឋ'!I63","v":0},{"$f":"'ចំណាយ-ថវិការដ្ឋ'!J63","v":0},{"$f":"ROUND(SUM(L63:M63),1)","v":0},{"$f":"'ចំណាយ-ថវិការដ្ឋ'!L63","v":0},{"$f":"'ចំណាយ-ថវិការដ្ឋ'!M63","v":0}]
[{"$f":"Update_8!C50","v":"២. ថវិកាលទ្ធកម្ម"},{"$f":"ROUND(SUM(C64:D64),1)","v":0},{"$f":"'ចំណាយ-ថវិការដ្ឋ'!C64","v":0},{"$f":"'ចំណាយ-ថវិការដ្ឋ'!D64","v":0},0,{"$f":"'ចំណាយ-ថវិការដ្ឋ'!F64","v":0},{"$f":"'ចំណាយ-ថវិការដ្ឋ'!G64","v":0},0,{"$f":"'ចំណាយ-ថវិការដ្ឋ'!I64","v":0},{"$f":"'ចំណាយ-ថវិការដ្ឋ'!J64","v":0},0,{"$f":"'ចំណាយ-ថវិការដ្ឋ'!L64","v":0},{"$f":"'ចំណាយ-ថវិការដ្ឋ'!M64","v":0}]
[{"$f":"Update_8!C51","v":"៣. ពិនិត្យតាមដាន និងវាយតម្លៃ"},0,{"$f":"'ចំណាយ-ថវិការដ្ឋ'!C65","v":0},{"$f":"'ចំណាយ-ថវិការដ្ឋ'!D65","v":0},0,{"$f":"'ចំណាយ-ថវិការដ្ឋ'!F65","v":0},{"$f":"'ចំណាយ-ថវិការដ្ឋ'!G65","v":0},0,{"$f":"'ចំណាយ-ថវិការដ្ឋ'!I65","v":0},{"$f":"'ចំណាយ-ថវិការដ្ឋ'!J65","v":0},0,{"$f":"'ចំណាយ-ថវិការដ្ឋ'!L65","v":0},{"$f":"'ចំណាយ-ថវិការដ្ឋ'!M65","v":0}]
[{"$f":"Update_8!C52","v":"៤. មូលនិធីដំណើរការសាលារៀនសាធារណៈ"},0,{"$f":"'ចំណាយ-ថវិការដ្ឋ'!C66","v":0},{"$f":"'ចំណាយ-ថវិការដ្ឋ'!D66","v":0},0,{"$f":"'ចំណាយ-ថវិការដ្ឋ'!F66","v":0},{"$f":"'ចំណាយ-ថវិការដ្ឋ'!G66","v":0},0,{"$f":"'ចំណាយ-ថវិការដ្ឋ'!I66","v":0},{"$f":"'ចំណាយ-ថវិការដ្ឋ'!J66","v":0},0,{"$f":"'ចំណាយ-ថវិការដ្ឋ'!L66","v":0},{"$f":"'ចំណាយ-ថវិការដ្ឋ'!M66","v":0}]
[{"$f":"Update_8!C53","v":"៥. ថ្នាក់ពីរភាសា បារាំង-ខ្មែរ"},0,{"$f":"'ចំណាយ-ថវិការដ្ឋ'!C67","v":0},{"$f":"'ចំណាយ-ថវិការដ្ឋ'!D67","v":0},0,{"$f":"'ចំណាយ-ថវិការដ្ឋ'!F67","v":0},{"$f":"'ចំណាយ-ថវិការដ្ឋ'!G67","v":0},0,{"$f":"'ចំណាយ-ថវិការដ្ឋ'!I67","v":0},{"$f":"'ចំណាយ-ថវិការដ្ឋ'!J67","v":0},0,{"$f":"'ចំណាយ-ថវិការដ្ឋ'!L67","v":0},{"$f":"'ចំណាយ-ថវិការដ្ឋ'!M67","v":0}]
[{"$f":"Update_8!C54","v":"៦. សាលារៀនជំនាន់ថ្មី"},0,{"$f":"'ចំណាយ-ថវិការដ្ឋ'!C68","v":0},{"$f":"'ចំណាយ-ថវិការដ្ឋ'!D68","v":0},0,{"$f":"'ចំណាយ-ថវិការដ្ឋ'!F68","v":0},{"$f":"'ចំណាយ-ថវិការដ្ឋ'!G68","v":0},0,{"$f":"'ចំណាយ-ថវិការដ្ឋ'!I68","v":0},{"$f":"'ចំណាយ-ថវិការដ្ឋ'!J68","v":0},0,{"$f":"'ចំណាយ-ថវិការដ្ឋ'!L68","v":0},{"$f":"'ចំណាយ-ថវិការដ្ឋ'!M68","v":0}]
[{"$f":"Update_8!C55","v":"៧. ឧបត្ថម្ភកម្មវិធីអាហារូបករណ៍"},0,{"$f":"'ចំណាយ-ថវិការដ្ឋ'!C69","v":0},{"$f":"'ចំណាយ-ថវិការដ្ឋ'!D69","v":0},0,{"$f":"'ចំណាយ-ថវិការដ្ឋ'!F69","v":0},{"$f":"'ចំណាយ-ថវិការដ្ឋ'!G69","v":0},0,{"$f":"'ចំណាយ-ថវិការដ្ឋ'!I69","v":0},{"$f":"'ចំណាយ-ថវិការដ្ឋ'!J69","v":0},0,{"$f":"'ចំណាយ-ថវិការដ្ឋ'!L69","v":0},{"$f":"'ចំណាយ-ថវិការដ្ឋ'!M69","v":0}]
[{"$f":"Update_8!C56","v":"៨. លើកកម្ពស់មុខវិជ្ជា STEM"},0,{"$f":"'ចំណាយ-ថវិការដ្ឋ'!C70","v":0},{"$f":"'ចំណាយ-ថវិការដ្ឋ'!D70","v":0},0,{"$f":"'ចំណាយ-ថវិការដ្ឋ'!F70","v":0},{"$f":"'ចំណាយ-ថវិការដ្ឋ'!G70","v":0},0,{"$f":"'ចំណាយ-ថវិការដ្ឋ'!I70","v":0},{"$f":"'ចំណាយ-ថវិការដ្ឋ'!J70","v":0},0,{"$f":"'ចំណាយ-ថវិការដ្ឋ'!L70","v":0},{"$f":"'ចំណាយ-ថវិការដ្ឋ'!M70","v":0}]
[{"$f":"Update_8!C57","v":"៩. ពង្រឹងសមត្ថភាពលើការងារគ្រប់គ្រង និងការបង្រៀននិងរៀន"},0,{"$f":"'ចំណាយ-ថវិការដ្ឋ'!C71","v":0},{"$f":"'ចំណាយ-ថវិការដ្ឋ'!D71","v":0},0,{"$f":"'ចំណាយ-ថវិការដ្ឋ'!F71","v":0},{"$f":"'ចំណាយ-ថវិការដ្ឋ'!G71","v":0},0,{"$f":"'ចំណាយ-ថវិការដ្ឋ'!I71","v":0},{"$f":"'ចំណាយ-ថវិការដ្ឋ'!J71","v":0},0,{"$f":"'ចំណាយ-ថវិការដ្ឋ'!L71","v":0},{"$f":"'ចំណាយ-ថវិការដ្ឋ'!M71","v":0}]
[{"$f":"Update_8!C58","v":"១០. ការគ្រប់គ្រងតាមសាលារៀន (SBM)"},0,{"$f":"'ចំណាយ-ថវិការដ្ឋ'!C72","v":0},{"$f":"'ចំណាយ-ថវិការដ្ឋ'!D72","v":0},0,{"$f":"'ចំណាយ-ថវិការដ្ឋ'!F72","v":0},{"$f":"'ចំណាយ-ថវិការដ្ឋ'!G72","v":0},0,{"$f":"'ចំណាយ-ថវិការដ្ឋ'!I72","v":0},{"$f":"'ចំណាយ-ថវិការដ្ឋ'!J72","v":0},0,{"$f":"'ចំណាយ-ថវិការដ្ឋ'!L72","v":0},{"$f":"'ចំណាយ-ថវិការដ្ឋ'!M72","v":0}]
[{"$f":"cluster_activity_2","v":"សកម្មភាពរង ទី ២៖ ធានាភាពស័ក្តិសិទ្ធនៃភាពជាអ្នកដឹកនាំ និងគ្រប់គ្រងរបស់មន្ត្រី អប់រំគ្រប់លំដាប់ថ្នាក់"},{"$f":"ROUND(SUM(B74:B83),1)","v":0},{"$f":"ROUND(SUM(C74:C83),1)","v":0},{"$f":"ROUND(SUM(D74:D83),1)","v":0},{"$f":"ROUND(SUM(E74:E83),1)","v":0},0,0,0,0,0,{"$f":"ROUND(SUM(K74:K83),1)","v":0},{"$f":"ROUND(SUM(L74:L83),1)","v":0},{"$f":"ROUND(SUM(M74:M83),1)","v":0}]
[{"$f":"Update_8!C59","v":"១. អភិវឌ្ឍស្ថាប័ន និងសមត្ថភាពមន្ដ្រីជំនាញ"},{"$f":"ROUND(SUM(C74:D74),1)","v":0},{"$f":"'ចំណាយ-ថវិការដ្ឋ'!C74","v":0},{"$f":"'ចំណាយ-ថវិការដ្ឋ'!D74","v":0},{"$f":"ROUND(SUM(F74:G74),1)","v":0},{"$f":"'ចំណាយ-ថវិការដ្ឋ'!F74","v":0},{"$f":"'ចំណាយ-ថវិការដ្ឋ'!G74","v":0},{"$f":"ROUND(SUM(I74:J74),1)","v":0},{"$f":"'ចំណាយ-ថវិការដ្ឋ'!I74","v":0},{"$f":"'ចំណាយ-ថវិការដ្ឋ'!J74","v":0},{"$f":"ROUND(SUM(L74:M74),1)","v":0},{"$f":"'ចំណាយ-ថវិការដ្ឋ'!L74","v":0},{"$f":"'ចំណាយ-ថវិការដ្ឋ'!M74","v":0}]
[{"$f":"Update_8!C60","v":0},{"$f":"ROUND(SUM(C75:D75),1)","v":0},{"$f":"'ចំណាយ-ថវិការដ្ឋ'!C75","v":0},{"$f":"'ចំណាយ-ថវិការដ្ឋ'!D75","v":0},0,{"$f":"'ចំណាយ-ថវិការដ្ឋ'!F75","v":0},{"$f":"'ចំណាយ-ថវិការដ្ឋ'!G75","v":0},0,{"$f":"'ចំណាយ-ថវិការដ្ឋ'!I75","v":0},{"$f":"'ចំណាយ-ថវិការដ្ឋ'!J75","v":0},0,{"$f":"'ចំណាយ-ថវិការដ្ឋ'!L75","v":0},{"$f":"'ចំណាយ-ថវិការដ្ឋ'!M75","v":0}]
[{"$f":"Update_8!C61","v":0},0,{"$f":"'ចំណាយ-ថវិការដ្ឋ'!C76","v":0},{"$f":"'ចំណាយ-ថវិការដ្ឋ'!D76","v":0},0,{"$f":"'ចំណាយ-ថវិការដ្ឋ'!F76","v":0},{"$f":"'ចំណាយ-ថវិការដ្ឋ'!G76","v":0},0,{"$f":"'ចំណាយ-ថវិការដ្ឋ'!I76","v":0},{"$f":"'ចំណាយ-ថវិការដ្ឋ'!J76","v":0},0,{"$f":"'ចំណាយ-ថវិការដ្ឋ'!L76","v":0},{"$f":"'ចំណាយ-ថវិការដ្ឋ'!M76","v":0}]
[{"$f":"Update_8!C62","v":0},0,{"$f":"'ចំណាយ-ថវិការដ្ឋ'!C77","v":0},{"$f":"'ចំណាយ-ថវិការដ្ឋ'!D77","v":0},0,{"$f":"'ចំណាយ-ថវិការដ្ឋ'!F77","v":0},{"$f":"'ចំណាយ-ថវិការដ្ឋ'!G77","v":0},0,{"$f":"'ចំណាយ-ថវិការដ្ឋ'!I77","v":0},{"$f":"'ចំណាយ-ថវិការដ្ឋ'!J77","v":0},0,{"$f":"'ចំណាយ-ថវិការដ្ឋ'!L77","v":0},{"$f":"'ចំណាយ-ថវិការដ្ឋ'!M77","v":0}]
[{"$f":"Update_8!C63","v":0},0,{"$f":"'ចំណាយ-ថវិការដ្ឋ'!C78","v":0},{"$f":"'ចំណាយ-ថវិការដ្ឋ'!D78","v":0},0,{"$f":"'ចំណាយ-ថវិការដ្ឋ'!F78","v":0},{"$f":"'ចំណាយ-ថវិការដ្ឋ'!G78","v":0},0,{"$f":"'ចំណាយ-ថវិការដ្ឋ'!I78","v":0},{"$f":"'ចំណាយ-ថវិការដ្ឋ'!J78","v":0},0,{"$f":"'ចំណាយ-ថវិការដ្ឋ'!L78","v":0},{"$f":"'ចំណាយ-ថវិការដ្ឋ'!M78","v":0}]
[{"$f":"Update_8!C64","v":0},0,{"$f":"'ចំណាយ-ថវិការដ្ឋ'!C79","v":0},{"$f":"'ចំណាយ-ថវិការដ្ឋ'!D79","v":0},0,{"$f":"'ចំណាយ-ថវិការដ្ឋ'!F79","v":0},{"$f":"'ចំណាយ-ថវិការដ្ឋ'!G79","v":0},0,{"$f":"'ចំណាយ-ថវិការដ្ឋ'!I79","v":0},{"$f":"'ចំណាយ-ថវិការដ្ឋ'!J79","v":0},0,{"$f":"'ចំណាយ-ថវិការដ្ឋ'!L79","v":0},{"$f":"'ចំណាយ-ថវិការដ្ឋ'!M79","v":0}]
[{"$f":"Update_8!C65","v":0},0,{"$f":"'ចំណាយ-ថវិការដ្ឋ'!C80","v":0},{"$f":"'ចំណាយ-ថវិការដ្ឋ'!D80","v":0},0,{"$f":"'ចំណាយ-ថវិការដ្ឋ'!F80","v":0},{"$f":"'ចំណាយ-ថវិការដ្ឋ'!G80","v":0},0,{"$f":"'ចំណាយ-ថវិការដ្ឋ'!I80","v":0},{"$f":"'ចំណាយ-ថវិការដ្ឋ'!J80","v":0},0,{"$f":"'ចំណាយ-ថវិការដ្ឋ'!L80","v":0},{"$f":"'ចំណាយ-ថវិការដ្ឋ'!M80","v":0}]
[{"$f":"Update_8!C66","v":0},0,{"$f":"'ចំណាយ-ថវិការដ្ឋ'!C81","v":0},{"$f":"'ចំណាយ-ថវិការដ្ឋ'!D81","v":0},0,{"$f":"'ចំណាយ-ថវិការដ្ឋ'!F81","v":0},{"$f":"'ចំណាយ-ថវិការដ្ឋ'!G81","v":0},0,{"$f":"'ចំណាយ-ថវិការដ្ឋ'!I81","v":0},{"$f":"'ចំណាយ-ថវិការដ្ឋ'!J81","v":0},0,{"$f":"'ចំណាយ-ថវិការដ្ឋ'!L81","v":0},{"$f":"'ចំណាយ-ថវិការដ្ឋ'!M81","v":0}]
[{"$f":"Update_8!C67","v":0},0,{"$f":"'ចំណាយ-ថវិការដ្ឋ'!C82","v":0},{"$f":"'ចំណាយ-ថវិការដ្ឋ'!D82","v":0},0,{"$f":"'ចំណាយ-ថវិការដ្ឋ'!F82","v":0},{"$f":"'ចំណាយ-ថវិការដ្ឋ'!G82","v":0},0,{"$f":"'ចំណាយ-ថវិការដ្ឋ'!I82","v":0},{"$f":"'ចំណាយ-ថវិការដ្ឋ'!J82","v":0},0,{"$f":"'ចំណាយ-ថវិការដ្ឋ'!L82","v":0},{"$f":"'ចំណាយ-ថវិការដ្ឋ'!M82","v":0}]
[{"$f":"Update_8!C68","v":0},0,{"$f":"'ចំណាយ-ថវិការដ្ឋ'!C83","v":0},{"$f":"'ចំណាយ-ថវិការដ្ឋ'!D83","v":0},0,{"$f":"'ចំណាយ-ថវិការដ្ឋ'!F83","v":0},{"$f":"'ចំណាយ-ថវិការដ្ឋ'!G83","v":0},0,{"$f":"'ចំណាយ-ថវិការដ្ឋ'!I83","v":0},{"$f":"'ចំណាយ-ថវិការដ្ឋ'!J83","v":0},0,{"$f":"'ចំណាយ-ថវិការដ្ឋ'!L83","v":0},{"$f":"'ចំណាយ-ថវិការដ្ឋ'!M83","v":0}]
[{"$f":"ព័ត៌មានអង្គភាព!C9","v":"១.១០.០១.៤៖ ការពង្រីកការអប់រំក្រៅប្រព័ន្ធ"},{"$f":"SUM(B85,B96)","v":0},{"$f":"SUM(C85,C96)","v":0},0,0,0,0,0,0,0,0,0,0]
[{"$f":"cluster_activity_1","v":"សកម្មភាពរង ទី ១៖ ធានាឱ្យការអប់រំមានគុណភាព ប្រកបដោយសមធម៌ បរិយាបន្ន និងលើកកម្ពស់ឱកាសក្នុងការសិក្សាពេញមួយជីវិត"},{"$f":"ROUND(SUM(B86:B95),1)","v":0},{"$f":"ROUND(SUM(C86:C95),1)","v":0},{"$f":"ROUND(SUM(D86:D95),1)","v":0},0,0,0,0,0,0,0,0,0]
[{"$f":"Update_8!C69","v":"១. កិច្ចដំណើរការអង្គភាព"},{"$f":"ROUND(SUM(C86:D86),1)","v":0},{"$f":"'ចំណាយ-ថវិការដ្ឋ'!C86","v":0},{"$f":"'ចំណាយ-ថវិការដ្ឋ'!D86","v":0},{"$f":"ROUND(SUM(F86:G86),1)","v":0},{"$f":"'ចំណាយ-ថវិការដ្ឋ'!F86","v":0},{"$f":"'ចំណាយ-ថវិការដ្ឋ'!G86","v":0},{"$f":"ROUND(SUM(I86:J86),1)","v":0},{"$f":"'ចំណាយ-ថវិការដ្ឋ'!I86","v":0},{"$f":"'ចំណាយ-ថវិការដ្ឋ'!J86","v":0},{"$f":"ROUND(SUM(L86:M86),1)","v":0},{"$f":"'ចំណាយ-ថវិការដ្ឋ'!L86","v":0},{"$f":"'ចំណាយ-ថវិការដ្ឋ'!M86","v":0}]
[{"$f":"Update_8!C70","v":"២. ថវិកាលទ្ធកម្ម"},{"$f":"ROUND(SUM(C87:D87),1)","v":0},{"$f":"'ចំណាយ-ថវិការដ្ឋ'!C87","v":0},{"$f":"'ចំណាយ-ថវិការដ្ឋ'!D87","v":0},0,{"$f":"'ចំណាយ-ថវិការដ្ឋ'!F87","v":0},{"$f":"'ចំណាយ-ថវិការដ្ឋ'!G87","v":0},0,{"$f":"'ចំណាយ-ថវិការដ្ឋ'!I87","v":0},{"$f":"'ចំណាយ-ថវិការដ្ឋ'!J87","v":0},0,{"$f":"'ចំណាយ-ថវិការដ្ឋ'!L87","v":0},{"$f":"'ចំណាយ-ថវិការដ្ឋ'!M87","v":0}]
[{"$f":"Update_8!C71","v":"៣. ពិនិត្យតាមដាន និងវាយតម្លៃ"},0,{"$f":"'ចំណាយ-ថវិការដ្ឋ'!C88","v":0},{"$f":"'ចំណាយ-ថវិការដ្ឋ'!D88","v":0},0,{"$f":"'ចំណាយ-ថវិការដ្ឋ'!F88","v":0},{"$f":"'ចំណាយ-ថវិការដ្ឋ'!G88","v":0},0,{"$f":"'ចំណាយ-ថវិការដ្ឋ'!I88","v":0},{"$f":"'ចំណាយ-ថវិការដ្ឋ'!J88","v":0},0,{"$f":"'ចំណាយ-ថវិការដ្ឋ'!L88","v":0},{"$f":"'ចំណាយ-ថវិការដ្ឋ'!M88","v":0}]
[{"$f":"Update_8!C72","v":"៤. ប្រែក្លាយមជ្ឈមណ្ឌលសហគមន៍ទៅជាមជ្ឈមណ្ឌលសិក្សាពេញមួយជីវិត"},0,{"$f":"'ចំណាយ-ថវិការដ្ឋ'!C89","v":0},{"$f":"'ចំណាយ-ថវិការដ្ឋ'!D89","v":0},0,{"$f":"'ចំណាយ-ថវិការដ្ឋ'!F89","v":0},{"$f":"'ចំណាយ-ថវិការដ្ឋ'!G89","v":0},0,{"$f":"'ចំណាយ-ថវិការដ្ឋ'!I89","v":0},{"$f":"'ចំណាយ-ថវិការដ្ឋ'!J89","v":0},0,{"$f":"'ចំណាយ-ថវិការដ្ឋ'!L89","v":0},{"$f":"'ចំណាយ-ថវិការដ្ឋ'!M89","v":0}]
[{"$f":"Update_8!C73","v":"៥. ថវិកាដំណើរការនៃការអប់រំក្រៅប្រព័ន្ធ"},0,{"$f":"'ចំណាយ-ថវិការដ្ឋ'!C90","v":0},{"$f":"'ចំណាយ-ថវិការដ្ឋ'!D90","v":0},0,{"$f":"'ចំណាយ-ថវិការដ្ឋ'!F90","v":0},{"$f":"'ចំណាយ-ថវិការដ្ឋ'!G90","v":0},0,{"$f":"'ចំណាយ-ថវិការដ្ឋ'!I90","v":0},{"$f":"'ចំណាយ-ថវិការដ្ឋ'!J90","v":0},0,{"$f":"'ចំណាយ-ថវិការដ្ឋ'!L90","v":0},{"$f":"'ចំណាយ-ថវិការដ្ឋ'!M90","v":0}]
[{"$f":"Update_8!C74","v":0},0,{"$f":"'ចំណាយ-ថវិការដ្ឋ'!C91","v":0},{"$f":"'ចំណាយ-ថវិការដ្ឋ'!D91","v":0},0,{"$f":"'ចំណាយ-ថវិការដ្ឋ'!F91","v":0},{"$f":"'ចំណាយ-ថវិការដ្ឋ'!G91","v":0},0,{"$f":"'ចំណាយ-ថវិការដ្ឋ'!I91","v":0},{"$f":"'ចំណាយ-ថវិការដ្ឋ'!J91","v":0},0,{"$f":"'ចំណាយ-ថវិការដ្ឋ'!L91","v":0},{"$f":"'ចំណាយ-ថវិការដ្ឋ'!M91","v":0}]
[{"$f":"Update_8!C75","v":0},0,{"$f":"'ចំណាយ-ថវិការដ្ឋ'!C92","v":0},{"$f":"'ចំណាយ-ថវិការដ្ឋ'!D92","v":0},0,{"$f":"'ចំណាយ-ថវិការដ្ឋ'!F92","v":0},{"$f":"'ចំណាយ-ថវិការដ្ឋ'!G92","v":0},0,{"$f":"'ចំណាយ-ថវិការដ្ឋ'!I92","v":0},{"$f":"'ចំណាយ-ថវិការដ្ឋ'!J92","v":0},0,{"$f":"'ចំណាយ-ថវិការដ្ឋ'!L92","v":0},{"$f":"'ចំណាយ-ថវិការដ្ឋ'!M92","v":0}]
[{"$f":"Update_8!C76","v":0},0,{"$f":"'ចំណាយ-ថវិការដ្ឋ'!C93","v":0},{"$f":"'ចំណាយ-ថវិការដ្ឋ'!D93","v":0},0,{"$f":"'ចំណាយ-ថវិការដ្ឋ'!F93","v":0},{"$f":"'ចំណាយ-ថវិការដ្ឋ'!G93","v":0},0,{"$f":"'ចំណាយ-ថវិការដ្ឋ'!I93","v":0},{"$f":"'ចំណាយ-ថវិការដ្ឋ'!J93","v":0},0,{"$f":"'ចំណាយ-ថវិការដ្ឋ'!L93","v":0},{"$f":"'ចំណាយ-ថវិការដ្ឋ'!M93","v":0}]
[{"$f":"Update_8!C77","v":0},0,{"$f":"'ចំណាយ-ថវិការដ្ឋ'!C94","v":0},{"$f":"'ចំណាយ-ថវិការដ្ឋ'!D94","v":0},0,{"$f":"'ចំណាយ-ថវិការដ្ឋ'!F94","v":0},{"$f":"'ចំណាយ-ថវិការដ្ឋ'!G94","v":0},0,{"$f":"'ចំណាយ-ថវិការដ្ឋ'!I94","v":0},{"$f":"'ចំណាយ-ថវិការដ្ឋ'!J94","v":0},0,{"$f":"'ចំណាយ-ថវិការដ្ឋ'!L94","v":0},{"$f":"'ចំណាយ-ថវិការដ្ឋ'!M94","v":0}]
[{"$f":"Update_8!C78","v":0},0,{"$f":"'ចំណាយ-ថវិការដ្ឋ'!C95","v":0},{"$f":"'ចំណាយ-ថវិការដ្ឋ'!D95","v":0},0,{"$f":"'ចំណាយ-ថវិការដ្ឋ'!F95","v":0},{"$f":"'ចំណាយ-ថវិការដ្ឋ'!G95","v":0},0,{"$f":"'ចំណាយ-ថវិការដ្ឋ'!I95","v":0},{"$f":"'ចំណាយ-ថវិការដ្ឋ'!J95","v":0},0,{"$f":"'ចំណាយ-ថវិការដ្ឋ'!L95","v":0},{"$f":"'ចំណាយ-ថវិការដ្ឋ'!M95","v":0}]
[{"$f":"cluster_activity_2","v":"សកម្មភាពរង ទី ២៖ ធានាភាពស័ក្តិសិទ្ធនៃភាពជាអ្នកដឹកនាំ និងគ្រប់គ្រងរបស់មន្ត្រី អប់រំគ្រប់លំដាប់ថ្នាក់"},{"$f":"ROUND(SUM(B97:B106),1)","v":0},{"$f":"ROUND(SUM(C97:C106),1)","v":0},{"$f":"ROUND(SUM(D97:D106),1)","v":0},{"$f":"ROUND(SUM(E97:E106),1)","v":0},0,0,0,0,0,{"$f":"ROUND(SUM(K97:K106),1)","v":0},{"$f":"ROUND(SUM(L97:L106),1)","v":0},{"$f":"ROUND(SUM(M97:M106),1)","v":0}]
[{"$f":"Update_8!C79","v":"១. អភិវឌ្ឍស្ថាប័ន និងសមត្ថភាពមន្ដ្រីជំនាញ"},{"$f":"ROUND(SUM(C97:D97),1)","v":0},{"$f":"'ចំណាយ-ថវិការដ្ឋ'!C97","v":0},{"$f":"'ចំណាយ-ថវិការដ្ឋ'!D97","v":0},{"$f":"ROUND(SUM(F97:G97),1)","v":0},{"$f":"'ចំណាយ-ថវិការដ្ឋ'!F97","v":0},{"$f":"'ចំណាយ-ថវិការដ្ឋ'!G97","v":0},{"$f":"ROUND(SUM(I97:J97),1)","v":0},{"$f":"'ចំណាយ-ថវិការដ្ឋ'!I97","v":0},{"$f":"'ចំណាយ-ថវិការដ្ឋ'!J97","v":0},{"$f":"ROUND(SUM(L97:M97),1)","v":0},{"$f":"'ចំណាយ-ថវិការដ្ឋ'!L97","v":0},{"$f":"'ចំណាយ-ថវិការដ្ឋ'!M97","v":0}]
[{"$f":"Update_8!C80","v":0},{"$f":"ROUND(SUM(C98:D98),1)","v":0},{"$f":"'ចំណាយ-ថវិការដ្ឋ'!C98","v":0},{"$f":"'ចំណាយ-ថវិការដ្ឋ'!D98","v":0},0,{"$f":"'ចំណាយ-ថវិការដ្ឋ'!F98","v":0},{"$f":"'ចំណាយ-ថវិការដ្ឋ'!G98","v":0},0,{"$f":"'ចំណាយ-ថវិការដ្ឋ'!I98","v":0},{"$f":"'ចំណាយ-ថវិការដ្ឋ'!J98","v":0},0,{"$f":"'ចំណាយ-ថវិការដ្ឋ'!L98","v":0},{"$f":"'ចំណាយ-ថវិការដ្ឋ'!M98","v":0}]
[{"$f":"Update_8!C81","v":0},0,{"$f":"'ចំណាយ-ថវិការដ្ឋ'!C99","v":0},{"$f":"'ចំណាយ-ថវិការដ្ឋ'!D99","v":0},0,{"$f":"'ចំណាយ-ថវិការដ្ឋ'!F99","v":0},{"$f":"'ចំណាយ-ថវិការដ្ឋ'!G99","v":0},0,{"$f":"'ចំណាយ-ថវិការដ្ឋ'!I99","v":0},{"$f":"'ចំណាយ-ថវិការដ្ឋ'!J99","v":0},0,{"$f":"'ចំណាយ-ថវិការដ្ឋ'!L99","v":0},{"$f":"'ចំណាយ-ថវិការដ្ឋ'!M99","v":0}]
[{"$f":"Update_8!C82","v":0},0,{"$f":"'ចំណាយ-ថវិការដ្ឋ'!C100","v":0},{"$f":"'ចំណាយ-ថវិការដ្ឋ'!D100","v":0},0,{"$f":"'ចំណាយ-ថវិការដ្ឋ'!F100","v":0},{"$f":"'ចំណាយ-ថវិការដ្ឋ'!G100","v":0},0,{"$f":"'ចំណាយ-ថវិការដ្ឋ'!I100","v":0},{"$f":"'ចំណាយ-ថវិការដ្ឋ'!J100","v":0},0,{"$f":"'ចំណាយ-ថវិការដ្ឋ'!L100","v":0},{"$f":"'ចំណាយ-ថវិការដ្ឋ'!M100","v":0}]
[{"$f":"Update_8!C83","v":0},0,{"$f":"'ចំណាយ-ថវិការដ្ឋ'!C101","v":0},{"$f":"'ចំណាយ-ថវិការដ្ឋ'!D101","v":0},0,{"$f":"'ចំណាយ-ថវិការដ្ឋ'!F101","v":0},{"$f":"'ចំណាយ-ថវិការដ្ឋ'!G101","v":0},0,{"$f":"'ចំណាយ-ថវិការដ្ឋ'!I101","v":0},{"$f":"'ចំណាយ-ថវិការដ្ឋ'!J101","v":0},0,{"$f":"'ចំណាយ-ថវិការដ្ឋ'!L101","v":0},{"$f":"'ចំណាយ-ថវិការដ្ឋ'!M101","v":0}]
[{"$f":"Update_8!C84","v":0},0,{"$f":"'ចំណាយ-ថវិការដ្ឋ'!C102","v":0},{"$f":"'ចំណាយ-ថវិការដ្ឋ'!D102","v":0},0,{"$f":"'ចំណាយ-ថវិការដ្ឋ'!F102","v":0},{"$f":"'ចំណាយ-ថវិការដ្ឋ'!G102","v":0},0,{"$f":"'ចំណាយ-ថវិការដ្ឋ'!I102","v":0},{"$f":"'ចំណាយ-ថវិការដ្ឋ'!J102","v":0},0,{"$f":"'ចំណាយ-ថវិការដ្ឋ'!L102","v":0},{"$f":"'ចំណាយ-ថវិការដ្ឋ'!M102","v":0}]
[{"$f":"Update_8!C85","v":0},0,{"$f":"'ចំណាយ-ថវិការដ្ឋ'!C103","v":0},{"$f":"'ចំណាយ-ថវិការដ្ឋ'!D103","v":0},0,{"$f":"'ចំណាយ-ថវិការដ្ឋ'!F103","v":0},{"$f":"'ចំណាយ-ថវិការដ្ឋ'!G103","v":0},0,{"$f":"'ចំណាយ-ថវិការដ្ឋ'!I103","v":0},{"$f":"'ចំណាយ-ថវិការដ្ឋ'!J103","v":0},0,{"$f":"'ចំណាយ-ថវិការដ្ឋ'!L103","v":0},{"$f":"'ចំណាយ-ថវិការដ្ឋ'!M103","v":0}]
[{"$f":"Update_8!C86","v":0},0,{"$f":"'ចំណាយ-ថវិការដ្ឋ'!C104","v":0},{"$f":"'ចំណាយ-ថវិការដ្ឋ'!D104","v":0},0,{"$f":"'ចំណាយ-ថវិការដ្ឋ'!F104","v":0},{"$f":"'ចំណាយ-ថវិការដ្ឋ'!G104","v":0},0,{"$f":"'ចំណាយ-ថវិការដ្ឋ'!I104","v":0},{"$f":"'ចំណាយ-ថវិការដ្ឋ'!J104","v":0},0,{"$f":"'ចំណាយ-ថវិការដ្ឋ'!L104","v":0},{"$f":"'ចំណាយ-ថវិការដ្ឋ'!M104","v":0}]
[{"$f":"Update_8!C87","v":0},0,{"$f":"'ចំណាយ-ថវិការដ្ឋ'!C105","v":0},{"$f":"'ចំណាយ-ថវិការដ្ឋ'!D105","v":0},0,{"$f":"'ចំណាយ-ថវិការដ្ឋ'!F105","v":0},{"$f":"'ចំណាយ-ថវិការដ្ឋ'!G105","v":0},0,{"$f":"'ចំណាយ-ថវិការដ្ឋ'!I105","v":0},{"$f":"'ចំណាយ-ថវិការដ្ឋ'!J105","v":0},0,{"$f":"'ចំណាយ-ថវិការដ្ឋ'!L105","v":0},{"$f":"'ចំណាយ-ថវិការដ្ឋ'!M105","v":0}]
[{"$f":"Update_8!C88","v":0},0,{"$f":"'ចំណាយ-ថវិការដ្ឋ'!C106","v":0},{"$f":"'ចំណាយ-ថវិការដ្ឋ'!D106","v":0},0,{"$f":"'ចំណាយ-ថវិការដ្ឋ'!F106","v":0},{"$f":"'ចំណាយ-ថវិការដ្ឋ'!G106","v":0},0,{"$f":"'ចំណាយ-ថវិការដ្ឋ'!I106","v":0},{"$f":"'ចំណាយ-ថវិការដ្ឋ'!J106","v":0},0,{"$f":"'ចំណាយ-ថវិការដ្ឋ'!L106","v":0},{"$f":"'ចំណាយ-ថវិការដ្ឋ'!M106","v":0}]
[{"$f":"ព័ត៌មានអង្គភាព!C10","v":"១.១០.០១.៥៖ ការពង្រឹង​ និងការពង្រីកកម្មវិធីលើកកម្ពស់សុខភាពសិក្សា"},{"$f":"SUM(B108,B119)","v":0},{"$f":"SUM(C108,C119)","v":0},0,0,0,0,0,0,0,0,0,0]
[{"$f":"cluster_activity_1","v":"សកម្មភាពរង ទី ១៖ ធានាឱ្យការអប់រំមានគុណភាព ប្រកបដោយសមធម៌ បរិយាបន្ន និងលើកកម្ពស់ឱកាសក្នុងការសិក្សាពេញមួយជីវិត"},{"$f":"ROUND(SUM(B109:B118),1)","v":0},{"$f":"ROUND(SUM(C109:C118),1)","v":0},{"$f":"ROUND(SUM(D109:D118),1)","v":0},0,0,0,0,0,0,0,0,0]
[{"$f":"Update_8!C89","v":"១. កិច្ចដំណើរការអង្គភាព"},{"$f":"ROUND(SUM(C109:D109),1)","v":0},{"$f":"'ចំណាយ-ថវិការដ្ឋ'!C109","v":0},{"$f":"'ចំណាយ-ថវិការដ្ឋ'!D109","v":0},{"$f":"ROUND(SUM(F109:G109),1)","v":0},{"$f":"'ចំណាយ-ថវិការដ្ឋ'!F109","v":0},{"$f":"'ចំណាយ-ថវិការដ្ឋ'!G109","v":0},{"$f":"ROUND(SUM(I109:J109),1)","v":0},{"$f":"'ចំណាយ-ថវិការដ្ឋ'!I109","v":0},{"$f":"'ចំណាយ-ថវិការដ្ឋ'!J109","v":0},{"$f":"ROUND(SUM(L109:M109),1)","v":0},{"$f":"'ចំណាយ-ថវិការដ្ឋ'!L109","v":0},{"$f":"'ចំណាយ-ថវិការដ្ឋ'!M109","v":0}]
[{"$f":"Update_8!C90","v":"២. ថវិកាលទ្ធកម្ម"},{"$f":"ROUND(SUM(C110:D110),1)","v":0},{"$f":"'ចំណាយ-ថវិការដ្ឋ'!C110","v":0},{"$f":"'ចំណាយ-ថវិការដ្ឋ'!D110","v":0},0,{"$f":"'ចំណាយ-ថវិការដ្ឋ'!F110","v":0},{"$f":"'ចំណាយ-ថវិការដ្ឋ'!G110","v":0},0,{"$f":"'ចំណាយ-ថវិការដ្ឋ'!I110","v":0},{"$f":"'ចំណាយ-ថវិការដ្ឋ'!J110","v":0},0,{"$f":"'ចំណាយ-ថវិការដ្ឋ'!L110","v":0},{"$f":"'ចំណាយ-ថវិការដ្ឋ'!M110","v":0}]
[{"$f":"Update_8!C91","v":"៣. ពិនិត្យតាមដាន និងវាយតម្លៃ"},0,{"$f":"'ចំណាយ-ថវិការដ្ឋ'!C111","v":0},{"$f":"'ចំណាយ-ថវិការដ្ឋ'!D111","v":0},0,{"$f":"'ចំណាយ-ថវិការដ្ឋ'!F111","v":0},{"$f":"'ចំណាយ-ថវិការដ្ឋ'!G111","v":0},0,{"$f":"'ចំណាយ-ថវិការដ្ឋ'!I111","v":0},{"$f":"'ចំណាយ-ថវិការដ្ឋ'!J111","v":0},0,{"$f":"'ចំណាយ-ថវិការដ្ឋ'!L111","v":0},{"$f":"'ចំណាយ-ថវិការដ្ឋ'!M111","v":0}]
[{"$f":"Update_8!C92","v":"៤. លើកកម្ពស់សុខភាពចាំបាច់ដល់អ្នកសិក្សានិងបុគ្គលិកអប់រំ"},0,{"$f":"'ចំណាយ-ថវិការដ្ឋ'!C112","v":0},{"$f":"'ចំណាយ-ថវិការដ្ឋ'!D112","v":0},0,{"$f":"'ចំណាយ-ថវិការដ្ឋ'!F112","v":0},{"$f":"'ចំណាយ-ថវិការដ្ឋ'!G112","v":0},0,{"$f":"'ចំណាយ-ថវិការដ្ឋ'!I112","v":0},{"$f":"'ចំណាយ-ថវិការដ្ឋ'!J112","v":0},0,{"$f":"'ចំណាយ-ថវិការដ្ឋ'!L112","v":0},{"$f":"'ចំណាយ-ថវិការដ្ឋ'!M112","v":0}]
[{"$f":"Update_8!C93","v":"៥. លើកកម្ពស់ការផ្តល់អាហារូបត្ថម្ភ"},0,{"$f":"'ចំណាយ-ថវិការដ្ឋ'!C113","v":0},{"$f":"'ចំណាយ-ថវិការដ្ឋ'!D113","v":0},0,{"$f":"'ចំណាយ-ថវិការដ្ឋ'!F113","v":0},{"$f":"'ចំណាយ-ថវិការដ្ឋ'!G113","v":0},0,{"$f":"'ចំណាយ-ថវិការដ្ឋ'!I113","v":0},{"$f":"'ចំណាយ-ថវិការដ្ឋ'!J113","v":0},0,{"$f":"'ចំណាយ-ថវិការដ្ឋ'!L113","v":0},{"$f":"'ចំណាយ-ថវិការដ្ឋ'!M113","v":0}]
[{"$f":"Update_8!C94","v":"៦. លើកកម្ពស់ការផ្គត់ផ្គង់ទឹកស្អាតនិងអនាម័យ"},0,{"$f":"'ចំណាយ-ថវិការដ្ឋ'!C114","v":0},{"$f":"'ចំណាយ-ថវិការដ្ឋ'!D114","v":0},0,{"$f":"'ចំណាយ-ថវិការដ្ឋ'!F114","v":0},{"$f":"'ចំណាយ-ថវិការដ្ឋ'!G114","v":0},0,{"$f":"'ចំណាយ-ថវិការដ្ឋ'!I114","v":0},{"$f":"'ចំណាយ-ថវិការដ្ឋ'!J114","v":0},0,{"$f":"'ចំណាយ-ថវិការដ្ឋ'!L114","v":0},{"$f":"'ចំណាយ-ថវិការដ្ឋ'!M114","v":0}]
[{"$f":"Update_8!C95","v":"៧. លើកកម្ពស់បរិស្ថានសិក្សាប្រកបដោយសុវត្ថិភាព បរិយាបន្ន ផាសុកភាព និងមេត្រីភាព"},0,{"$f":"'ចំណាយ-ថវិការដ្ឋ'!C115","v":0},{"$f":"'ចំណាយ-ថវិការដ្ឋ'!D115","v":0},0,{"$f":"'ចំណាយ-ថវិការដ្ឋ'!F115","v":0},{"$f":"'ចំណាយ-ថវិការដ្ឋ'!G115","v":0},0,{"$f":"'ចំណាយ-ថវិការដ្ឋ'!I115","v":0},{"$f":"'ចំណាយ-ថវិការដ្ឋ'!J115","v":0},0,{"$f":"'ចំណាយ-ថវិការដ្ឋ'!L115","v":0},{"$f":"'ចំណាយ-ថវិការដ្ឋ'!M115","v":0}]
[{"$f":"Update_8!C96","v":"៨. លើកកម្ពស់សន្តិសុខនិងសណ្តាប់ធ្នាប់ក្នុងគ្រឹះស្ថានសិក្សា"},0,{"$f":"'ចំណាយ-ថវិការដ្ឋ'!C116","v":0},{"$f":"'ចំណាយ-ថវិការដ្ឋ'!D116","v":0},0,{"$f":"'ចំណាយ-ថវិការដ្ឋ'!F116","v":0},{"$f":"'ចំណាយ-ថវិការដ្ឋ'!G116","v":0},0,{"$f":"'ចំណាយ-ថវិការដ្ឋ'!I116","v":0},{"$f":"'ចំណាយ-ថវិការដ្ឋ'!J116","v":0},0,{"$f":"'ចំណាយ-ថវិការដ្ឋ'!L116","v":0},{"$f":"'ចំណាយ-ថវិការដ្ឋ'!M116","v":0}]
[{"$f":"Update_8!C97","v":"៩. លើកកម្ពស់ការអប់រំសុខភាព"},0,{"$f":"'ចំណាយ-ថវិការដ្ឋ'!C117","v":0},{"$f":"'ចំណាយ-ថវិការដ្ឋ'!D117","v":0},0,{"$f":"'ចំណាយ-ថវិការដ្ឋ'!F117","v":0},{"$f":"'ចំណាយ-ថវិការដ្ឋ'!G117","v":0},0,{"$f":"'ចំណាយ-ថវិការដ្ឋ'!I117","v":0},{"$f":"'ចំណាយ-ថវិការដ្ឋ'!J117","v":0},0,{"$f":"'ចំណាយ-ថវិការដ្ឋ'!L117","v":0},{"$f":"'ចំណាយ-ថវិការដ្ឋ'!M117","v":0}]
[{"$f":"Update_8!C98","v":"១០. លើកកម្ពស់ការអនុវត្តបំណិនសុខភាព"},0,{"$f":"'ចំណាយ-ថវិការដ្ឋ'!C118","v":0},{"$f":"'ចំណាយ-ថវិការដ្ឋ'!D118","v":0},0,{"$f":"'ចំណាយ-ថវិការដ្ឋ'!F118","v":0},{"$f":"'ចំណាយ-ថវិការដ្ឋ'!G118","v":0},0,{"$f":"'ចំណាយ-ថវិការដ្ឋ'!I118","v":0},{"$f":"'ចំណាយ-ថវិការដ្ឋ'!J118","v":0},0,{"$f":"'ចំណាយ-ថវិការដ្ឋ'!L118","v":0},{"$f":"'ចំណាយ-ថវិការដ្ឋ'!M118","v":0}]
[{"$f":"cluster_activity_2","v":"សកម្មភាពរង ទី ២៖ ធានាភាពស័ក្តិសិទ្ធនៃភាពជាអ្នកដឹកនាំ និងគ្រប់គ្រងរបស់មន្ត្រី អប់រំគ្រប់លំដាប់ថ្នាក់"},{"$f":"ROUND(SUM(B120:B129),1)","v":0},{"$f":"ROUND(SUM(C120:C129),1)","v":0},{"$f":"ROUND(SUM(D120:D129),1)","v":0},{"$f":"ROUND(SUM(E120:E129),1)","v":0},0,0,0,0,0,{"$f":"ROUND(SUM(K120:K129),1)","v":0},{"$f":"ROUND(SUM(L120:L129),1)","v":0},{"$f":"ROUND(SUM(M120:M129),1)","v":0}]
[{"$f":"Update_8!C99","v":"១. អភិវឌ្ឍស្ថាប័ន និងសមត្ថភាពមន្ដ្រីជំនាញ"},{"$f":"ROUND(SUM(C120:D120),1)","v":0},{"$f":"'ចំណាយ-ថវិការដ្ឋ'!C120","v":0},{"$f":"'ចំណាយ-ថវិការដ្ឋ'!D120","v":0},{"$f":"ROUND(SUM(F120:G120),1)","v":0},{"$f":"'ចំណាយ-ថវិការដ្ឋ'!F120","v":0},{"$f":"'ចំណាយ-ថវិការដ្ឋ'!G120","v":0},{"$f":"ROUND(SUM(I120:J120),1)","v":0},{"$f":"'ចំណាយ-ថវិការដ្ឋ'!I120","v":0},{"$f":"'ចំណាយ-ថវិការដ្ឋ'!J120","v":0},{"$f":"ROUND(SUM(L120:M120),1)","v":0},{"$f":"'ចំណាយ-ថវិការដ្ឋ'!L120","v":0},{"$f":"'ចំណាយ-ថវិការដ្ឋ'!M120","v":0}]
[{"$f":"Update_8!C100","v":0},{"$f":"ROUND(SUM(C121:D121),1)","v":0},{"$f":"'ចំណាយ-ថវិការដ្ឋ'!C121","v":0},{"$f":"'ចំណាយ-ថវិការដ្ឋ'!D121","v":0},0,{"$f":"'ចំណាយ-ថវិការដ្ឋ'!F121","v":0},{"$f":"'ចំណាយ-ថវិការដ្ឋ'!G121","v":0},0,{"$f":"'ចំណាយ-ថវិការដ្ឋ'!I121","v":0},{"$f":"'ចំណាយ-ថវិការដ្ឋ'!J121","v":0},0,{"$f":"'ចំណាយ-ថវិការដ្ឋ'!L121","v":0},{"$f":"'ចំណាយ-ថវិការដ្ឋ'!M121","v":0}]
[{"$f":"Update_8!C101","v":0},0,{"$f":"'ចំណាយ-ថវិការដ្ឋ'!C122","v":0},{"$f":"'ចំណាយ-ថវិការដ្ឋ'!D122","v":0},0,{"$f":"'ចំណាយ-ថវិការដ្ឋ'!F122","v":0},{"$f":"'ចំណាយ-ថវិការដ្ឋ'!G122","v":0},0,{"$f":"'ចំណាយ-ថវិការដ្ឋ'!I122","v":0},{"$f":"'ចំណាយ-ថវិការដ្ឋ'!J122","v":0},0,{"$f":"'ចំណាយ-ថវិការដ្ឋ'!L122","v":0},{"$f":"'ចំណាយ-ថវិការដ្ឋ'!M122","v":0}]
[{"$f":"Update_8!C102","v":0},0,{"$f":"'ចំណាយ-ថវិការដ្ឋ'!C123","v":0},{"$f":"'ចំណាយ-ថវិការដ្ឋ'!D123","v":0},0,{"$f":"'ចំណាយ-ថវិការដ្ឋ'!F123","v":0},{"$f":"'ចំណាយ-ថវិការដ្ឋ'!G123","v":0},0,{"$f":"'ចំណាយ-ថវិការដ្ឋ'!I123","v":0},{"$f":"'ចំណាយ-ថវិការដ្ឋ'!J123","v":0},0,{"$f":"'ចំណាយ-ថវិការដ្ឋ'!L123","v":0},{"$f":"'ចំណាយ-ថវិការដ្ឋ'!M123","v":0}]
[{"$f":"Update_8!C103","v":0},0,{"$f":"'ចំណាយ-ថវិការដ្ឋ'!C124","v":0},{"$f":"'ចំណាយ-ថវិការដ្ឋ'!D124","v":0},0,{"$f":"'ចំណាយ-ថវិការដ្ឋ'!F124","v":0},{"$f":"'ចំណាយ-ថវិការដ្ឋ'!G124","v":0},0,{"$f":"'ចំណាយ-ថវិការដ្ឋ'!I124","v":0},{"$f":"'ចំណាយ-ថវិការដ្ឋ'!J124","v":0},0,{"$f":"'ចំណាយ-ថវិការដ្ឋ'!L124","v":0},{"$f":"'ចំណាយ-ថវិការដ្ឋ'!M124","v":0}]
[{"$f":"Update_8!C104","v":0},0,{"$f":"'ចំណាយ-ថវិការដ្ឋ'!C125","v":0},{"$f":"'ចំណាយ-ថវិការដ្ឋ'!D125","v":0},0,{"$f":"'ចំណាយ-ថវិការដ្ឋ'!F125","v":0},{"$f":"'ចំណាយ-ថវិការដ្ឋ'!G125","v":0},0,{"$f":"'ចំណាយ-ថវិការដ្ឋ'!I125","v":0},{"$f":"'ចំណាយ-ថវិការដ្ឋ'!J125","v":0},0,{"$f":"'ចំណាយ-ថវិការដ្ឋ'!L125","v":0},{"$f":"'ចំណាយ-ថវិការដ្ឋ'!M125","v":0}]
[{"$f":"Update_8!C105","v":0},0,{"$f":"'ចំណាយ-ថវិការដ្ឋ'!C126","v":0},{"$f":"'ចំណាយ-ថវិការដ្ឋ'!D126","v":0},0,{"$f":"'ចំណាយ-ថវិការដ្ឋ'!F126","v":0},{"$f":"'ចំណាយ-ថវិការដ្ឋ'!G126","v":0},0,{"$f":"'ចំណាយ-ថវិការដ្ឋ'!I126","v":0},{"$f":"'ចំណាយ-ថវិការដ្ឋ'!J126","v":0},0,{"$f":"'ចំណាយ-ថវិការដ្ឋ'!L126","v":0},{"$f":"'ចំណាយ-ថវិការដ្ឋ'!M126","v":0}]
[{"$f":"Update_8!C106","v":0},0,{"$f":"'ចំណាយ-ថវិការដ្ឋ'!C127","v":0},{"$f":"'ចំណាយ-ថវិការដ្ឋ'!D127","v":0},0,{"$f":"'ចំណាយ-ថវិការដ្ឋ'!F127","v":0},{"$f":"'ចំណាយ-ថវិការដ្ឋ'!G127","v":0},0,{"$f":"'ចំណាយ-ថវិការដ្ឋ'!I127","v":0},{"$f":"'ចំណាយ-ថវិការដ្ឋ'!J127","v":0},0,{"$f":"'ចំណាយ-ថវិការដ្ឋ'!L127","v":0},{"$f":"'ចំណាយ-ថវិការដ្ឋ'!M127","v":0}]
[{"$f":"Update_8!C107","v":0},0,{"$f":"'ចំណាយ-ថវិការដ្ឋ'!C128","v":0},{"$f":"'ចំណាយ-ថវិការដ្ឋ'!D128","v":0},0,{"$f":"'ចំណាយ-ថវិការដ្ឋ'!F128","v":0},{"$f":"'ចំណាយ-ថវិការដ្ឋ'!G128","v":0},0,{"$f":"'ចំណាយ-ថវិការដ្ឋ'!I128","v":0},{"$f":"'ចំណាយ-ថវិការដ្ឋ'!J128","v":0},0,{"$f":"'ចំណាយ-ថវិការដ្ឋ'!L128","v":0},{"$f":"'ចំណាយ-ថវិការដ្ឋ'!M128","v":0}]
[{"$f":"Update_8!C108","v":0},0,{"$f":"'ចំណាយ-ថវិការដ្ឋ'!C129","v":0},{"$f":"'ចំណាយ-ថវិការដ្ឋ'!D129","v":0},0,{"$f":"'ចំណាយ-ថវិការដ្ឋ'!F129","v":0},{"$f":"'ចំណាយ-ថវិការដ្ឋ'!G129","v":0},0,{"$f":"'ចំណាយ-ថវិការដ្ឋ'!I129","v":0},{"$f":"'ចំណាយ-ថវិការដ្ឋ'!J129","v":0},0,{"$f":"'ចំណាយ-ថវិការដ្ឋ'!L129","v":0},{"$f":"'ចំណាយ-ថវិការដ្ឋ'!M129","v":0}]
[{"$f":"ព័ត៌មានអង្គភាព!C11","v":"១.១០.០១.៦៖ លើកកម្ពស់គុណភាព និងប្រសិទ្ធភាពនៃការអនុវត្តកម្មវិធីអប់រំបច្ចេកទេស"},{"$f":"SUM(B131,B142)","v":0},{"$f":"SUM(C131,C142)","v":0},0,0,0,0,0,0,0,0,0,0]
[{"$f":"cluster_activity_1","v":"សកម្មភាពរង ទី ១៖ ធានាឱ្យការអប់រំមានគុណភាព ប្រកបដោយសមធម៌ បរិយាបន្ន និងលើកកម្ពស់ឱកាសក្នុងការសិក្សាពេញមួយជីវិត"},{"$f":"ROUND(SUM(B132:B141),1)","v":0},{"$f":"ROUND(SUM(C132:C141),1)","v":0},{"$f":"ROUND(SUM(D132:D141),1)","v":0},0,0,0,0,0,0,0,0,0]
[{"$f":"Update_8!C109","v":"១. កិច្ចដំណើរការអង្គភាព"},{"$f":"ROUND(SUM(C132:D132),1)","v":0},{"$f":"'ចំណាយ-ថវិការដ្ឋ'!C132","v":0},{"$f":"'ចំណាយ-ថវិការដ្ឋ'!D132","v":0},{"$f":"ROUND(SUM(F132:G132),1)","v":0},{"$f":"'ចំណាយ-ថវិការដ្ឋ'!F132","v":0},{"$f":"'ចំណាយ-ថវិការដ្ឋ'!G132","v":0},{"$f":"ROUND(SUM(I132:J132),1)","v":0},{"$f":"'ចំណាយ-ថវិការដ្ឋ'!I132","v":0},{"$f":"'ចំណាយ-ថវិការដ្ឋ'!J132","v":0},{"$f":"ROUND(SUM(L132:M132),1)","v":0},{"$f":"'ចំណាយ-ថវិការដ្ឋ'!L132","v":0},{"$f":"'ចំណាយ-ថវិការដ្ឋ'!M132","v":0}]
[{"$f":"Update_8!C110","v":"២. ថវិកាលទ្ធកម្ម"},{"$f":"ROUND(SUM(C133:D133),1)","v":0},{"$f":"'ចំណាយ-ថវិការដ្ឋ'!C133","v":0},{"$f":"'ចំណាយ-ថវិការដ្ឋ'!D133","v":0},0,{"$f":"'ចំណាយ-ថវិការដ្ឋ'!F133","v":0},{"$f":"'ចំណាយ-ថវិការដ្ឋ'!G133","v":0},0,{"$f":"'ចំណាយ-ថវិការដ្ឋ'!I133","v":0},{"$f":"'ចំណាយ-ថវិការដ្ឋ'!J133","v":0},0,{"$f":"'ចំណាយ-ថវិការដ្ឋ'!L133","v":0},{"$f":"'ចំណាយ-ថវិការដ្ឋ'!M133","v":0}]
[{"$f":"Update_8!C111","v":"៣. ពិនិត្យតាមដាន និងវាយតម្លៃ"},0,{"$f":"'ចំណាយ-ថវិការដ្ឋ'!C134","v":0},{"$f":"'ចំណាយ-ថវិការដ្ឋ'!D134","v":0},0,{"$f":"'ចំណាយ-ថវិការដ្ឋ'!F134","v":0},{"$f":"'ចំណាយ-ថវិការដ្ឋ'!G134","v":0},0,{"$f":"'ចំណាយ-ថវិការដ្ឋ'!I134","v":0},{"$f":"'ចំណាយ-ថវិការដ្ឋ'!J134","v":0},0,{"$f":"'ចំណាយ-ថវិការដ្ឋ'!L134","v":0},{"$f":"'ចំណាយ-ថវិការដ្ឋ'!M134","v":0}]
[{"$f":"Update_8!C112","v":"៤. មូលនិធិដំណើរការសាលារៀនសាធារណៈ"},0,{"$f":"'ចំណាយ-ថវិការដ្ឋ'!C135","v":0},{"$f":"'ចំណាយ-ថវិការដ្ឋ'!D135","v":0},0,{"$f":"'ចំណាយ-ថវិការដ្ឋ'!F135","v":0},{"$f":"'ចំណាយ-ថវិការដ្ឋ'!G135","v":0},0,{"$f":"'ចំណាយ-ថវិការដ្ឋ'!I135","v":0},{"$f":"'ចំណាយ-ថវិការដ្ឋ'!J135","v":0},0,{"$f":"'ចំណាយ-ថវិការដ្ឋ'!L135","v":0},{"$f":"'ចំណាយ-ថវិការដ្ឋ'!M135","v":0}]
[{"$f":"Update_8!C113","v":"៥. ឧបត្ថម្ភកម្មវិធីអាហារូបករណ៍"},0,{"$f":"'ចំណាយ-ថវិការដ្ឋ'!C136","v":0},{"$f":"'ចំណាយ-ថវិការដ្ឋ'!D136","v":0},0,{"$f":"'ចំណាយ-ថវិការដ្ឋ'!F136","v":0},{"$f":"'ចំណាយ-ថវិការដ្ឋ'!G136","v":0},0,{"$f":"'ចំណាយ-ថវិការដ្ឋ'!I136","v":0},{"$f":"'ចំណាយ-ថវិការដ្ឋ'!J136","v":0},0,{"$f":"'ចំណាយ-ថវិការដ្ឋ'!L136","v":0},{"$f":"'ចំណាយ-ថវិការដ្ឋ'!M136","v":0}]
[{"$f":"Update_8!C114","v":"៦. ពង្រឹងគុណភាពបង្រៀននិងរៀន"},0,{"$f":"'ចំណាយ-ថវិការដ្ឋ'!C137","v":0},{"$f":"'ចំណាយ-ថវិការដ្ឋ'!D137","v":0},0,{"$f":"'ចំណាយ-ថវិការដ្ឋ'!F137","v":0},{"$f":"'ចំណាយ-ថវិការដ្ឋ'!G137","v":0},0,{"$f":"'ចំណាយ-ថវិការដ្ឋ'!I137","v":0},{"$f":"'ចំណាយ-ថវិការដ្ឋ'!J137","v":0},0,{"$f":"'ចំណាយ-ថវិការដ្ឋ'!L137","v":0},{"$f":"'ចំណាយ-ថវិការដ្ឋ'!M137","v":0}]
[{"$f":"Update_8!C115","v":"៧. ពង្រឹង និងពង្រីកការបណ្តុះបណ្តាលវិជ្ជាជីវៈ បំណិនជីវិត អប់រំតម្រង់ទិសវិជ្ជាជីវៈ និងប្រឹក្សាអាជីព"},0,{"$f":"'ចំណាយ-ថវិការដ្ឋ'!C138","v":0},{"$f":"'ចំណាយ-ថវិការដ្ឋ'!D138","v":0},0,{"$f":"'ចំណាយ-ថវិការដ្ឋ'!F138","v":0},{"$f":"'ចំណាយ-ថវិការដ្ឋ'!G138","v":0},0,{"$f":"'ចំណាយ-ថវិការដ្ឋ'!I138","v":0},{"$f":"'ចំណាយ-ថវិការដ្ឋ'!J138","v":0},0,{"$f":"'ចំណាយ-ថវិការដ្ឋ'!L138","v":0},{"$f":"'ចំណាយ-ថវិការដ្ឋ'!M138","v":0}]
[{"$f":"Update_8!C116","v":0},0,{"$f":"'ចំណាយ-ថវិការដ្ឋ'!C139","v":0},{"$f":"'ចំណាយ-ថវិការដ្ឋ'!D139","v":0},0,{"$f":"'ចំណាយ-ថវិការដ្ឋ'!F139","v":0},{"$f":"'ចំណាយ-ថវិការដ្ឋ'!G139","v":0},0,{"$f":"'ចំណាយ-ថវិការដ្ឋ'!I139","v":0},{"$f":"'ចំណាយ-ថវិការដ្ឋ'!J139","v":0},0,{"$f":"'ចំណាយ-ថវិការដ្ឋ'!L139","v":0},{"$f":"'ចំណាយ-ថវិការដ្ឋ'!M139","v":0}]
[{"$f":"Update_8!C117","v":0},0,{"$f":"'ចំណាយ-ថវិការដ្ឋ'!C140","v":0},{"$f":"'ចំណាយ-ថវិការដ្ឋ'!D140","v":0},0,{"$f":"'ចំណាយ-ថវិការដ្ឋ'!F140","v":0},{"$f":"'ចំណាយ-ថវិការដ្ឋ'!G140","v":0},0,{"$f":"'ចំណាយ-ថវិការដ្ឋ'!I140","v":0},{"$f":"'ចំណាយ-ថវិការដ្ឋ'!J140","v":0},0,{"$f":"'ចំណាយ-ថវិការដ្ឋ'!L140","v":0},{"$f":"'ចំណាយ-ថវិការដ្ឋ'!M140","v":0}]
[{"$f":"Update_8!C118","v":0},0,{"$f":"'ចំណាយ-ថវិការដ្ឋ'!C141","v":0},{"$f":"'ចំណាយ-ថវិការដ្ឋ'!D141","v":0},0,{"$f":"'ចំណាយ-ថវិការដ្ឋ'!F141","v":0},{"$f":"'ចំណាយ-ថវិការដ្ឋ'!G141","v":0},0,{"$f":"'ចំណាយ-ថវិការដ្ឋ'!I141","v":0},{"$f":"'ចំណាយ-ថវិការដ្ឋ'!J141","v":0},0,{"$f":"'ចំណាយ-ថវិការដ្ឋ'!L141","v":0},{"$f":"'ចំណាយ-ថវិការដ្ឋ'!M141","v":0}]
[{"$f":"cluster_activity_2","v":"សកម្មភាពរង ទី ២៖ ធានាភាពស័ក្តិសិទ្ធនៃភាពជាអ្នកដឹកនាំ និងគ្រប់គ្រងរបស់មន្ត្រី អប់រំគ្រប់លំដាប់ថ្នាក់"},{"$f":"ROUND(SUM(B143:B152),1)","v":0},{"$f":"ROUND(SUM(C143:C152),1)","v":0},{"$f":"ROUND(SUM(D143:D152),1)","v":0},{"$f":"ROUND(SUM(E143:E152),1)","v":0},0,0,0,0,0,{"$f":"ROUND(SUM(K143:K152),1)","v":0},{"$f":"ROUND(SUM(L143:L152),1)","v":0},{"$f":"ROUND(SUM(M143:M152),1)","v":0}]
[{"$f":"Update_8!C119","v":"១. អភិវឌ្ឍស្ថាប័ន និងសមត្ថភាពមន្ដ្រីជំនាញ"},{"$f":"ROUND(SUM(C143:D143),1)","v":0},{"$f":"'ចំណាយ-ថវិការដ្ឋ'!C143","v":0},{"$f":"'ចំណាយ-ថវិការដ្ឋ'!D143","v":0},{"$f":"ROUND(SUM(F143:G143),1)","v":0},{"$f":"'ចំណាយ-ថវិការដ្ឋ'!F143","v":0},{"$f":"'ចំណាយ-ថវិការដ្ឋ'!G143","v":0},{"$f":"ROUND(SUM(I143:J143),1)","v":0},{"$f":"'ចំណាយ-ថវិការដ្ឋ'!I143","v":0},{"$f":"'ចំណាយ-ថវិការដ្ឋ'!J143","v":0},{"$f":"ROUND(SUM(L143:M143),1)","v":0},{"$f":"'ចំណាយ-ថវិការដ្ឋ'!L143","v":0},{"$f":"'ចំណាយ-ថវិការដ្ឋ'!M143","v":0}]
[{"$f":"Update_8!C120","v":0},{"$f":"ROUND(SUM(C144:D144),1)","v":0},{"$f":"'ចំណាយ-ថវិការដ្ឋ'!C144","v":0},{"$f":"'ចំណាយ-ថវិការដ្ឋ'!D144","v":0},0,{"$f":"'ចំណាយ-ថវិការដ្ឋ'!F144","v":0},{"$f":"'ចំណាយ-ថវិការដ្ឋ'!G144","v":0},0,{"$f":"'ចំណាយ-ថវិការដ្ឋ'!I144","v":0},{"$f":"'ចំណាយ-ថវិការដ្ឋ'!J144","v":0},0,{"$f":"'ចំណាយ-ថវិការដ្ឋ'!L144","v":0},{"$f":"'ចំណាយ-ថវិការដ្ឋ'!M144","v":0}]
[{"$f":"Update_8!C121","v":0},0,{"$f":"'ចំណាយ-ថវិការដ្ឋ'!C145","v":0},{"$f":"'ចំណាយ-ថវិការដ្ឋ'!D145","v":0},0,{"$f":"'ចំណាយ-ថវិការដ្ឋ'!F145","v":0},{"$f":"'ចំណាយ-ថវិការដ្ឋ'!G145","v":0},0,{"$f":"'ចំណាយ-ថវិការដ្ឋ'!I145","v":0},{"$f":"'ចំណាយ-ថវិការដ្ឋ'!J145","v":0},0,{"$f":"'ចំណាយ-ថវិការដ្ឋ'!L145","v":0},{"$f":"'ចំណាយ-ថវិការដ្ឋ'!M145","v":0}]
[{"$f":"Update_8!C122","v":0},0,{"$f":"'ចំណាយ-ថវិការដ្ឋ'!C146","v":0},{"$f":"'ចំណាយ-ថវិការដ្ឋ'!D146","v":0},0,{"$f":"'ចំណាយ-ថវិការដ្ឋ'!F146","v":0},{"$f":"'ចំណាយ-ថវិការដ្ឋ'!G146","v":0},0,{"$f":"'ចំណាយ-ថវិការដ្ឋ'!I146","v":0},{"$f":"'ចំណាយ-ថវិការដ្ឋ'!J146","v":0},0,{"$f":"'ចំណាយ-ថវិការដ្ឋ'!L146","v":0},{"$f":"'ចំណាយ-ថវិការដ្ឋ'!M146","v":0}]
[{"$f":"Update_8!C123","v":0},0,{"$f":"'ចំណាយ-ថវិការដ្ឋ'!C147","v":0},{"$f":"'ចំណាយ-ថវិការដ្ឋ'!D147","v":0},0,{"$f":"'ចំណាយ-ថវិការដ្ឋ'!F147","v":0},{"$f":"'ចំណាយ-ថវិការដ្ឋ'!G147","v":0},0,{"$f":"'ចំណាយ-ថវិការដ្ឋ'!I147","v":0},{"$f":"'ចំណាយ-ថវិការដ្ឋ'!J147","v":0},0,{"$f":"'ចំណាយ-ថវិការដ្ឋ'!L147","v":0},{"$f":"'ចំណាយ-ថវិការដ្ឋ'!M147","v":0}]
[{"$f":"Update_8!C124","v":0},0,{"$f":"'ចំណាយ-ថវិការដ្ឋ'!C148","v":0},{"$f":"'ចំណាយ-ថវិការដ្ឋ'!D148","v":0},0,{"$f":"'ចំណាយ-ថវិការដ្ឋ'!F148","v":0},{"$f":"'ចំណាយ-ថវិការដ្ឋ'!G148","v":0},0,{"$f":"'ចំណាយ-ថវិការដ្ឋ'!I148","v":0},{"$f":"'ចំណាយ-ថវិការដ្ឋ'!J148","v":0},0,{"$f":"'ចំណាយ-ថវិការដ្ឋ'!L148","v":0},{"$f":"'ចំណាយ-ថវិការដ្ឋ'!M148","v":0}]
[{"$f":"Update_8!C125","v":0},0,{"$f":"'ចំណាយ-ថវិការដ្ឋ'!C149","v":0},{"$f":"'ចំណាយ-ថវិការដ្ឋ'!D149","v":0},0,{"$f":"'ចំណាយ-ថវិការដ្ឋ'!F149","v":0},{"$f":"'ចំណាយ-ថវិការដ្ឋ'!G149","v":0},0,{"$f":"'ចំណាយ-ថវិការដ្ឋ'!I149","v":0},{"$f":"'ចំណាយ-ថវិការដ្ឋ'!J149","v":0},0,{"$f":"'ចំណាយ-ថវិការដ្ឋ'!L149","v":0},{"$f":"'ចំណាយ-ថវិការដ្ឋ'!M149","v":0}]
[{"$f":"Update_8!C126","v":0},0,{"$f":"'ចំណាយ-ថវិការដ្ឋ'!C150","v":0},{"$f":"'ចំណាយ-ថវិការដ្ឋ'!D150","v":0},0,{"$f":"'ចំណាយ-ថវិការដ្ឋ'!F150","v":0},{"$f":"'ចំណាយ-ថវិការដ្ឋ'!G150","v":0},0,{"$f":"'ចំណាយ-ថវិការដ្ឋ'!I150","v":0},{"$f":"'ចំណាយ-ថវិការដ្ឋ'!J150","v":0},0,{"$f":"'ចំណាយ-ថវិការដ្ឋ'!L150","v":0},{"$f":"'ចំណាយ-ថវិការដ្ឋ'!M150","v":0}]
[{"$f":"Update_8!C127","v":0},0,{"$f":"'ចំណាយ-ថវិការដ្ឋ'!C151","v":0},{"$f":"'ចំណាយ-ថវិការដ្ឋ'!D151","v":0},0,{"$f":"'ចំណាយ-ថវិការដ្ឋ'!F151","v":0},{"$f":"'ចំណាយ-ថវិការដ្ឋ'!G151","v":0},0,{"$f":"'ចំណាយ-ថវិការដ្ឋ'!I151","v":0},{"$f":"'ចំណាយ-ថវិការដ្ឋ'!J151","v":0},0,{"$f":"'ចំណាយ-ថវិការដ្ឋ'!L151","v":0},{"$f":"'ចំណាយ-ថវិការដ្ឋ'!M151","v":0}]
[{"$f":"Update_8!C128","v":0},0,{"$f":"'ចំណាយ-ថវិការដ្ឋ'!C152","v":0},{"$f":"'ចំណាយ-ថវិការដ្ឋ'!D152","v":0},0,{"$f":"'ចំណាយ-ថវិការដ្ឋ'!F152","v":0},{"$f":"'ចំណាយ-ថវិការដ្ឋ'!G152","v":0},0,{"$f":"'ចំណាយ-ថវិការដ្ឋ'!I152","v":0},{"$f":"'ចំណាយ-ថវិការដ្ឋ'!J152","v":0},0,{"$f":"'ចំណាយ-ថវិការដ្ឋ'!L152","v":0},{"$f":"'ចំណាយ-ថវិការដ្ឋ'!M152","v":0}]
[{"$f":"ព័ត៌មានអង្គភាព!C12","v":"១.១០.០១.៧៖ ការអភិវឌ្ឍការងារបណ្តុះបណ្ដាល និងវិក្រឹតការគ្រូបង្រៀន"},{"$f":"SUM(B154,B165)","v":0},{"$f":"SUM(C154,C165)","v":0},0,0,0,0,0,0,0,0,0,0]
[{"$f":"cluster_activity_1","v":"សកម្មភាពរង ទី ១៖ ធានាឱ្យការអប់រំមានគុណភាព ប្រកបដោយសមធម៌ បរិយាបន្ន និងលើកកម្ពស់ឱកាសក្នុងការសិក្សាពេញមួយជីវិត"},{"$f":"ROUND(SUM(B155:B164),1)","v":0},{"$f":"ROUND(SUM(C155:C164),1)","v":0},{"$f":"ROUND(SUM(D155:D164),1)","v":0},0,0,0,0,0,0,0,0,0]
[{"$f":"Update_8!C129","v":"១. កិច្ចដំណើរការអង្គភាព"},{"$f":"ROUND(SUM(C155:D155),1)","v":0},{"$f":"'ចំណាយ-ថវិការដ្ឋ'!C155","v":0},{"$f":"'ចំណាយ-ថវិការដ្ឋ'!D155","v":0},{"$f":"ROUND(SUM(F155:G155),1)","v":0},{"$f":"'ចំណាយ-ថវិការដ្ឋ'!F155","v":0},{"$f":"'ចំណាយ-ថវិការដ្ឋ'!G155","v":0},{"$f":"ROUND(SUM(I155:J155),1)","v":0},{"$f":"'ចំណាយ-ថវិការដ្ឋ'!I155","v":0},{"$f":"'ចំណាយ-ថវិការដ្ឋ'!J155","v":0},{"$f":"ROUND(SUM(L155:M155),1)","v":0},{"$f":"'ចំណាយ-ថវិការដ្ឋ'!L155","v":0},{"$f":"'ចំណាយ-ថវិការដ្ឋ'!M155","v":0}]
[{"$f":"Update_8!C130","v":"២. ថវិកាលទ្ធកម្ម"},{"$f":"ROUND(SUM(C156:D156),1)","v":0},{"$f":"'ចំណាយ-ថវិការដ្ឋ'!C156","v":0},{"$f":"'ចំណាយ-ថវិការដ្ឋ'!D156","v":0},0,{"$f":"'ចំណាយ-ថវិការដ្ឋ'!F156","v":0},{"$f":"'ចំណាយ-ថវិការដ្ឋ'!G156","v":0},0,{"$f":"'ចំណាយ-ថវិការដ្ឋ'!I156","v":0},{"$f":"'ចំណាយ-ថវិការដ្ឋ'!J156","v":0},0,{"$f":"'ចំណាយ-ថវិការដ្ឋ'!L156","v":0},{"$f":"'ចំណាយ-ថវិការដ្ឋ'!M156","v":0}]
[{"$f":"Update_8!C131","v":"៣. ពិនិត្យតាមដាន និងវាយតម្លៃ"},0,{"$f":"'ចំណាយ-ថវិការដ្ឋ'!C157","v":0},{"$f":"'ចំណាយ-ថវិការដ្ឋ'!D157","v":0},0,{"$f":"'ចំណាយ-ថវិការដ្ឋ'!F157","v":0},{"$f":"'ចំណាយ-ថវិការដ្ឋ'!G157","v":0},0,{"$f":"'ចំណាយ-ថវិការដ្ឋ'!I157","v":0},{"$f":"'ចំណាយ-ថវិការដ្ឋ'!J157","v":0},0,{"$f":"'ចំណាយ-ថវិការដ្ឋ'!L157","v":0},{"$f":"'ចំណាយ-ថវិការដ្ឋ'!M157","v":0}]
[{"$f":"Update_8!C132","v":"៤. អភិវឌ្ឍវិទ្យាស្ថានគរុកោសល្យ ២ (បាត់ដំបង និងភ្នំពេញ)"},0,{"$f":"'ចំណាយ-ថវិការដ្ឋ'!C158","v":0},{"$f":"'ចំណាយ-ថវិការដ្ឋ'!D158","v":0},0,{"$f":"'ចំណាយ-ថវិការដ្ឋ'!F158","v":0},{"$f":"'ចំណាយ-ថវិការដ្ឋ'!G158","v":0},0,{"$f":"'ចំណាយ-ថវិការដ្ឋ'!I158","v":0},{"$f":"'ចំណាយ-ថវិការដ្ឋ'!J158","v":0},0,{"$f":"'ចំណាយ-ថវិការដ្ឋ'!L158","v":0},{"$f":"'ចំណាយ-ថវិការដ្ឋ'!M158","v":0}]
[{"$f":"Update_8!C133","v":"៥. ថវិកាសាលាមធ្យមសិក្សាគរុកោសល្យមត្តេយ្យមជ្ឈិម"},0,{"$f":"'ចំណាយ-ថវិការដ្ឋ'!C159","v":0},{"$f":"'ចំណាយ-ថវិការដ្ឋ'!D159","v":0},0,{"$f":"'ចំណាយ-ថវិការដ្ឋ'!F159","v":0},{"$f":"'ចំណាយ-ថវិការដ្ឋ'!G159","v":0},0,{"$f":"'ចំណាយ-ថវិការដ្ឋ'!I159","v":0},{"$f":"'ចំណាយ-ថវិការដ្ឋ'!J159","v":0},0,{"$f":"'ចំណាយ-ថវិការដ្ឋ'!L159","v":0},{"$f":"'ចំណាយ-ថវិការដ្ឋ'!M159","v":0}]
[{"$f":"Update_8!C134","v":"៦. ប្រឡងជ្រើសរើស និងបញ្ចប់វគ្គបណ្ដុះបណ្ដាលគ្រូបង្រៀន"},0,{"$f":"'ចំណាយ-ថវិការដ្ឋ'!C160","v":0},{"$f":"'ចំណាយ-ថវិការដ្ឋ'!D160","v":0},0,{"$f":"'ចំណាយ-ថវិការដ្ឋ'!F160","v":0},{"$f":"'ចំណាយ-ថវិការដ្ឋ'!G160","v":0},0,{"$f":"'ចំណាយ-ថវិការដ្ឋ'!I160","v":0},{"$f":"'ចំណាយ-ថវិការដ្ឋ'!J160","v":0},0,{"$f":"'ចំណាយ-ថវិការដ្ឋ'!L160","v":0},{"$f":"'ចំណាយ-ថវិការដ្ឋ'!M160","v":0}]
[{"$f":"Update_8!C135","v":"៧. ថវិកាសាលាគរុកោសល្យ និងមណ្ឌលធនធាន"},0,{"$f":"'ចំណាយ-ថវិការដ្ឋ'!C161","v":0},{"$f":"'ចំណាយ-ថវិការដ្ឋ'!D161","v":0},0,{"$f":"'ចំណាយ-ថវិការដ្ឋ'!F161","v":0},{"$f":"'ចំណាយ-ថវិការដ្ឋ'!G161","v":0},0,{"$f":"'ចំណាយ-ថវិការដ្ឋ'!I161","v":0},{"$f":"'ចំណាយ-ថវិការដ្ឋ'!J161","v":0},0,{"$f":"'ចំណាយ-ថវិការដ្ឋ'!L161","v":0},{"$f":"'ចំណាយ-ថវិការដ្ឋ'!M161","v":0}]
[{"$f":"Update_8!C136","v":"៨. អភិវឌ្ឍគ្រឹះស្ថានបណ្តុះបណ្តាលគ្រូ និងលើកកម្ពស់គុណវុឌ្ឍិគណៈគ្រប់គ្រង គ្រូឧទ្ទេស និងគ្រូបង្រៀន"},0,{"$f":"'ចំណាយ-ថវិការដ្ឋ'!C162","v":0},{"$f":"'ចំណាយ-ថវិការដ្ឋ'!D162","v":0},0,{"$f":"'ចំណាយ-ថវិការដ្ឋ'!F162","v":0},{"$f":"'ចំណាយ-ថវិការដ្ឋ'!G162","v":0},0,{"$f":"'ចំណាយ-ថវិការដ្ឋ'!I162","v":0},{"$f":"'ចំណាយ-ថវិការដ្ឋ'!J162","v":0},0,{"$f":"'ចំណាយ-ថវិការដ្ឋ'!L162","v":0},{"$f":"'ចំណាយ-ថវិការដ្ឋ'!M162","v":0}]
[{"$f":"Update_8!C137","v":0},0,{"$f":"'ចំណាយ-ថវិការដ្ឋ'!C163","v":0},{"$f":"'ចំណាយ-ថវិការដ្ឋ'!D163","v":0},0,{"$f":"'ចំណាយ-ថវិការដ្ឋ'!F163","v":0},{"$f":"'ចំណាយ-ថវិការដ្ឋ'!G163","v":0},0,{"$f":"'ចំណាយ-ថវិការដ្ឋ'!I163","v":0},{"$f":"'ចំណាយ-ថវិការដ្ឋ'!J163","v":0},0,{"$f":"'ចំណាយ-ថវិការដ្ឋ'!L163","v":0},{"$f":"'ចំណាយ-ថវិការដ្ឋ'!M163","v":0}]
[{"$f":"Update_8!C138","v":0},0,{"$f":"'ចំណាយ-ថវិការដ្ឋ'!C164","v":0},{"$f":"'ចំណាយ-ថវិការដ្ឋ'!D164","v":0},0,{"$f":"'ចំណាយ-ថវិការដ្ឋ'!F164","v":0},{"$f":"'ចំណាយ-ថវិការដ្ឋ'!G164","v":0},0,{"$f":"'ចំណាយ-ថវិការដ្ឋ'!I164","v":0},{"$f":"'ចំណាយ-ថវិការដ្ឋ'!J164","v":0},0,{"$f":"'ចំណាយ-ថវិការដ្ឋ'!L164","v":0},{"$f":"'ចំណាយ-ថវិការដ្ឋ'!M164","v":0}]
[{"$f":"cluster_activity_2","v":"សកម្មភាពរង ទី ២៖ ធានាភាពស័ក្តិសិទ្ធនៃភាពជាអ្នកដឹកនាំ និងគ្រប់គ្រងរបស់មន្ត្រី អប់រំគ្រប់លំដាប់ថ្នាក់"},{"$f":"ROUND(SUM(B166:B175),1)","v":0},{"$f":"ROUND(SUM(C166:C175),1)","v":0},{"$f":"ROUND(SUM(D166:D175),1)","v":0},{"$f":"ROUND(SUM(E166:E175),1)","v":0},0,0,0,0,0,{"$f":"ROUND(SUM(K166:K175),1)","v":0},{"$f":"ROUND(SUM(L166:L175),1)","v":0},{"$f":"ROUND(SUM(M166:M175),1)","v":0}]
[{"$f":"Update_8!C139","v":0},{"$f":"ROUND(SUM(C166:D166),1)","v":0},{"$f":"'ចំណាយ-ថវិការដ្ឋ'!C166","v":0},{"$f":"'ចំណាយ-ថវិការដ្ឋ'!D166","v":0},{"$f":"ROUND(SUM(F166:G166),1)","v":0},{"$f":"'ចំណាយ-ថវិការដ្ឋ'!F166","v":0},{"$f":"'ចំណាយ-ថវិការដ្ឋ'!G166","v":0},{"$f":"ROUND(SUM(I166:J166),1)","v":0},{"$f":"'ចំណាយ-ថវិការដ្ឋ'!I166","v":0},{"$f":"'ចំណាយ-ថវិការដ្ឋ'!J166","v":0},{"$f":"ROUND(SUM(L166:M166),1)","v":0},{"$f":"'ចំណាយ-ថវិការដ្ឋ'!L166","v":0},{"$f":"'ចំណាយ-ថវិការដ្ឋ'!M166","v":0}]
[{"$f":"Update_8!C140","v":0},{"$f":"ROUND(SUM(C167:D167),1)","v":0},{"$f":"'ចំណាយ-ថវិការដ្ឋ'!C167","v":0},{"$f":"'ចំណាយ-ថវិការដ្ឋ'!D167","v":0},0,{"$f":"'ចំណាយ-ថវិការដ្ឋ'!F167","v":0},{"$f":"'ចំណាយ-ថវិការដ្ឋ'!G167","v":0},0,{"$f":"'ចំណាយ-ថវិការដ្ឋ'!I167","v":0},{"$f":"'ចំណាយ-ថវិការដ្ឋ'!J167","v":0},0,{"$f":"'ចំណាយ-ថវិការដ្ឋ'!L167","v":0},{"$f":"'ចំណាយ-ថវិការដ្ឋ'!M167","v":0}]
[{"$f":"Update_8!C141","v":0},0,{"$f":"'ចំណាយ-ថវិការដ្ឋ'!C168","v":0},{"$f":"'ចំណាយ-ថវិការដ្ឋ'!D168","v":0},0,{"$f":"'ចំណាយ-ថវិការដ្ឋ'!F168","v":0},{"$f":"'ចំណាយ-ថវិការដ្ឋ'!G168","v":0},0,{"$f":"'ចំណាយ-ថវិការដ្ឋ'!I168","v":0},{"$f":"'ចំណាយ-ថវិការដ្ឋ'!J168","v":0},0,{"$f":"'ចំណាយ-ថវិការដ្ឋ'!L168","v":0},{"$f":"'ចំណាយ-ថវិការដ្ឋ'!M168","v":0}]
[{"$f":"Update_8!C142","v":0},0,{"$f":"'ចំណាយ-ថវិការដ្ឋ'!C169","v":0},{"$f":"'ចំណាយ-ថវិការដ្ឋ'!D169","v":0},0,{"$f":"'ចំណាយ-ថវិការដ្ឋ'!F169","v":0},{"$f":"'ចំណាយ-ថវិការដ្ឋ'!G169","v":0},0,{"$f":"'ចំណាយ-ថវិការដ្ឋ'!I169","v":0},{"$f":"'ចំណាយ-ថវិការដ្ឋ'!J169","v":0},0,{"$f":"'ចំណាយ-ថវិការដ្ឋ'!L169","v":0},{"$f":"'ចំណាយ-ថវិការដ្ឋ'!M169","v":0}]
[{"$f":"Update_8!C143","v":0},0,{"$f":"'ចំណាយ-ថវិការដ្ឋ'!C170","v":0},{"$f":"'ចំណាយ-ថវិការដ្ឋ'!D170","v":0},0,{"$f":"'ចំណាយ-ថវិការដ្ឋ'!F170","v":0},{"$f":"'ចំណាយ-ថវិការដ្ឋ'!G170","v":0},0,{"$f":"'ចំណាយ-ថវិការដ្ឋ'!I170","v":0},{"$f":"'ចំណាយ-ថវិការដ្ឋ'!J170","v":0},0,{"$f":"'ចំណាយ-ថវិការដ្ឋ'!L170","v":0},{"$f":"'ចំណាយ-ថវិការដ្ឋ'!M170","v":0}]
[{"$f":"Update_8!C144","v":0},0,{"$f":"'ចំណាយ-ថវិការដ្ឋ'!C171","v":0},{"$f":"'ចំណាយ-ថវិការដ្ឋ'!D171","v":0},0,{"$f":"'ចំណាយ-ថវិការដ្ឋ'!F171","v":0},{"$f":"'ចំណាយ-ថវិការដ្ឋ'!G171","v":0},0,{"$f":"'ចំណាយ-ថវិការដ្ឋ'!I171","v":0},{"$f":"'ចំណាយ-ថវិការដ្ឋ'!J171","v":0},0,{"$f":"'ចំណាយ-ថវិការដ្ឋ'!L171","v":0},{"$f":"'ចំណាយ-ថវិការដ្ឋ'!M171","v":0}]
[{"$f":"Update_8!C145","v":0},0,{"$f":"'ចំណាយ-ថវិការដ្ឋ'!C172","v":0},{"$f":"'ចំណាយ-ថវិការដ្ឋ'!D172","v":0},0,{"$f":"'ចំណាយ-ថវិការដ្ឋ'!F172","v":0},{"$f":"'ចំណាយ-ថវិការដ្ឋ'!G172","v":0},0,{"$f":"'ចំណាយ-ថវិការដ្ឋ'!I172","v":0},{"$f":"'ចំណាយ-ថវិការដ្ឋ'!J172","v":0},0,{"$f":"'ចំណាយ-ថវិការដ្ឋ'!L172","v":0},{"$f":"'ចំណាយ-ថវិការដ្ឋ'!M172","v":0}]
[{"$f":"Update_8!C146","v":0},0,{"$f":"'ចំណាយ-ថវិការដ្ឋ'!C173","v":0},{"$f":"'ចំណាយ-ថវិការដ្ឋ'!D173","v":0},0,{"$f":"'ចំណាយ-ថវិការដ្ឋ'!F173","v":0},{"$f":"'ចំណាយ-ថវិការដ្ឋ'!G173","v":0},0,{"$f":"'ចំណាយ-ថវិការដ្ឋ'!I173","v":0},{"$f":"'ចំណាយ-ថវិការដ្ឋ'!J173","v":0},0,{"$f":"'ចំណាយ-ថវិការដ្ឋ'!L173","v":0},{"$f":"'ចំណាយ-ថវិការដ្ឋ'!M173","v":0}]
[{"$f":"Update_8!C147","v":0},0,{"$f":"'ចំណាយ-ថវិការដ្ឋ'!C174","v":0},{"$f":"'ចំណាយ-ថវិការដ្ឋ'!D174","v":0},0,{"$f":"'ចំណាយ-ថវិការដ្ឋ'!F174","v":0},{"$f":"'ចំណាយ-ថវិការដ្ឋ'!G174","v":0},0,{"$f":"'ចំណាយ-ថវិការដ្ឋ'!I174","v":0},{"$f":"'ចំណាយ-ថវិការដ្ឋ'!J174","v":0},0,{"$f":"'ចំណាយ-ថវិការដ្ឋ'!L174","v":0},{"$f":"'ចំណាយ-ថវិការដ្ឋ'!M174","v":0}]
[{"$f":"Update_8!C148","v":0},0,{"$f":"'ចំណាយ-ថវិការដ្ឋ'!C175","v":0},{"$f":"'ចំណាយ-ថវិការដ្ឋ'!D175","v":0},0,{"$f":"'ចំណាយ-ថវិការដ្ឋ'!F175","v":0},{"$f":"'ចំណាយ-ថវិការដ្ឋ'!G175","v":0},0,{"$f":"'ចំណាយ-ថវិការដ្ឋ'!I175","v":0},{"$f":"'ចំណាយ-ថវិការដ្ឋ'!J175","v":0},0,{"$f":"'ចំណាយ-ថវិការដ្ឋ'!L175","v":0},{"$f":"'ចំណាយ-ថវិការដ្ឋ'!M175","v":0}]
[{"$f":"ព័ត៌មានអង្គភាព!C13","v":"១.១០.០១.៨៖ ការអភិវឌ្ឍកម្មវិធីសិក្សា សម្ភារៈសិក្សា និងបណ្ណាល័យ"},{"$f":"SUM(B177,B188)","v":0},{"$f":"SUM(C177,C188)","v":0},0,0,0,0,0,0,0,0,0,0]
[{"$f":"cluster_activity_1","v":"សកម្មភាពរង ទី ១៖ ធានាឱ្យការអប់រំមានគុណភាព ប្រកបដោយសមធម៌ បរិយាបន្ន និងលើកកម្ពស់ឱកាសក្នុងការសិក្សាពេញមួយជីវិត"},{"$f":"ROUND(SUM(B178:B187),1)","v":0},{"$f":"ROUND(SUM(C178:C187),1)","v":0},{"$f":"ROUND(SUM(D178:D187),1)","v":0},0,0,0,0,0,0,0,0,0]
[{"$f":"Update_8!C149","v":"១. កិច្ចដំណើរការអង្គភាព"},{"$f":"ROUND(SUM(C178:D178),1)","v":0},{"$f":"'ចំណាយ-ថវិការដ្ឋ'!C178","v":0},{"$f":"'ចំណាយ-ថវិការដ្ឋ'!D178","v":0},{"$f":"ROUND(SUM(F178:G178),1)","v":0},{"$f":"'ចំណាយ-ថវិការដ្ឋ'!F178","v":0},{"$f":"'ចំណាយ-ថវិការដ្ឋ'!G178","v":0},{"$f":"ROUND(SUM(I178:J178),1)","v":0},{"$f":"'ចំណាយ-ថវិការដ្ឋ'!I178","v":0},{"$f":"'ចំណាយ-ថវិការដ្ឋ'!J178","v":0},{"$f":"ROUND(SUM(L178:M178),1)","v":0},{"$f":"'ចំណាយ-ថវិការដ្ឋ'!L178","v":0},{"$f":"'ចំណាយ-ថវិការដ្ឋ'!M178","v":0}]
[{"$f":"Update_8!C150","v":"២. ថវិកាលទ្ធកម្ម"},{"$f":"ROUND(SUM(C179:D179),1)","v":0},{"$f":"'ចំណាយ-ថវិការដ្ឋ'!C179","v":0},{"$f":"'ចំណាយ-ថវិការដ្ឋ'!D179","v":0},0,{"$f":"'ចំណាយ-ថវិការដ្ឋ'!F179","v":0},{"$f":"'ចំណាយ-ថវិការដ្ឋ'!G179","v":0},0,{"$f":"'ចំណាយ-ថវិការដ្ឋ'!I179","v":0},{"$f":"'ចំណាយ-ថវិការដ្ឋ'!J179","v":0},0,{"$f":"'ចំណាយ-ថវិការដ្ឋ'!L179","v":0},{"$f":"'ចំណាយ-ថវិការដ្ឋ'!M179","v":0}]
[{"$f":"Update_8!C151","v":"៣. ពិនិត្យតាមដាន និងវាយតម្លៃ"},0,{"$f":"'ចំណាយ-ថវិការដ្ឋ'!C180","v":0},{"$f":"'ចំណាយ-ថវិការដ្ឋ'!D180","v":0},0,{"$f":"'ចំណាយ-ថវិការដ្ឋ'!F180","v":0},{"$f":"'ចំណាយ-ថវិការដ្ឋ'!G180","v":0},0,{"$f":"'ចំណាយ-ថវិការដ្ឋ'!I180","v":0},{"$f":"'ចំណាយ-ថវិការដ្ឋ'!J180","v":0},0,{"$f":"'ចំណាយ-ថវិការដ្ឋ'!L180","v":0},{"$f":"'ចំណាយ-ថវិការដ្ឋ'!M180","v":0}]
[{"$f":"Update_8!C152","v":"៤.  រៀប​ចំ​ទិវាជាតិ​អំណាន និង​ពិធី​បុណ្យផ្សេងៗ"},0,{"$f":"'ចំណាយ-ថវិការដ្ឋ'!C181","v":0},{"$f":"'ចំណាយ-ថវិការដ្ឋ'!D181","v":0},0,{"$f":"'ចំណាយ-ថវិការដ្ឋ'!F181","v":0},{"$f":"'ចំណាយ-ថវិការដ្ឋ'!G181","v":0},0,{"$f":"'ចំណាយ-ថវិការដ្ឋ'!I181","v":0},{"$f":"'ចំណាយ-ថវិការដ្ឋ'!J181","v":0},0,{"$f":"'ចំណាយ-ថវិការដ្ឋ'!L181","v":0},{"$f":"'ចំណាយ-ថវិការដ្ឋ'!M181","v":0}]
[{"$f":"Update_8!C153","v":"៥. អភិវឌ្ឍកម្មវិធីសិក្សា វិធីសាស្រ្តបង្រៀន(IBL) ឯកសារ​  និងសម្ភារសិក្សា និងផ្សព្វផ្សាយ"},0,{"$f":"'ចំណាយ-ថវិការដ្ឋ'!C182","v":0},{"$f":"'ចំណាយ-ថវិការដ្ឋ'!D182","v":0},0,{"$f":"'ចំណាយ-ថវិការដ្ឋ'!F182","v":0},{"$f":"'ចំណាយ-ថវិការដ្ឋ'!G182","v":0},0,{"$f":"'ចំណាយ-ថវិការដ្ឋ'!I182","v":0},{"$f":"'ចំណាយ-ថវិការដ្ឋ'!J182","v":0},0,{"$f":"'ចំណាយ-ថវិការដ្ឋ'!L182","v":0},{"$f":"'ចំណាយ-ថវិការដ្ឋ'!M182","v":0}]
[{"$f":"Update_8!C154","v":0},0,{"$f":"'ចំណាយ-ថវិការដ្ឋ'!C183","v":0},{"$f":"'ចំណាយ-ថវិការដ្ឋ'!D183","v":0},0,{"$f":"'ចំណាយ-ថវិការដ្ឋ'!F183","v":0},{"$f":"'ចំណាយ-ថវិការដ្ឋ'!G183","v":0},0,{"$f":"'ចំណាយ-ថវិការដ្ឋ'!I183","v":0},{"$f":"'ចំណាយ-ថវិការដ្ឋ'!J183","v":0},0,{"$f":"'ចំណាយ-ថវិការដ្ឋ'!L183","v":0},{"$f":"'ចំណាយ-ថវិការដ្ឋ'!M183","v":0}]
[{"$f":"Update_8!C155","v":0},0,{"$f":"'ចំណាយ-ថវិការដ្ឋ'!C184","v":0},{"$f":"'ចំណាយ-ថវិការដ្ឋ'!D184","v":0},0,{"$f":"'ចំណាយ-ថវិការដ្ឋ'!F184","v":0},{"$f":"'ចំណាយ-ថវិការដ្ឋ'!G184","v":0},0,{"$f":"'ចំណាយ-ថវិការដ្ឋ'!I184","v":0},{"$f":"'ចំណាយ-ថវិការដ្ឋ'!J184","v":0},0,{"$f":"'ចំណាយ-ថវិការដ្ឋ'!L184","v":0},{"$f":"'ចំណាយ-ថវិការដ្ឋ'!M184","v":0}]
[{"$f":"Update_8!C156","v":0},0,{"$f":"'ចំណាយ-ថវិការដ្ឋ'!C185","v":0},{"$f":"'ចំណាយ-ថវិការដ្ឋ'!D185","v":0},0,{"$f":"'ចំណាយ-ថវិការដ្ឋ'!F185","v":0},{"$f":"'ចំណាយ-ថវិការដ្ឋ'!G185","v":0},0,{"$f":"'ចំណាយ-ថវិការដ្ឋ'!I185","v":0},{"$f":"'ចំណាយ-ថវិការដ្ឋ'!J185","v":0},0,{"$f":"'ចំណាយ-ថវិការដ្ឋ'!L185","v":0},{"$f":"'ចំណាយ-ថវិការដ្ឋ'!M185","v":0}]
[{"$f":"Update_8!C157","v":0},0,{"$f":"'ចំណាយ-ថវិការដ្ឋ'!C186","v":0},{"$f":"'ចំណាយ-ថវិការដ្ឋ'!D186","v":0},0,{"$f":"'ចំណាយ-ថវិការដ្ឋ'!F186","v":0},{"$f":"'ចំណាយ-ថវិការដ្ឋ'!G186","v":0},0,{"$f":"'ចំណាយ-ថវិការដ្ឋ'!I186","v":0},{"$f":"'ចំណាយ-ថវិការដ្ឋ'!J186","v":0},0,{"$f":"'ចំណាយ-ថវិការដ្ឋ'!L186","v":0},{"$f":"'ចំណាយ-ថវិការដ្ឋ'!M186","v":0}]
[{"$f":"Update_8!C158","v":0},0,{"$f":"'ចំណាយ-ថវិការដ្ឋ'!C187","v":0},{"$f":"'ចំណាយ-ថវិការដ្ឋ'!D187","v":0},0,{"$f":"'ចំណាយ-ថវិការដ្ឋ'!F187","v":0},{"$f":"'ចំណាយ-ថវិការដ្ឋ'!G187","v":0},0,{"$f":"'ចំណាយ-ថវិការដ្ឋ'!I187","v":0},{"$f":"'ចំណាយ-ថវិការដ្ឋ'!J187","v":0},0,{"$f":"'ចំណាយ-ថវិការដ្ឋ'!L187","v":0},{"$f":"'ចំណាយ-ថវិការដ្ឋ'!M187","v":0}]
[{"$f":"cluster_activity_2","v":"សកម្មភាពរង ទី ២៖ ធានាភាពស័ក្តិសិទ្ធនៃភាពជាអ្នកដឹកនាំ និងគ្រប់គ្រងរបស់មន្ត្រី អប់រំគ្រប់លំដាប់ថ្នាក់"},{"$f":"ROUND(SUM(B189:B198),1)","v":0},{"$f":"ROUND(SUM(C189:C198),1)","v":0},{"$f":"ROUND(SUM(D189:D198),1)","v":0},{"$f":"ROUND(SUM(E189:E198),1)","v":0},0,0,0,0,0,{"$f":"ROUND(SUM(K189:K198),1)","v":0},{"$f":"ROUND(SUM(L189:L198),1)","v":0},{"$f":"ROUND(SUM(M189:M198),1)","v":0}]
[{"$f":"Update_8!C159","v":"១. ពង្រឹងសមត្ថភាពមន្ដ្រីជំនាញស្តីពីកម្មវិធីសិក្សា សៀវភៅសិក្សាគោល និងបណ្ណាល័យ"},{"$f":"ROUND(SUM(C189:D189),1)","v":0},{"$f":"'ចំណាយ-ថវិការដ្ឋ'!C189","v":0},{"$f":"'ចំណាយ-ថវិការដ្ឋ'!D189","v":0},{"$f":"ROUND(SUM(F189:G189),1)","v":0},{"$f":"'ចំណាយ-ថវិការដ្ឋ'!F189","v":0},{"$f":"'ចំណាយ-ថវិការដ្ឋ'!G189","v":0},{"$f":"ROUND(SUM(I189:J189),1)","v":0},{"$f":"'ចំណាយ-ថវិការដ្ឋ'!I189","v":0},{"$f":"'ចំណាយ-ថវិការដ្ឋ'!J189","v":0},{"$f":"ROUND(SUM(L189:M189),1)","v":0},{"$f":"'ចំណាយ-ថវិការដ្ឋ'!L189","v":0},{"$f":"'ចំណាយ-ថវិការដ្ឋ'!M189","v":0}]
[{"$f":"Update_8!C160","v":0},{"$f":"ROUND(SUM(C190:D190),1)","v":0},{"$f":"'ចំណាយ-ថវិការដ្ឋ'!C190","v":0},{"$f":"'ចំណាយ-ថវិការដ្ឋ'!D190","v":0},0,{"$f":"'ចំណាយ-ថវិការដ្ឋ'!F190","v":0},{"$f":"'ចំណាយ-ថវិការដ្ឋ'!G190","v":0},0,{"$f":"'ចំណាយ-ថវិការដ្ឋ'!I190","v":0},{"$f":"'ចំណាយ-ថវិការដ្ឋ'!J190","v":0},0,{"$f":"'ចំណាយ-ថវិការដ្ឋ'!L190","v":0},{"$f":"'ចំណាយ-ថវិការដ្ឋ'!M190","v":0}]
[{"$f":"Update_8!C161","v":0},0,{"$f":"'ចំណាយ-ថវិការដ្ឋ'!C191","v":0},{"$f":"'ចំណាយ-ថវិការដ្ឋ'!D191","v":0},0,{"$f":"'ចំណាយ-ថវិការដ្ឋ'!F191","v":0},{"$f":"'ចំណាយ-ថវិការដ្ឋ'!G191","v":0},0,{"$f":"'ចំណាយ-ថវិការដ្ឋ'!I191","v":0},{"$f":"'ចំណាយ-ថវិការដ្ឋ'!J191","v":0},0,{"$f":"'ចំណាយ-ថវិការដ្ឋ'!L191","v":0},{"$f":"'ចំណាយ-ថវិការដ្ឋ'!M191","v":0}]
[{"$f":"Update_8!C162","v":0},0,{"$f":"'ចំណាយ-ថវិការដ្ឋ'!C192","v":0},{"$f":"'ចំណាយ-ថវិការដ្ឋ'!D192","v":0},0,{"$f":"'ចំណាយ-ថវិការដ្ឋ'!F192","v":0},{"$f":"'ចំណាយ-ថវិការដ្ឋ'!G192","v":0},0,{"$f":"'ចំណាយ-ថវិការដ្ឋ'!I192","v":0},{"$f":"'ចំណាយ-ថវិការដ្ឋ'!J192","v":0},0,{"$f":"'ចំណាយ-ថវិការដ្ឋ'!L192","v":0},{"$f":"'ចំណាយ-ថវិការដ្ឋ'!M192","v":0}]
[{"$f":"Update_8!C163","v":0},0,{"$f":"'ចំណាយ-ថវិការដ្ឋ'!C193","v":0},{"$f":"'ចំណាយ-ថវិការដ្ឋ'!D193","v":0},0,{"$f":"'ចំណាយ-ថវិការដ្ឋ'!F193","v":0},{"$f":"'ចំណាយ-ថវិការដ្ឋ'!G193","v":0},0,{"$f":"'ចំណាយ-ថវិការដ្ឋ'!I193","v":0},{"$f":"'ចំណាយ-ថវិការដ្ឋ'!J193","v":0},0,{"$f":"'ចំណាយ-ថវិការដ្ឋ'!L193","v":0},{"$f":"'ចំណាយ-ថវិការដ្ឋ'!M193","v":0}]
[{"$f":"Update_8!C164","v":0},0,{"$f":"'ចំណាយ-ថវិការដ្ឋ'!C194","v":0},{"$f":"'ចំណាយ-ថវិការដ្ឋ'!D194","v":0},0,{"$f":"'ចំណាយ-ថវិការដ្ឋ'!F194","v":0},{"$f":"'ចំណាយ-ថវិការដ្ឋ'!G194","v":0},0,{"$f":"'ចំណាយ-ថវិការដ្ឋ'!I194","v":0},{"$f":"'ចំណាយ-ថវិការដ្ឋ'!J194","v":0},0,{"$f":"'ចំណាយ-ថវិការដ្ឋ'!L194","v":0},{"$f":"'ចំណាយ-ថវិការដ្ឋ'!M194","v":0}]
[{"$f":"Update_8!C165","v":0},0,{"$f":"'ចំណាយ-ថវិការដ្ឋ'!C195","v":0},{"$f":"'ចំណាយ-ថវិការដ្ឋ'!D195","v":0},0,{"$f":"'ចំណាយ-ថវិការដ្ឋ'!F195","v":0},{"$f":"'ចំណាយ-ថវិការដ្ឋ'!G195","v":0},0,{"$f":"'ចំណាយ-ថវិការដ្ឋ'!I195","v":0},{"$f":"'ចំណាយ-ថវិការដ្ឋ'!J195","v":0},0,{"$f":"'ចំណាយ-ថវិការដ្ឋ'!L195","v":0},{"$f":"'ចំណាយ-ថវិការដ្ឋ'!M195","v":0}]
[{"$f":"Update_8!C166","v":0},0,{"$f":"'ចំណាយ-ថវិការដ្ឋ'!C196","v":0},{"$f":"'ចំណាយ-ថវិការដ្ឋ'!D196","v":0},0,{"$f":"'ចំណាយ-ថវិការដ្ឋ'!F196","v":0},{"$f":"'ចំណាយ-ថវិការដ្ឋ'!G196","v":0},0,{"$f":"'ចំណាយ-ថវិការដ្ឋ'!I196","v":0},{"$f":"'ចំណាយ-ថវិការដ្ឋ'!J196","v":0},0,{"$f":"'ចំណាយ-ថវិការដ្ឋ'!L196","v":0},{"$f":"'ចំណាយ-ថវិការដ្ឋ'!M196","v":0}]
[{"$f":"Update_8!C167","v":0},0,{"$f":"'ចំណាយ-ថវិការដ្ឋ'!C197","v":0},{"$f":"'ចំណាយ-ថវិការដ្ឋ'!D197","v":0},0,{"$f":"'ចំណាយ-ថវិការដ្ឋ'!F197","v":0},{"$f":"'ចំណាយ-ថវិការដ្ឋ'!G197","v":0},0,{"$f":"'ចំណាយ-ថវិការដ្ឋ'!I197","v":0},{"$f":"'ចំណាយ-ថវិការដ្ឋ'!J197","v":0},0,{"$f":"'ចំណាយ-ថវិការដ្ឋ'!L197","v":0},{"$f":"'ចំណាយ-ថវិការដ្ឋ'!M197","v":0}]
[{"$f":"Update_8!C168","v":0},0,{"$f":"'ចំណាយ-ថវិការដ្ឋ'!C198","v":0},{"$f":"'ចំណាយ-ថវិការដ្ឋ'!D198","v":0},0,{"$f":"'ចំណាយ-ថវិការដ្ឋ'!F198","v":0},{"$f":"'ចំណាយ-ថវិការដ្ឋ'!G198","v":0},0,{"$f":"'ចំណាយ-ថវិការដ្ឋ'!I198","v":0},{"$f":"'ចំណាយ-ថវិការដ្ឋ'!J198","v":0},0,{"$f":"'ចំណាយ-ថវិការដ្ឋ'!L198","v":0},{"$f":"'ចំណាយ-ថវិការដ្ឋ'!M198","v":0}]
[{"$f":"ព័ត៌មានអង្គភាព!C14","v":"១.១០.០១.៩៖ ពង្រីកការអប់រំបរិយាបន្នគ្រប់ភូមិសិក្សា"},{"$f":"SUM(B200,B211)","v":0},{"$f":"SUM(C200,C211)","v":0},0,0,0,0,0,0,0,0,0,0]
[{"$f":"cluster_activity_1","v":"សកម្មភាពរង ទី ១៖ ធានាឱ្យការអប់រំមានគុណភាព ប្រកបដោយសមធម៌ បរិយាបន្ន និងលើកកម្ពស់ឱកាសក្នុងការសិក្សាពេញមួយជីវិត"},{"$f":"ROUND(SUM(B201:B210),1)","v":0},{"$f":"ROUND(SUM(C201:C210),1)","v":0},{"$f":"ROUND(SUM(D201:D210),1)","v":0},0,0,0,0,0,0,0,0,0]
[{"$f":"Update_8!C169","v":"១. កិច្ចដំណើរការអង្គភាព"},{"$f":"ROUND(SUM(C201:D201),1)","v":0},{"$f":"'ចំណាយ-ថវិការដ្ឋ'!C201","v":0},{"$f":"'ចំណាយ-ថវិការដ្ឋ'!D201","v":0},{"$f":"ROUND(SUM(F201:G201),1)","v":0},{"$f":"'ចំណាយ-ថវិការដ្ឋ'!F201","v":0},{"$f":"'ចំណាយ-ថវិការដ្ឋ'!G201","v":0},{"$f":"ROUND(SUM(I201:J201),1)","v":0},{"$f":"'ចំណាយ-ថវិការដ្ឋ'!I201","v":0},{"$f":"'ចំណាយ-ថវិការដ្ឋ'!J201","v":0},{"$f":"ROUND(SUM(L201:M201),1)","v":0},{"$f":"'ចំណាយ-ថវិការដ្ឋ'!L201","v":0},{"$f":"'ចំណាយ-ថវិការដ្ឋ'!M201","v":0}]
[{"$f":"Update_8!C170","v":"២. ថវិកាលទ្ធកម្ម"},{"$f":"ROUND(SUM(C202:D202),1)","v":0},{"$f":"'ចំណាយ-ថវិការដ្ឋ'!C202","v":0},{"$f":"'ចំណាយ-ថវិការដ្ឋ'!D202","v":0},0,{"$f":"'ចំណាយ-ថវិការដ្ឋ'!F202","v":0},{"$f":"'ចំណាយ-ថវិការដ្ឋ'!G202","v":0},0,{"$f":"'ចំណាយ-ថវិការដ្ឋ'!I202","v":0},{"$f":"'ចំណាយ-ថវិការដ្ឋ'!J202","v":0},0,{"$f":"'ចំណាយ-ថវិការដ្ឋ'!L202","v":0},{"$f":"'ចំណាយ-ថវិការដ្ឋ'!M202","v":0}]
[{"$f":"Update_8!C171","v":"៣. ពិនិត្យតាមដាន និងវាយតម្លៃ"},0,{"$f":"'ចំណាយ-ថវិការដ្ឋ'!C203","v":0},{"$f":"'ចំណាយ-ថវិការដ្ឋ'!D203","v":0},0,{"$f":"'ចំណាយ-ថវិការដ្ឋ'!F203","v":0},{"$f":"'ចំណាយ-ថវិការដ្ឋ'!G203","v":0},0,{"$f":"'ចំណាយ-ថវិការដ្ឋ'!I203","v":0},{"$f":"'ចំណាយ-ថវិការដ្ឋ'!J203","v":0},0,{"$f":"'ចំណាយ-ថវិការដ្ឋ'!L203","v":0},{"$f":"'ចំណាយ-ថវិការដ្ឋ'!M203","v":0}]
[{"$f":"Update_8!C172","v":"៤. អភិវឌ្ឍការងារអប់រំពិសេស និងពហុភាសា"},0,{"$f":"'ចំណាយ-ថវិការដ្ឋ'!C204","v":0},{"$f":"'ចំណាយ-ថវិការដ្ឋ'!D204","v":0},0,{"$f":"'ចំណាយ-ថវិការដ្ឋ'!F204","v":0},{"$f":"'ចំណាយ-ថវិការដ្ឋ'!G204","v":0},0,{"$f":"'ចំណាយ-ថវិការដ្ឋ'!I204","v":0},{"$f":"'ចំណាយ-ថវិការដ្ឋ'!J204","v":0},0,{"$f":"'ចំណាយ-ថវិការដ្ឋ'!L204","v":0},{"$f":"'ចំណាយ-ថវិការដ្ឋ'!M204","v":0}]
[{"$f":"Update_8!C173","v":"៥. វិទ្យាល័យអប់រំពិសេស"},0,{"$f":"'ចំណាយ-ថវិការដ្ឋ'!C205","v":0},{"$f":"'ចំណាយ-ថវិការដ្ឋ'!D205","v":0},0,{"$f":"'ចំណាយ-ថវិការដ្ឋ'!F205","v":0},{"$f":"'ចំណាយ-ថវិការដ្ឋ'!G205","v":0},0,{"$f":"'ចំណាយ-ថវិការដ្ឋ'!I205","v":0},{"$f":"'ចំណាយ-ថវិការដ្ឋ'!J205","v":0},0,{"$f":"'ចំណាយ-ថវិការដ្ឋ'!L205","v":0},{"$f":"'ចំណាយ-ថវិការដ្ឋ'!M205","v":0}]
[{"$f":"Update_8!C174","v":"៦. អភិវឌ្ឍវិទ្យាស្ថានជាតិអប់រំពិសេស"},0,{"$f":"'ចំណាយ-ថវិការដ្ឋ'!C206","v":0},{"$f":"'ចំណាយ-ថវិការដ្ឋ'!D206","v":0},0,{"$f":"'ចំណាយ-ថវិការដ្ឋ'!F206","v":0},{"$f":"'ចំណាយ-ថវិការដ្ឋ'!G206","v":0},0,{"$f":"'ចំណាយ-ថវិការដ្ឋ'!I206","v":0},{"$f":"'ចំណាយ-ថវិការដ្ឋ'!J206","v":0},0,{"$f":"'ចំណាយ-ថវិការដ្ឋ'!L206","v":0},{"$f":"'ចំណាយ-ថវិការដ្ឋ'!M206","v":0}]
[{"$f":"Update_8!C175","v":"៧. អភិវឌ្ឍហេដ្ឋារចនាសម្ពន្ធ័សាលារៀនអប់រំបរិយាបន្ន"},0,{"$f":"'ចំណាយ-ថវិការដ្ឋ'!C207","v":0},{"$f":"'ចំណាយ-ថវិការដ្ឋ'!D207","v":0},0,{"$f":"'ចំណាយ-ថវិការដ្ឋ'!F207","v":0},{"$f":"'ចំណាយ-ថវិការដ្ឋ'!G207","v":0},0,{"$f":"'ចំណាយ-ថវិការដ្ឋ'!I207","v":0},{"$f":"'ចំណាយ-ថវិការដ្ឋ'!J207","v":0},0,{"$f":"'ចំណាយ-ថវិការដ្ឋ'!L207","v":0},{"$f":"'ចំណាយ-ថវិការដ្ឋ'!M207","v":0}]
[{"$f":"Update_8!C176","v":0},0,{"$f":"'ចំណាយ-ថវិការដ្ឋ'!C208","v":0},{"$f":"'ចំណាយ-ថវិការដ្ឋ'!D208","v":0},0,{"$f":"'ចំណាយ-ថវិការដ្ឋ'!F208","v":0},{"$f":"'ចំណាយ-ថវិការដ្ឋ'!G208","v":0},0,{"$f":"'ចំណាយ-ថវិការដ្ឋ'!I208","v":0},{"$f":"'ចំណាយ-ថវិការដ្ឋ'!J208","v":0},0,{"$f":"'ចំណាយ-ថវិការដ្ឋ'!L208","v":0},{"$f":"'ចំណាយ-ថវិការដ្ឋ'!M208","v":0}]
[{"$f":"Update_8!C177","v":0},0,{"$f":"'ចំណាយ-ថវិការដ្ឋ'!C209","v":0},{"$f":"'ចំណាយ-ថវិការដ្ឋ'!D209","v":0},0,{"$f":"'ចំណាយ-ថវិការដ្ឋ'!F209","v":0},{"$f":"'ចំណាយ-ថវិការដ្ឋ'!G209","v":0},0,{"$f":"'ចំណាយ-ថវិការដ្ឋ'!I209","v":0},{"$f":"'ចំណាយ-ថវិការដ្ឋ'!J209","v":0},0,{"$f":"'ចំណាយ-ថវិការដ្ឋ'!L209","v":0},{"$f":"'ចំណាយ-ថវិការដ្ឋ'!M209","v":0}]
[{"$f":"Update_8!C178","v":0},0,{"$f":"'ចំណាយ-ថវិការដ្ឋ'!C210","v":0},{"$f":"'ចំណាយ-ថវិការដ្ឋ'!D210","v":0},0,{"$f":"'ចំណាយ-ថវិការដ្ឋ'!F210","v":0},{"$f":"'ចំណាយ-ថវិការដ្ឋ'!G210","v":0},0,{"$f":"'ចំណាយ-ថវិការដ្ឋ'!I210","v":0},{"$f":"'ចំណាយ-ថវិការដ្ឋ'!J210","v":0},0,{"$f":"'ចំណាយ-ថវិការដ្ឋ'!L210","v":0},{"$f":"'ចំណាយ-ថវិការដ្ឋ'!M210","v":0}]
[{"$f":"cluster_activity_2","v":"សកម្មភាពរង ទី ២៖ ធានាភាពស័ក្តិសិទ្ធនៃភាពជាអ្នកដឹកនាំ និងគ្រប់គ្រងរបស់មន្ត្រី អប់រំគ្រប់លំដាប់ថ្នាក់"},{"$f":"ROUND(SUM(B212:B221),1)","v":0},{"$f":"ROUND(SUM(C212:C221),1)","v":0},{"$f":"ROUND(SUM(D212:D221),1)","v":0},{"$f":"ROUND(SUM(E212:E221),1)","v":0},0,0,0,0,0,{"$f":"ROUND(SUM(K212:K221),1)","v":0},{"$f":"ROUND(SUM(L212:L221),1)","v":0},{"$f":"ROUND(SUM(M212:M221),1)","v":0}]
[{"$f":"Update_8!C179","v":"១. អភិវឌ្ឍសមត្ថភាពមន្រ្តីស្តីពីអប់រំបរិយាបន្ននិងពហុភាសា និងលើកទឹកចិត្ត"},{"$f":"ROUND(SUM(C212:D212),1)","v":0},{"$f":"'ចំណាយ-ថវិការដ្ឋ'!C212","v":0},{"$f":"'ចំណាយ-ថវិការដ្ឋ'!D212","v":0},{"$f":"ROUND(SUM(F212:G212),1)","v":0},{"$f":"'ចំណាយ-ថវិការដ្ឋ'!F212","v":0},{"$f":"'ចំណាយ-ថវិការដ្ឋ'!G212","v":0},{"$f":"ROUND(SUM(I212:J212),1)","v":0},{"$f":"'ចំណាយ-ថវិការដ្ឋ'!I212","v":0},{"$f":"'ចំណាយ-ថវិការដ្ឋ'!J212","v":0},{"$f":"ROUND(SUM(L212:M212),1)","v":0},{"$f":"'ចំណាយ-ថវិការដ្ឋ'!L212","v":0},{"$f":"'ចំណាយ-ថវិការដ្ឋ'!M212","v":0}]
[{"$f":"Update_8!C180","v":0},{"$f":"ROUND(SUM(C213:D213),1)","v":0},{"$f":"'ចំណាយ-ថវិការដ្ឋ'!C213","v":0},{"$f":"'ចំណាយ-ថវិការដ្ឋ'!D213","v":0},0,{"$f":"'ចំណាយ-ថវិការដ្ឋ'!F213","v":0},{"$f":"'ចំណាយ-ថវិការដ្ឋ'!G213","v":0},0,{"$f":"'ចំណាយ-ថវិការដ្ឋ'!I213","v":0},{"$f":"'ចំណាយ-ថវិការដ្ឋ'!J213","v":0},0,{"$f":"'ចំណាយ-ថវិការដ្ឋ'!L213","v":0},{"$f":"'ចំណាយ-ថវិការដ្ឋ'!M213","v":0}]
[{"$f":"Update_8!C181","v":0},0,{"$f":"'ចំណាយ-ថវិការដ្ឋ'!C214","v":0},{"$f":"'ចំណាយ-ថវិការដ្ឋ'!D214","v":0},0,{"$f":"'ចំណាយ-ថវិការដ្ឋ'!F214","v":0},{"$f":"'ចំណាយ-ថវិការដ្ឋ'!G214","v":0},0,{"$f":"'ចំណាយ-ថវិការដ្ឋ'!I214","v":0},{"$f":"'ចំណាយ-ថវិការដ្ឋ'!J214","v":0},0,{"$f":"'ចំណាយ-ថវិការដ្ឋ'!L214","v":0},{"$f":"'ចំណាយ-ថវិការដ្ឋ'!M214","v":0}]
[{"$f":"Update_8!C182","v":0},0,{"$f":"'ចំណាយ-ថវិការដ្ឋ'!C215","v":0},{"$f":"'ចំណាយ-ថវិការដ្ឋ'!D215","v":0},0,{"$f":"'ចំណាយ-ថវិការដ្ឋ'!F215","v":0},{"$f":"'ចំណាយ-ថវិការដ្ឋ'!G215","v":0},0,{"$f":"'ចំណាយ-ថវិការដ្ឋ'!I215","v":0},{"$f":"'ចំណាយ-ថវិការដ្ឋ'!J215","v":0},0,{"$f":"'ចំណាយ-ថវិការដ្ឋ'!L215","v":0},{"$f":"'ចំណាយ-ថវិការដ្ឋ'!M215","v":0}]
[{"$f":"Update_8!C183","v":0},0,{"$f":"'ចំណាយ-ថវិការដ្ឋ'!C216","v":0},{"$f":"'ចំណាយ-ថវិការដ្ឋ'!D216","v":0},0,{"$f":"'ចំណាយ-ថវិការដ្ឋ'!F216","v":0},{"$f":"'ចំណាយ-ថវិការដ្ឋ'!G216","v":0},0,{"$f":"'ចំណាយ-ថវិការដ្ឋ'!I216","v":0},{"$f":"'ចំណាយ-ថវិការដ្ឋ'!J216","v":0},0,{"$f":"'ចំណាយ-ថវិការដ្ឋ'!L216","v":0},{"$f":"'ចំណាយ-ថវិការដ្ឋ'!M216","v":0}]
[{"$f":"Update_8!C184","v":0},0,{"$f":"'ចំណាយ-ថវិការដ្ឋ'!C217","v":0},{"$f":"'ចំណាយ-ថវិការដ្ឋ'!D217","v":0},0,{"$f":"'ចំណាយ-ថវិការដ្ឋ'!F217","v":0},{"$f":"'ចំណាយ-ថវិការដ្ឋ'!G217","v":0},0,{"$f":"'ចំណាយ-ថវិការដ្ឋ'!I217","v":0},{"$f":"'ចំណាយ-ថវិការដ្ឋ'!J217","v":0},0,{"$f":"'ចំណាយ-ថវិការដ្ឋ'!L217","v":0},{"$f":"'ចំណាយ-ថវិការដ្ឋ'!M217","v":0}]
[{"$f":"Update_8!C185","v":0},0,{"$f":"'ចំណាយ-ថវិការដ្ឋ'!C218","v":0},{"$f":"'ចំណាយ-ថវិការដ្ឋ'!D218","v":0},0,{"$f":"'ចំណាយ-ថវិការដ្ឋ'!F218","v":0},{"$f":"'ចំណាយ-ថវិការដ្ឋ'!G218","v":0},0,{"$f":"'ចំណាយ-ថវិការដ្ឋ'!I218","v":0},{"$f":"'ចំណាយ-ថវិការដ្ឋ'!J218","v":0},0,{"$f":"'ចំណាយ-ថវិការដ្ឋ'!L218","v":0},{"$f":"'ចំណាយ-ថវិការដ្ឋ'!M218","v":0}]
[{"$f":"Update_8!C186","v":0},0,{"$f":"'ចំណាយ-ថវិការដ្ឋ'!C219","v":0},{"$f":"'ចំណាយ-ថវិការដ្ឋ'!D219","v":0},0,{"$f":"'ចំណាយ-ថវិការដ្ឋ'!F219","v":0},{"$f":"'ចំណាយ-ថវិការដ្ឋ'!G219","v":0},0,{"$f":"'ចំណាយ-ថវិការដ្ឋ'!I219","v":0},{"$f":"'ចំណាយ-ថវិការដ្ឋ'!J219","v":0},0,{"$f":"'ចំណាយ-ថវិការដ្ឋ'!L219","v":0},{"$f":"'ចំណាយ-ថវិការដ្ឋ'!M219","v":0}]
[{"$f":"Update_8!C187","v":0},0,{"$f":"'ចំណាយ-ថវិការដ្ឋ'!C220","v":0},{"$f":"'ចំណាយ-ថវិការដ្ឋ'!D220","v":0},0,{"$f":"'ចំណាយ-ថវិការដ្ឋ'!F220","v":0},{"$f":"'ចំណាយ-ថវិការដ្ឋ'!G220","v":0},0,{"$f":"'ចំណាយ-ថវិការដ្ឋ'!I220","v":0},{"$f":"'ចំណាយ-ថវិការដ្ឋ'!J220","v":0},0,{"$f":"'ចំណាយ-ថវិការដ្ឋ'!L220","v":0},{"$f":"'ចំណាយ-ថវិការដ្ឋ'!M220","v":0}]
[{"$f":"Update_8!C188","v":0},0,{"$f":"'ចំណាយ-ថវិការដ្ឋ'!C221","v":0},{"$f":"'ចំណាយ-ថវិការដ្ឋ'!D221","v":0},0,{"$f":"'ចំណាយ-ថវិការដ្ឋ'!F221","v":0},{"$f":"'ចំណាយ-ថវិការដ្ឋ'!G221","v":0},0,{"$f":"'ចំណាយ-ថវិការដ្ឋ'!I221","v":0},{"$f":"'ចំណាយ-ថវិការដ្ឋ'!J221","v":0},0,{"$f":"'ចំណាយ-ថវិការដ្ឋ'!L221","v":0},{"$f":"'ចំណាយ-ថវិការដ្ឋ'!M221","v":0}]
[{"$f":"ព័ត៌មានអង្គភាព!C15","v":"កម្មវិធីទី៣៖ ការអភិវឌ្ឍវិស័យអប់រំកាយនិងកីឡា"},{"$f":"B223","v":0},{"$f":"C223","v":0},0,0,0,0,0,0,0,0,0,0]
[{"$f":"ព័ត៌មានអង្គភាព!C16","v":"អនុកម្មវិធីទី ៣.៥៖ សេវាគាំទ្រការអភិវឌ្ឍវិស័យអប់រំកាយ និងកីឡារបស់មន្ទីរជំនាញរាជធានី ខេត្ត"},{"$f":"B224","v":0},0,0,0,0,0,0,0,0,0,0,0]
[{"$f":"ព័ត៌មានអង្គភាព!C17","v":"ចង្កោមសកម្មភាពទី ០១៖ខេត្តបន្ទាយមានជ័យ"},{"$f":"SUM(B225,B248,B271,B294)","v":0},{"$f":"SUM(C225,C248,C271,C294)","v":0},0,0,0,0,0,0,0,0,0,0]
[{"$f":"ព័ត៌មានអង្គភាព!C18","v":"៣.៥.០១.១៖ ការអភិវឌ្ឍកីឡាមហាជន"},{"$f":"ROUND(SUM(B226,B237),1)","v":0},{"$f":"ROUND(SUM(C226,C237),1)","v":0},{"$f":"ROUND(SUM(D226,D237),1)","v":0},{"$f":"SUM(E226,E237)","v":0},0,0,0,0,0,0,0,0]
[{"$f":"cluster_activity_1","v":"សកម្មភាពរង ទី ១៖ ធានាឱ្យការអប់រំមានគុណភាព ប្រកបដោយសមធម៌ បរិយាបន្ន និងលើកកម្ពស់ឱកាសក្នុងការសិក្សាពេញមួយជីវិត"},{"$f":"ROUND(SUM(B227:B236),1)","v":0},{"$f":"ROUND(SUM(C227:C236),1)","v":0},{"$f":"ROUND(SUM(D227:D236),1)","v":0},0,0,0,0,0,0,0,0,0]
[{"$f":"Update_8!C471","v":"១. កិច្ចដំណើការអង្គភាព"},{"$f":"ROUND(SUM(C227:D227),1)","v":0},{"$f":"'ចំណាយ-ថវិការដ្ឋ'!C227","v":0},{"$f":"'ចំណាយ-ថវិការដ្ឋ'!D227","v":0},{"$f":"ROUND(SUM(F227:G227),1)","v":0},{"$f":"'ចំណាយ-ថវិការដ្ឋ'!F227","v":0},{"$f":"'ចំណាយ-ថវិការដ្ឋ'!G227","v":0},{"$f":"ROUND(SUM(I227:J227),1)","v":0},{"$f":"'ចំណាយ-ថវិការដ្ឋ'!I227","v":0},{"$f":"'ចំណាយ-ថវិការដ្ឋ'!J227","v":0},{"$f":"ROUND(SUM(L227:M227),1)","v":0},{"$f":"'ចំណាយ-ថវិការដ្ឋ'!L227","v":0},{"$f":"'ចំណាយ-ថវិការដ្ឋ'!M227","v":0}]
[{"$f":"Update_8!C472","v":"២. ថវិកាលទ្ធកម្ម"},{"$f":"ROUND(SUM(C228:D228),1)","v":0},{"$f":"'ចំណាយ-ថវិការដ្ឋ'!C228","v":0},{"$f":"'ចំណាយ-ថវិការដ្ឋ'!D228","v":0},0,{"$f":"'ចំណាយ-ថវិការដ្ឋ'!F228","v":0},{"$f":"'ចំណាយ-ថវិការដ្ឋ'!G228","v":0},0,{"$f":"'ចំណាយ-ថវិការដ្ឋ'!I228","v":0},{"$f":"'ចំណាយ-ថវិការដ្ឋ'!J228","v":0},0,{"$f":"'ចំណាយ-ថវិការដ្ឋ'!L228","v":0},{"$f":"'ចំណាយ-ថវិការដ្ឋ'!M228","v":0}]
[{"$f":"Update_8!C473","v":"៣. ពិនិត្យតាមដាន និងវាយតម្លៃ"},0,{"$f":"'ចំណាយ-ថវិការដ្ឋ'!C229","v":0},{"$f":"'ចំណាយ-ថវិការដ្ឋ'!D229","v":0},0,{"$f":"'ចំណាយ-ថវិការដ្ឋ'!F229","v":0},{"$f":"'ចំណាយ-ថវិការដ្ឋ'!G229","v":0},0,{"$f":"'ចំណាយ-ថវិការដ្ឋ'!I229","v":0},{"$f":"'ចំណាយ-ថវិការដ្ឋ'!J229","v":0},0,{"$f":"'ចំណាយ-ថវិការដ្ឋ'!L229","v":0},{"$f":"'ចំណាយ-ថវិការដ្ឋ'!M229","v":0}]
[{"$f":"Update_8!C474","v":"៤. អភិរក្សនិងអភិវឌ្ឍកីឡាគ្រប់ប្រភេទ"},0,{"$f":"'ចំណាយ-ថវិការដ្ឋ'!C230","v":0},{"$f":"'ចំណាយ-ថវិការដ្ឋ'!D230","v":0},0,{"$f":"'ចំណាយ-ថវិការដ្ឋ'!F230","v":0},{"$f":"'ចំណាយ-ថវិការដ្ឋ'!G230","v":0},0,{"$f":"'ចំណាយ-ថវិការដ្ឋ'!I230","v":0},{"$f":"'ចំណាយ-ថវិការដ្ឋ'!J230","v":0},0,{"$f":"'ចំណាយ-ថវិការដ្ឋ'!L230","v":0},{"$f":"'ចំណាយ-ថវិការដ្ឋ'!M230","v":0}]
[{"$f":"Update_8!C475","v":"៥. អភិវឌ្ឍកីឡាសម្រាប់ទាំងអស់គ្នា "},0,{"$f":"'ចំណាយ-ថវិការដ្ឋ'!C231","v":0},{"$f":"'ចំណាយ-ថវិការដ្ឋ'!D231","v":0},0,{"$f":"'ចំណាយ-ថវិការដ្ឋ'!F231","v":0},{"$f":"'ចំណាយ-ថវិការដ្ឋ'!G231","v":0},0,{"$f":"'ចំណាយ-ថវិការដ្ឋ'!I231","v":0},{"$f":"'ចំណាយ-ថវិការដ្ឋ'!J231","v":0},0,{"$f":"'ចំណាយ-ថវិការដ្ឋ'!L231","v":0},{"$f":"'ចំណាយ-ថវិការដ្ឋ'!M231","v":0}]
[{"$f":"Update_8!C476","v":"៦. ផ្តល់ថវិកាគាំទ្រដល់សហព័ន្ធកីឡាជាតិ"},0,{"$f":"'ចំណាយ-ថវិការដ្ឋ'!C232","v":0},{"$f":"'ចំណាយ-ថវិការដ្ឋ'!D232","v":0},0,{"$f":"'ចំណាយ-ថវិការដ្ឋ'!F232","v":0},{"$f":"'ចំណាយ-ថវិការដ្ឋ'!G232","v":0},0,{"$f":"'ចំណាយ-ថវិការដ្ឋ'!I232","v":0},{"$f":"'ចំណាយ-ថវិការដ្ឋ'!J232","v":0},0,{"$f":"'ចំណាយ-ថវិការដ្ឋ'!L232","v":0},{"$f":"'ចំណាយ-ថវិការដ្ឋ'!M232","v":0}]
[{"$f":"Update_8!C477","v":"៧. អភិវឌ្ឍ និងកែលម្អហេដ្ឋារចនាសម្ព័ន្ធ បរិក្ខារកីឡា និងការជួសជុលថែទាំ "},0,{"$f":"'ចំណាយ-ថវិការដ្ឋ'!C233","v":0},{"$f":"'ចំណាយ-ថវិការដ្ឋ'!D233","v":0},0,{"$f":"'ចំណាយ-ថវិការដ្ឋ'!F233","v":0},{"$f":"'ចំណាយ-ថវិការដ្ឋ'!G233","v":0},0,{"$f":"'ចំណាយ-ថវិការដ្ឋ'!I233","v":0},{"$f":"'ចំណាយ-ថវិការដ្ឋ'!J233","v":0},0,{"$f":"'ចំណាយ-ថវិការដ្ឋ'!L233","v":0},{"$f":"'ចំណាយ-ថវិការដ្ឋ'!M233","v":0}]
[{"$f":"Update_8!C478","v":"៨. រៀបចំ និងចូលរួមការប្រកួតកីឡាលក្ខណៈជាតិ និងអន្តរជាតិ និងប្រាក់រង្វាន់"},0,{"$f":"'ចំណាយ-ថវិការដ្ឋ'!C234","v":0},{"$f":"'ចំណាយ-ថវិការដ្ឋ'!D234","v":0},0,{"$f":"'ចំណាយ-ថវិការដ្ឋ'!F234","v":0},{"$f":"'ចំណាយ-ថវិការដ្ឋ'!G234","v":0},0,{"$f":"'ចំណាយ-ថវិការដ្ឋ'!I234","v":0},{"$f":"'ចំណាយ-ថវិការដ្ឋ'!J234","v":0},0,{"$f":"'ចំណាយ-ថវិការដ្ឋ'!L234","v":0},{"$f":"'ចំណាយ-ថវិការដ្ឋ'!M234","v":0}]
[{"$f":"Update_8!C479","v":0},0,{"$f":"'ចំណាយ-ថវិការដ្ឋ'!C235","v":0},{"$f":"'ចំណាយ-ថវិការដ្ឋ'!D235","v":0},0,{"$f":"'ចំណាយ-ថវិការដ្ឋ'!F235","v":0},{"$f":"'ចំណាយ-ថវិការដ្ឋ'!G235","v":0},0,{"$f":"'ចំណាយ-ថវិការដ្ឋ'!I235","v":0},{"$f":"'ចំណាយ-ថវិការដ្ឋ'!J235","v":0},0,{"$f":"'ចំណាយ-ថវិការដ្ឋ'!L235","v":0},{"$f":"'ចំណាយ-ថវិការដ្ឋ'!M235","v":0}]
[{"$f":"Update_8!C480","v":0},0,{"$f":"'ចំណាយ-ថវិការដ្ឋ'!C236","v":0},{"$f":"'ចំណាយ-ថវិការដ្ឋ'!D236","v":0},0,{"$f":"'ចំណាយ-ថវិការដ្ឋ'!F236","v":0},{"$f":"'ចំណាយ-ថវិការដ្ឋ'!G236","v":0},0,{"$f":"'ចំណាយ-ថវិការដ្ឋ'!I236","v":0},{"$f":"'ចំណាយ-ថវិការដ្ឋ'!J236","v":0},0,{"$f":"'ចំណាយ-ថវិការដ្ឋ'!L236","v":0},{"$f":"'ចំណាយ-ថវិការដ្ឋ'!M236","v":0}]
[{"$f":"cluster_activity_2","v":"សកម្មភាពរង ទី ២៖ ធានាភាពស័ក្តិសិទ្ធនៃភាពជាអ្នកដឹកនាំ និងគ្រប់គ្រងរបស់មន្ត្រី អប់រំគ្រប់លំដាប់ថ្នាក់"},{"$f":"ROUND(SUM(B238:B247),1)","v":0},{"$f":"ROUND(SUM(C238:C247),1)","v":0},{"$f":"ROUND(SUM(D238:D247),1)","v":0},{"$f":"ROUND(SUM(E238:E247),1)","v":0},0,0,0,0,0,{"$f":"ROUND(SUM(K238:K247),1)","v":0},{"$f":"ROUND(SUM(L238:L247),1)","v":0},{"$f":"ROUND(SUM(M238:M247),1)","v":0}]
[{"$f":"Update_8!C481","v":"១. អភិវឌ្ឍសមត្ថភាពបុគ្គលិកអប់រំ គ្រូបង្វឹក អាជ្ញាកណ្តាល ចៅក្រម និងមន្ត្រីរៀបចំការប្រកួត"},{"$f":"ROUND(SUM(C238:D238),1)","v":0},{"$f":"'ចំណាយ-ថវិការដ្ឋ'!C238","v":0},{"$f":"'ចំណាយ-ថវិការដ្ឋ'!D238","v":0},{"$f":"ROUND(SUM(F238:G238),1)","v":0},{"$f":"'ចំណាយ-ថវិការដ្ឋ'!F238","v":0},{"$f":"'ចំណាយ-ថវិការដ្ឋ'!G238","v":0},{"$f":"ROUND(SUM(I238:J238),1)","v":0},{"$f":"'ចំណាយ-ថវិការដ្ឋ'!I238","v":0},{"$f":"'ចំណាយ-ថវិការដ្ឋ'!J238","v":0},{"$f":"ROUND(SUM(L238:M238),1)","v":0},{"$f":"'ចំណាយ-ថវិការដ្ឋ'!L238","v":0},{"$f":"'ចំណាយ-ថវិការដ្ឋ'!M238","v":0}]
[{"$f":"Update_8!C482","v":"២. អនុវត្តផែនការ៥ឆ្នាំអាស៊ាន និងកិច្ចសហប្រតិបត្តិការអន្តរជាតិ"},{"$f":"ROUND(SUM(C239:D239),1)","v":0},{"$f":"'ចំណាយ-ថវិការដ្ឋ'!C239","v":0},{"$f":"'ចំណាយ-ថវិការដ្ឋ'!D239","v":0},0,{"$f":"'ចំណាយ-ថវិការដ្ឋ'!F239","v":0},{"$f":"'ចំណាយ-ថវិការដ្ឋ'!G239","v":0},0,{"$f":"'ចំណាយ-ថវិការដ្ឋ'!I239","v":0},{"$f":"'ចំណាយ-ថវិការដ្ឋ'!J239","v":0},0,{"$f":"'ចំណាយ-ថវិការដ្ឋ'!L239","v":0},{"$f":"'ចំណាយ-ថវិការដ្ឋ'!M239","v":0}]
[{"$f":"Update_8!C483","v":"៣. អភិវឌ្ឍក្របខ័ណ្ឌច្បាប់ និងគតិយុត្តិ"},0,{"$f":"'ចំណាយ-ថវិការដ្ឋ'!C240","v":0},{"$f":"'ចំណាយ-ថវិការដ្ឋ'!D240","v":0},0,{"$f":"'ចំណាយ-ថវិការដ្ឋ'!F240","v":0},{"$f":"'ចំណាយ-ថវិការដ្ឋ'!G240","v":0},0,{"$f":"'ចំណាយ-ថវិការដ្ឋ'!I240","v":0},{"$f":"'ចំណាយ-ថវិការដ្ឋ'!J240","v":0},0,{"$f":"'ចំណាយ-ថវិការដ្ឋ'!L240","v":0},{"$f":"'ចំណាយ-ថវិការដ្ឋ'!M240","v":0}]
[{"$f":"Update_8!C484","v":0},0,{"$f":"'ចំណាយ-ថវិការដ្ឋ'!C241","v":0},{"$f":"'ចំណាយ-ថវិការដ្ឋ'!D241","v":0},0,{"$f":"'ចំណាយ-ថវិការដ្ឋ'!F241","v":0},{"$f":"'ចំណាយ-ថវិការដ្ឋ'!G241","v":0},0,{"$f":"'ចំណាយ-ថវិការដ្ឋ'!I241","v":0},{"$f":"'ចំណាយ-ថវិការដ្ឋ'!J241","v":0},0,{"$f":"'ចំណាយ-ថវិការដ្ឋ'!L241","v":0},{"$f":"'ចំណាយ-ថវិការដ្ឋ'!M241","v":0}]
[{"$f":"Update_8!C485","v":0},0,{"$f":"'ចំណាយ-ថវិការដ្ឋ'!C242","v":0},{"$f":"'ចំណាយ-ថវិការដ្ឋ'!D242","v":0},0,{"$f":"'ចំណាយ-ថវិការដ្ឋ'!F242","v":0},{"$f":"'ចំណាយ-ថវិការដ្ឋ'!G242","v":0},0,{"$f":"'ចំណាយ-ថវិការដ្ឋ'!I242","v":0},{"$f":"'ចំណាយ-ថវិការដ្ឋ'!J242","v":0},0,{"$f":"'ចំណាយ-ថវិការដ្ឋ'!L242","v":0},{"$f":"'ចំណាយ-ថវិការដ្ឋ'!M242","v":0}]
[{"$f":"Update_8!C486","v":0},0,{"$f":"'ចំណាយ-ថវិការដ្ឋ'!C243","v":0},{"$f":"'ចំណាយ-ថវិការដ្ឋ'!D243","v":0},0,{"$f":"'ចំណាយ-ថវិការដ្ឋ'!F243","v":0},{"$f":"'ចំណាយ-ថវិការដ្ឋ'!G243","v":0},0,{"$f":"'ចំណាយ-ថវិការដ្ឋ'!I243","v":0},{"$f":"'ចំណាយ-ថវិការដ្ឋ'!J243","v":0},0,{"$f":"'ចំណាយ-ថវិការដ្ឋ'!L243","v":0},{"$f":"'ចំណាយ-ថវិការដ្ឋ'!M243","v":0}]
[{"$f":"Update_8!C487","v":0},0,{"$f":"'ចំណាយ-ថវិការដ្ឋ'!C244","v":0},{"$f":"'ចំណាយ-ថវិការដ្ឋ'!D244","v":0},0,{"$f":"'ចំណាយ-ថវិការដ្ឋ'!F244","v":0},{"$f":"'ចំណាយ-ថវិការដ្ឋ'!G244","v":0},0,{"$f":"'ចំណាយ-ថវិការដ្ឋ'!I244","v":0},{"$f":"'ចំណាយ-ថវិការដ្ឋ'!J244","v":0},0,{"$f":"'ចំណាយ-ថវិការដ្ឋ'!L244","v":0},{"$f":"'ចំណាយ-ថវិការដ្ឋ'!M244","v":0}]
[{"$f":"Update_8!C488","v":0},0,{"$f":"'ចំណាយ-ថវិការដ្ឋ'!C245","v":0},{"$f":"'ចំណាយ-ថវិការដ្ឋ'!D245","v":0},0,{"$f":"'ចំណាយ-ថវិការដ្ឋ'!F245","v":0},{"$f":"'ចំណាយ-ថវិការដ្ឋ'!G245","v":0},0,{"$f":"'ចំណាយ-ថវិការដ្ឋ'!I245","v":0},{"$f":"'ចំណាយ-ថវិការដ្ឋ'!J245","v":0},0,{"$f":"'ចំណាយ-ថវិការដ្ឋ'!L245","v":0},{"$f":"'ចំណាយ-ថវិការដ្ឋ'!M245","v":0}]
[{"$f":"Update_8!C489","v":0},0,{"$f":"'ចំណាយ-ថវិការដ្ឋ'!C246","v":0},{"$f":"'ចំណាយ-ថវិការដ្ឋ'!D246","v":0},0,{"$f":"'ចំណាយ-ថវិការដ្ឋ'!F246","v":0},{"$f":"'ចំណាយ-ថវិការដ្ឋ'!G246","v":0},0,{"$f":"'ចំណាយ-ថវិការដ្ឋ'!I246","v":0},{"$f":"'ចំណាយ-ថវិការដ្ឋ'!J246","v":0},0,{"$f":"'ចំណាយ-ថវិការដ្ឋ'!L246","v":0},{"$f":"'ចំណាយ-ថវិការដ្ឋ'!M246","v":0}]
[{"$f":"Update_8!C490","v":0},0,{"$f":"'ចំណាយ-ថវិការដ្ឋ'!C247","v":0},{"$f":"'ចំណាយ-ថវិការដ្ឋ'!D247","v":0},0,{"$f":"'ចំណាយ-ថវិការដ្ឋ'!F247","v":0},{"$f":"'ចំណាយ-ថវិការដ្ឋ'!G247","v":0},0,{"$f":"'ចំណាយ-ថវិការដ្ឋ'!I247","v":0},{"$f":"'ចំណាយ-ថវិការដ្ឋ'!J247","v":0},0,{"$f":"'ចំណាយ-ថវិការដ្ឋ'!L247","v":0},{"$f":"'ចំណាយ-ថវិការដ្ឋ'!M247","v":0}]
[{"$f":"ព័ត៌មានអង្គភាព!C19","v":"៣.៥.០១.២៖ ការអភិវឌ្ឍអប់រំកាយ និងកីឡាសិស្ស និស្សិត"},{"$f":"ROUND(SUM(B249,B260),1)","v":0},{"$f":"ROUND(SUM(C249,C260),1)","v":0},{"$f":"ROUND(SUM(D249,D260),1)","v":0},{"$f":"SUM(E249,E260)","v":0},0,0,0,0,0,0,0,0]
[{"$f":"cluster_activity_1","v":"សកម្មភាពរង ទី ១៖ ធានាឱ្យការអប់រំមានគុណភាព ប្រកបដោយសមធម៌ បរិយាបន្ន និងលើកកម្ពស់ឱកាសក្នុងការសិក្សាពេញមួយជីវិត"},{"$f":"ROUND(SUM(B250:B259),1)","v":0},{"$f":"ROUND(SUM(C250:C259),1)","v":0},{"$f":"ROUND(SUM(D250:D259),1)","v":0},0,0,0,0,0,0,0,0,0]
[{"$f":"Update_8!C491","v":"១. ​កិច្ចដំណើការអង្គភាព"},{"$f":"ROUND(SUM(C250:D250),1)","v":0},{"$f":"'ចំណាយ-ថវិការដ្ឋ'!C250","v":0},{"$f":"'ចំណាយ-ថវិការដ្ឋ'!D250","v":0},{"$f":"ROUND(SUM(F250:G250),1)","v":0},{"$f":"'ចំណាយ-ថវិការដ្ឋ'!F250","v":0},{"$f":"'ចំណាយ-ថវិការដ្ឋ'!G250","v":0},{"$f":"ROUND(SUM(I250:J250),1)","v":0},{"$f":"'ចំណាយ-ថវិការដ្ឋ'!I250","v":0},{"$f":"'ចំណាយ-ថវិការដ្ឋ'!J250","v":0},{"$f":"ROUND(SUM(L250:M250),1)","v":0},{"$f":"'ចំណាយ-ថវិការដ្ឋ'!L250","v":0},{"$f":"'ចំណាយ-ថវិការដ្ឋ'!M250","v":0}]
[{"$f":"Update_8!C492","v":"២. ថវិកាលទ្ធកម្ម"},{"$f":"ROUND(SUM(C251:D251),1)","v":0},{"$f":"'ចំណាយ-ថវិការដ្ឋ'!C251","v":0},{"$f":"'ចំណាយ-ថវិការដ្ឋ'!D251","v":0},0,{"$f":"'ចំណាយ-ថវិការដ្ឋ'!F251","v":0},{"$f":"'ចំណាយ-ថវិការដ្ឋ'!G251","v":0},0,{"$f":"'ចំណាយ-ថវិការដ្ឋ'!I251","v":0},{"$f":"'ចំណាយ-ថវិការដ្ឋ'!J251","v":0},0,{"$f":"'ចំណាយ-ថវិការដ្ឋ'!L251","v":0},{"$f":"'ចំណាយ-ថវិការដ្ឋ'!M251","v":0}]
[{"$f":"Update_8!C493","v":"៣. ពិនិត្យតាមដាន និងវាយតម្លៃ"},0,{"$f":"'ចំណាយ-ថវិការដ្ឋ'!C252","v":0},{"$f":"'ចំណាយ-ថវិការដ្ឋ'!D252","v":0},0,{"$f":"'ចំណាយ-ថវិការដ្ឋ'!F252","v":0},{"$f":"'ចំណាយ-ថវិការដ្ឋ'!G252","v":0},0,{"$f":"'ចំណាយ-ថវិការដ្ឋ'!I252","v":0},{"$f":"'ចំណាយ-ថវិការដ្ឋ'!J252","v":0},0,{"$f":"'ចំណាយ-ថវិការដ្ឋ'!L252","v":0},{"$f":"'ចំណាយ-ថវិការដ្ឋ'!M252","v":0}]
[{"$f":"Update_8!C494","v":"៤. ពង្រឹងសកម្មភាពអប់រំកាយ និងកីឡាតាមគ្រឹះស្ថានសិក្សា សមាគម និងក្លឹបកីឡា"},0,{"$f":"'ចំណាយ-ថវិការដ្ឋ'!C253","v":0},{"$f":"'ចំណាយ-ថវិការដ្ឋ'!D253","v":0},0,{"$f":"'ចំណាយ-ថវិការដ្ឋ'!F253","v":0},{"$f":"'ចំណាយ-ថវិការដ្ឋ'!G253","v":0},0,{"$f":"'ចំណាយ-ថវិការដ្ឋ'!I253","v":0},{"$f":"'ចំណាយ-ថវិការដ្ឋ'!J253","v":0},0,{"$f":"'ចំណាយ-ថវិការដ្ឋ'!L253","v":0},{"$f":"'ចំណាយ-ថវិការដ្ឋ'!M253","v":0}]
[{"$f":"Update_8!C495","v":"៥. អភិវឌ្ឍ និងកែលម្អហេដ្ឋារចនាសម្ព័ន្ធ បរិក្ខារកីឡា និងការជួសជុលថែទាំទីលានកីឡាតាមគ្រឹះស្ថានសិក្សា"},0,{"$f":"'ចំណាយ-ថវិការដ្ឋ'!C254","v":0},{"$f":"'ចំណាយ-ថវិការដ្ឋ'!D254","v":0},0,{"$f":"'ចំណាយ-ថវិការដ្ឋ'!F254","v":0},{"$f":"'ចំណាយ-ថវិការដ្ឋ'!G254","v":0},0,{"$f":"'ចំណាយ-ថវិការដ្ឋ'!I254","v":0},{"$f":"'ចំណាយ-ថវិការដ្ឋ'!J254","v":0},0,{"$f":"'ចំណាយ-ថវិការដ្ឋ'!L254","v":0},{"$f":"'ចំណាយ-ថវិការដ្ឋ'!M254","v":0}]
[{"$f":"Update_8!C496","v":"៦. រៀបចំ និងចូលរួមប្រកួតកីឡាសិស្ស និស្សិតថ្នាក់ជាតិ និងអន្តរជាតិនិងប្រាក់រង្វាន់ជ័យលាភី"},0,{"$f":"'ចំណាយ-ថវិការដ្ឋ'!C255","v":0},{"$f":"'ចំណាយ-ថវិការដ្ឋ'!D255","v":0},0,{"$f":"'ចំណាយ-ថវិការដ្ឋ'!F255","v":0},{"$f":"'ចំណាយ-ថវិការដ្ឋ'!G255","v":0},0,{"$f":"'ចំណាយ-ថវិការដ្ឋ'!I255","v":0},{"$f":"'ចំណាយ-ថវិការដ្ឋ'!J255","v":0},0,{"$f":"'ចំណាយ-ថវិការដ្ឋ'!L255","v":0},{"$f":"'ចំណាយ-ថវិការដ្ឋ'!M255","v":0}]
[{"$f":"Update_8!C497","v":"៧. អភិវឌ្ឍកម្មវិធីសិក្សាអប់រំកាយ និងកីឡាសម្រាប់ គ្រឹះស្ថានសិក្សា និងវិទ្យាស្ថានគរុកោសល្យ"},0,{"$f":"'ចំណាយ-ថវិការដ្ឋ'!C256","v":0},{"$f":"'ចំណាយ-ថវិការដ្ឋ'!D256","v":0},0,{"$f":"'ចំណាយ-ថវិការដ្ឋ'!F256","v":0},{"$f":"'ចំណាយ-ថវិការដ្ឋ'!G256","v":0},0,{"$f":"'ចំណាយ-ថវិការដ្ឋ'!I256","v":0},{"$f":"'ចំណាយ-ថវិការដ្ឋ'!J256","v":0},0,{"$f":"'ចំណាយ-ថវិការដ្ឋ'!L256","v":0},{"$f":"'ចំណាយ-ថវិការដ្ឋ'!M256","v":0}]
[{"$f":"Update_8!C498","v":0},0,{"$f":"'ចំណាយ-ថវិការដ្ឋ'!C257","v":0},{"$f":"'ចំណាយ-ថវិការដ្ឋ'!D257","v":0},0,{"$f":"'ចំណាយ-ថវិការដ្ឋ'!F257","v":0},{"$f":"'ចំណាយ-ថវិការដ្ឋ'!G257","v":0},0,{"$f":"'ចំណាយ-ថវិការដ្ឋ'!I257","v":0},{"$f":"'ចំណាយ-ថវិការដ្ឋ'!J257","v":0},0,{"$f":"'ចំណាយ-ថវិការដ្ឋ'!L257","v":0},{"$f":"'ចំណាយ-ថវិការដ្ឋ'!M257","v":0}]
[{"$f":"Update_8!C499","v":0},0,{"$f":"'ចំណាយ-ថវិការដ្ឋ'!C258","v":0},{"$f":"'ចំណាយ-ថវិការដ្ឋ'!D258","v":0},0,{"$f":"'ចំណាយ-ថវិការដ្ឋ'!F258","v":0},{"$f":"'ចំណាយ-ថវិការដ្ឋ'!G258","v":0},0,{"$f":"'ចំណាយ-ថវិការដ្ឋ'!I258","v":0},{"$f":"'ចំណាយ-ថវិការដ្ឋ'!J258","v":0},0,{"$f":"'ចំណាយ-ថវិការដ្ឋ'!L258","v":0},{"$f":"'ចំណាយ-ថវិការដ្ឋ'!M258","v":0}]
[{"$f":"Update_8!C500","v":0},0,{"$f":"'ចំណាយ-ថវិការដ្ឋ'!C259","v":0},{"$f":"'ចំណាយ-ថវិការដ្ឋ'!D259","v":0},0,{"$f":"'ចំណាយ-ថវិការដ្ឋ'!F259","v":0},{"$f":"'ចំណាយ-ថវិការដ្ឋ'!G259","v":0},0,{"$f":"'ចំណាយ-ថវិការដ្ឋ'!I259","v":0},{"$f":"'ចំណាយ-ថវិការដ្ឋ'!J259","v":0},0,{"$f":"'ចំណាយ-ថវិការដ្ឋ'!L259","v":0},{"$f":"'ចំណាយ-ថវិការដ្ឋ'!M259","v":0}]
[{"$f":"cluster_activity_2","v":"សកម្មភាពរង ទី ២៖ ធានាភាពស័ក្តិសិទ្ធនៃភាពជាអ្នកដឹកនាំ និងគ្រប់គ្រងរបស់មន្ត្រី អប់រំគ្រប់លំដាប់ថ្នាក់"},{"$f":"ROUND(SUM(B261:B270),1)","v":0},{"$f":"ROUND(SUM(C261:C270),1)","v":0},{"$f":"ROUND(SUM(D261:D270),1)","v":0},{"$f":"ROUND(SUM(E261:E270),1)","v":0},0,0,0,0,0,{"$f":"ROUND(SUM(K261:K270),1)","v":0},{"$f":"ROUND(SUM(L261:L270),1)","v":0},{"$f":"ROUND(SUM(M261:M270),1)","v":0}]
[{"$f":"Update_8!C501","v":"១. អភិវឌ្ឍសមត្ថភាពស្តីពីការអប់រំកាយ និងកីឡាដល់គ្រូតាមគ្រឹះស្ថានសិក្សា"},{"$f":"ROUND(SUM(C261:D261),1)","v":0},{"$f":"'ចំណាយ-ថវិការដ្ឋ'!C261","v":0},{"$f":"'ចំណាយ-ថវិការដ្ឋ'!D261","v":0},{"$f":"ROUND(SUM(F261:G261),1)","v":0},{"$f":"'ចំណាយ-ថវិការដ្ឋ'!F261","v":0},{"$f":"'ចំណាយ-ថវិការដ្ឋ'!G261","v":0},{"$f":"ROUND(SUM(I261:J261),1)","v":0},{"$f":"'ចំណាយ-ថវិការដ្ឋ'!I261","v":0},{"$f":"'ចំណាយ-ថវិការដ្ឋ'!J261","v":0},{"$f":"ROUND(SUM(L261:M261),1)","v":0},{"$f":"'ចំណាយ-ថវិការដ្ឋ'!L261","v":0},{"$f":"'ចំណាយ-ថវិការដ្ឋ'!M261","v":0}]
[{"$f":"Update_8!C502","v":"២. ពង្រឹង និងពង្រីកកិច្ចសហប្រតិបត្តិការជាតិ និងអន្តរជាតិ"},{"$f":"ROUND(SUM(C262:D262),1)","v":0},{"$f":"'ចំណាយ-ថវិការដ្ឋ'!C262","v":0},{"$f":"'ចំណាយ-ថវិការដ្ឋ'!D262","v":0},0,{"$f":"'ចំណាយ-ថវិការដ្ឋ'!F262","v":0},{"$f":"'ចំណាយ-ថវិការដ្ឋ'!G262","v":0},0,{"$f":"'ចំណាយ-ថវិការដ្ឋ'!I262","v":0},{"$f":"'ចំណាយ-ថវិការដ្ឋ'!J262","v":0},0,{"$f":"'ចំណាយ-ថវិការដ្ឋ'!L262","v":0},{"$f":"'ចំណាយ-ថវិការដ្ឋ'!M262","v":0}]
[{"$f":"Update_8!C503","v":0},0,{"$f":"'ចំណាយ-ថវិការដ្ឋ'!C263","v":0},{"$f":"'ចំណាយ-ថវិការដ្ឋ'!D263","v":0},0,{"$f":"'ចំណាយ-ថវិការដ្ឋ'!F263","v":0},{"$f":"'ចំណាយ-ថវិការដ្ឋ'!G263","v":0},0,{"$f":"'ចំណាយ-ថវិការដ្ឋ'!I263","v":0},{"$f":"'ចំណាយ-ថវិការដ្ឋ'!J263","v":0},0,{"$f":"'ចំណាយ-ថវិការដ្ឋ'!L263","v":0},{"$f":"'ចំណាយ-ថវិការដ្ឋ'!M263","v":0}]
[{"$f":"Update_8!C504","v":0},0,{"$f":"'ចំណាយ-ថវិការដ្ឋ'!C264","v":0},{"$f":"'ចំណាយ-ថវិការដ្ឋ'!D264","v":0},0,{"$f":"'ចំណាយ-ថវិការដ្ឋ'!F264","v":0},{"$f":"'ចំណាយ-ថវិការដ្ឋ'!G264","v":0},0,{"$f":"'ចំណាយ-ថវិការដ្ឋ'!I264","v":0},{"$f":"'ចំណាយ-ថវិការដ្ឋ'!J264","v":0},0,{"$f":"'ចំណាយ-ថវិការដ្ឋ'!L264","v":0},{"$f":"'ចំណាយ-ថវិការដ្ឋ'!M264","v":0}]
[{"$f":"Update_8!C505","v":0},0,{"$f":"'ចំណាយ-ថវិការដ្ឋ'!C265","v":0},{"$f":"'ចំណាយ-ថវិការដ្ឋ'!D265","v":0},0,{"$f":"'ចំណាយ-ថវិការដ្ឋ'!F265","v":0},{"$f":"'ចំណាយ-ថវិការដ្ឋ'!G265","v":0},0,{"$f":"'ចំណាយ-ថវិការដ្ឋ'!I265","v":0},{"$f":"'ចំណាយ-ថវិការដ្ឋ'!J265","v":0},0,{"$f":"'ចំណាយ-ថវិការដ្ឋ'!L265","v":0},{"$f":"'ចំណាយ-ថវិការដ្ឋ'!M265","v":0}]
[{"$f":"Update_8!C506","v":0},0,{"$f":"'ចំណាយ-ថវិការដ្ឋ'!C266","v":0},{"$f":"'ចំណាយ-ថវិការដ្ឋ'!D266","v":0},0,{"$f":"'ចំណាយ-ថវិការដ្ឋ'!F266","v":0},{"$f":"'ចំណាយ-ថវិការដ្ឋ'!G266","v":0},0,{"$f":"'ចំណាយ-ថវិការដ្ឋ'!I266","v":0},{"$f":"'ចំណាយ-ថវិការដ្ឋ'!J266","v":0},0,{"$f":"'ចំណាយ-ថវិការដ្ឋ'!L266","v":0},{"$f":"'ចំណាយ-ថវិការដ្ឋ'!M266","v":0}]
[{"$f":"Update_8!C507","v":0},0,{"$f":"'ចំណាយ-ថវិការដ្ឋ'!C267","v":0},{"$f":"'ចំណាយ-ថវិការដ្ឋ'!D267","v":0},0,{"$f":"'ចំណាយ-ថវិការដ្ឋ'!F267","v":0},{"$f":"'ចំណាយ-ថវិការដ្ឋ'!G267","v":0},0,{"$f":"'ចំណាយ-ថវិការដ្ឋ'!I267","v":0},{"$f":"'ចំណាយ-ថវិការដ្ឋ'!J267","v":0},0,{"$f":"'ចំណាយ-ថវិការដ្ឋ'!L267","v":0},{"$f":"'ចំណាយ-ថវិការដ្ឋ'!M267","v":0}]
[{"$f":"Update_8!C508","v":0},0,{"$f":"'ចំណាយ-ថវិការដ្ឋ'!C268","v":0},{"$f":"'ចំណាយ-ថវិការដ្ឋ'!D268","v":0},0,{"$f":"'ចំណាយ-ថវិការដ្ឋ'!F268","v":0},{"$f":"'ចំណាយ-ថវិការដ្ឋ'!G268","v":0},0,{"$f":"'ចំណាយ-ថវិការដ្ឋ'!I268","v":0},{"$f":"'ចំណាយ-ថវិការដ្ឋ'!J268","v":0},0,{"$f":"'ចំណាយ-ថវិការដ្ឋ'!L268","v":0},{"$f":"'ចំណាយ-ថវិការដ្ឋ'!M268","v":0}]
[{"$f":"Update_8!C509","v":0},0,{"$f":"'ចំណាយ-ថវិការដ្ឋ'!C269","v":0},{"$f":"'ចំណាយ-ថវិការដ្ឋ'!D269","v":0},0,{"$f":"'ចំណាយ-ថវិការដ្ឋ'!F269","v":0},{"$f":"'ចំណាយ-ថវិការដ្ឋ'!G269","v":0},0,{"$f":"'ចំណាយ-ថវិការដ្ឋ'!I269","v":0},{"$f":"'ចំណាយ-ថវិការដ្ឋ'!J269","v":0},0,{"$f":"'ចំណាយ-ថវិការដ្ឋ'!L269","v":0},{"$f":"'ចំណាយ-ថវិការដ្ឋ'!M269","v":0}]
[{"$f":"Update_8!C510","v":0},0,{"$f":"'ចំណាយ-ថវិការដ្ឋ'!C270","v":0},{"$f":"'ចំណាយ-ថវិការដ្ឋ'!D270","v":0},0,{"$f":"'ចំណាយ-ថវិការដ្ឋ'!F270","v":0},{"$f":"'ចំណាយ-ថវិការដ្ឋ'!G270","v":0},0,{"$f":"'ចំណាយ-ថវិការដ្ឋ'!I270","v":0},{"$f":"'ចំណាយ-ថវិការដ្ឋ'!J270","v":0},0,{"$f":"'ចំណាយ-ថវិការដ្ឋ'!L270","v":0},{"$f":"'ចំណាយ-ថវិការដ្ឋ'!M270","v":0}]
[{"$f":"ព័ត៌មានអង្គភាព!C20","v":"៣.៥.០១.៣៖ ការបណ្តុះបណ្តាលធនធានមនុស្សផ្នែកអប់រំកាយ និងកីឡា"},{"$f":"ROUND(SUM(B272,B283),1)","v":0},{"$f":"ROUND(SUM(C272,C283),1)","v":0},{"$f":"ROUND(SUM(D272,D283),1)","v":0},{"$f":"SUM(E272,E283)","v":0},0,0,0,0,0,0,0,0]
[{"$f":"cluster_activity_1","v":"សកម្មភាពរង ទី ១៖ ធានាឱ្យការអប់រំមានគុណភាព ប្រកបដោយសមធម៌ បរិយាបន្ន និងលើកកម្ពស់ឱកាសក្នុងការសិក្សាពេញមួយជីវិត"},{"$f":"ROUND(SUM(B273:B282),1)","v":0},{"$f":"ROUND(SUM(C273:C282),1)","v":0},{"$f":"ROUND(SUM(D273:D282),1)","v":0},0,0,0,0,0,0,0,0,0]
[{"$f":"Update_8!C511","v":"១. ​កិច្ចដំណើការអង្គភាព"},{"$f":"ROUND(SUM(C273:D273),1)","v":0},{"$f":"'ចំណាយ-ថវិការដ្ឋ'!C273","v":0},{"$f":"'ចំណាយ-ថវិការដ្ឋ'!D273","v":0},{"$f":"ROUND(SUM(F273:G273),1)","v":0},{"$f":"'ចំណាយ-ថវិការដ្ឋ'!F273","v":0},{"$f":"'ចំណាយ-ថវិការដ្ឋ'!G273","v":0},{"$f":"ROUND(SUM(I273:J273),1)","v":0},{"$f":"'ចំណាយ-ថវិការដ្ឋ'!I273","v":0},{"$f":"'ចំណាយ-ថវិការដ្ឋ'!J273","v":0},{"$f":"ROUND(SUM(L273:M273),1)","v":0},{"$f":"'ចំណាយ-ថវិការដ្ឋ'!L273","v":0},{"$f":"'ចំណាយ-ថវិការដ្ឋ'!M273","v":0}]
[{"$f":"Update_8!C512","v":"២. ថវិកាលទ្ធកម្ម"},{"$f":"ROUND(SUM(C274:D274),1)","v":0},{"$f":"'ចំណាយ-ថវិការដ្ឋ'!C274","v":0},{"$f":"'ចំណាយ-ថវិការដ្ឋ'!D274","v":0},0,{"$f":"'ចំណាយ-ថវិការដ្ឋ'!F274","v":0},{"$f":"'ចំណាយ-ថវិការដ្ឋ'!G274","v":0},0,{"$f":"'ចំណាយ-ថវិការដ្ឋ'!I274","v":0},{"$f":"'ចំណាយ-ថវិការដ្ឋ'!J274","v":0},0,{"$f":"'ចំណាយ-ថវិការដ្ឋ'!L274","v":0},{"$f":"'ចំណាយ-ថវិការដ្ឋ'!M274","v":0}]
[{"$f":"Update_8!C513","v":"៣. ពិនិត្យតាមដាន និងវាយតម្លៃ"},0,{"$f":"'ចំណាយ-ថវិការដ្ឋ'!C275","v":0},{"$f":"'ចំណាយ-ថវិការដ្ឋ'!D275","v":0},0,{"$f":"'ចំណាយ-ថវិការដ្ឋ'!F275","v":0},{"$f":"'ចំណាយ-ថវិការដ្ឋ'!G275","v":0},0,{"$f":"'ចំណាយ-ថវិការដ្ឋ'!I275","v":0},{"$f":"'ចំណាយ-ថវិការដ្ឋ'!J275","v":0},0,{"$f":"'ចំណាយ-ថវិការដ្ឋ'!L275","v":0},{"$f":"'ចំណាយ-ថវិការដ្ឋ'!M275","v":0}]
[{"$f":"Update_8!C514","v":"៤. បណ្តុះបណ្តាលគរុសិស្ស និស្សិតអប់រំកាយនិងកីឡា"},0,{"$f":"'ចំណាយ-ថវិការដ្ឋ'!C276","v":0},{"$f":"'ចំណាយ-ថវិការដ្ឋ'!D276","v":0},0,{"$f":"'ចំណាយ-ថវិការដ្ឋ'!F276","v":0},{"$f":"'ចំណាយ-ថវិការដ្ឋ'!G276","v":0},0,{"$f":"'ចំណាយ-ថវិការដ្ឋ'!I276","v":0},{"$f":"'ចំណាយ-ថវិការដ្ឋ'!J276","v":0},0,{"$f":"'ចំណាយ-ថវិការដ្ឋ'!L276","v":0},{"$f":"'ចំណាយ-ថវិការដ្ឋ'!M276","v":0}]
[{"$f":"Update_8!C515","v":"៥. អភិវឌ្ឍ និងកែលម្អហេដ្ឋារចនាសម្ព័ន្ធ បរិក្ខារកីឡា និងការជួសជុលថែទាំ នៅវិទ្យាស្ថានជាតិអប់រំកាយ និងកីឡា"},0,{"$f":"'ចំណាយ-ថវិការដ្ឋ'!C277","v":0},{"$f":"'ចំណាយ-ថវិការដ្ឋ'!D277","v":0},0,{"$f":"'ចំណាយ-ថវិការដ្ឋ'!F277","v":0},{"$f":"'ចំណាយ-ថវិការដ្ឋ'!G277","v":0},0,{"$f":"'ចំណាយ-ថវិការដ្ឋ'!I277","v":0},{"$f":"'ចំណាយ-ថវិការដ្ឋ'!J277","v":0},0,{"$f":"'ចំណាយ-ថវិការដ្ឋ'!L277","v":0},{"$f":"'ចំណាយ-ថវិការដ្ឋ'!M277","v":0}]
[{"$f":"Update_8!C516","v":"៦. អភិវឌ្ឍកម្មវិធីសិក្សា និងស្រាវជ្រាវនៅវិទ្យាស្ថានជាតិអប់រំកាយ និងកីឡា"},0,{"$f":"'ចំណាយ-ថវិការដ្ឋ'!C278","v":0},{"$f":"'ចំណាយ-ថវិការដ្ឋ'!D278","v":0},0,{"$f":"'ចំណាយ-ថវិការដ្ឋ'!F278","v":0},{"$f":"'ចំណាយ-ថវិការដ្ឋ'!G278","v":0},0,{"$f":"'ចំណាយ-ថវិការដ្ឋ'!I278","v":0},{"$f":"'ចំណាយ-ថវិការដ្ឋ'!J278","v":0},0,{"$f":"'ចំណាយ-ថវិការដ្ឋ'!L278","v":0},{"$f":"'ចំណាយ-ថវិការដ្ឋ'!M278","v":0}]
[{"$f":"Update_8!C517","v":0},0,{"$f":"'ចំណាយ-ថវិការដ្ឋ'!C279","v":0},{"$f":"'ចំណាយ-ថវិការដ្ឋ'!D279","v":0},0,{"$f":"'ចំណាយ-ថវិការដ្ឋ'!F279","v":0},{"$f":"'ចំណាយ-ថវិការដ្ឋ'!G279","v":0},0,{"$f":"'ចំណាយ-ថវិការដ្ឋ'!I279","v":0},{"$f":"'ចំណាយ-ថវិការដ្ឋ'!J279","v":0},0,{"$f":"'ចំណាយ-ថវិការដ្ឋ'!L279","v":0},{"$f":"'ចំណាយ-ថវិការដ្ឋ'!M279","v":0}]
[{"$f":"Update_8!C518","v":0},0,{"$f":"'ចំណាយ-ថវិការដ្ឋ'!C280","v":0},{"$f":"'ចំណាយ-ថវិការដ្ឋ'!D280","v":0},0,{"$f":"'ចំណាយ-ថវិការដ្ឋ'!F280","v":0},{"$f":"'ចំណាយ-ថវិការដ្ឋ'!G280","v":0},0,{"$f":"'ចំណាយ-ថវិការដ្ឋ'!I280","v":0},{"$f":"'ចំណាយ-ថវិការដ្ឋ'!J280","v":0},0,{"$f":"'ចំណាយ-ថវិការដ្ឋ'!L280","v":0},{"$f":"'ចំណាយ-ថវិការដ្ឋ'!M280","v":0}]
[{"$f":"Update_8!C519","v":0},0,{"$f":"'ចំណាយ-ថវិការដ្ឋ'!C281","v":0},{"$f":"'ចំណាយ-ថវិការដ្ឋ'!D281","v":0},0,{"$f":"'ចំណាយ-ថវិការដ្ឋ'!F281","v":0},{"$f":"'ចំណាយ-ថវិការដ្ឋ'!G281","v":0},0,{"$f":"'ចំណាយ-ថវិការដ្ឋ'!I281","v":0},{"$f":"'ចំណាយ-ថវិការដ្ឋ'!J281","v":0},0,{"$f":"'ចំណាយ-ថវិការដ្ឋ'!L281","v":0},{"$f":"'ចំណាយ-ថវិការដ្ឋ'!M281","v":0}]
[{"$f":"Update_8!C520","v":0},0,{"$f":"'ចំណាយ-ថវិការដ្ឋ'!C282","v":0},{"$f":"'ចំណាយ-ថវិការដ្ឋ'!D282","v":0},0,{"$f":"'ចំណាយ-ថវិការដ្ឋ'!F282","v":0},{"$f":"'ចំណាយ-ថវិការដ្ឋ'!G282","v":0},0,{"$f":"'ចំណាយ-ថវិការដ្ឋ'!I282","v":0},{"$f":"'ចំណាយ-ថវិការដ្ឋ'!J282","v":0},0,{"$f":"'ចំណាយ-ថវិការដ្ឋ'!L282","v":0},{"$f":"'ចំណាយ-ថវិការដ្ឋ'!M282","v":0}]
[{"$f":"cluster_activity_2","v":"សកម្មភាពរង ទី ២៖ ធានាភាពស័ក្តិសិទ្ធនៃភាពជាអ្នកដឹកនាំ និងគ្រប់គ្រងរបស់មន្ត្រី អប់រំគ្រប់លំដាប់ថ្នាក់"},{"$f":"ROUND(SUM(B284:B293),1)","v":0},{"$f":"ROUND(SUM(C284:C293),1)","v":0},{"$f":"ROUND(SUM(D284:D293),1)","v":0},{"$f":"ROUND(SUM(E284:E293),1)","v":0},0,0,0,0,0,{"$f":"ROUND(SUM(K284:K293),1)","v":0},{"$f":"ROUND(SUM(L284:L293),1)","v":0},{"$f":"ROUND(SUM(M284:M293),1)","v":0}]
[{"$f":"Update_8!C521","v":"១. អភិវឌ្ឍសមត្ថភាពមន្រ្តី និងគ្រូអប់រំកាយ និងកីឡា"},{"$f":"ROUND(SUM(C284:D284),1)","v":0},{"$f":"'ចំណាយ-ថវិការដ្ឋ'!C284","v":0},{"$f":"'ចំណាយ-ថវិការដ្ឋ'!D284","v":0},{"$f":"ROUND(SUM(F284:G284),1)","v":0},{"$f":"'ចំណាយ-ថវិការដ្ឋ'!F284","v":0},{"$f":"'ចំណាយ-ថវិការដ្ឋ'!G284","v":0},{"$f":"ROUND(SUM(I284:J284),1)","v":0},{"$f":"'ចំណាយ-ថវិការដ្ឋ'!I284","v":0},{"$f":"'ចំណាយ-ថវិការដ្ឋ'!J284","v":0},{"$f":"ROUND(SUM(L284:M284),1)","v":0},{"$f":"'ចំណាយ-ថវិការដ្ឋ'!L284","v":0},{"$f":"'ចំណាយ-ថវិការដ្ឋ'!M284","v":0}]
[{"$f":"Update_8!C522","v":"២. ពង្រឹង និងពង្រីកកិច្ចសហប្រតិបត្តិការជាតិ និងអន្តរជាតិ"},{"$f":"ROUND(SUM(C285:D285),1)","v":0},{"$f":"'ចំណាយ-ថវិការដ្ឋ'!C285","v":0},{"$f":"'ចំណាយ-ថវិការដ្ឋ'!D285","v":0},0,{"$f":"'ចំណាយ-ថវិការដ្ឋ'!F285","v":0},{"$f":"'ចំណាយ-ថវិការដ្ឋ'!G285","v":0},0,{"$f":"'ចំណាយ-ថវិការដ្ឋ'!I285","v":0},{"$f":"'ចំណាយ-ថវិការដ្ឋ'!J285","v":0},0,{"$f":"'ចំណាយ-ថវិការដ្ឋ'!L285","v":0},{"$f":"'ចំណាយ-ថវិការដ្ឋ'!M285","v":0}]
[{"$f":"Update_8!C523","v":0},0,{"$f":"'ចំណាយ-ថវិការដ្ឋ'!C286","v":0},{"$f":"'ចំណាយ-ថវិការដ្ឋ'!D286","v":0},0,{"$f":"'ចំណាយ-ថវិការដ្ឋ'!F286","v":0},{"$f":"'ចំណាយ-ថវិការដ្ឋ'!G286","v":0},0,{"$f":"'ចំណាយ-ថវិការដ្ឋ'!I286","v":0},{"$f":"'ចំណាយ-ថវិការដ្ឋ'!J286","v":0},0,{"$f":"'ចំណាយ-ថវិការដ្ឋ'!L286","v":0},{"$f":"'ចំណាយ-ថវិការដ្ឋ'!M286","v":0}]
[{"$f":"Update_8!C524","v":0},0,{"$f":"'ចំណាយ-ថវិការដ្ឋ'!C287","v":0},{"$f":"'ចំណាយ-ថវិការដ្ឋ'!D287","v":0},0,{"$f":"'ចំណាយ-ថវិការដ្ឋ'!F287","v":0},{"$f":"'ចំណាយ-ថវិការដ្ឋ'!G287","v":0},0,{"$f":"'ចំណាយ-ថវិការដ្ឋ'!I287","v":0},{"$f":"'ចំណាយ-ថវិការដ្ឋ'!J287","v":0},0,{"$f":"'ចំណាយ-ថវិការដ្ឋ'!L287","v":0},{"$f":"'ចំណាយ-ថវិការដ្ឋ'!M287","v":0}]
[{"$f":"Update_8!C525","v":0},0,{"$f":"'ចំណាយ-ថវិការដ្ឋ'!C288","v":0},{"$f":"'ចំណាយ-ថវិការដ្ឋ'!D288","v":0},0,{"$f":"'ចំណាយ-ថវិការដ្ឋ'!F288","v":0},{"$f":"'ចំណាយ-ថវិការដ្ឋ'!G288","v":0},0,{"$f":"'ចំណាយ-ថវិការដ្ឋ'!I288","v":0},{"$f":"'ចំណាយ-ថវិការដ្ឋ'!J288","v":0},0,{"$f":"'ចំណាយ-ថវិការដ្ឋ'!L288","v":0},{"$f":"'ចំណាយ-ថវិការដ្ឋ'!M288","v":0}]
[{"$f":"Update_8!C526","v":0},0,{"$f":"'ចំណាយ-ថវិការដ្ឋ'!C289","v":0},{"$f":"'ចំណាយ-ថវិការដ្ឋ'!D289","v":0},0,{"$f":"'ចំណាយ-ថវិការដ្ឋ'!F289","v":0},{"$f":"'ចំណាយ-ថវិការដ្ឋ'!G289","v":0},0,{"$f":"'ចំណាយ-ថវិការដ្ឋ'!I289","v":0},{"$f":"'ចំណាយ-ថវិការដ្ឋ'!J289","v":0},0,{"$f":"'ចំណាយ-ថវិការដ្ឋ'!L289","v":0},{"$f":"'ចំណាយ-ថវិការដ្ឋ'!M289","v":0}]
[{"$f":"Update_8!C527","v":0},0,{"$f":"'ចំណាយ-ថវិការដ្ឋ'!C290","v":0},{"$f":"'ចំណាយ-ថវិការដ្ឋ'!D290","v":0},0,{"$f":"'ចំណាយ-ថវិការដ្ឋ'!F290","v":0},{"$f":"'ចំណាយ-ថវិការដ្ឋ'!G290","v":0},0,{"$f":"'ចំណាយ-ថវិការដ្ឋ'!I290","v":0},{"$f":"'ចំណាយ-ថវិការដ្ឋ'!J290","v":0},0,{"$f":"'ចំណាយ-ថវិការដ្ឋ'!L290","v":0},{"$f":"'ចំណាយ-ថវិការដ្ឋ'!M290","v":0}]
[{"$f":"Update_8!C528","v":0},0,{"$f":"'ចំណាយ-ថវិការដ្ឋ'!C291","v":0},{"$f":"'ចំណាយ-ថវិការដ្ឋ'!D291","v":0},0,{"$f":"'ចំណាយ-ថវិការដ្ឋ'!F291","v":0},{"$f":"'ចំណាយ-ថវិការដ្ឋ'!G291","v":0},0,{"$f":"'ចំណាយ-ថវិការដ្ឋ'!I291","v":0},{"$f":"'ចំណាយ-ថវិការដ្ឋ'!J291","v":0},0,{"$f":"'ចំណាយ-ថវិការដ្ឋ'!L291","v":0},{"$f":"'ចំណាយ-ថវិការដ្ឋ'!M291","v":0}]
[{"$f":"Update_8!C529","v":0},0,{"$f":"'ចំណាយ-ថវិការដ្ឋ'!C292","v":0},{"$f":"'ចំណាយ-ថវិការដ្ឋ'!D292","v":0},0,{"$f":"'ចំណាយ-ថវិការដ្ឋ'!F292","v":0},{"$f":"'ចំណាយ-ថវិការដ្ឋ'!G292","v":0},0,{"$f":"'ចំណាយ-ថវិការដ្ឋ'!I292","v":0},{"$f":"'ចំណាយ-ថវិការដ្ឋ'!J292","v":0},0,{"$f":"'ចំណាយ-ថវិការដ្ឋ'!L292","v":0},{"$f":"'ចំណាយ-ថវិការដ្ឋ'!M292","v":0}]
[{"$f":"Update_8!C530","v":0},0,{"$f":"'ចំណាយ-ថវិការដ្ឋ'!C293","v":0},{"$f":"'ចំណាយ-ថវិការដ្ឋ'!D293","v":0},0,{"$f":"'ចំណាយ-ថវិការដ្ឋ'!F293","v":0},{"$f":"'ចំណាយ-ថវិការដ្ឋ'!G293","v":0},0,{"$f":"'ចំណាយ-ថវិការដ្ឋ'!I293","v":0},{"$f":"'ចំណាយ-ថវិការដ្ឋ'!J293","v":0},0,{"$f":"'ចំណាយ-ថវិការដ្ឋ'!L293","v":0},{"$f":"'ចំណាយ-ថវិការដ្ឋ'!M293","v":0}]
[{"$f":"ព័ត៌មានអង្គភាព!C21","v":"៣.៥.០១.៤៖ ការអភិវឌ្ឍកីឡាកម្រិតខ្ពស់"},{"$f":"ROUND(SUM(B295,B306),1)","v":0},{"$f":"ROUND(SUM(C295,C306),1)","v":0},{"$f":"ROUND(SUM(D295,D306),1)","v":0},{"$f":"SUM(E295,E306)","v":0},0,0,0,0,0,0,0,0]
[{"$f":"cluster_activity_1","v":"សកម្មភាពរង ទី ១៖ ធានាឱ្យការអប់រំមានគុណភាព ប្រកបដោយសមធម៌ បរិយាបន្ន និងលើកកម្ពស់ឱកាសក្នុងការសិក្សាពេញមួយជីវិត"},{"$f":"ROUND(SUM(B296:B305),1)","v":0},{"$f":"ROUND(SUM(C296:C305),1)","v":0},{"$f":"ROUND(SUM(D296:D305),1)","v":0},0,0,0,0,0,0,0,0,0]
[{"$f":"Update_8!C531","v":"១. កិច្ចដំណើការអង្គភាព"},{"$f":"ROUND(SUM(C296:D296),1)","v":0},{"$f":"'ចំណាយ-ថវិការដ្ឋ'!C296","v":0},{"$f":"'ចំណាយ-ថវិការដ្ឋ'!D296","v":0},{"$f":"ROUND(SUM(F296:G296),1)","v":0},{"$f":"'ចំណាយ-ថវិការដ្ឋ'!F296","v":0},{"$f":"'ចំណាយ-ថវិការដ្ឋ'!G296","v":0},{"$f":"ROUND(SUM(I296:J296),1)","v":0},{"$f":"'ចំណាយ-ថវិការដ្ឋ'!I296","v":0},{"$f":"'ចំណាយ-ថវិការដ្ឋ'!J296","v":0},{"$f":"ROUND(SUM(L296:M296),1)","v":0},{"$f":"'ចំណាយ-ថវិការដ្ឋ'!L296","v":0},{"$f":"'ចំណាយ-ថវិការដ្ឋ'!M296","v":0}]
[{"$f":"Update_8!C532","v":"២. ថវិកាលទ្ធកម្ម"},{"$f":"ROUND(SUM(C297:D297),1)","v":0},{"$f":"'ចំណាយ-ថវិការដ្ឋ'!C297","v":0},{"$f":"'ចំណាយ-ថវិការដ្ឋ'!D297","v":0},0,{"$f":"'ចំណាយ-ថវិការដ្ឋ'!F297","v":0},{"$f":"'ចំណាយ-ថវិការដ្ឋ'!G297","v":0},0,{"$f":"'ចំណាយ-ថវិការដ្ឋ'!I297","v":0},{"$f":"'ចំណាយ-ថវិការដ្ឋ'!J297","v":0},0,{"$f":"'ចំណាយ-ថវិការដ្ឋ'!L297","v":0},{"$f":"'ចំណាយ-ថវិការដ្ឋ'!M297","v":0}]
[{"$f":"Update_8!C533","v":"៣. ពិនិត្យតាមដាន និងវាយតម្លៃ"},0,{"$f":"'ចំណាយ-ថវិការដ្ឋ'!C298","v":0},{"$f":"'ចំណាយ-ថវិការដ្ឋ'!D298","v":0},0,{"$f":"'ចំណាយ-ថវិការដ្ឋ'!F298","v":0},{"$f":"'ចំណាយ-ថវិការដ្ឋ'!G298","v":0},0,{"$f":"'ចំណាយ-ថវិការដ្ឋ'!I298","v":0},{"$f":"'ចំណាយ-ថវិការដ្ឋ'!J298","v":0},0,{"$f":"'ចំណាយ-ថវិការដ្ឋ'!L298","v":0},{"$f":"'ចំណាយ-ថវិការដ្ឋ'!M298","v":0}]
[{"$f":"Update_8!C534","v":"៤. អភិវឌ្ឍកីឡាថ្នាលឆ្ពោះទៅស៊ីហ្គេមឆ្នាំ២០២៣"},0,{"$f":"'ចំណាយ-ថវិការដ្ឋ'!C299","v":0},{"$f":"'ចំណាយ-ថវិការដ្ឋ'!D299","v":0},0,{"$f":"'ចំណាយ-ថវិការដ្ឋ'!F299","v":0},{"$f":"'ចំណាយ-ថវិការដ្ឋ'!G299","v":0},0,{"$f":"'ចំណាយ-ថវិការដ្ឋ'!I299","v":0},{"$f":"'ចំណាយ-ថវិការដ្ឋ'!J299","v":0},0,{"$f":"'ចំណាយ-ថវិការដ្ឋ'!L299","v":0},{"$f":"'ចំណាយ-ថវិការដ្ឋ'!M299","v":0}]
[{"$f":"Update_8!C535","v":"៥. អភិវឌ្ឍកីឡាកម្រិតខ្ពស់ "},0,{"$f":"'ចំណាយ-ថវិការដ្ឋ'!C300","v":0},{"$f":"'ចំណាយ-ថវិការដ្ឋ'!D300","v":0},0,{"$f":"'ចំណាយ-ថវិការដ្ឋ'!F300","v":0},{"$f":"'ចំណាយ-ថវិការដ្ឋ'!G300","v":0},0,{"$f":"'ចំណាយ-ថវិការដ្ឋ'!I300","v":0},{"$f":"'ចំណាយ-ថវិការដ្ឋ'!J300","v":0},0,{"$f":"'ចំណាយ-ថវិការដ្ឋ'!L300","v":0},{"$f":"'ចំណាយ-ថវិការដ្ឋ'!M300","v":0}]
[{"$f":"Update_8!C536","v":"៦. អភិវឌ្ឍហេដ្ឋារចនាសម្ព័ន្ធ និងបំពាក់សម្ភាររូបវ័ន្តកីទ្បាស្របតាមស្តង់ដា"},0,{"$f":"'ចំណាយ-ថវិការដ្ឋ'!C301","v":0},{"$f":"'ចំណាយ-ថវិការដ្ឋ'!D301","v":0},0,{"$f":"'ចំណាយ-ថវិការដ្ឋ'!F301","v":0},{"$f":"'ចំណាយ-ថវិការដ្ឋ'!G301","v":0},0,{"$f":"'ចំណាយ-ថវិការដ្ឋ'!I301","v":0},{"$f":"'ចំណាយ-ថវិការដ្ឋ'!J301","v":0},0,{"$f":"'ចំណាយ-ថវិការដ្ឋ'!L301","v":0},{"$f":"'ចំណាយ-ថវិការដ្ឋ'!M301","v":0}]
[{"$f":"Update_8!C537","v":"៧. ចូលរួមការប្រកួតកីឡាស៊ីហ្គេម អន្តរជាតិនានា និងប្រាក់រង្វាន់ជ័យលាភី"},0,{"$f":"'ចំណាយ-ថវិការដ្ឋ'!C302","v":0},{"$f":"'ចំណាយ-ថវិការដ្ឋ'!D302","v":0},0,{"$f":"'ចំណាយ-ថវិការដ្ឋ'!F302","v":0},{"$f":"'ចំណាយ-ថវិការដ្ឋ'!G302","v":0},0,{"$f":"'ចំណាយ-ថវិការដ្ឋ'!I302","v":0},{"$f":"'ចំណាយ-ថវិការដ្ឋ'!J302","v":0},0,{"$f":"'ចំណាយ-ថវិការដ្ឋ'!L302","v":0},{"$f":"'ចំណាយ-ថវិការដ្ឋ'!M302","v":0}]
[{"$f":"Update_8!C538","v":"៨. ផលិតទស្សនាវដ្តីកីឡា និងចងក្រងឯកសារកីឡា"},0,{"$f":"'ចំណាយ-ថវិការដ្ឋ'!C303","v":0},{"$f":"'ចំណាយ-ថវិការដ្ឋ'!D303","v":0},0,{"$f":"'ចំណាយ-ថវិការដ្ឋ'!F303","v":0},{"$f":"'ចំណាយ-ថវិការដ្ឋ'!G303","v":0},0,{"$f":"'ចំណាយ-ថវិការដ្ឋ'!I303","v":0},{"$f":"'ចំណាយ-ថវិការដ្ឋ'!J303","v":0},0,{"$f":"'ចំណាយ-ថវិការដ្ឋ'!L303","v":0},{"$f":"'ចំណាយ-ថវិការដ្ឋ'!M303","v":0}]
[{"$f":"Update_8!C539","v":"៩. បង្កើតសារមន្ទីរកីឡា"},0,{"$f":"'ចំណាយ-ថវិការដ្ឋ'!C304","v":0},{"$f":"'ចំណាយ-ថវិការដ្ឋ'!D304","v":0},0,{"$f":"'ចំណាយ-ថវិការដ្ឋ'!F304","v":0},{"$f":"'ចំណាយ-ថវិការដ្ឋ'!G304","v":0},0,{"$f":"'ចំណាយ-ថវិការដ្ឋ'!I304","v":0},{"$f":"'ចំណាយ-ថវិការដ្ឋ'!J304","v":0},0,{"$f":"'ចំណាយ-ថវិការដ្ឋ'!L304","v":0},{"$f":"'ចំណាយ-ថវិការដ្ឋ'!M304","v":0}]
[{"$f":"Update_8!C540","v":0},0,{"$f":"'ចំណាយ-ថវិការដ្ឋ'!C305","v":0},{"$f":"'ចំណាយ-ថវិការដ្ឋ'!D305","v":0},0,{"$f":"'ចំណាយ-ថវិការដ្ឋ'!F305","v":0},{"$f":"'ចំណាយ-ថវិការដ្ឋ'!G305","v":0},0,{"$f":"'ចំណាយ-ថវិការដ្ឋ'!I305","v":0},{"$f":"'ចំណាយ-ថវិការដ្ឋ'!J305","v":0},0,{"$f":"'ចំណាយ-ថវិការដ្ឋ'!L305","v":0},{"$f":"'ចំណាយ-ថវិការដ្ឋ'!M305","v":0}]
[{"$f":"cluster_activity_2","v":"សកម្មភាពរង ទី ២៖ ធានាភាពស័ក្តិសិទ្ធនៃភាពជាអ្នកដឹកនាំ និងគ្រប់គ្រងរបស់មន្ត្រី អប់រំគ្រប់លំដាប់ថ្នាក់"},{"$f":"ROUND(SUM(B307:B316),1)","v":0},{"$f":"ROUND(SUM(C307:C316),1)","v":0},{"$f":"ROUND(SUM(D307:D316),1)","v":0},{"$f":"ROUND(SUM(E307:E316),1)","v":0},0,0,0,0,0,{"$f":"ROUND(SUM(K307:K316),1)","v":0},{"$f":"ROUND(SUM(L307:L316),1)","v":0},{"$f":"ROUND(SUM(M307:M316),1)","v":0}]
[{"$f":"Update_8!C541","v":"១. អភិវឌ្ឍសមត្ថភាពស្ថាប័ន និងមន្ត្រីផ្នែកវិទ្យាសាស្រ្តកីឡា និងវេជ្ជសាស្រ្តកីឡា"},{"$f":"ROUND(SUM(C307:D307),1)","v":0},{"$f":"'ចំណាយ-ថវិការដ្ឋ'!C307","v":0},{"$f":"'ចំណាយ-ថវិការដ្ឋ'!D307","v":0},{"$f":"ROUND(SUM(F307:G307),1)","v":0},{"$f":"'ចំណាយ-ថវិការដ្ឋ'!F307","v":0},{"$f":"'ចំណាយ-ថវិការដ្ឋ'!G307","v":0},{"$f":"ROUND(SUM(I307:J307),1)","v":0},{"$f":"'ចំណាយ-ថវិការដ្ឋ'!I307","v":0},{"$f":"'ចំណាយ-ថវិការដ្ឋ'!J307","v":0},{"$f":"ROUND(SUM(L307:M307),1)","v":0},{"$f":"'ចំណាយ-ថវិការដ្ឋ'!L307","v":0},{"$f":"'ចំណាយ-ថវិការដ្ឋ'!M307","v":0}]
[{"$f":"Update_8!C542","v":"២. ពង្រឹង និងអភិវឌ្ឍទីភ្នាក់ងារប្រឆាំងការប្រើប្រាស់សារធាតុដូប៉ាក្នុងវិស័យកីឡា"},{"$f":"ROUND(SUM(C308:D308),1)","v":0},{"$f":"'ចំណាយ-ថវិការដ្ឋ'!C308","v":0},{"$f":"'ចំណាយ-ថវិការដ្ឋ'!D308","v":0},0,{"$f":"'ចំណាយ-ថវិការដ្ឋ'!F308","v":0},{"$f":"'ចំណាយ-ថវិការដ្ឋ'!G308","v":0},0,{"$f":"'ចំណាយ-ថវិការដ្ឋ'!I308","v":0},{"$f":"'ចំណាយ-ថវិការដ្ឋ'!J308","v":0},0,{"$f":"'ចំណាយ-ថវិការដ្ឋ'!L308","v":0},{"$f":"'ចំណាយ-ថវិការដ្ឋ'!M308","v":0}]
[{"$f":"Update_8!C543","v":"៣. ពង្រឹង និងពង្រីកកិច្ចសហប្រតិបត្តិការជាតិ និងអន្តរជាតិ"},0,{"$f":"'ចំណាយ-ថវិការដ្ឋ'!C309","v":0},{"$f":"'ចំណាយ-ថវិការដ្ឋ'!D309","v":0},0,{"$f":"'ចំណាយ-ថវិការដ្ឋ'!F309","v":0},{"$f":"'ចំណាយ-ថវិការដ្ឋ'!G309","v":0},0,{"$f":"'ចំណាយ-ថវិការដ្ឋ'!I309","v":0},{"$f":"'ចំណាយ-ថវិការដ្ឋ'!J309","v":0},0,{"$f":"'ចំណាយ-ថវិការដ្ឋ'!L309","v":0},{"$f":"'ចំណាយ-ថវិការដ្ឋ'!M309","v":0}]
[{"$f":"Update_8!C544","v":0},0,{"$f":"'ចំណាយ-ថវិការដ្ឋ'!C310","v":0},{"$f":"'ចំណាយ-ថវិការដ្ឋ'!D310","v":0},0,{"$f":"'ចំណាយ-ថវិការដ្ឋ'!F310","v":0},{"$f":"'ចំណាយ-ថវិការដ្ឋ'!G310","v":0},0,{"$f":"'ចំណាយ-ថវិការដ្ឋ'!I310","v":0},{"$f":"'ចំណាយ-ថវិការដ្ឋ'!J310","v":0},0,{"$f":"'ចំណាយ-ថវិការដ្ឋ'!L310","v":0},{"$f":"'ចំណាយ-ថវិការដ្ឋ'!M310","v":0}]
[{"$f":"Update_8!C545","v":0},0,{"$f":"'ចំណាយ-ថវិការដ្ឋ'!C311","v":0},{"$f":"'ចំណាយ-ថវិការដ្ឋ'!D311","v":0},0,{"$f":"'ចំណាយ-ថវិការដ្ឋ'!F311","v":0},{"$f":"'ចំណាយ-ថវិការដ្ឋ'!G311","v":0},0,{"$f":"'ចំណាយ-ថវិការដ្ឋ'!I311","v":0},{"$f":"'ចំណាយ-ថវិការដ្ឋ'!J311","v":0},0,{"$f":"'ចំណាយ-ថវិការដ្ឋ'!L311","v":0},{"$f":"'ចំណាយ-ថវិការដ្ឋ'!M311","v":0}]
[{"$f":"Update_8!C546","v":0},0,{"$f":"'ចំណាយ-ថវិការដ្ឋ'!C312","v":0},{"$f":"'ចំណាយ-ថវិការដ្ឋ'!D312","v":0},0,{"$f":"'ចំណាយ-ថវិការដ្ឋ'!F312","v":0},{"$f":"'ចំណាយ-ថវិការដ្ឋ'!G312","v":0},0,{"$f":"'ចំណាយ-ថវិការដ្ឋ'!I312","v":0},{"$f":"'ចំណាយ-ថវិការដ្ឋ'!J312","v":0},0,{"$f":"'ចំណាយ-ថវិការដ្ឋ'!L312","v":0},{"$f":"'ចំណាយ-ថវិការដ្ឋ'!M312","v":0}]
[{"$f":"Update_8!C547","v":0},0,{"$f":"'ចំណាយ-ថវិការដ្ឋ'!C313","v":0},{"$f":"'ចំណាយ-ថវិការដ្ឋ'!D313","v":0},0,{"$f":"'ចំណាយ-ថវិការដ្ឋ'!F313","v":0},{"$f":"'ចំណាយ-ថវិការដ្ឋ'!G313","v":0},0,{"$f":"'ចំណាយ-ថវិការដ្ឋ'!I313","v":0},{"$f":"'ចំណាយ-ថវិការដ្ឋ'!J313","v":0},0,{"$f":"'ចំណាយ-ថវិការដ្ឋ'!L313","v":0},{"$f":"'ចំណាយ-ថវិការដ្ឋ'!M313","v":0}]
[{"$f":"Update_8!C548","v":0},0,{"$f":"'ចំណាយ-ថវិការដ្ឋ'!C314","v":0},{"$f":"'ចំណាយ-ថវិការដ្ឋ'!D314","v":0},0,{"$f":"'ចំណាយ-ថវិការដ្ឋ'!F314","v":0},{"$f":"'ចំណាយ-ថវិការដ្ឋ'!G314","v":0},0,{"$f":"'ចំណាយ-ថវិការដ្ឋ'!I314","v":0},{"$f":"'ចំណាយ-ថវិការដ្ឋ'!J314","v":0},0,{"$f":"'ចំណាយ-ថវិការដ្ឋ'!L314","v":0},{"$f":"'ចំណាយ-ថវិការដ្ឋ'!M314","v":0}]
[{"$f":"Update_8!C549","v":0},0,{"$f":"'ចំណាយ-ថវិការដ្ឋ'!C315","v":0},{"$f":"'ចំណាយ-ថវិការដ្ឋ'!D315","v":0},0,{"$f":"'ចំណាយ-ថវិការដ្ឋ'!F315","v":0},{"$f":"'ចំណាយ-ថវិការដ្ឋ'!G315","v":0},0,{"$f":"'ចំណាយ-ថវិការដ្ឋ'!I315","v":0},{"$f":"'ចំណាយ-ថវិការដ្ឋ'!J315","v":0},0,{"$f":"'ចំណាយ-ថវិការដ្ឋ'!L315","v":0},{"$f":"'ចំណាយ-ថវិការដ្ឋ'!M315","v":0}]
[{"$f":"Update_8!C550","v":0},0,{"$f":"'ចំណាយ-ថវិការដ្ឋ'!C316","v":0},{"$f":"'ចំណាយ-ថវិការដ្ឋ'!D316","v":0},0,{"$f":"'ចំណាយ-ថវិការដ្ឋ'!F316","v":0},{"$f":"'ចំណាយ-ថវិការដ្ឋ'!G316","v":0},0,{"$f":"'ចំណាយ-ថវិការដ្ឋ'!I316","v":0},{"$f":"'ចំណាយ-ថវិការដ្ឋ'!J316","v":0},0,{"$f":"'ចំណាយ-ថវិការដ្ឋ'!L316","v":0},{"$f":"'ចំណាយ-ថវិការដ្ឋ'!M316","v":0}]
[{"$f":"ព័ត៌មានអង្គភាព!C22","v":"កម្មវិធីទី៤៖ យុវជនម្នាក់មានជំនាញមួយយ៉ាងតិចប្រចាំជីវិត"},{"$f":"B318","v":0},{"$f":"C318","v":0},0,0,0,0,0,0,0,0,0,0]
[{"$f":"ព័ត៌មានអង្គភាព!C23","v":"អនុកម្មវិធីទី ៤.៤៖ សេវាគាំទ្រអភិវឌ្ឍយុវជនម្នាក់មានជំនាញមួយយ៉ាងតិចប្រចាំជីវិតរបស់\nមន្ទីរជំនាញរាជធានី ខេត្ត"},{"$f":"B319","v":0},0,0,0,0,0,0,0,0,0,0,0]
[{"$f":"ព័ត៌មានអង្គភាព!C24","v":"ចង្កោមសកម្មភាពទី ០១៖ខេត្តបន្ទាយមានជ័យ"},{"$f":"SUM(B320,B343,B366)","v":0},0,0,0,0,0,0,0,0,0,0,0]
[{"$f":"ព័ត៌មានអង្គភាព!C25","v":"៤.៤.០១.១៖ ការអភិវឌ្ឍសកម្មភាពយុវជន"},{"$f":"SUM(B321,B332)","v":0},0,0,0,0,0,0,0,0,0,0,0]
[{"$f":"cluster_activity_1","v":"សកម្មភាពរង ទី ១៖ ធានាឱ្យការអប់រំមានគុណភាព ប្រកបដោយសមធម៌ បរិយាបន្ន និងលើកកម្ពស់ឱកាសក្នុងការសិក្សាពេញមួយជីវិត"},{"$f":"ROUND(SUM(B322:B331),1)","v":0},{"$f":"ROUND(SUM(C322:C331),1)","v":0},{"$f":"ROUND(SUM(D322:D331),1)","v":0},0,0,0,0,0,0,0,0,0]
[{"$f":"Update_8!C552","v":"១. កិច្ចដំណើការអង្គភាព"},{"$f":"ROUND(SUM(C322:D322),1)","v":0},{"$f":"'ចំណាយ-ថវិការដ្ឋ'!C322","v":0},{"$f":"'ចំណាយ-ថវិការដ្ឋ'!D322","v":0},{"$f":"ROUND(SUM(F322:G322),1)","v":0},{"$f":"'ចំណាយ-ថវិការដ្ឋ'!F322","v":0},{"$f":"'ចំណាយ-ថវិការដ្ឋ'!G322","v":0},{"$f":"ROUND(SUM(I322:J322),1)","v":0},{"$f":"'ចំណាយ-ថវិការដ្ឋ'!I322","v":0},{"$f":"'ចំណាយ-ថវិការដ្ឋ'!J322","v":0},{"$f":"ROUND(SUM(L322:M322),1)","v":0},{"$f":"'ចំណាយ-ថវិការដ្ឋ'!L322","v":0},{"$f":"'ចំណាយ-ថវិការដ្ឋ'!M322","v":0}]
[{"$f":"Update_8!C553","v":"២. ថវិកាលទ្ធកម្ម"},{"$f":"ROUND(SUM(C323:D323),1)","v":0},{"$f":"'ចំណាយ-ថវិការដ្ឋ'!C323","v":0},{"$f":"'ចំណាយ-ថវិការដ្ឋ'!D323","v":0},0,{"$f":"'ចំណាយ-ថវិការដ្ឋ'!F323","v":0},{"$f":"'ចំណាយ-ថវិការដ្ឋ'!G323","v":0},0,{"$f":"'ចំណាយ-ថវិការដ្ឋ'!I323","v":0},{"$f":"'ចំណាយ-ថវិការដ្ឋ'!J323","v":0},0,{"$f":"'ចំណាយ-ថវិការដ្ឋ'!L323","v":0},{"$f":"'ចំណាយ-ថវិការដ្ឋ'!M323","v":0}]
[{"$f":"Update_8!C554","v":"៣. ពិនិត្យតាមដាន និងវាយតម្លៃ"},0,{"$f":"'ចំណាយ-ថវិការដ្ឋ'!C324","v":0},{"$f":"'ចំណាយ-ថវិការដ្ឋ'!D324","v":0},0,{"$f":"'ចំណាយ-ថវិការដ្ឋ'!F324","v":0},{"$f":"'ចំណាយ-ថវិការដ្ឋ'!G324","v":0},0,{"$f":"'ចំណាយ-ថវិការដ្ឋ'!I324","v":0},{"$f":"'ចំណាយ-ថវិការដ្ឋ'!J324","v":0},0,{"$f":"'ចំណាយ-ថវិការដ្ឋ'!L324","v":0},{"$f":"'ចំណាយ-ថវិការដ្ឋ'!M324","v":0}]
[{"$f":"Update_8!C555","v":"៤. អភិវឌ្ឍក្រុមប្រឹក្សាកុមារកម្ពុជា និងក្រុមប្រឹក្សាយុវជនកម្ពុជា"},0,{"$f":"'ចំណាយ-ថវិការដ្ឋ'!C325","v":0},{"$f":"'ចំណាយ-ថវិការដ្ឋ'!D325","v":0},0,{"$f":"'ចំណាយ-ថវិការដ្ឋ'!F325","v":0},{"$f":"'ចំណាយ-ថវិការដ្ឋ'!G325","v":0},0,{"$f":"'ចំណាយ-ថវិការដ្ឋ'!I325","v":0},{"$f":"'ចំណាយ-ថវិការដ្ឋ'!J325","v":0},0,{"$f":"'ចំណាយ-ថវិការដ្ឋ'!L325","v":0},{"$f":"'ចំណាយ-ថវិការដ្ឋ'!M325","v":0}]
[{"$f":"Update_8!C556","v":"៥. លើកកម្ពស់ការយល់ដឹងអំពីធុរកិច្ច អក្ខរកម្មហិរញ្ញវត្ថុ ការគ្រប់គ្រងផ្លូវចិត្ត "},0,{"$f":"'ចំណាយ-ថវិការដ្ឋ'!C326","v":0},{"$f":"'ចំណាយ-ថវិការដ្ឋ'!D326","v":0},0,{"$f":"'ចំណាយ-ថវិការដ្ឋ'!F326","v":0},{"$f":"'ចំណាយ-ថវិការដ្ឋ'!G326","v":0},0,{"$f":"'ចំណាយ-ថវិការដ្ឋ'!I326","v":0},{"$f":"'ចំណាយ-ថវិការដ្ឋ'!J326","v":0},0,{"$f":"'ចំណាយ-ថវិការដ្ឋ'!L326","v":0},{"$f":"'ចំណាយ-ថវិការដ្ឋ'!M326","v":0}]
[{"$f":"Update_8!C557","v":"៦. កម្មវិធីអប់រំយុវជន និងកុមារតាមរយៈការផ្សព្វផ្សាយ "},0,{"$f":"'ចំណាយ-ថវិការដ្ឋ'!C327","v":0},{"$f":"'ចំណាយ-ថវិការដ្ឋ'!D327","v":0},0,{"$f":"'ចំណាយ-ថវិការដ្ឋ'!F327","v":0},{"$f":"'ចំណាយ-ថវិការដ្ឋ'!G327","v":0},0,{"$f":"'ចំណាយ-ថវិការដ្ឋ'!I327","v":0},{"$f":"'ចំណាយ-ថវិការដ្ឋ'!J327","v":0},0,{"$f":"'ចំណាយ-ថវិការដ្ឋ'!L327","v":0},{"$f":"'ចំណាយ-ថវិការដ្ឋ'!M327","v":0}]
[{"$f":"Update_8!C558","v":"៧. លើកកម្ពស់ចលនាប្រឡងប្រណាំង៣ល្អ កូនល្អ សិស្សល្អ និងមិត្តល្អ របស់កុមារ និងយុវជន"},0,{"$f":"'ចំណាយ-ថវិការដ្ឋ'!C328","v":0},{"$f":"'ចំណាយ-ថវិការដ្ឋ'!D328","v":0},0,{"$f":"'ចំណាយ-ថវិការដ្ឋ'!F328","v":0},{"$f":"'ចំណាយ-ថវិការដ្ឋ'!G328","v":0},0,{"$f":"'ចំណាយ-ថវិការដ្ឋ'!I328","v":0},{"$f":"'ចំណាយ-ថវិការដ្ឋ'!J328","v":0},0,{"$f":"'ចំណាយ-ថវិការដ្ឋ'!L328","v":0},{"$f":"'ចំណាយ-ថវិការដ្ឋ'!M328","v":0}]
[{"$f":"Update_8!C559","v":"៨. កម្មវិធីប្រឡងប្រណាំងស្នាដៃយុវជនសត្សវត្សរ៍ទី២១ "},0,{"$f":"'ចំណាយ-ថវិការដ្ឋ'!C329","v":0},{"$f":"'ចំណាយ-ថវិការដ្ឋ'!D329","v":0},0,{"$f":"'ចំណាយ-ថវិការដ្ឋ'!F329","v":0},{"$f":"'ចំណាយ-ថវិការដ្ឋ'!G329","v":0},0,{"$f":"'ចំណាយ-ថវិការដ្ឋ'!I329","v":0},{"$f":"'ចំណាយ-ថវិការដ្ឋ'!J329","v":0},0,{"$f":"'ចំណាយ-ថវិការដ្ឋ'!L329","v":0},{"$f":"'ចំណាយ-ថវិការដ្ឋ'!M329","v":0}]
[{"$f":"Update_8!C560","v":"៩. កម្មវិធីផ្លាស់ប្តូរទំនាក់ទំនងយុវជនជាតិ និងអន្តរជាតិ"},0,{"$f":"'ចំណាយ-ថវិការដ្ឋ'!C330","v":0},{"$f":"'ចំណាយ-ថវិការដ្ឋ'!D330","v":0},0,{"$f":"'ចំណាយ-ថវិការដ្ឋ'!F330","v":0},{"$f":"'ចំណាយ-ថវិការដ្ឋ'!G330","v":0},0,{"$f":"'ចំណាយ-ថវិការដ្ឋ'!I330","v":0},{"$f":"'ចំណាយ-ថវិការដ្ឋ'!J330","v":0},0,{"$f":"'ចំណាយ-ថវិការដ្ឋ'!L330","v":0},{"$f":"'ចំណាយ-ថវិការដ្ឋ'!M330","v":0}]
[{"$f":"Update_8!C561","v":0},0,{"$f":"'ចំណាយ-ថវិការដ្ឋ'!C331","v":0},{"$f":"'ចំណាយ-ថវិការដ្ឋ'!D331","v":0},0,{"$f":"'ចំណាយ-ថវិការដ្ឋ'!F331","v":0},{"$f":"'ចំណាយ-ថវិការដ្ឋ'!G331","v":0},0,{"$f":"'ចំណាយ-ថវិការដ្ឋ'!I331","v":0},{"$f":"'ចំណាយ-ថវិការដ្ឋ'!J331","v":0},0,{"$f":"'ចំណាយ-ថវិការដ្ឋ'!L331","v":0},{"$f":"'ចំណាយ-ថវិការដ្ឋ'!M331","v":0}]
[{"$f":"cluster_activity_2","v":"សកម្មភាពរង ទី ២៖ ធានាភាពស័ក្តិសិទ្ធនៃភាពជាអ្នកដឹកនាំ និងគ្រប់គ្រងរបស់មន្ត្រី អប់រំគ្រប់លំដាប់ថ្នាក់"},{"$f":"ROUND(SUM(B333:B342),1)","v":0},{"$f":"ROUND(SUM(C333:C342),1)","v":0},{"$f":"ROUND(SUM(D333:D342),1)","v":0},{"$f":"ROUND(SUM(E333:E342),1)","v":0},0,0,0,0,0,{"$f":"ROUND(SUM(K333:K342),1)","v":0},{"$f":"ROUND(SUM(L333:L342),1)","v":0},{"$f":"ROUND(SUM(M333:M342),1)","v":0}]
[{"$f":"Update_8!C562","v":"១. អភិវឌ្ឍសមត្ថភាពស្ថាប័ន និងមន្ត្រីទទួលបន្ទុកការងារ  យុវជន នៅថ្នាក់ជាតិ និងថ្នាក់ក្រោមជាតិ"},{"$f":"ROUND(SUM(C333:D333),1)","v":0},{"$f":"'ចំណាយ-ថវិការដ្ឋ'!C333","v":0},{"$f":"'ចំណាយ-ថវិការដ្ឋ'!D333","v":0},{"$f":"ROUND(SUM(F333:G333),1)","v":0},{"$f":"'ចំណាយ-ថវិការដ្ឋ'!F333","v":0},{"$f":"'ចំណាយ-ថវិការដ្ឋ'!G333","v":0},{"$f":"ROUND(SUM(I333:J333),1)","v":0},{"$f":"'ចំណាយ-ថវិការដ្ឋ'!I333","v":0},{"$f":"'ចំណាយ-ថវិការដ្ឋ'!J333","v":0},{"$f":"ROUND(SUM(L333:M333),1)","v":0},{"$f":"'ចំណាយ-ថវិការដ្ឋ'!L333","v":0},{"$f":"'ចំណាយ-ថវិការដ្ឋ'!M333","v":0}]
[{"$f":"Update_8!C563","v":0},{"$f":"ROUND(SUM(C334:D334),1)","v":0},{"$f":"'ចំណាយ-ថវិការដ្ឋ'!C334","v":0},{"$f":"'ចំណាយ-ថវិការដ្ឋ'!D334","v":0},0,{"$f":"'ចំណាយ-ថវិការដ្ឋ'!F334","v":0},{"$f":"'ចំណាយ-ថវិការដ្ឋ'!G334","v":0},0,{"$f":"'ចំណាយ-ថវិការដ្ឋ'!I334","v":0},{"$f":"'ចំណាយ-ថវិការដ្ឋ'!J334","v":0},0,{"$f":"'ចំណាយ-ថវិការដ្ឋ'!L334","v":0},{"$f":"'ចំណាយ-ថវិការដ្ឋ'!M334","v":0}]
[{"$f":"Update_8!C564","v":0},0,{"$f":"'ចំណាយ-ថវិការដ្ឋ'!C335","v":0},{"$f":"'ចំណាយ-ថវិការដ្ឋ'!D335","v":0},0,{"$f":"'ចំណាយ-ថវិការដ្ឋ'!F335","v":0},{"$f":"'ចំណាយ-ថវិការដ្ឋ'!G335","v":0},0,{"$f":"'ចំណាយ-ថវិការដ្ឋ'!I335","v":0},{"$f":"'ចំណាយ-ថវិការដ្ឋ'!J335","v":0},0,{"$f":"'ចំណាយ-ថវិការដ្ឋ'!L335","v":0},{"$f":"'ចំណាយ-ថវិការដ្ឋ'!M335","v":0}]
[{"$f":"Update_8!C565","v":0},0,{"$f":"'ចំណាយ-ថវិការដ្ឋ'!C336","v":0},{"$f":"'ចំណាយ-ថវិការដ្ឋ'!D336","v":0},0,{"$f":"'ចំណាយ-ថវិការដ្ឋ'!F336","v":0},{"$f":"'ចំណាយ-ថវិការដ្ឋ'!G336","v":0},0,{"$f":"'ចំណាយ-ថវិការដ្ឋ'!I336","v":0},{"$f":"'ចំណាយ-ថវិការដ្ឋ'!J336","v":0},0,{"$f":"'ចំណាយ-ថវិការដ្ឋ'!L336","v":0},{"$f":"'ចំណាយ-ថវិការដ្ឋ'!M336","v":0}]
[{"$f":"Update_8!C566","v":0},0,{"$f":"'ចំណាយ-ថវិការដ្ឋ'!C337","v":0},{"$f":"'ចំណាយ-ថវិការដ្ឋ'!D337","v":0},0,{"$f":"'ចំណាយ-ថវិការដ្ឋ'!F337","v":0},{"$f":"'ចំណាយ-ថវិការដ្ឋ'!G337","v":0},0,{"$f":"'ចំណាយ-ថវិការដ្ឋ'!I337","v":0},{"$f":"'ចំណាយ-ថវិការដ្ឋ'!J337","v":0},0,{"$f":"'ចំណាយ-ថវិការដ្ឋ'!L337","v":0},{"$f":"'ចំណាយ-ថវិការដ្ឋ'!M337","v":0}]
[{"$f":"Update_8!C567","v":0},0,{"$f":"'ចំណាយ-ថវិការដ្ឋ'!C338","v":0},{"$f":"'ចំណាយ-ថវិការដ្ឋ'!D338","v":0},0,{"$f":"'ចំណាយ-ថវិការដ្ឋ'!F338","v":0},{"$f":"'ចំណាយ-ថវិការដ្ឋ'!G338","v":0},0,{"$f":"'ចំណាយ-ថវិការដ្ឋ'!I338","v":0},{"$f":"'ចំណាយ-ថវិការដ្ឋ'!J338","v":0},0,{"$f":"'ចំណាយ-ថវិការដ្ឋ'!L338","v":0},{"$f":"'ចំណាយ-ថវិការដ្ឋ'!M338","v":0}]
[{"$f":"Update_8!C568","v":0},0,{"$f":"'ចំណាយ-ថវិការដ្ឋ'!C339","v":0},{"$f":"'ចំណាយ-ថវិការដ្ឋ'!D339","v":0},0,{"$f":"'ចំណាយ-ថវិការដ្ឋ'!F339","v":0},{"$f":"'ចំណាយ-ថវិការដ្ឋ'!G339","v":0},0,{"$f":"'ចំណាយ-ថវិការដ្ឋ'!I339","v":0},{"$f":"'ចំណាយ-ថវិការដ្ឋ'!J339","v":0},0,{"$f":"'ចំណាយ-ថវិការដ្ឋ'!L339","v":0},{"$f":"'ចំណាយ-ថវិការដ្ឋ'!M339","v":0}]
[{"$f":"Update_8!C569","v":0},0,{"$f":"'ចំណាយ-ថវិការដ្ឋ'!C340","v":0},{"$f":"'ចំណាយ-ថវិការដ្ឋ'!D340","v":0},0,{"$f":"'ចំណាយ-ថវិការដ្ឋ'!F340","v":0},{"$f":"'ចំណាយ-ថវិការដ្ឋ'!G340","v":0},0,{"$f":"'ចំណាយ-ថវិការដ្ឋ'!I340","v":0},{"$f":"'ចំណាយ-ថវិការដ្ឋ'!J340","v":0},0,{"$f":"'ចំណាយ-ថវិការដ្ឋ'!L340","v":0},{"$f":"'ចំណាយ-ថវិការដ្ឋ'!M340","v":0}]
[{"$f":"Update_8!C570","v":0},0,{"$f":"'ចំណាយ-ថវិការដ្ឋ'!C341","v":0},{"$f":"'ចំណាយ-ថវិការដ្ឋ'!D341","v":0},0,{"$f":"'ចំណាយ-ថវិការដ្ឋ'!F341","v":0},{"$f":"'ចំណាយ-ថវិការដ្ឋ'!G341","v":0},0,{"$f":"'ចំណាយ-ថវិការដ្ឋ'!I341","v":0},{"$f":"'ចំណាយ-ថវិការដ្ឋ'!J341","v":0},0,{"$f":"'ចំណាយ-ថវិការដ្ឋ'!L341","v":0},{"$f":"'ចំណាយ-ថវិការដ្ឋ'!M341","v":0}]
[{"$f":"Update_8!C571","v":0},0,{"$f":"'ចំណាយ-ថវិការដ្ឋ'!C342","v":0},{"$f":"'ចំណាយ-ថវិការដ្ឋ'!D342","v":0},0,{"$f":"'ចំណាយ-ថវិការដ្ឋ'!F342","v":0},{"$f":"'ចំណាយ-ថវិការដ្ឋ'!G342","v":0},0,{"$f":"'ចំណាយ-ថវិការដ្ឋ'!I342","v":0},{"$f":"'ចំណាយ-ថវិការដ្ឋ'!J342","v":0},0,{"$f":"'ចំណាយ-ថវិការដ្ឋ'!L342","v":0},{"$f":"'ចំណាយ-ថវិការដ្ឋ'!M342","v":0}]
[{"$f":"ព័ត៌មានអង្គភាព!C26","v":"៤.៤.០១.២៖ ការអភិវឌ្ឍមជ្ឈមណ្ឌលយុវជន"},{"$f":"SUM(B344,B355)","v":0},0,0,0,0,0,0,0,0,0,0,0]
[{"$f":"cluster_activity_1","v":"សកម្មភាពរង ទី ១៖ ធានាឱ្យការអប់រំមានគុណភាព ប្រកបដោយសមធម៌ បរិយាបន្ន និងលើកកម្ពស់ឱកាសក្នុងការសិក្សាពេញមួយជីវិត"},{"$f":"ROUND(SUM(B345:B354),1)","v":0},{"$f":"ROUND(SUM(C345:C354),1)","v":0},{"$f":"ROUND(SUM(D345:D354),1)","v":0},0,0,0,0,0,0,0,0,0]
[{"$f":"Update_8!C572","v":"១. កិច្ចដំណើការអង្គភាព"},{"$f":"ROUND(SUM(C345:D345),1)","v":0},{"$f":"'ចំណាយ-ថវិការដ្ឋ'!C345","v":0},{"$f":"'ចំណាយ-ថវិការដ្ឋ'!D345","v":0},{"$f":"ROUND(SUM(F345:G345),1)","v":0},{"$f":"'ចំណាយ-ថវិការដ្ឋ'!F345","v":0},{"$f":"'ចំណាយ-ថវិការដ្ឋ'!G345","v":0},{"$f":"ROUND(SUM(I345:J345),1)","v":0},{"$f":"'ចំណាយ-ថវិការដ្ឋ'!I345","v":0},{"$f":"'ចំណាយ-ថវិការដ្ឋ'!J345","v":0},{"$f":"ROUND(SUM(L345:M345),1)","v":0},{"$f":"'ចំណាយ-ថវិការដ្ឋ'!L345","v":0},{"$f":"'ចំណាយ-ថវិការដ្ឋ'!M345","v":0}]
[{"$f":"Update_8!C573","v":"២.​ ថវិកាលទ្ធកម្ម"},{"$f":"ROUND(SUM(C346:D346),1)","v":0},{"$f":"'ចំណាយ-ថវិការដ្ឋ'!C346","v":0},{"$f":"'ចំណាយ-ថវិការដ្ឋ'!D346","v":0},0,{"$f":"'ចំណាយ-ថវិការដ្ឋ'!F346","v":0},{"$f":"'ចំណាយ-ថវិការដ្ឋ'!G346","v":0},0,{"$f":"'ចំណាយ-ថវិការដ្ឋ'!I346","v":0},{"$f":"'ចំណាយ-ថវិការដ្ឋ'!J346","v":0},0,{"$f":"'ចំណាយ-ថវិការដ្ឋ'!L346","v":0},{"$f":"'ចំណាយ-ថវិការដ្ឋ'!M346","v":0}]
[{"$f":"Update_8!C574","v":"៣. ពិនិត្យតាមដាន និងវាយតម្លៃ"},0,{"$f":"'ចំណាយ-ថវិការដ្ឋ'!C347","v":0},{"$f":"'ចំណាយ-ថវិការដ្ឋ'!D347","v":0},0,{"$f":"'ចំណាយ-ថវិការដ្ឋ'!F347","v":0},{"$f":"'ចំណាយ-ថវិការដ្ឋ'!G347","v":0},0,{"$f":"'ចំណាយ-ថវិការដ្ឋ'!I347","v":0},{"$f":"'ចំណាយ-ថវិការដ្ឋ'!J347","v":0},0,{"$f":"'ចំណាយ-ថវិការដ្ឋ'!L347","v":0},{"$f":"'ចំណាយ-ថវិការដ្ឋ'!M347","v":0}]
[{"$f":"Update_8!C575","v":"៤. អភិវឌ្ឍមជ្ឈមណ្ឌលជាតិយុវជនកម្ពុជា និងមជ្ឈមណ្ឌលយុវជន "},0,{"$f":"'ចំណាយ-ថវិការដ្ឋ'!C348","v":0},{"$f":"'ចំណាយ-ថវិការដ្ឋ'!D348","v":0},0,{"$f":"'ចំណាយ-ថវិការដ្ឋ'!F348","v":0},{"$f":"'ចំណាយ-ថវិការដ្ឋ'!G348","v":0},0,{"$f":"'ចំណាយ-ថវិការដ្ឋ'!I348","v":0},{"$f":"'ចំណាយ-ថវិការដ្ឋ'!J348","v":0},0,{"$f":"'ចំណាយ-ថវិការដ្ឋ'!L348","v":0},{"$f":"'ចំណាយ-ថវិការដ្ឋ'!M348","v":0}]
[{"$f":"Update_8!C576","v":"៥.អភិវឌ្ឍជំនាញបច្ចេកទេសនិងជំនាញទន់សម្រាប់យុវជន"},0,{"$f":"'ចំណាយ-ថវិការដ្ឋ'!C349","v":0},{"$f":"'ចំណាយ-ថវិការដ្ឋ'!D349","v":0},0,{"$f":"'ចំណាយ-ថវិការដ្ឋ'!F349","v":0},{"$f":"'ចំណាយ-ថវិការដ្ឋ'!G349","v":0},0,{"$f":"'ចំណាយ-ថវិការដ្ឋ'!I349","v":0},{"$f":"'ចំណាយ-ថវិការដ្ឋ'!J349","v":0},0,{"$f":"'ចំណាយ-ថវិការដ្ឋ'!L349","v":0},{"$f":"'ចំណាយ-ថវិការដ្ឋ'!M349","v":0}]
[{"$f":"Update_8!C577","v":"៦.លើកកម្ពស់កម្មវិធីអភិវឌ្ឍសមត្ថភាពយុវជន"},0,{"$f":"'ចំណាយ-ថវិការដ្ឋ'!C350","v":0},{"$f":"'ចំណាយ-ថវិការដ្ឋ'!D350","v":0},0,{"$f":"'ចំណាយ-ថវិការដ្ឋ'!F350","v":0},{"$f":"'ចំណាយ-ថវិការដ្ឋ'!G350","v":0},0,{"$f":"'ចំណាយ-ថវិការដ្ឋ'!I350","v":0},{"$f":"'ចំណាយ-ថវិការដ្ឋ'!J350","v":0},0,{"$f":"'ចំណាយ-ថវិការដ្ឋ'!L350","v":0},{"$f":"'ចំណាយ-ថវិការដ្ឋ'!M350","v":0}]
[{"$f":"Update_8!C578","v":"៧.លើកកម្ពស់ការងារស្ម័គ្រចិត្តរបស់យុវជនក្នុងកិច្ចការសង្គម"},0,{"$f":"'ចំណាយ-ថវិការដ្ឋ'!C351","v":0},{"$f":"'ចំណាយ-ថវិការដ្ឋ'!D351","v":0},0,{"$f":"'ចំណាយ-ថវិការដ្ឋ'!F351","v":0},{"$f":"'ចំណាយ-ថវិការដ្ឋ'!G351","v":0},0,{"$f":"'ចំណាយ-ថវិការដ្ឋ'!I351","v":0},{"$f":"'ចំណាយ-ថវិការដ្ឋ'!J351","v":0},0,{"$f":"'ចំណាយ-ថវិការដ្ឋ'!L351","v":0},{"$f":"'ចំណាយ-ថវិការដ្ឋ'!M351","v":0}]
[{"$f":"Update_8!C579","v":"៨. អនុវត្តផែនការសកម្មភាពជាតិស្តីពីការអភិវឌ្ឍយុវជនកម្ពុជា"},0,{"$f":"'ចំណាយ-ថវិការដ្ឋ'!C352","v":0},{"$f":"'ចំណាយ-ថវិការដ្ឋ'!D352","v":0},0,{"$f":"'ចំណាយ-ថវិការដ្ឋ'!F352","v":0},{"$f":"'ចំណាយ-ថវិការដ្ឋ'!G352","v":0},0,{"$f":"'ចំណាយ-ថវិការដ្ឋ'!I352","v":0},{"$f":"'ចំណាយ-ថវិការដ្ឋ'!J352","v":0},0,{"$f":"'ចំណាយ-ថវិការដ្ឋ'!L352","v":0},{"$f":"'ចំណាយ-ថវិការដ្ឋ'!M352","v":0}]
[{"$f":"Update_8!C580","v":0},0,{"$f":"'ចំណាយ-ថវិការដ្ឋ'!C353","v":0},{"$f":"'ចំណាយ-ថវិការដ្ឋ'!D353","v":0},0,{"$f":"'ចំណាយ-ថវិការដ្ឋ'!F353","v":0},{"$f":"'ចំណាយ-ថវិការដ្ឋ'!G353","v":0},0,{"$f":"'ចំណាយ-ថវិការដ្ឋ'!I353","v":0},{"$f":"'ចំណាយ-ថវិការដ្ឋ'!J353","v":0},0,{"$f":"'ចំណាយ-ថវិការដ្ឋ'!L353","v":0},{"$f":"'ចំណាយ-ថវិការដ្ឋ'!M353","v":0}]
[{"$f":"Update_8!C581","v":0},0,{"$f":"'ចំណាយ-ថវិការដ្ឋ'!C354","v":0},{"$f":"'ចំណាយ-ថវិការដ្ឋ'!D354","v":0},0,{"$f":"'ចំណាយ-ថវិការដ្ឋ'!F354","v":0},{"$f":"'ចំណាយ-ថវិការដ្ឋ'!G354","v":0},0,{"$f":"'ចំណាយ-ថវិការដ្ឋ'!I354","v":0},{"$f":"'ចំណាយ-ថវិការដ្ឋ'!J354","v":0},0,{"$f":"'ចំណាយ-ថវិការដ្ឋ'!L354","v":0},{"$f":"'ចំណាយ-ថវិការដ្ឋ'!M354","v":0}]
[{"$f":"cluster_activity_2","v":"សកម្មភាពរង ទី ២៖ ធានាភាពស័ក្តិសិទ្ធនៃភាពជាអ្នកដឹកនាំ និងគ្រប់គ្រងរបស់មន្ត្រី អប់រំគ្រប់លំដាប់ថ្នាក់"},{"$f":"ROUND(SUM(B356:B365),1)","v":0},{"$f":"ROUND(SUM(C356:C365),1)","v":0},{"$f":"ROUND(SUM(D356:D365),1)","v":0},{"$f":"ROUND(SUM(E356:E365),1)","v":0},0,0,0,0,0,{"$f":"ROUND(SUM(K356:K365),1)","v":0},{"$f":"ROUND(SUM(L356:L365),1)","v":0},{"$f":"ROUND(SUM(M356:M365),1)","v":0}]
[{"$f":"Update_8!C582","v":"១. អភិវឌ្ឍសមត្ថភាពស្ថាប័ន និងមន្ត្រីទទួលបន្ទុកការងារ  យុវជន នៅថ្នាក់ជាតិ និងថ្នាក់ក្រោមជាតិ"},{"$f":"ROUND(SUM(C356:D356),1)","v":0},{"$f":"'ចំណាយ-ថវិការដ្ឋ'!C356","v":0},{"$f":"'ចំណាយ-ថវិការដ្ឋ'!D356","v":0},{"$f":"ROUND(SUM(F356:G356),1)","v":0},{"$f":"'ចំណាយ-ថវិការដ្ឋ'!F356","v":0},{"$f":"'ចំណាយ-ថវិការដ្ឋ'!G356","v":0},{"$f":"ROUND(SUM(I356:J356),1)","v":0},{"$f":"'ចំណាយ-ថវិការដ្ឋ'!I356","v":0},{"$f":"'ចំណាយ-ថវិការដ្ឋ'!J356","v":0},{"$f":"ROUND(SUM(L356:M356),1)","v":0},{"$f":"'ចំណាយ-ថវិការដ្ឋ'!L356","v":0},{"$f":"'ចំណាយ-ថវិការដ្ឋ'!M356","v":0}]
[{"$f":"Update_8!C583","v":0},{"$f":"ROUND(SUM(C357:D357),1)","v":0},{"$f":"'ចំណាយ-ថវិការដ្ឋ'!C357","v":0},{"$f":"'ចំណាយ-ថវិការដ្ឋ'!D357","v":0},0,{"$f":"'ចំណាយ-ថវិការដ្ឋ'!F357","v":0},{"$f":"'ចំណាយ-ថវិការដ្ឋ'!G357","v":0},0,{"$f":"'ចំណាយ-ថវិការដ្ឋ'!I357","v":0},{"$f":"'ចំណាយ-ថវិការដ្ឋ'!J357","v":0},0,{"$f":"'ចំណាយ-ថវិការដ្ឋ'!L357","v":0},{"$f":"'ចំណាយ-ថវិការដ្ឋ'!M357","v":0}]
[{"$f":"Update_8!C584","v":0},0,{"$f":"'ចំណាយ-ថវិការដ្ឋ'!C358","v":0},{"$f":"'ចំណាយ-ថវិការដ្ឋ'!D358","v":0},0,{"$f":"'ចំណាយ-ថវិការដ្ឋ'!F358","v":0},{"$f":"'ចំណាយ-ថវិការដ្ឋ'!G358","v":0},0,{"$f":"'ចំណាយ-ថវិការដ្ឋ'!I358","v":0},{"$f":"'ចំណាយ-ថវិការដ្ឋ'!J358","v":0},0,{"$f":"'ចំណាយ-ថវិការដ្ឋ'!L358","v":0},{"$f":"'ចំណាយ-ថវិការដ្ឋ'!M358","v":0}]
[{"$f":"Update_8!C585","v":0},0,{"$f":"'ចំណាយ-ថវិការដ្ឋ'!C359","v":0},{"$f":"'ចំណាយ-ថវិការដ្ឋ'!D359","v":0},0,{"$f":"'ចំណាយ-ថវិការដ្ឋ'!F359","v":0},{"$f":"'ចំណាយ-ថវិការដ្ឋ'!G359","v":0},0,{"$f":"'ចំណាយ-ថវិការដ្ឋ'!I359","v":0},{"$f":"'ចំណាយ-ថវិការដ្ឋ'!J359","v":0},0,{"$f":"'ចំណាយ-ថវិការដ្ឋ'!L359","v":0},{"$f":"'ចំណាយ-ថវិការដ្ឋ'!M359","v":0}]
[{"$f":"Update_8!C586","v":0},0,{"$f":"'ចំណាយ-ថវិការដ្ឋ'!C360","v":0},{"$f":"'ចំណាយ-ថវិការដ្ឋ'!D360","v":0},0,{"$f":"'ចំណាយ-ថវិការដ្ឋ'!F360","v":0},{"$f":"'ចំណាយ-ថវិការដ្ឋ'!G360","v":0},0,{"$f":"'ចំណាយ-ថវិការដ្ឋ'!I360","v":0},{"$f":"'ចំណាយ-ថវិការដ្ឋ'!J360","v":0},0,{"$f":"'ចំណាយ-ថវិការដ្ឋ'!L360","v":0},{"$f":"'ចំណាយ-ថវិការដ្ឋ'!M360","v":0}]
[{"$f":"Update_8!C587","v":0},0,{"$f":"'ចំណាយ-ថវិការដ្ឋ'!C361","v":0},{"$f":"'ចំណាយ-ថវិការដ្ឋ'!D361","v":0},0,{"$f":"'ចំណាយ-ថវិការដ្ឋ'!F361","v":0},{"$f":"'ចំណាយ-ថវិការដ្ឋ'!G361","v":0},0,{"$f":"'ចំណាយ-ថវិការដ្ឋ'!I361","v":0},{"$f":"'ចំណាយ-ថវិការដ្ឋ'!J361","v":0},0,{"$f":"'ចំណាយ-ថវិការដ្ឋ'!L361","v":0},{"$f":"'ចំណាយ-ថវិការដ្ឋ'!M361","v":0}]
[{"$f":"Update_8!C588","v":0},0,{"$f":"'ចំណាយ-ថវិការដ្ឋ'!C362","v":0},{"$f":"'ចំណាយ-ថវិការដ្ឋ'!D362","v":0},0,{"$f":"'ចំណាយ-ថវិការដ្ឋ'!F362","v":0},{"$f":"'ចំណាយ-ថវិការដ្ឋ'!G362","v":0},0,{"$f":"'ចំណាយ-ថវិការដ្ឋ'!I362","v":0},{"$f":"'ចំណាយ-ថវិការដ្ឋ'!J362","v":0},0,{"$f":"'ចំណាយ-ថវិការដ្ឋ'!L362","v":0},{"$f":"'ចំណាយ-ថវិការដ្ឋ'!M362","v":0}]
[{"$f":"Update_8!C589","v":0},0,{"$f":"'ចំណាយ-ថវិការដ្ឋ'!C363","v":0},{"$f":"'ចំណាយ-ថវិការដ្ឋ'!D363","v":0},0,{"$f":"'ចំណាយ-ថវិការដ្ឋ'!F363","v":0},{"$f":"'ចំណាយ-ថវិការដ្ឋ'!G363","v":0},0,{"$f":"'ចំណាយ-ថវិការដ្ឋ'!I363","v":0},{"$f":"'ចំណាយ-ថវិការដ្ឋ'!J363","v":0},0,{"$f":"'ចំណាយ-ថវិការដ្ឋ'!L363","v":0},{"$f":"'ចំណាយ-ថវិការដ្ឋ'!M363","v":0}]
[{"$f":"Update_8!C590","v":0},0,{"$f":"'ចំណាយ-ថវិការដ្ឋ'!C364","v":0},{"$f":"'ចំណាយ-ថវិការដ្ឋ'!D364","v":0},0,{"$f":"'ចំណាយ-ថវិការដ្ឋ'!F364","v":0},{"$f":"'ចំណាយ-ថវិការដ្ឋ'!G364","v":0},0,{"$f":"'ចំណាយ-ថវិការដ្ឋ'!I364","v":0},{"$f":"'ចំណាយ-ថវិការដ្ឋ'!J364","v":0},0,{"$f":"'ចំណាយ-ថវិការដ្ឋ'!L364","v":0},{"$f":"'ចំណាយ-ថវិការដ្ឋ'!M364","v":0}]
[{"$f":"Update_8!C591","v":0},0,{"$f":"'ចំណាយ-ថវិការដ្ឋ'!C365","v":0},{"$f":"'ចំណាយ-ថវិការដ្ឋ'!D365","v":0},0,{"$f":"'ចំណាយ-ថវិការដ្ឋ'!F365","v":0},{"$f":"'ចំណាយ-ថវិការដ្ឋ'!G365","v":0},0,{"$f":"'ចំណាយ-ថវិការដ្ឋ'!I365","v":0},{"$f":"'ចំណាយ-ថវិការដ្ឋ'!J365","v":0},0,{"$f":"'ចំណាយ-ថវិការដ្ឋ'!L365","v":0},{"$f":"'ចំណាយ-ថវិការដ្ឋ'!M365","v":0}]
[{"$f":"ព័ត៌មានអង្គភាព!C27","v":"៤.៤.០១.៣៖ ការពង្រឹងសកម្មភាពកាយរិទ្ធ"},{"$f":"SUM(B367,B378)","v":0},0,0,0,0,0,0,0,0,0,0,0]
[{"$f":"cluster_activity_1","v":"សកម្មភាពរង ទី ១៖ ធានាឱ្យការអប់រំមានគុណភាព ប្រកបដោយសមធម៌ បរិយាបន្ន និងលើកកម្ពស់ឱកាសក្នុងការសិក្សាពេញមួយជីវិត"},{"$f":"ROUND(SUM(B368:B377),1)","v":0},{"$f":"ROUND(SUM(C368:C377),1)","v":0},{"$f":"ROUND(SUM(D368:D377),1)","v":0},0,0,0,0,0,0,0,0,0]
[{"$f":"Update_8!C592","v":"១. កិច្ចដំណើការអង្គភាព"},{"$f":"ROUND(SUM(C368:D368),1)","v":0},{"$f":"'ចំណាយ-ថវិការដ្ឋ'!C368","v":0},{"$f":"'ចំណាយ-ថវិការដ្ឋ'!D368","v":0},{"$f":"ROUND(SUM(F368:G368),1)","v":0},{"$f":"'ចំណាយ-ថវិការដ្ឋ'!F368","v":0},{"$f":"'ចំណាយ-ថវិការដ្ឋ'!G368","v":0},{"$f":"ROUND(SUM(I368:J368),1)","v":0},{"$f":"'ចំណាយ-ថវិការដ្ឋ'!I368","v":0},{"$f":"'ចំណាយ-ថវិការដ្ឋ'!J368","v":0},{"$f":"ROUND(SUM(L368:M368),1)","v":0},{"$f":"'ចំណាយ-ថវិការដ្ឋ'!L368","v":0},{"$f":"'ចំណាយ-ថវិការដ្ឋ'!M368","v":0}]
[{"$f":"Update_8!C593","v":"២. ថវិកាលទ្ធកម្ម"},{"$f":"ROUND(SUM(C369:D369),1)","v":0},{"$f":"'ចំណាយ-ថវិការដ្ឋ'!C369","v":0},{"$f":"'ចំណាយ-ថវិការដ្ឋ'!D369","v":0},0,{"$f":"'ចំណាយ-ថវិការដ្ឋ'!F369","v":0},{"$f":"'ចំណាយ-ថវិការដ្ឋ'!G369","v":0},0,{"$f":"'ចំណាយ-ថវិការដ្ឋ'!I369","v":0},{"$f":"'ចំណាយ-ថវិការដ្ឋ'!J369","v":0},0,{"$f":"'ចំណាយ-ថវិការដ្ឋ'!L369","v":0},{"$f":"'ចំណាយ-ថវិការដ្ឋ'!M369","v":0}]
[{"$f":"Update_8!C594","v":"៣. ពិនិត្យតាមដាន និងវាយតម្លៃ"},0,{"$f":"'ចំណាយ-ថវិការដ្ឋ'!C370","v":0},{"$f":"'ចំណាយ-ថវិការដ្ឋ'!D370","v":0},0,{"$f":"'ចំណាយ-ថវិការដ្ឋ'!F370","v":0},{"$f":"'ចំណាយ-ថវិការដ្ឋ'!G370","v":0},0,{"$f":"'ចំណាយ-ថវិការដ្ឋ'!I370","v":0},{"$f":"'ចំណាយ-ថវិការដ្ឋ'!J370","v":0},0,{"$f":"'ចំណាយ-ថវិការដ្ឋ'!L370","v":0},{"$f":"'ចំណាយ-ថវិការដ្ឋ'!M370","v":0}]
[{"$f":"Update_8!C595","v":"៤. ពង្រីកសមាជិកភាពកាយរឹទ្ធិ និងបណ្តុះបណ្តាលជំនាញកាយរឹទ្ធិកម្ម"},0,{"$f":"'ចំណាយ-ថវិការដ្ឋ'!C371","v":0},{"$f":"'ចំណាយ-ថវិការដ្ឋ'!D371","v":0},0,{"$f":"'ចំណាយ-ថវិការដ្ឋ'!F371","v":0},{"$f":"'ចំណាយ-ថវិការដ្ឋ'!G371","v":0},0,{"$f":"'ចំណាយ-ថវិការដ្ឋ'!I371","v":0},{"$f":"'ចំណាយ-ថវិការដ្ឋ'!J371","v":0},0,{"$f":"'ចំណាយ-ថវិការដ្ឋ'!L371","v":0},{"$f":"'ចំណាយ-ថវិការដ្ឋ'!M371","v":0}]
[{"$f":"Update_8!C596","v":"៥. អនុវត្តសកម្មភាពកាយរឹទ្ធិកម្មស្របតាមកម្មវិធីរបស់អង្គការពិភពលោកនៃចលនាកាយរឹទ្ធិ"},0,{"$f":"'ចំណាយ-ថវិការដ្ឋ'!C372","v":0},{"$f":"'ចំណាយ-ថវិការដ្ឋ'!D372","v":0},0,{"$f":"'ចំណាយ-ថវិការដ្ឋ'!F372","v":0},{"$f":"'ចំណាយ-ថវិការដ្ឋ'!G372","v":0},0,{"$f":"'ចំណាយ-ថវិការដ្ឋ'!I372","v":0},{"$f":"'ចំណាយ-ថវិការដ្ឋ'!J372","v":0},0,{"$f":"'ចំណាយ-ថវិការដ្ឋ'!L372","v":0},{"$f":"'ចំណាយ-ថវិការដ្ឋ'!M372","v":0}]
[{"$f":"Update_8!C597","v":"៦. ពង្រឹង និងពង្រីកកិច្ចសហប្រតិបត្តិការការងារ កាយរឹទ្ធិលើឆាកអន្តរជាតិ"},0,{"$f":"'ចំណាយ-ថវិការដ្ឋ'!C373","v":0},{"$f":"'ចំណាយ-ថវិការដ្ឋ'!D373","v":0},0,{"$f":"'ចំណាយ-ថវិការដ្ឋ'!F373","v":0},{"$f":"'ចំណាយ-ថវិការដ្ឋ'!G373","v":0},0,{"$f":"'ចំណាយ-ថវិការដ្ឋ'!I373","v":0},{"$f":"'ចំណាយ-ថវិការដ្ឋ'!J373","v":0},0,{"$f":"'ចំណាយ-ថវិការដ្ឋ'!L373","v":0},{"$f":"'ចំណាយ-ថវិការដ្ឋ'!M373","v":0}]
[{"$f":"Update_8!C598","v":"៧. អនុវត្តកម្មវិធីវឌ្ឍនកម្មប័ណ្ណសញ្ញាកាយរឹទ្ធិ"},0,{"$f":"'ចំណាយ-ថវិការដ្ឋ'!C374","v":0},{"$f":"'ចំណាយ-ថវិការដ្ឋ'!D374","v":0},0,{"$f":"'ចំណាយ-ថវិការដ្ឋ'!F374","v":0},{"$f":"'ចំណាយ-ថវិការដ្ឋ'!G374","v":0},0,{"$f":"'ចំណាយ-ថវិការដ្ឋ'!I374","v":0},{"$f":"'ចំណាយ-ថវិការដ្ឋ'!J374","v":0},0,{"$f":"'ចំណាយ-ថវិការដ្ឋ'!L374","v":0},{"$f":"'ចំណាយ-ថវិការដ្ឋ'!M374","v":0}]
[{"$f":"Update_8!C599","v":0},0,{"$f":"'ចំណាយ-ថវិការដ្ឋ'!C375","v":0},{"$f":"'ចំណាយ-ថវិការដ្ឋ'!D375","v":0},0,{"$f":"'ចំណាយ-ថវិការដ្ឋ'!F375","v":0},{"$f":"'ចំណាយ-ថវិការដ្ឋ'!G375","v":0},0,{"$f":"'ចំណាយ-ថវិការដ្ឋ'!I375","v":0},{"$f":"'ចំណាយ-ថវិការដ្ឋ'!J375","v":0},0,{"$f":"'ចំណាយ-ថវិការដ្ឋ'!L375","v":0},{"$f":"'ចំណាយ-ថវិការដ្ឋ'!M375","v":0}]
[{"$f":"Update_8!C600","v":0},0,{"$f":"'ចំណាយ-ថវិការដ្ឋ'!C376","v":0},{"$f":"'ចំណាយ-ថវិការដ្ឋ'!D376","v":0},0,{"$f":"'ចំណាយ-ថវិការដ្ឋ'!F376","v":0},{"$f":"'ចំណាយ-ថវិការដ្ឋ'!G376","v":0},0,{"$f":"'ចំណាយ-ថវិការដ្ឋ'!I376","v":0},{"$f":"'ចំណាយ-ថវិការដ្ឋ'!J376","v":0},0,{"$f":"'ចំណាយ-ថវិការដ្ឋ'!L376","v":0},{"$f":"'ចំណាយ-ថវិការដ្ឋ'!M376","v":0}]
[{"$f":"Update_8!C601","v":0},0,{"$f":"'ចំណាយ-ថវិការដ្ឋ'!C377","v":0},{"$f":"'ចំណាយ-ថវិការដ្ឋ'!D377","v":0},0,{"$f":"'ចំណាយ-ថវិការដ្ឋ'!F377","v":0},{"$f":"'ចំណាយ-ថវិការដ្ឋ'!G377","v":0},0,{"$f":"'ចំណាយ-ថវិការដ្ឋ'!I377","v":0},{"$f":"'ចំណាយ-ថវិការដ្ឋ'!J377","v":0},0,{"$f":"'ចំណាយ-ថវិការដ្ឋ'!L377","v":0},{"$f":"'ចំណាយ-ថវិការដ្ឋ'!M377","v":0}]
[{"$f":"cluster_activity_2","v":"សកម្មភាពរង ទី ២៖ ធានាភាពស័ក្តិសិទ្ធនៃភាពជាអ្នកដឹកនាំ និងគ្រប់គ្រងរបស់មន្ត្រី អប់រំគ្រប់លំដាប់ថ្នាក់"},{"$f":"ROUND(SUM(B379:B388),1)","v":0},{"$f":"ROUND(SUM(C379:C388),1)","v":0},{"$f":"ROUND(SUM(D379:D388),1)","v":0},{"$f":"ROUND(SUM(E379:E388),1)","v":0},0,0,0,0,0,{"$f":"ROUND(SUM(K379:K388),1)","v":0},{"$f":"ROUND(SUM(L379:L388),1)","v":0},{"$f":"ROUND(SUM(M379:M388),1)","v":0}]
[{"$f":"Update_8!C602","v":"១. អភិវឌ្ឍសមត្ថភាពស្ថាប័ន និងមន្ត្រីទទួលបន្ទុកការងារ  កាយរឹទ្ធិនៅថ្នាក់ជាតិ និងថ្នាក់ក្រោមជាតិ"},{"$f":"ROUND(SUM(C379:D379),1)","v":0},{"$f":"'ចំណាយ-ថវិការដ្ឋ'!C379","v":0},{"$f":"'ចំណាយ-ថវិការដ្ឋ'!D379","v":0},{"$f":"ROUND(SUM(F379:G379),1)","v":0},{"$f":"'ចំណាយ-ថវិការដ្ឋ'!F379","v":0},{"$f":"'ចំណាយ-ថវិការដ្ឋ'!G379","v":0},{"$f":"ROUND(SUM(I379:J379),1)","v":0},{"$f":"'ចំណាយ-ថវិការដ្ឋ'!I379","v":0},{"$f":"'ចំណាយ-ថវិការដ្ឋ'!J379","v":0},{"$f":"ROUND(SUM(L379:M379),1)","v":0},{"$f":"'ចំណាយ-ថវិការដ្ឋ'!L379","v":0},{"$f":"'ចំណាយ-ថវិការដ្ឋ'!M379","v":0}]
[{"$f":"Update_8!C603","v":0},{"$f":"ROUND(SUM(C380:D380),1)","v":0},{"$f":"'ចំណាយ-ថវិការដ្ឋ'!C380","v":0},{"$f":"'ចំណាយ-ថវិការដ្ឋ'!D380","v":0},0,{"$f":"'ចំណាយ-ថវិការដ្ឋ'!F380","v":0},{"$f":"'ចំណាយ-ថវិការដ្ឋ'!G380","v":0},0,{"$f":"'ចំណាយ-ថវិការដ្ឋ'!I380","v":0},{"$f":"'ចំណាយ-ថវិការដ្ឋ'!J380","v":0},0,{"$f":"'ចំណាយ-ថវិការដ្ឋ'!L380","v":0},{"$f":"'ចំណាយ-ថវិការដ្ឋ'!M380","v":0}]
[{"$f":"Update_8!C604","v":0},0,{"$f":"'ចំណាយ-ថវិការដ្ឋ'!C381","v":0},{"$f":"'ចំណាយ-ថវិការដ្ឋ'!D381","v":0},0,{"$f":"'ចំណាយ-ថវិការដ្ឋ'!F381","v":0},{"$f":"'ចំណាយ-ថវិការដ្ឋ'!G381","v":0},0,{"$f":"'ចំណាយ-ថវិការដ្ឋ'!I381","v":0},{"$f":"'ចំណាយ-ថវិការដ្ឋ'!J381","v":0},0,{"$f":"'ចំណាយ-ថវិការដ្ឋ'!L381","v":0},{"$f":"'ចំណាយ-ថវិការដ្ឋ'!M381","v":0}]
[{"$f":"Update_8!C605","v":0},0,{"$f":"'ចំណាយ-ថវិការដ្ឋ'!C382","v":0},{"$f":"'ចំណាយ-ថវិការដ្ឋ'!D382","v":0},0,{"$f":"'ចំណាយ-ថវិការដ្ឋ'!F382","v":0},{"$f":"'ចំណាយ-ថវិការដ្ឋ'!G382","v":0},0,{"$f":"'ចំណាយ-ថវិការដ្ឋ'!I382","v":0},{"$f":"'ចំណាយ-ថវិការដ្ឋ'!J382","v":0},0,{"$f":"'ចំណាយ-ថវិការដ្ឋ'!L382","v":0},{"$f":"'ចំណាយ-ថវិការដ្ឋ'!M382","v":0}]
[{"$f":"Update_8!C606","v":0},0,{"$f":"'ចំណាយ-ថវិការដ្ឋ'!C383","v":0},{"$f":"'ចំណាយ-ថវិការដ្ឋ'!D383","v":0},0,{"$f":"'ចំណាយ-ថវិការដ្ឋ'!F383","v":0},{"$f":"'ចំណាយ-ថវិការដ្ឋ'!G383","v":0},0,{"$f":"'ចំណាយ-ថវិការដ្ឋ'!I383","v":0},{"$f":"'ចំណាយ-ថវិការដ្ឋ'!J383","v":0},0,{"$f":"'ចំណាយ-ថវិការដ្ឋ'!L383","v":0},{"$f":"'ចំណាយ-ថវិការដ្ឋ'!M383","v":0}]
[{"$f":"Update_8!C607","v":0},0,{"$f":"'ចំណាយ-ថវិការដ្ឋ'!C384","v":0},{"$f":"'ចំណាយ-ថវិការដ្ឋ'!D384","v":0},0,{"$f":"'ចំណាយ-ថវិការដ្ឋ'!F384","v":0},{"$f":"'ចំណាយ-ថវិការដ្ឋ'!G384","v":0},0,{"$f":"'ចំណាយ-ថវិការដ្ឋ'!I384","v":0},{"$f":"'ចំណាយ-ថវិការដ្ឋ'!J384","v":0},0,{"$f":"'ចំណាយ-ថវិការដ្ឋ'!L384","v":0},{"$f":"'ចំណាយ-ថវិការដ្ឋ'!M384","v":0}]
[{"$f":"Update_8!C608","v":0},0,{"$f":"'ចំណាយ-ថវិការដ្ឋ'!C385","v":0},{"$f":"'ចំណាយ-ថវិការដ្ឋ'!D385","v":0},0,{"$f":"'ចំណាយ-ថវិការដ្ឋ'!F385","v":0},{"$f":"'ចំណាយ-ថវិការដ្ឋ'!G385","v":0},0,{"$f":"'ចំណាយ-ថវិការដ្ឋ'!I385","v":0},{"$f":"'ចំណាយ-ថវិការដ្ឋ'!J385","v":0},0,{"$f":"'ចំណាយ-ថវិការដ្ឋ'!L385","v":0},{"$f":"'ចំណាយ-ថវិការដ្ឋ'!M385","v":0}]
[{"$f":"Update_8!C609","v":0},0,{"$f":"'ចំណាយ-ថវិការដ្ឋ'!C386","v":0},{"$f":"'ចំណាយ-ថវិការដ្ឋ'!D386","v":0},0,{"$f":"'ចំណាយ-ថវិការដ្ឋ'!F386","v":0},{"$f":"'ចំណាយ-ថវិការដ្ឋ'!G386","v":0},0,{"$f":"'ចំណាយ-ថវិការដ្ឋ'!I386","v":0},{"$f":"'ចំណាយ-ថវិការដ្ឋ'!J386","v":0},0,{"$f":"'ចំណាយ-ថវិការដ្ឋ'!L386","v":0},{"$f":"'ចំណាយ-ថវិការដ្ឋ'!M386","v":0}]
[{"$f":"Update_8!C610","v":0},0,{"$f":"'ចំណាយ-ថវិការដ្ឋ'!C387","v":0},{"$f":"'ចំណាយ-ថវិការដ្ឋ'!D387","v":0},0,{"$f":"'ចំណាយ-ថវិការដ្ឋ'!F387","v":0},{"$f":"'ចំណាយ-ថវិការដ្ឋ'!G387","v":0},0,{"$f":"'ចំណាយ-ថវិការដ្ឋ'!I387","v":0},{"$f":"'ចំណាយ-ថវិការដ្ឋ'!J387","v":0},0,{"$f":"'ចំណាយ-ថវិការដ្ឋ'!L387","v":0},{"$f":"'ចំណាយ-ថវិការដ្ឋ'!M387","v":0}]
[{"$f":"Update_8!C611","v":0},0,{"$f":"'ចំណាយ-ថវិការដ្ឋ'!C388","v":0},{"$f":"'ចំណាយ-ថវិការដ្ឋ'!D388","v":0},0,{"$f":"'ចំណាយ-ថវិការដ្ឋ'!F388","v":0},{"$f":"'ចំណាយ-ថវិការដ្ឋ'!G388","v":0},0,{"$f":"'ចំណាយ-ថវិការដ្ឋ'!I388","v":0},{"$f":"'ចំណាយ-ថវិការដ្ឋ'!J388","v":0},0,{"$f":"'ចំណាយ-ថវិការដ្ឋ'!L388","v":0},{"$f":"'ចំណាយ-ថវិការដ្ឋ'!M388","v":0}]
[{"$f":"ព័ត៌មានអង្គភាព!C28","v":"កម្មវិធីទី៥៖ ការគាំទ្រសេវាអប់រំ និងអភិបាលកិច្ចល្អ"},{"$f":"B390","v":0},{"$f":"C390","v":0},0,0,0,0,0,0,0,0,0,0]
[{"$f":"ព័ត៌មានអង្គភាព!C29","v":"អនុកម្មវិធីទី ៥.១៨៖ សេវាគាំទ្រសេវាអប់រំ និងអភិបាលកិច្ចល្អ របស់មន្ទីរជំនាញរាជធានី ខេត្ត"},{"$f":"B391","v":0},0,0,0,0,0,0,0,0,0,0,0]
[{"$f":"ព័ត៌មានអង្គភាព!C30","v":"ចង្កោមសកម្មភាពទី ០១៖ខេត្តបន្ទាយមានជ័យ"},{"$f":"SUM(B392,B415,B438,B461,B484,B507,B530,B553,B576,B599,B622,B645,B668,B691,B714,B737,B760)","v":0},0,0,0,0,0,0,0,0,0,0,0]
[{"$f":"ព័ត៌មានអង្គភាព!C31","v":"៥.១៨.០១.១៖ ការអភិវឌ្ឍ និងពង្រឹងប្រព័ន្ធផែនការអប់រំ"},{"$f":"SUM(B393,B404)","v":0},{"$f":"SUM(C393,C404)","v":0},0,0,0,0,0,0,0,0,0,0]
[{"$f":"cluster_activity_1","v":"សកម្មភាពរង ទី ១៖ ធានាឱ្យការអប់រំមានគុណភាព ប្រកបដោយសមធម៌ បរិយាបន្ន និងលើកកម្ពស់ឱកាសក្នុងការសិក្សាពេញមួយជីវិត"},{"$f":"ROUND(SUM(B394:B403),1)","v":0},{"$f":"ROUND(SUM(C394:C403),1)","v":0},{"$f":"ROUND(SUM(D394:D403),1)","v":0},0,0,0,0,0,0,0,0,0]
[{"$f":"Update_8!C613","v":0},{"$f":"ROUND(SUM(C394:D394),1)","v":0},{"$f":"'ចំណាយ-ថវិការដ្ឋ'!C394","v":0},{"$f":"'ចំណាយ-ថវិការដ្ឋ'!D394","v":0},{"$f":"ROUND(SUM(F394:G394),1)","v":0},{"$f":"'ចំណាយ-ថវិការដ្ឋ'!F394","v":0},{"$f":"'ចំណាយ-ថវិការដ្ឋ'!G394","v":0},{"$f":"ROUND(SUM(I394:J394),1)","v":0},{"$f":"'ចំណាយ-ថវិការដ្ឋ'!I394","v":0},{"$f":"'ចំណាយ-ថវិការដ្ឋ'!J394","v":0},{"$f":"ROUND(SUM(L394:M394),1)","v":0},{"$f":"'ចំណាយ-ថវិការដ្ឋ'!L394","v":0},{"$f":"'ចំណាយ-ថវិការដ្ឋ'!M394","v":0}]
[{"$f":"Update_8!C614","v":0},{"$f":"ROUND(SUM(C395:D395),1)","v":0},{"$f":"'ចំណាយ-ថវិការដ្ឋ'!C395","v":0},{"$f":"'ចំណាយ-ថវិការដ្ឋ'!D395","v":0},0,{"$f":"'ចំណាយ-ថវិការដ្ឋ'!F395","v":0},{"$f":"'ចំណាយ-ថវិការដ្ឋ'!G395","v":0},0,{"$f":"'ចំណាយ-ថវិការដ្ឋ'!I395","v":0},{"$f":"'ចំណាយ-ថវិការដ្ឋ'!J395","v":0},0,{"$f":"'ចំណាយ-ថវិការដ្ឋ'!L395","v":0},{"$f":"'ចំណាយ-ថវិការដ្ឋ'!M395","v":0}]
[{"$f":"Update_8!C615","v":0},0,{"$f":"'ចំណាយ-ថវិការដ្ឋ'!C396","v":0},{"$f":"'ចំណាយ-ថវិការដ្ឋ'!D396","v":0},0,{"$f":"'ចំណាយ-ថវិការដ្ឋ'!F396","v":0},{"$f":"'ចំណាយ-ថវិការដ្ឋ'!G396","v":0},0,{"$f":"'ចំណាយ-ថវិការដ្ឋ'!I396","v":0},{"$f":"'ចំណាយ-ថវិការដ្ឋ'!J396","v":0},0,{"$f":"'ចំណាយ-ថវិការដ្ឋ'!L396","v":0},{"$f":"'ចំណាយ-ថវិការដ្ឋ'!M396","v":0}]
[{"$f":"Update_8!C616","v":0},0,{"$f":"'ចំណាយ-ថវិការដ្ឋ'!C397","v":0},{"$f":"'ចំណាយ-ថវិការដ្ឋ'!D397","v":0},0,{"$f":"'ចំណាយ-ថវិការដ្ឋ'!F397","v":0},{"$f":"'ចំណាយ-ថវិការដ្ឋ'!G397","v":0},0,{"$f":"'ចំណាយ-ថវិការដ្ឋ'!I397","v":0},{"$f":"'ចំណាយ-ថវិការដ្ឋ'!J397","v":0},0,{"$f":"'ចំណាយ-ថវិការដ្ឋ'!L397","v":0},{"$f":"'ចំណាយ-ថវិការដ្ឋ'!M397","v":0}]
[{"$f":"Update_8!C617","v":0},0,{"$f":"'ចំណាយ-ថវិការដ្ឋ'!C398","v":0},{"$f":"'ចំណាយ-ថវិការដ្ឋ'!D398","v":0},0,{"$f":"'ចំណាយ-ថវិការដ្ឋ'!F398","v":0},{"$f":"'ចំណាយ-ថវិការដ្ឋ'!G398","v":0},0,{"$f":"'ចំណាយ-ថវិការដ្ឋ'!I398","v":0},{"$f":"'ចំណាយ-ថវិការដ្ឋ'!J398","v":0},0,{"$f":"'ចំណាយ-ថវិការដ្ឋ'!L398","v":0},{"$f":"'ចំណាយ-ថវិការដ្ឋ'!M398","v":0}]
[{"$f":"Update_8!C618","v":0},0,{"$f":"'ចំណាយ-ថវិការដ្ឋ'!C399","v":0},{"$f":"'ចំណាយ-ថវិការដ្ឋ'!D399","v":0},0,{"$f":"'ចំណាយ-ថវិការដ្ឋ'!F399","v":0},{"$f":"'ចំណាយ-ថវិការដ្ឋ'!G399","v":0},0,{"$f":"'ចំណាយ-ថវិការដ្ឋ'!I399","v":0},{"$f":"'ចំណាយ-ថវិការដ្ឋ'!J399","v":0},0,{"$f":"'ចំណាយ-ថវិការដ្ឋ'!L399","v":0},{"$f":"'ចំណាយ-ថវិការដ្ឋ'!M399","v":0}]
[{"$f":"Update_8!C619","v":0},0,{"$f":"'ចំណាយ-ថវិការដ្ឋ'!C400","v":0},{"$f":"'ចំណាយ-ថវិការដ្ឋ'!D400","v":0},0,{"$f":"'ចំណាយ-ថវិការដ្ឋ'!F400","v":0},{"$f":"'ចំណាយ-ថវិការដ្ឋ'!G400","v":0},0,{"$f":"'ចំណាយ-ថវិការដ្ឋ'!I400","v":0},{"$f":"'ចំណាយ-ថវិការដ្ឋ'!J400","v":0},0,{"$f":"'ចំណាយ-ថវិការដ្ឋ'!L400","v":0},{"$f":"'ចំណាយ-ថវិការដ្ឋ'!M400","v":0}]
[{"$f":"Update_8!C620","v":0},0,{"$f":"'ចំណាយ-ថវិការដ្ឋ'!C401","v":0},{"$f":"'ចំណាយ-ថវិការដ្ឋ'!D401","v":0},0,{"$f":"'ចំណាយ-ថវិការដ្ឋ'!F401","v":0},{"$f":"'ចំណាយ-ថវិការដ្ឋ'!G401","v":0},0,{"$f":"'ចំណាយ-ថវិការដ្ឋ'!I401","v":0},{"$f":"'ចំណាយ-ថវិការដ្ឋ'!J401","v":0},0,{"$f":"'ចំណាយ-ថវិការដ្ឋ'!L401","v":0},{"$f":"'ចំណាយ-ថវិការដ្ឋ'!M401","v":0}]
[{"$f":"Update_8!C621","v":0},0,{"$f":"'ចំណាយ-ថវិការដ្ឋ'!C402","v":0},{"$f":"'ចំណាយ-ថវិការដ្ឋ'!D402","v":0},0,{"$f":"'ចំណាយ-ថវិការដ្ឋ'!F402","v":0},{"$f":"'ចំណាយ-ថវិការដ្ឋ'!G402","v":0},0,{"$f":"'ចំណាយ-ថវិការដ្ឋ'!I402","v":0},{"$f":"'ចំណាយ-ថវិការដ្ឋ'!J402","v":0},0,{"$f":"'ចំណាយ-ថវិការដ្ឋ'!L402","v":0},{"$f":"'ចំណាយ-ថវិការដ្ឋ'!M402","v":0}]
[{"$f":"Update_8!C622","v":0},0,{"$f":"'ចំណាយ-ថវិការដ្ឋ'!C403","v":0},{"$f":"'ចំណាយ-ថវិការដ្ឋ'!D403","v":0},0,{"$f":"'ចំណាយ-ថវិការដ្ឋ'!F403","v":0},{"$f":"'ចំណាយ-ថវិការដ្ឋ'!G403","v":0},0,{"$f":"'ចំណាយ-ថវិការដ្ឋ'!I403","v":0},{"$f":"'ចំណាយ-ថវិការដ្ឋ'!J403","v":0},0,{"$f":"'ចំណាយ-ថវិការដ្ឋ'!L403","v":0},{"$f":"'ចំណាយ-ថវិការដ្ឋ'!M403","v":0}]
[{"$f":"cluster_activity_2","v":"សកម្មភាពរង ទី ២៖ ធានាភាពស័ក្តិសិទ្ធនៃភាពជាអ្នកដឹកនាំ និងគ្រប់គ្រងរបស់មន្ត្រី អប់រំគ្រប់លំដាប់ថ្នាក់"},{"$f":"ROUND(SUM(B405:B414),1)","v":0},{"$f":"ROUND(SUM(C405:C414),1)","v":0},{"$f":"ROUND(SUM(D405:D414),1)","v":0},{"$f":"ROUND(SUM(E405:E414),1)","v":0},0,0,0,0,0,{"$f":"ROUND(SUM(K405:K414),1)","v":0},{"$f":"ROUND(SUM(L405:L414),1)","v":0},{"$f":"ROUND(SUM(M405:M414),1)","v":0}]
[{"$f":"Update_8!C623","v":"១. កិច្ចដំណើការអង្គភាព"},{"$f":"ROUND(SUM(C405:D405),1)","v":0},{"$f":"'ចំណាយ-ថវិការដ្ឋ'!C405","v":0},{"$f":"'ចំណាយ-ថវិការដ្ឋ'!D405","v":0},{"$f":"ROUND(SUM(F405:G405),1)","v":0},{"$f":"'ចំណាយ-ថវិការដ្ឋ'!F405","v":0},{"$f":"'ចំណាយ-ថវិការដ្ឋ'!G405","v":0},{"$f":"ROUND(SUM(I405:J405),1)","v":0},{"$f":"'ចំណាយ-ថវិការដ្ឋ'!I405","v":0},{"$f":"'ចំណាយ-ថវិការដ្ឋ'!J405","v":0},{"$f":"ROUND(SUM(L405:M405),1)","v":0},{"$f":"'ចំណាយ-ថវិការដ្ឋ'!L405","v":0},{"$f":"'ចំណាយ-ថវិការដ្ឋ'!M405","v":0}]
[{"$f":"Update_8!C624","v":"២. ថវិកាលទ្ធកម្ម"},{"$f":"ROUND(SUM(C406:D406),1)","v":0},{"$f":"'ចំណាយ-ថវិការដ្ឋ'!C406","v":0},{"$f":"'ចំណាយ-ថវិការដ្ឋ'!D406","v":0},0,{"$f":"'ចំណាយ-ថវិការដ្ឋ'!F406","v":0},{"$f":"'ចំណាយ-ថវិការដ្ឋ'!G406","v":0},0,{"$f":"'ចំណាយ-ថវិការដ្ឋ'!I406","v":0},{"$f":"'ចំណាយ-ថវិការដ្ឋ'!J406","v":0},0,{"$f":"'ចំណាយ-ថវិការដ្ឋ'!L406","v":0},{"$f":"'ចំណាយ-ថវិការដ្ឋ'!M406","v":0}]
[{"$f":"Update_8!C625","v":"៣. ពិនិត្យតាមដាន និងវាយតម្លៃ"},0,{"$f":"'ចំណាយ-ថវិការដ្ឋ'!C407","v":0},{"$f":"'ចំណាយ-ថវិការដ្ឋ'!D407","v":0},0,{"$f":"'ចំណាយ-ថវិការដ្ឋ'!F407","v":0},{"$f":"'ចំណាយ-ថវិការដ្ឋ'!G407","v":0},0,{"$f":"'ចំណាយ-ថវិការដ្ឋ'!I407","v":0},{"$f":"'ចំណាយ-ថវិការដ្ឋ'!J407","v":0},0,{"$f":"'ចំណាយ-ថវិការដ្ឋ'!L407","v":0},{"$f":"'ចំណាយ-ថវិការដ្ឋ'!M407","v":0}]
[{"$f":"Update_8!C626","v":"៤. កសាងផែនការយុទ្ធសាស្រ្ត និងផែនការប្រតិបត្តិ"},0,{"$f":"'ចំណាយ-ថវិការដ្ឋ'!C408","v":0},{"$f":"'ចំណាយ-ថវិការដ្ឋ'!D408","v":0},0,{"$f":"'ចំណាយ-ថវិការដ្ឋ'!F408","v":0},{"$f":"'ចំណាយ-ថវិការដ្ឋ'!G408","v":0},0,{"$f":"'ចំណាយ-ថវិការដ្ឋ'!I408","v":0},{"$f":"'ចំណាយ-ថវិការដ្ឋ'!J408","v":0},0,{"$f":"'ចំណាយ-ថវិការដ្ឋ'!L408","v":0},{"$f":"'ចំណាយ-ថវិការដ្ឋ'!M408","v":0}]
[{"$f":"Update_8!C627","v":"៥. អភិវឌ្ឍសមត្ថភាពស្ថាប័ន មន្រ្តី និងប្រព័ន្ធផែនការអប់រំគ្រប់កម្រិតថ្នាក់"},0,{"$f":"'ចំណាយ-ថវិការដ្ឋ'!C409","v":0},{"$f":"'ចំណាយ-ថវិការដ្ឋ'!D409","v":0},0,{"$f":"'ចំណាយ-ថវិការដ្ឋ'!F409","v":0},{"$f":"'ចំណាយ-ថវិការដ្ឋ'!G409","v":0},0,{"$f":"'ចំណាយ-ថវិការដ្ឋ'!I409","v":0},{"$f":"'ចំណាយ-ថវិការដ្ឋ'!J409","v":0},0,{"$f":"'ចំណាយ-ថវិការដ្ឋ'!L409","v":0},{"$f":"'ចំណាយ-ថវិការដ្ឋ'!M409","v":0}]
[{"$f":"Update_8!C628","v":"៦. ពង្រឹង និងពង្រីកកិច្ចសហប្រតិបត្តិការជាតិ និងអន្តរជាតិ"},0,{"$f":"'ចំណាយ-ថវិការដ្ឋ'!C410","v":0},{"$f":"'ចំណាយ-ថវិការដ្ឋ'!D410","v":0},0,{"$f":"'ចំណាយ-ថវិការដ្ឋ'!F410","v":0},{"$f":"'ចំណាយ-ថវិការដ្ឋ'!G410","v":0},0,{"$f":"'ចំណាយ-ថវិការដ្ឋ'!I410","v":0},{"$f":"'ចំណាយ-ថវិការដ្ឋ'!J410","v":0},0,{"$f":"'ចំណាយ-ថវិការដ្ឋ'!L410","v":0},{"$f":"'ចំណាយ-ថវិការដ្ឋ'!M410","v":0}]
[{"$f":"Update_8!C629","v":0},0,{"$f":"'ចំណាយ-ថវិការដ្ឋ'!C411","v":0},{"$f":"'ចំណាយ-ថវិការដ្ឋ'!D411","v":0},0,{"$f":"'ចំណាយ-ថវិការដ្ឋ'!F411","v":0},{"$f":"'ចំណាយ-ថវិការដ្ឋ'!G411","v":0},0,{"$f":"'ចំណាយ-ថវិការដ្ឋ'!I411","v":0},{"$f":"'ចំណាយ-ថវិការដ្ឋ'!J411","v":0},0,{"$f":"'ចំណាយ-ថវិការដ្ឋ'!L411","v":0},{"$f":"'ចំណាយ-ថវិការដ្ឋ'!M411","v":0}]
[{"$f":"Update_8!C630","v":0},0,{"$f":"'ចំណាយ-ថវិការដ្ឋ'!C412","v":0},{"$f":"'ចំណាយ-ថវិការដ្ឋ'!D412","v":0},0,{"$f":"'ចំណាយ-ថវិការដ្ឋ'!F412","v":0},{"$f":"'ចំណាយ-ថវិការដ្ឋ'!G412","v":0},0,{"$f":"'ចំណាយ-ថវិការដ្ឋ'!I412","v":0},{"$f":"'ចំណាយ-ថវិការដ្ឋ'!J412","v":0},0,{"$f":"'ចំណាយ-ថវិការដ្ឋ'!L412","v":0},{"$f":"'ចំណាយ-ថវិការដ្ឋ'!M412","v":0}]
[{"$f":"Update_8!C631","v":0},0,{"$f":"'ចំណាយ-ថវិការដ្ឋ'!C413","v":0},{"$f":"'ចំណាយ-ថវិការដ្ឋ'!D413","v":0},0,{"$f":"'ចំណាយ-ថវិការដ្ឋ'!F413","v":0},{"$f":"'ចំណាយ-ថវិការដ្ឋ'!G413","v":0},0,{"$f":"'ចំណាយ-ថវិការដ្ឋ'!I413","v":0},{"$f":"'ចំណាយ-ថវិការដ្ឋ'!J413","v":0},0,{"$f":"'ចំណាយ-ថវិការដ្ឋ'!L413","v":0},{"$f":"'ចំណាយ-ថវិការដ្ឋ'!M413","v":0}]
[{"$f":"Update_8!C632","v":0},0,{"$f":"'ចំណាយ-ថវិការដ្ឋ'!C414","v":0},{"$f":"'ចំណាយ-ថវិការដ្ឋ'!D414","v":0},0,{"$f":"'ចំណាយ-ថវិការដ្ឋ'!F414","v":0},{"$f":"'ចំណាយ-ថវិការដ្ឋ'!G414","v":0},0,{"$f":"'ចំណាយ-ថវិការដ្ឋ'!I414","v":0},{"$f":"'ចំណាយ-ថវិការដ្ឋ'!J414","v":0},0,{"$f":"'ចំណាយ-ថវិការដ្ឋ'!L414","v":0},{"$f":"'ចំណាយ-ថវិការដ្ឋ'!M414","v":0}]
[{"$f":"ព័ត៌មានអង្គភាព!C32","v":"៥.១៨.០១.២៖ ការគ្រប់គ្រង និងពង្រឹងប្រសិទ្ធភាពធនធានមនុស្ស"},{"$f":"SUM(B416,B427)","v":0},{"$f":"SUM(C416,C427)","v":0},0,0,0,0,0,0,0,0,0,0]
[{"$f":"cluster_activity_1","v":"សកម្មភាពរង ទី ១៖ ធានាឱ្យការអប់រំមានគុណភាព ប្រកបដោយសមធម៌ បរិយាបន្ន និងលើកកម្ពស់ឱកាសក្នុងការសិក្សាពេញមួយជីវិត"},{"$f":"ROUND(SUM(B417:B426),1)","v":0},{"$f":"ROUND(SUM(C417:C426),1)","v":0},{"$f":"ROUND(SUM(D417:D426),1)","v":0},0,0,0,0,0,0,0,0,0]
[{"$f":"Update_8!C633","v":0},{"$f":"ROUND(SUM(C417:D417),1)","v":0},{"$f":"'ចំណាយ-ថវិការដ្ឋ'!C417","v":0},{"$f":"'ចំណាយ-ថវិការដ្ឋ'!D417","v":0},{"$f":"ROUND(SUM(F417:G417),1)","v":0},{"$f":"'ចំណាយ-ថវិការដ្ឋ'!F417","v":0},{"$f":"'ចំណាយ-ថវិការដ្ឋ'!G417","v":0},{"$f":"ROUND(SUM(I417:J417),1)","v":0},{"$f":"'ចំណាយ-ថវិការដ្ឋ'!I417","v":0},{"$f":"'ចំណាយ-ថវិការដ្ឋ'!J417","v":0},{"$f":"ROUND(SUM(L417:M417),1)","v":0},{"$f":"'ចំណាយ-ថវិការដ្ឋ'!L417","v":0},{"$f":"'ចំណាយ-ថវិការដ្ឋ'!M417","v":0}]
[{"$f":"Update_8!C634","v":0},{"$f":"ROUND(SUM(C418:D418),1)","v":0},{"$f":"'ចំណាយ-ថវិការដ្ឋ'!C418","v":0},{"$f":"'ចំណាយ-ថវិការដ្ឋ'!D418","v":0},0,{"$f":"'ចំណាយ-ថវិការដ្ឋ'!F418","v":0},{"$f":"'ចំណាយ-ថវិការដ្ឋ'!G418","v":0},0,{"$f":"'ចំណាយ-ថវិការដ្ឋ'!I418","v":0},{"$f":"'ចំណាយ-ថវិការដ្ឋ'!J418","v":0},0,{"$f":"'ចំណាយ-ថវិការដ្ឋ'!L418","v":0},{"$f":"'ចំណាយ-ថវិការដ្ឋ'!M418","v":0}]
[{"$f":"Update_8!C635","v":0},0,{"$f":"'ចំណាយ-ថវិការដ្ឋ'!C419","v":0},{"$f":"'ចំណាយ-ថវិការដ្ឋ'!D419","v":0},0,{"$f":"'ចំណាយ-ថវិការដ្ឋ'!F419","v":0},{"$f":"'ចំណាយ-ថវិការដ្ឋ'!G419","v":0},0,{"$f":"'ចំណាយ-ថវិការដ្ឋ'!I419","v":0},{"$f":"'ចំណាយ-ថវិការដ្ឋ'!J419","v":0},0,{"$f":"'ចំណាយ-ថវិការដ្ឋ'!L419","v":0},{"$f":"'ចំណាយ-ថវិការដ្ឋ'!M419","v":0}]
[{"$f":"Update_8!C636","v":0},0,{"$f":"'ចំណាយ-ថវិការដ្ឋ'!C420","v":0},{"$f":"'ចំណាយ-ថវិការដ្ឋ'!D420","v":0},0,{"$f":"'ចំណាយ-ថវិការដ្ឋ'!F420","v":0},{"$f":"'ចំណាយ-ថវិការដ្ឋ'!G420","v":0},0,{"$f":"'ចំណាយ-ថវិការដ្ឋ'!I420","v":0},{"$f":"'ចំណាយ-ថវិការដ្ឋ'!J420","v":0},0,{"$f":"'ចំណាយ-ថវិការដ្ឋ'!L420","v":0},{"$f":"'ចំណាយ-ថវិការដ្ឋ'!M420","v":0}]
[{"$f":"Update_8!C637","v":0},0,{"$f":"'ចំណាយ-ថវិការដ្ឋ'!C421","v":0},{"$f":"'ចំណាយ-ថវិការដ្ឋ'!D421","v":0},0,{"$f":"'ចំណាយ-ថវិការដ្ឋ'!F421","v":0},{"$f":"'ចំណាយ-ថវិការដ្ឋ'!G421","v":0},0,{"$f":"'ចំណាយ-ថវិការដ្ឋ'!I421","v":0},{"$f":"'ចំណាយ-ថវិការដ្ឋ'!J421","v":0},0,{"$f":"'ចំណាយ-ថវិការដ្ឋ'!L421","v":0},{"$f":"'ចំណាយ-ថវិការដ្ឋ'!M421","v":0}]
[{"$f":"Update_8!C638","v":0},0,{"$f":"'ចំណាយ-ថវិការដ្ឋ'!C422","v":0},{"$f":"'ចំណាយ-ថវិការដ្ឋ'!D422","v":0},0,{"$f":"'ចំណាយ-ថវិការដ្ឋ'!F422","v":0},{"$f":"'ចំណាយ-ថវិការដ្ឋ'!G422","v":0},0,{"$f":"'ចំណាយ-ថវិការដ្ឋ'!I422","v":0},{"$f":"'ចំណាយ-ថវិការដ្ឋ'!J422","v":0},0,{"$f":"'ចំណាយ-ថវិការដ្ឋ'!L422","v":0},{"$f":"'ចំណាយ-ថវិការដ្ឋ'!M422","v":0}]
[{"$f":"Update_8!C639","v":0},0,{"$f":"'ចំណាយ-ថវិការដ្ឋ'!C423","v":0},{"$f":"'ចំណាយ-ថវិការដ្ឋ'!D423","v":0},0,{"$f":"'ចំណាយ-ថវិការដ្ឋ'!F423","v":0},{"$f":"'ចំណាយ-ថវិការដ្ឋ'!G423","v":0},0,{"$f":"'ចំណាយ-ថវិការដ្ឋ'!I423","v":0},{"$f":"'ចំណាយ-ថវិការដ្ឋ'!J423","v":0},0,{"$f":"'ចំណាយ-ថវិការដ្ឋ'!L423","v":0},{"$f":"'ចំណាយ-ថវិការដ្ឋ'!M423","v":0}]
[{"$f":"Update_8!C640","v":0},0,{"$f":"'ចំណាយ-ថវិការដ្ឋ'!C424","v":0},{"$f":"'ចំណាយ-ថវិការដ្ឋ'!D424","v":0},0,{"$f":"'ចំណាយ-ថវិការដ្ឋ'!F424","v":0},{"$f":"'ចំណាយ-ថវិការដ្ឋ'!G424","v":0},0,{"$f":"'ចំណាយ-ថវិការដ្ឋ'!I424","v":0},{"$f":"'ចំណាយ-ថវិការដ្ឋ'!J424","v":0},0,{"$f":"'ចំណាយ-ថវិការដ្ឋ'!L424","v":0},{"$f":"'ចំណាយ-ថវិការដ្ឋ'!M424","v":0}]
[{"$f":"Update_8!C641","v":0},0,{"$f":"'ចំណាយ-ថវិការដ្ឋ'!C425","v":0},{"$f":"'ចំណាយ-ថវិការដ្ឋ'!D425","v":0},0,{"$f":"'ចំណាយ-ថវិការដ្ឋ'!F425","v":0},{"$f":"'ចំណាយ-ថវិការដ្ឋ'!G425","v":0},0,{"$f":"'ចំណាយ-ថវិការដ្ឋ'!I425","v":0},{"$f":"'ចំណាយ-ថវិការដ្ឋ'!J425","v":0},0,{"$f":"'ចំណាយ-ថវិការដ្ឋ'!L425","v":0},{"$f":"'ចំណាយ-ថវិការដ្ឋ'!M425","v":0}]
[{"$f":"Update_8!C642","v":0},0,{"$f":"'ចំណាយ-ថវិការដ្ឋ'!C426","v":0},{"$f":"'ចំណាយ-ថវិការដ្ឋ'!D426","v":0},0,{"$f":"'ចំណាយ-ថវិការដ្ឋ'!F426","v":0},{"$f":"'ចំណាយ-ថវិការដ្ឋ'!G426","v":0},0,{"$f":"'ចំណាយ-ថវិការដ្ឋ'!I426","v":0},{"$f":"'ចំណាយ-ថវិការដ្ឋ'!J426","v":0},0,{"$f":"'ចំណាយ-ថវិការដ្ឋ'!L426","v":0},{"$f":"'ចំណាយ-ថវិការដ្ឋ'!M426","v":0}]
[{"$f":"cluster_activity_2","v":"សកម្មភាពរង ទី ២៖ ធានាភាពស័ក្តិសិទ្ធនៃភាពជាអ្នកដឹកនាំ និងគ្រប់គ្រងរបស់មន្ត្រី អប់រំគ្រប់លំដាប់ថ្នាក់"},{"$f":"ROUND(SUM(B428:B437),1)","v":0},{"$f":"ROUND(SUM(C428:C437),1)","v":0},{"$f":"ROUND(SUM(D428:D437),1)","v":0},{"$f":"ROUND(SUM(E428:E437),1)","v":0},0,0,0,0,0,{"$f":"ROUND(SUM(K428:K437),1)","v":0},{"$f":"ROUND(SUM(L428:L437),1)","v":0},{"$f":"ROUND(SUM(M428:M437),1)","v":0}]
[{"$f":"Update_8!C643","v":"១. ដំណើរការអង្គភាព"},{"$f":"ROUND(SUM(C428:D428),1)","v":0},{"$f":"'ចំណាយ-ថវិការដ្ឋ'!C428","v":0},{"$f":"'ចំណាយ-ថវិការដ្ឋ'!D428","v":0},{"$f":"ROUND(SUM(F428:G428),1)","v":0},{"$f":"'ចំណាយ-ថវិការដ្ឋ'!F428","v":0},{"$f":"'ចំណាយ-ថវិការដ្ឋ'!G428","v":0},{"$f":"ROUND(SUM(I428:J428),1)","v":0},{"$f":"'ចំណាយ-ថវិការដ្ឋ'!I428","v":0},{"$f":"'ចំណាយ-ថវិការដ្ឋ'!J428","v":0},{"$f":"ROUND(SUM(L428:M428),1)","v":0},{"$f":"'ចំណាយ-ថវិការដ្ឋ'!L428","v":0},{"$f":"'ចំណាយ-ថវិការដ្ឋ'!M428","v":0}]
[{"$f":"Update_8!C644","v":"២. ថវិកាលទ្ធកម្ម"},{"$f":"ROUND(SUM(C429:D429),1)","v":0},{"$f":"'ចំណាយ-ថវិការដ្ឋ'!C429","v":0},{"$f":"'ចំណាយ-ថវិការដ្ឋ'!D429","v":0},0,{"$f":"'ចំណាយ-ថវិការដ្ឋ'!F429","v":0},{"$f":"'ចំណាយ-ថវិការដ្ឋ'!G429","v":0},0,{"$f":"'ចំណាយ-ថវិការដ្ឋ'!I429","v":0},{"$f":"'ចំណាយ-ថវិការដ្ឋ'!J429","v":0},0,{"$f":"'ចំណាយ-ថវិការដ្ឋ'!L429","v":0},{"$f":"'ចំណាយ-ថវិការដ្ឋ'!M429","v":0}]
[{"$f":"Update_8!C645","v":"៣. ពង្រឹងប្រសិទ្ធភាព ការគ្រប់គ្រងធនធានមនុស្ស"},0,{"$f":"'ចំណាយ-ថវិការដ្ឋ'!C430","v":0},{"$f":"'ចំណាយ-ថវិការដ្ឋ'!D430","v":0},0,{"$f":"'ចំណាយ-ថវិការដ្ឋ'!F430","v":0},{"$f":"'ចំណាយ-ថវិការដ្ឋ'!G430","v":0},0,{"$f":"'ចំណាយ-ថវិការដ្ឋ'!I430","v":0},{"$f":"'ចំណាយ-ថវិការដ្ឋ'!J430","v":0},0,{"$f":"'ចំណាយ-ថវិការដ្ឋ'!L430","v":0},{"$f":"'ចំណាយ-ថវិការដ្ឋ'!M430","v":0}]
[{"$f":"Update_8!C646","v":"៤. ប្រាក់បៀវត្ស"},0,{"$f":"'ចំណាយ-ថវិការដ្ឋ'!C431","v":0},{"$f":"'ចំណាយ-ថវិការដ្ឋ'!D431","v":0},0,{"$f":"'ចំណាយ-ថវិការដ្ឋ'!F431","v":0},{"$f":"'ចំណាយ-ថវិការដ្ឋ'!G431","v":0},0,{"$f":"'ចំណាយ-ថវិការដ្ឋ'!I431","v":0},{"$f":"'ចំណាយ-ថវិការដ្ឋ'!J431","v":0},0,{"$f":"'ចំណាយ-ថវិការដ្ឋ'!L431","v":0},{"$f":"'ចំណាយ-ថវិការដ្ឋ'!M431","v":0}]
[{"$f":"Update_8!C647","v":"៥. កម្មវិធីគាំទ្រការងារពង្រាយគ្រូ"},0,{"$f":"'ចំណាយ-ថវិការដ្ឋ'!C432","v":0},{"$f":"'ចំណាយ-ថវិការដ្ឋ'!D432","v":0},0,{"$f":"'ចំណាយ-ថវិការដ្ឋ'!F432","v":0},{"$f":"'ចំណាយ-ថវិការដ្ឋ'!G432","v":0},0,{"$f":"'ចំណាយ-ថវិការដ្ឋ'!I432","v":0},{"$f":"'ចំណាយ-ថវិការដ្ឋ'!J432","v":0},0,{"$f":"'ចំណាយ-ថវិការដ្ឋ'!L432","v":0},{"$f":"'ចំណាយ-ថវិការដ្ឋ'!M432","v":0}]
[{"$f":"Update_8!C648","v":"៦. ឧបត្ថម្ភជីវភាពគ្រូបង្រៀននៅតំបន់ដាច់ស្រយាល និង​តំបន់ជួបការលំបាក"},0,{"$f":"'ចំណាយ-ថវិការដ្ឋ'!C433","v":0},{"$f":"'ចំណាយ-ថវិការដ្ឋ'!D433","v":0},0,{"$f":"'ចំណាយ-ថវិការដ្ឋ'!F433","v":0},{"$f":"'ចំណាយ-ថវិការដ្ឋ'!G433","v":0},0,{"$f":"'ចំណាយ-ថវិការដ្ឋ'!I433","v":0},{"$f":"'ចំណាយ-ថវិការដ្ឋ'!J433","v":0},0,{"$f":"'ចំណាយ-ថវិការដ្ឋ'!L433","v":0},{"$f":"'ចំណាយ-ថវិការដ្ឋ'!M433","v":0}]
[{"$f":"Update_8!C649","v":"៧. ពង្រឹងសមត្ថភាពធនធានមនុស្ស"},0,{"$f":"'ចំណាយ-ថវិការដ្ឋ'!C434","v":0},{"$f":"'ចំណាយ-ថវិការដ្ឋ'!D434","v":0},0,{"$f":"'ចំណាយ-ថវិការដ្ឋ'!F434","v":0},{"$f":"'ចំណាយ-ថវិការដ្ឋ'!G434","v":0},0,{"$f":"'ចំណាយ-ថវិការដ្ឋ'!I434","v":0},{"$f":"'ចំណាយ-ថវិការដ្ឋ'!J434","v":0},0,{"$f":"'ចំណាយ-ថវិការដ្ឋ'!L434","v":0},{"$f":"'ចំណាយ-ថវិការដ្ឋ'!M434","v":0}]
[{"$f":"Update_8!C650","v":"៨. ផ្សារភ្ជាប់ការវាយតម្លៃគ្រូបង្រៀន ទៅនឹងការងារវិក្រឹតការ និងការដំឡើងថ្នាក់"},0,{"$f":"'ចំណាយ-ថវិការដ្ឋ'!C435","v":0},{"$f":"'ចំណាយ-ថវិការដ្ឋ'!D435","v":0},0,{"$f":"'ចំណាយ-ថវិការដ្ឋ'!F435","v":0},{"$f":"'ចំណាយ-ថវិការដ្ឋ'!G435","v":0},0,{"$f":"'ចំណាយ-ថវិការដ្ឋ'!I435","v":0},{"$f":"'ចំណាយ-ថវិការដ្ឋ'!J435","v":0},0,{"$f":"'ចំណាយ-ថវិការដ្ឋ'!L435","v":0},{"$f":"'ចំណាយ-ថវិការដ្ឋ'!M435","v":0}]
[{"$f":"Update_8!C651","v":"៩. ការប្រឡងជ្រើសរើសគ្រូបង្រៀនឧត្តមសិក្សា"},0,{"$f":"'ចំណាយ-ថវិការដ្ឋ'!C436","v":0},{"$f":"'ចំណាយ-ថវិការដ្ឋ'!D436","v":0},0,{"$f":"'ចំណាយ-ថវិការដ្ឋ'!F436","v":0},{"$f":"'ចំណាយ-ថវិការដ្ឋ'!G436","v":0},0,{"$f":"'ចំណាយ-ថវិការដ្ឋ'!I436","v":0},{"$f":"'ចំណាយ-ថវិការដ្ឋ'!J436","v":0},0,{"$f":"'ចំណាយ-ថវិការដ្ឋ'!L436","v":0},{"$f":"'ចំណាយ-ថវិការដ្ឋ'!M436","v":0}]
[{"$f":"Update_8!C652","v":"១០. ពង្រឹងប្រសិទ្ធភាពក្នុងការប្រើប្រាស់ប្រព័ន្ធព័ត៌មានគ្រប់គ្រងធនធានមនុស្ស (HRMIS) លើការគ្រប់គ្រងបុគ្គលិកអប់រំ"},0,{"$f":"'ចំណាយ-ថវិការដ្ឋ'!C437","v":0},{"$f":"'ចំណាយ-ថវិការដ្ឋ'!D437","v":0},0,{"$f":"'ចំណាយ-ថវិការដ្ឋ'!F437","v":0},{"$f":"'ចំណាយ-ថវិការដ្ឋ'!G437","v":0},0,{"$f":"'ចំណាយ-ថវិការដ្ឋ'!I437","v":0},{"$f":"'ចំណាយ-ថវិការដ្ឋ'!J437","v":0},0,{"$f":"'ចំណាយ-ថវិការដ្ឋ'!L437","v":0},{"$f":"'ចំណាយ-ថវិការដ្ឋ'!M437","v":0}]
[{"$f":"ព័ត៌មានអង្គភាព!C33","v":"៥.១៨.០១.៣៖ ការអភិវឌ្ឍសមត្ថភាព ការងារគ្រប់គ្រង ផែនការហិរញ្ញវត្ថុ និងមូលដ្ឋានសម្ភារៈ"},{"$f":"SUM(B439,B450)","v":0},{"$f":"SUM(C439,C450)","v":0},0,0,0,0,0,0,0,0,0,0]
[{"$f":"cluster_activity_1","v":"សកម្មភាពរង ទី ១៖ ធានាឱ្យការអប់រំមានគុណភាព ប្រកបដោយសមធម៌ បរិយាបន្ន និងលើកកម្ពស់ឱកាសក្នុងការសិក្សាពេញមួយជីវិត"},{"$f":"ROUND(SUM(B440:B449),1)","v":0},{"$f":"ROUND(SUM(C440:C449),1)","v":0},{"$f":"ROUND(SUM(D440:D449),1)","v":0},0,0,0,0,0,0,0,0,0]
[{"$f":"Update_8!C653","v":"១. ចំណាយលើអត្ថប្រយោជន៍សង្គម"},{"$f":"ROUND(SUM(C440:D440),1)","v":0},{"$f":"'ចំណាយ-ថវិការដ្ឋ'!C440","v":0},{"$f":"'ចំណាយ-ថវិការដ្ឋ'!D440","v":0},{"$f":"ROUND(SUM(F440:G440),1)","v":0},{"$f":"'ចំណាយ-ថវិការដ្ឋ'!F440","v":0},{"$f":"'ចំណាយ-ថវិការដ្ឋ'!G440","v":0},{"$f":"ROUND(SUM(I440:J440),1)","v":0},{"$f":"'ចំណាយ-ថវិការដ្ឋ'!I440","v":0},{"$f":"'ចំណាយ-ថវិការដ្ឋ'!J440","v":0},{"$f":"ROUND(SUM(L440:M440),1)","v":0},{"$f":"'ចំណាយ-ថវិការដ្ឋ'!L440","v":0},{"$f":"'ចំណាយ-ថវិការដ្ឋ'!M440","v":0}]
[{"$f":"Update_8!C654","v":0},{"$f":"ROUND(SUM(C441:D441),1)","v":0},{"$f":"'ចំណាយ-ថវិការដ្ឋ'!C441","v":0},{"$f":"'ចំណាយ-ថវិការដ្ឋ'!D441","v":0},0,{"$f":"'ចំណាយ-ថវិការដ្ឋ'!F441","v":0},{"$f":"'ចំណាយ-ថវិការដ្ឋ'!G441","v":0},0,{"$f":"'ចំណាយ-ថវិការដ្ឋ'!I441","v":0},{"$f":"'ចំណាយ-ថវិការដ្ឋ'!J441","v":0},0,{"$f":"'ចំណាយ-ថវិការដ្ឋ'!L441","v":0},{"$f":"'ចំណាយ-ថវិការដ្ឋ'!M441","v":0}]
[{"$f":"Update_8!C655","v":0},0,{"$f":"'ចំណាយ-ថវិការដ្ឋ'!C442","v":0},{"$f":"'ចំណាយ-ថវិការដ្ឋ'!D442","v":0},0,{"$f":"'ចំណាយ-ថវិការដ្ឋ'!F442","v":0},{"$f":"'ចំណាយ-ថវិការដ្ឋ'!G442","v":0},0,{"$f":"'ចំណាយ-ថវិការដ្ឋ'!I442","v":0},{"$f":"'ចំណាយ-ថវិការដ្ឋ'!J442","v":0},0,{"$f":"'ចំណាយ-ថវិការដ្ឋ'!L442","v":0},{"$f":"'ចំណាយ-ថវិការដ្ឋ'!M442","v":0}]
[{"$f":"Update_8!C656","v":0},0,{"$f":"'ចំណាយ-ថវិការដ្ឋ'!C443","v":0},{"$f":"'ចំណាយ-ថវិការដ្ឋ'!D443","v":0},0,{"$f":"'ចំណាយ-ថវិការដ្ឋ'!F443","v":0},{"$f":"'ចំណាយ-ថវិការដ្ឋ'!G443","v":0},0,{"$f":"'ចំណាយ-ថវិការដ្ឋ'!I443","v":0},{"$f":"'ចំណាយ-ថវិការដ្ឋ'!J443","v":0},0,{"$f":"'ចំណាយ-ថវិការដ្ឋ'!L443","v":0},{"$f":"'ចំណាយ-ថវិការដ្ឋ'!M443","v":0}]
[{"$f":"Update_8!C657","v":0},0,{"$f":"'ចំណាយ-ថវិការដ្ឋ'!C444","v":0},{"$f":"'ចំណាយ-ថវិការដ្ឋ'!D444","v":0},0,{"$f":"'ចំណាយ-ថវិការដ្ឋ'!F444","v":0},{"$f":"'ចំណាយ-ថវិការដ្ឋ'!G444","v":0},0,{"$f":"'ចំណាយ-ថវិការដ្ឋ'!I444","v":0},{"$f":"'ចំណាយ-ថវិការដ្ឋ'!J444","v":0},0,{"$f":"'ចំណាយ-ថវិការដ្ឋ'!L444","v":0},{"$f":"'ចំណាយ-ថវិការដ្ឋ'!M444","v":0}]
[{"$f":"Update_8!C658","v":0},0,{"$f":"'ចំណាយ-ថវិការដ្ឋ'!C445","v":0},{"$f":"'ចំណាយ-ថវិការដ្ឋ'!D445","v":0},0,{"$f":"'ចំណាយ-ថវិការដ្ឋ'!F445","v":0},{"$f":"'ចំណាយ-ថវិការដ្ឋ'!G445","v":0},0,{"$f":"'ចំណាយ-ថវិការដ្ឋ'!I445","v":0},{"$f":"'ចំណាយ-ថវិការដ្ឋ'!J445","v":0},0,{"$f":"'ចំណាយ-ថវិការដ្ឋ'!L445","v":0},{"$f":"'ចំណាយ-ថវិការដ្ឋ'!M445","v":0}]
[{"$f":"Update_8!C659","v":0},0,{"$f":"'ចំណាយ-ថវិការដ្ឋ'!C446","v":0},{"$f":"'ចំណាយ-ថវិការដ្ឋ'!D446","v":0},0,{"$f":"'ចំណាយ-ថវិការដ្ឋ'!F446","v":0},{"$f":"'ចំណាយ-ថវិការដ្ឋ'!G446","v":0},0,{"$f":"'ចំណាយ-ថវិការដ្ឋ'!I446","v":0},{"$f":"'ចំណាយ-ថវិការដ្ឋ'!J446","v":0},0,{"$f":"'ចំណាយ-ថវិការដ្ឋ'!L446","v":0},{"$f":"'ចំណាយ-ថវិការដ្ឋ'!M446","v":0}]
[{"$f":"Update_8!C660","v":0},0,{"$f":"'ចំណាយ-ថវិការដ្ឋ'!C447","v":0},{"$f":"'ចំណាយ-ថវិការដ្ឋ'!D447","v":0},0,{"$f":"'ចំណាយ-ថវិការដ្ឋ'!F447","v":0},{"$f":"'ចំណាយ-ថវិការដ្ឋ'!G447","v":0},0,{"$f":"'ចំណាយ-ថវិការដ្ឋ'!I447","v":0},{"$f":"'ចំណាយ-ថវិការដ្ឋ'!J447","v":0},0,{"$f":"'ចំណាយ-ថវិការដ្ឋ'!L447","v":0},{"$f":"'ចំណាយ-ថវិការដ្ឋ'!M447","v":0}]
[{"$f":"Update_8!C661","v":0},0,{"$f":"'ចំណាយ-ថវិការដ្ឋ'!C448","v":0},{"$f":"'ចំណាយ-ថវិការដ្ឋ'!D448","v":0},0,{"$f":"'ចំណាយ-ថវិការដ្ឋ'!F448","v":0},{"$f":"'ចំណាយ-ថវិការដ្ឋ'!G448","v":0},0,{"$f":"'ចំណាយ-ថវិការដ្ឋ'!I448","v":0},{"$f":"'ចំណាយ-ថវិការដ្ឋ'!J448","v":0},0,{"$f":"'ចំណាយ-ថវិការដ្ឋ'!L448","v":0},{"$f":"'ចំណាយ-ថវិការដ្ឋ'!M448","v":0}]
[{"$f":"Update_8!C662","v":0},0,{"$f":"'ចំណាយ-ថវិការដ្ឋ'!C449","v":0},{"$f":"'ចំណាយ-ថវិការដ្ឋ'!D449","v":0},0,{"$f":"'ចំណាយ-ថវិការដ្ឋ'!F449","v":0},{"$f":"'ចំណាយ-ថវិការដ្ឋ'!G449","v":0},0,{"$f":"'ចំណាយ-ថវិការដ្ឋ'!I449","v":0},{"$f":"'ចំណាយ-ថវិការដ្ឋ'!J449","v":0},0,{"$f":"'ចំណាយ-ថវិការដ្ឋ'!L449","v":0},{"$f":"'ចំណាយ-ថវិការដ្ឋ'!M449","v":0}]
[{"$f":"cluster_activity_2","v":"សកម្មភាពរង ទី ២៖ ធានាភាពស័ក្តិសិទ្ធនៃភាពជាអ្នកដឹកនាំ និងគ្រប់គ្រងរបស់មន្ត្រី អប់រំគ្រប់លំដាប់ថ្នាក់"},{"$f":"ROUND(SUM(B451:B460),1)","v":0},{"$f":"ROUND(SUM(C451:C460),1)","v":0},{"$f":"ROUND(SUM(D451:D460),1)","v":0},{"$f":"ROUND(SUM(E451:E460),1)","v":0},0,0,0,0,0,{"$f":"ROUND(SUM(K451:K460),1)","v":0},{"$f":"ROUND(SUM(L451:L460),1)","v":0},{"$f":"ROUND(SUM(M451:M460),1)","v":0}]
[{"$f":"Update_8!C663","v":"១. កិច្ចដំណើរការអង្គភាព"},{"$f":"ROUND(SUM(C451:D451),1)","v":0},{"$f":"'ចំណាយ-ថវិការដ្ឋ'!C451","v":0},{"$f":"'ចំណាយ-ថវិការដ្ឋ'!D451","v":0},{"$f":"ROUND(SUM(F451:G451),1)","v":0},{"$f":"'ចំណាយ-ថវិការដ្ឋ'!F451","v":0},{"$f":"'ចំណាយ-ថវិការដ្ឋ'!G451","v":0},{"$f":"ROUND(SUM(I451:J451),1)","v":0},{"$f":"'ចំណាយ-ថវិការដ្ឋ'!I451","v":0},{"$f":"'ចំណាយ-ថវិការដ្ឋ'!J451","v":0},{"$f":"ROUND(SUM(L451:M451),1)","v":0},{"$f":"'ចំណាយ-ថវិការដ្ឋ'!L451","v":0},{"$f":"'ចំណាយ-ថវិការដ្ឋ'!M451","v":0}]
[{"$f":"Update_8!C664","v":"២. ថវិកាលទ្ធកម្ម"},{"$f":"ROUND(SUM(C452:D452),1)","v":0},{"$f":"'ចំណាយ-ថវិការដ្ឋ'!C452","v":0},{"$f":"'ចំណាយ-ថវិការដ្ឋ'!D452","v":0},0,{"$f":"'ចំណាយ-ថវិការដ្ឋ'!F452","v":0},{"$f":"'ចំណាយ-ថវិការដ្ឋ'!G452","v":0},0,{"$f":"'ចំណាយ-ថវិការដ្ឋ'!I452","v":0},{"$f":"'ចំណាយ-ថវិការដ្ឋ'!J452","v":0},0,{"$f":"'ចំណាយ-ថវិការដ្ឋ'!L452","v":0},{"$f":"'ចំណាយ-ថវិការដ្ឋ'!M452","v":0}]
[{"$f":"Update_8!C665","v":"៣. ពិនិត្យតាមដាន និងវាយតម្លៃ"},0,{"$f":"'ចំណាយ-ថវិការដ្ឋ'!C453","v":0},{"$f":"'ចំណាយ-ថវិការដ្ឋ'!D453","v":0},0,{"$f":"'ចំណាយ-ថវិការដ្ឋ'!F453","v":0},{"$f":"'ចំណាយ-ថវិការដ្ឋ'!G453","v":0},0,{"$f":"'ចំណាយ-ថវិការដ្ឋ'!I453","v":0},{"$f":"'ចំណាយ-ថវិការដ្ឋ'!J453","v":0},0,{"$f":"'ចំណាយ-ថវិការដ្ឋ'!L453","v":0},{"$f":"'ចំណាយ-ថវិការដ្ឋ'!M453","v":0}]
[{"$f":"Update_8!C666","v":"៤. អភិវឌ្ឍស្ថាប័ននិងការលើកកម្ពស់សមត្ថភាពមន្រ្តី"},0,{"$f":"'ចំណាយ-ថវិការដ្ឋ'!C454","v":0},{"$f":"'ចំណាយ-ថវិការដ្ឋ'!D454","v":0},0,{"$f":"'ចំណាយ-ថវិការដ្ឋ'!F454","v":0},{"$f":"'ចំណាយ-ថវិការដ្ឋ'!G454","v":0},0,{"$f":"'ចំណាយ-ថវិការដ្ឋ'!I454","v":0},{"$f":"'ចំណាយ-ថវិការដ្ឋ'!J454","v":0},0,{"$f":"'ចំណាយ-ថវិការដ្ឋ'!L454","v":0},{"$f":"'ចំណាយ-ថវិការដ្ឋ'!M454","v":0}]
[{"$f":"Update_8!C667","v":"៥. ពង្រឹងយន្តការនិងអភិឌ្ឍប្រព័ន្ធព័ត៌មានវិទ្យាលើការគ្រប់គ្រងហិរញ្ញវត្ថុ"},0,{"$f":"'ចំណាយ-ថវិការដ្ឋ'!C455","v":0},{"$f":"'ចំណាយ-ថវិការដ្ឋ'!D455","v":0},0,{"$f":"'ចំណាយ-ថវិការដ្ឋ'!F455","v":0},{"$f":"'ចំណាយ-ថវិការដ្ឋ'!G455","v":0},0,{"$f":"'ចំណាយ-ថវិការដ្ឋ'!I455","v":0},{"$f":"'ចំណាយ-ថវិការដ្ឋ'!J455","v":0},0,{"$f":"'ចំណាយ-ថវិការដ្ឋ'!L455","v":0},{"$f":"'ចំណាយ-ថវិការដ្ឋ'!M455","v":0}]
[{"$f":"Update_8!C668","v":0},0,{"$f":"'ចំណាយ-ថវិការដ្ឋ'!C456","v":0},{"$f":"'ចំណាយ-ថវិការដ្ឋ'!D456","v":0},0,{"$f":"'ចំណាយ-ថវិការដ្ឋ'!F456","v":0},{"$f":"'ចំណាយ-ថវិការដ្ឋ'!G456","v":0},0,{"$f":"'ចំណាយ-ថវិការដ្ឋ'!I456","v":0},{"$f":"'ចំណាយ-ថវិការដ្ឋ'!J456","v":0},0,{"$f":"'ចំណាយ-ថវិការដ្ឋ'!L456","v":0},{"$f":"'ចំណាយ-ថវិការដ្ឋ'!M456","v":0}]
[{"$f":"Update_8!C669","v":0},0,{"$f":"'ចំណាយ-ថវិការដ្ឋ'!C457","v":0},{"$f":"'ចំណាយ-ថវិការដ្ឋ'!D457","v":0},0,{"$f":"'ចំណាយ-ថវិការដ្ឋ'!F457","v":0},{"$f":"'ចំណាយ-ថវិការដ្ឋ'!G457","v":0},0,{"$f":"'ចំណាយ-ថវិការដ្ឋ'!I457","v":0},{"$f":"'ចំណាយ-ថវិការដ្ឋ'!J457","v":0},0,{"$f":"'ចំណាយ-ថវិការដ្ឋ'!L457","v":0},{"$f":"'ចំណាយ-ថវិការដ្ឋ'!M457","v":0}]
[{"$f":"Update_8!C670","v":0},0,{"$f":"'ចំណាយ-ថវិការដ្ឋ'!C458","v":0},{"$f":"'ចំណាយ-ថវិការដ្ឋ'!D458","v":0},0,{"$f":"'ចំណាយ-ថវិការដ្ឋ'!F458","v":0},{"$f":"'ចំណាយ-ថវិការដ្ឋ'!G458","v":0},0,{"$f":"'ចំណាយ-ថវិការដ្ឋ'!I458","v":0},{"$f":"'ចំណាយ-ថវិការដ្ឋ'!J458","v":0},0,{"$f":"'ចំណាយ-ថវិការដ្ឋ'!L458","v":0},{"$f":"'ចំណាយ-ថវិការដ្ឋ'!M458","v":0}]
[{"$f":"Update_8!C671","v":0},0,{"$f":"'ចំណាយ-ថវិការដ្ឋ'!C459","v":0},{"$f":"'ចំណាយ-ថវិការដ្ឋ'!D459","v":0},0,{"$f":"'ចំណាយ-ថវិការដ្ឋ'!F459","v":0},{"$f":"'ចំណាយ-ថវិការដ្ឋ'!G459","v":0},0,{"$f":"'ចំណាយ-ថវិការដ្ឋ'!I459","v":0},{"$f":"'ចំណាយ-ថវិការដ្ឋ'!J459","v":0},0,{"$f":"'ចំណាយ-ថវិការដ្ឋ'!L459","v":0},{"$f":"'ចំណាយ-ថវិការដ្ឋ'!M459","v":0}]
[{"$f":"Update_8!C672","v":0},0,{"$f":"'ចំណាយ-ថវិការដ្ឋ'!C460","v":0},{"$f":"'ចំណាយ-ថវិការដ្ឋ'!D460","v":0},0,{"$f":"'ចំណាយ-ថវិការដ្ឋ'!F460","v":0},{"$f":"'ចំណាយ-ថវិការដ្ឋ'!G460","v":0},0,{"$f":"'ចំណាយ-ថវិការដ្ឋ'!I460","v":0},{"$f":"'ចំណាយ-ថវិការដ្ឋ'!J460","v":0},0,{"$f":"'ចំណាយ-ថវិការដ្ឋ'!L460","v":0},{"$f":"'ចំណាយ-ថវិការដ្ឋ'!M460","v":0}]
[{"$f":"ព័ត៌មានអង្គភាព!C34","v":"៥.១៨.០១.៤៖ ការពង្រឹងការងារសវនកម្មផ្ទៃក្នុង"},{"$f":"SUM(B462,B473)","v":0},{"$f":"SUM(C462,C473)","v":0},0,0,0,0,0,0,0,0,0,0]
[{"$f":"cluster_activity_1","v":"សកម្មភាពរង ទី ១៖ ធានាឱ្យការអប់រំមានគុណភាព ប្រកបដោយសមធម៌ បរិយាបន្ន និងលើកកម្ពស់ឱកាសក្នុងការសិក្សាពេញមួយជីវិត"},{"$f":"ROUND(SUM(B463:B472),1)","v":0},{"$f":"ROUND(SUM(C463:C472),1)","v":0},{"$f":"ROUND(SUM(D463:D472),1)","v":0},0,0,0,0,0,0,0,0,0]
[{"$f":"Update_8!C673","v":0},{"$f":"ROUND(SUM(C463:D463),1)","v":0},{"$f":"'ចំណាយ-ថវិការដ្ឋ'!C463","v":0},{"$f":"'ចំណាយ-ថវិការដ្ឋ'!D463","v":0},{"$f":"ROUND(SUM(F463:G463),1)","v":0},{"$f":"'ចំណាយ-ថវិការដ្ឋ'!F463","v":0},{"$f":"'ចំណាយ-ថវិការដ្ឋ'!G463","v":0},{"$f":"ROUND(SUM(I463:J463),1)","v":0},{"$f":"'ចំណាយ-ថវិការដ្ឋ'!I463","v":0},{"$f":"'ចំណាយ-ថវិការដ្ឋ'!J463","v":0},{"$f":"ROUND(SUM(L463:M463),1)","v":0},{"$f":"'ចំណាយ-ថវិការដ្ឋ'!L463","v":0},{"$f":"'ចំណាយ-ថវិការដ្ឋ'!M463","v":0}]
[{"$f":"Update_8!C674","v":0},{"$f":"ROUND(SUM(C464:D464),1)","v":0},{"$f":"'ចំណាយ-ថវិការដ្ឋ'!C464","v":0},{"$f":"'ចំណាយ-ថវិការដ្ឋ'!D464","v":0},0,{"$f":"'ចំណាយ-ថវិការដ្ឋ'!F464","v":0},{"$f":"'ចំណាយ-ថវិការដ្ឋ'!G464","v":0},0,{"$f":"'ចំណាយ-ថវិការដ្ឋ'!I464","v":0},{"$f":"'ចំណាយ-ថវិការដ្ឋ'!J464","v":0},0,{"$f":"'ចំណាយ-ថវិការដ្ឋ'!L464","v":0},{"$f":"'ចំណាយ-ថវិការដ្ឋ'!M464","v":0}]
[{"$f":"Update_8!C675","v":0},0,{"$f":"'ចំណាយ-ថវិការដ្ឋ'!C465","v":0},{"$f":"'ចំណាយ-ថវិការដ្ឋ'!D465","v":0},0,{"$f":"'ចំណាយ-ថវិការដ្ឋ'!F465","v":0},{"$f":"'ចំណាយ-ថវិការដ្ឋ'!G465","v":0},0,{"$f":"'ចំណាយ-ថវិការដ្ឋ'!I465","v":0},{"$f":"'ចំណាយ-ថវិការដ្ឋ'!J465","v":0},0,{"$f":"'ចំណាយ-ថវិការដ្ឋ'!L465","v":0},{"$f":"'ចំណាយ-ថវិការដ្ឋ'!M465","v":0}]
[{"$f":"Update_8!C676","v":0},0,{"$f":"'ចំណាយ-ថវិការដ្ឋ'!C466","v":0},{"$f":"'ចំណាយ-ថវិការដ្ឋ'!D466","v":0},0,{"$f":"'ចំណាយ-ថវិការដ្ឋ'!F466","v":0},{"$f":"'ចំណាយ-ថវិការដ្ឋ'!G466","v":0},0,{"$f":"'ចំណាយ-ថវិការដ្ឋ'!I466","v":0},{"$f":"'ចំណាយ-ថវិការដ្ឋ'!J466","v":0},0,{"$f":"'ចំណាយ-ថវិការដ្ឋ'!L466","v":0},{"$f":"'ចំណាយ-ថវិការដ្ឋ'!M466","v":0}]
[{"$f":"Update_8!C677","v":0},0,{"$f":"'ចំណាយ-ថវិការដ្ឋ'!C467","v":0},{"$f":"'ចំណាយ-ថវិការដ្ឋ'!D467","v":0},0,{"$f":"'ចំណាយ-ថវិការដ្ឋ'!F467","v":0},{"$f":"'ចំណាយ-ថវិការដ្ឋ'!G467","v":0},0,{"$f":"'ចំណាយ-ថវិការដ្ឋ'!I467","v":0},{"$f":"'ចំណាយ-ថវិការដ្ឋ'!J467","v":0},0,{"$f":"'ចំណាយ-ថវិការដ្ឋ'!L467","v":0},{"$f":"'ចំណាយ-ថវិការដ្ឋ'!M467","v":0}]
[{"$f":"Update_8!C678","v":0},0,{"$f":"'ចំណាយ-ថវិការដ្ឋ'!C468","v":0},{"$f":"'ចំណាយ-ថវិការដ្ឋ'!D468","v":0},0,{"$f":"'ចំណាយ-ថវិការដ្ឋ'!F468","v":0},{"$f":"'ចំណាយ-ថវិការដ្ឋ'!G468","v":0},0,{"$f":"'ចំណាយ-ថវិការដ្ឋ'!I468","v":0},{"$f":"'ចំណាយ-ថវិការដ្ឋ'!J468","v":0},0,{"$f":"'ចំណាយ-ថវិការដ្ឋ'!L468","v":0},{"$f":"'ចំណាយ-ថវិការដ្ឋ'!M468","v":0}]
[{"$f":"Update_8!C679","v":0},0,{"$f":"'ចំណាយ-ថវិការដ្ឋ'!C469","v":0},{"$f":"'ចំណាយ-ថវិការដ្ឋ'!D469","v":0},0,{"$f":"'ចំណាយ-ថវិការដ្ឋ'!F469","v":0},{"$f":"'ចំណាយ-ថវិការដ្ឋ'!G469","v":0},0,{"$f":"'ចំណាយ-ថវិការដ្ឋ'!I469","v":0},{"$f":"'ចំណាយ-ថវិការដ្ឋ'!J469","v":0},0,{"$f":"'ចំណាយ-ថវិការដ្ឋ'!L469","v":0},{"$f":"'ចំណាយ-ថវិការដ្ឋ'!M469","v":0}]
[{"$f":"Update_8!C680","v":0},0,{"$f":"'ចំណាយ-ថវិការដ្ឋ'!C470","v":0},{"$f":"'ចំណាយ-ថវិការដ្ឋ'!D470","v":0},0,{"$f":"'ចំណាយ-ថវិការដ្ឋ'!F470","v":0},{"$f":"'ចំណាយ-ថវិការដ្ឋ'!G470","v":0},0,{"$f":"'ចំណាយ-ថវិការដ្ឋ'!I470","v":0},{"$f":"'ចំណាយ-ថវិការដ្ឋ'!J470","v":0},0,{"$f":"'ចំណាយ-ថវិការដ្ឋ'!L470","v":0},{"$f":"'ចំណាយ-ថវិការដ្ឋ'!M470","v":0}]
[{"$f":"Update_8!C681","v":0},0,{"$f":"'ចំណាយ-ថវិការដ្ឋ'!C471","v":0},{"$f":"'ចំណាយ-ថវិការដ្ឋ'!D471","v":0},0,{"$f":"'ចំណាយ-ថវិការដ្ឋ'!F471","v":0},{"$f":"'ចំណាយ-ថវិការដ្ឋ'!G471","v":0},0,{"$f":"'ចំណាយ-ថវិការដ្ឋ'!I471","v":0},{"$f":"'ចំណាយ-ថវិការដ្ឋ'!J471","v":0},0,{"$f":"'ចំណាយ-ថវិការដ្ឋ'!L471","v":0},{"$f":"'ចំណាយ-ថវិការដ្ឋ'!M471","v":0}]
[{"$f":"Update_8!C682","v":0},0,{"$f":"'ចំណាយ-ថវិការដ្ឋ'!C472","v":0},{"$f":"'ចំណាយ-ថវិការដ្ឋ'!D472","v":0},0,{"$f":"'ចំណាយ-ថវិការដ្ឋ'!F472","v":0},{"$f":"'ចំណាយ-ថវិការដ្ឋ'!G472","v":0},0,{"$f":"'ចំណាយ-ថវិការដ្ឋ'!I472","v":0},{"$f":"'ចំណាយ-ថវិការដ្ឋ'!J472","v":0},0,{"$f":"'ចំណាយ-ថវិការដ្ឋ'!L472","v":0},{"$f":"'ចំណាយ-ថវិការដ្ឋ'!M472","v":0}]
[{"$f":"cluster_activity_2","v":"សកម្មភាពរង ទី ២៖ ធានាភាពស័ក្តិសិទ្ធនៃភាពជាអ្នកដឹកនាំ និងគ្រប់គ្រងរបស់មន្ត្រី អប់រំគ្រប់លំដាប់ថ្នាក់"},{"$f":"ROUND(SUM(B474:B483),1)","v":0},{"$f":"ROUND(SUM(C474:C483),1)","v":0},{"$f":"ROUND(SUM(D474:D483),1)","v":0},{"$f":"ROUND(SUM(E474:E483),1)","v":0},0,0,0,0,0,{"$f":"ROUND(SUM(K474:K483),1)","v":0},{"$f":"ROUND(SUM(L474:L483),1)","v":0},{"$f":"ROUND(SUM(M474:M483),1)","v":0}]
[{"$f":"Update_8!C683","v":"១. កិច្ចដំណើរការអង្គភាព"},{"$f":"ROUND(SUM(C474:D474),1)","v":0},{"$f":"'ចំណាយ-ថវិការដ្ឋ'!C474","v":0},{"$f":"'ចំណាយ-ថវិការដ្ឋ'!D474","v":0},{"$f":"ROUND(SUM(F474:G474),1)","v":0},{"$f":"'ចំណាយ-ថវិការដ្ឋ'!F474","v":0},{"$f":"'ចំណាយ-ថវិការដ្ឋ'!G474","v":0},{"$f":"ROUND(SUM(I474:J474),1)","v":0},{"$f":"'ចំណាយ-ថវិការដ្ឋ'!I474","v":0},{"$f":"'ចំណាយ-ថវិការដ្ឋ'!J474","v":0},{"$f":"ROUND(SUM(L474:M474),1)","v":0},{"$f":"'ចំណាយ-ថវិការដ្ឋ'!L474","v":0},{"$f":"'ចំណាយ-ថវិការដ្ឋ'!M474","v":0}]
[{"$f":"Update_8!C684","v":"២. ថវិកាលទ្ធកម្ម"},{"$f":"ROUND(SUM(C475:D475),1)","v":0},{"$f":"'ចំណាយ-ថវិការដ្ឋ'!C475","v":0},{"$f":"'ចំណាយ-ថវិការដ្ឋ'!D475","v":0},0,{"$f":"'ចំណាយ-ថវិការដ្ឋ'!F475","v":0},{"$f":"'ចំណាយ-ថវិការដ្ឋ'!G475","v":0},0,{"$f":"'ចំណាយ-ថវិការដ្ឋ'!I475","v":0},{"$f":"'ចំណាយ-ថវិការដ្ឋ'!J475","v":0},0,{"$f":"'ចំណាយ-ថវិការដ្ឋ'!L475","v":0},{"$f":"'ចំណាយ-ថវិការដ្ឋ'!M475","v":0}]
[{"$f":"Update_8!C685","v":"៣. ពិនិត្យតាមដាន និងវាយតម្លៃ"},0,{"$f":"'ចំណាយ-ថវិការដ្ឋ'!C476","v":0},{"$f":"'ចំណាយ-ថវិការដ្ឋ'!D476","v":0},0,{"$f":"'ចំណាយ-ថវិការដ្ឋ'!F476","v":0},{"$f":"'ចំណាយ-ថវិការដ្ឋ'!G476","v":0},0,{"$f":"'ចំណាយ-ថវិការដ្ឋ'!I476","v":0},{"$f":"'ចំណាយ-ថវិការដ្ឋ'!J476","v":0},0,{"$f":"'ចំណាយ-ថវិការដ្ឋ'!L476","v":0},{"$f":"'ចំណាយ-ថវិការដ្ឋ'!M476","v":0}]
[{"$f":"Update_8!C686","v":"៤. ពង្រឹងការអនុវត្តការងារសវនកម្មផ្ទៃក្នុង"},0,{"$f":"'ចំណាយ-ថវិការដ្ឋ'!C477","v":0},{"$f":"'ចំណាយ-ថវិការដ្ឋ'!D477","v":0},0,{"$f":"'ចំណាយ-ថវិការដ្ឋ'!F477","v":0},{"$f":"'ចំណាយ-ថវិការដ្ឋ'!G477","v":0},0,{"$f":"'ចំណាយ-ថវិការដ្ឋ'!I477","v":0},{"$f":"'ចំណាយ-ថវិការដ្ឋ'!J477","v":0},0,{"$f":"'ចំណាយ-ថវិការដ្ឋ'!L477","v":0},{"$f":"'ចំណាយ-ថវិការដ្ឋ'!M477","v":0}]
[{"$f":"Update_8!C687","v":"៥. អភិវឌ្ឍសមត្ថភាពមន្ត្រីលើការងារសវនកម្មផ្ទៃក្នុង"},0,{"$f":"'ចំណាយ-ថវិការដ្ឋ'!C478","v":0},{"$f":"'ចំណាយ-ថវិការដ្ឋ'!D478","v":0},0,{"$f":"'ចំណាយ-ថវិការដ្ឋ'!F478","v":0},{"$f":"'ចំណាយ-ថវិការដ្ឋ'!G478","v":0},0,{"$f":"'ចំណាយ-ថវិការដ្ឋ'!I478","v":0},{"$f":"'ចំណាយ-ថវិការដ្ឋ'!J478","v":0},0,{"$f":"'ចំណាយ-ថវិការដ្ឋ'!L478","v":0},{"$f":"'ចំណាយ-ថវិការដ្ឋ'!M478","v":0}]
[{"$f":"Update_8!C688","v":0},0,{"$f":"'ចំណាយ-ថវិការដ្ឋ'!C479","v":0},{"$f":"'ចំណាយ-ថវិការដ្ឋ'!D479","v":0},0,{"$f":"'ចំណាយ-ថវិការដ្ឋ'!F479","v":0},{"$f":"'ចំណាយ-ថវិការដ្ឋ'!G479","v":0},0,{"$f":"'ចំណាយ-ថវិការដ្ឋ'!I479","v":0},{"$f":"'ចំណាយ-ថវិការដ្ឋ'!J479","v":0},0,{"$f":"'ចំណាយ-ថវិការដ្ឋ'!L479","v":0},{"$f":"'ចំណាយ-ថវិការដ្ឋ'!M479","v":0}]
[{"$f":"Update_8!C689","v":0},0,{"$f":"'ចំណាយ-ថវិការដ្ឋ'!C480","v":0},{"$f":"'ចំណាយ-ថវិការដ្ឋ'!D480","v":0},0,{"$f":"'ចំណាយ-ថវិការដ្ឋ'!F480","v":0},{"$f":"'ចំណាយ-ថវិការដ្ឋ'!G480","v":0},0,{"$f":"'ចំណាយ-ថវិការដ្ឋ'!I480","v":0},{"$f":"'ចំណាយ-ថវិការដ្ឋ'!J480","v":0},0,{"$f":"'ចំណាយ-ថវិការដ្ឋ'!L480","v":0},{"$f":"'ចំណាយ-ថវិការដ្ឋ'!M480","v":0}]
[{"$f":"Update_8!C690","v":0},0,{"$f":"'ចំណាយ-ថវិការដ្ឋ'!C481","v":0},{"$f":"'ចំណាយ-ថវិការដ្ឋ'!D481","v":0},0,{"$f":"'ចំណាយ-ថវិការដ្ឋ'!F481","v":0},{"$f":"'ចំណាយ-ថវិការដ្ឋ'!G481","v":0},0,{"$f":"'ចំណាយ-ថវិការដ្ឋ'!I481","v":0},{"$f":"'ចំណាយ-ថវិការដ្ឋ'!J481","v":0},0,{"$f":"'ចំណាយ-ថវិការដ្ឋ'!L481","v":0},{"$f":"'ចំណាយ-ថវិការដ្ឋ'!M481","v":0}]
[{"$f":"Update_8!C691","v":0},0,{"$f":"'ចំណាយ-ថវិការដ្ឋ'!C482","v":0},{"$f":"'ចំណាយ-ថវិការដ្ឋ'!D482","v":0},0,{"$f":"'ចំណាយ-ថវិការដ្ឋ'!F482","v":0},{"$f":"'ចំណាយ-ថវិការដ្ឋ'!G482","v":0},0,{"$f":"'ចំណាយ-ថវិការដ្ឋ'!I482","v":0},{"$f":"'ចំណាយ-ថវិការដ្ឋ'!J482","v":0},0,{"$f":"'ចំណាយ-ថវិការដ្ឋ'!L482","v":0},{"$f":"'ចំណាយ-ថវិការដ្ឋ'!M482","v":0}]
[{"$f":"Update_8!C692","v":0},0,{"$f":"'ចំណាយ-ថវិការដ្ឋ'!C483","v":0},{"$f":"'ចំណាយ-ថវិការដ្ឋ'!D483","v":0},0,{"$f":"'ចំណាយ-ថវិការដ្ឋ'!F483","v":0},{"$f":"'ចំណាយ-ថវិការដ្ឋ'!G483","v":0},0,{"$f":"'ចំណាយ-ថវិការដ្ឋ'!I483","v":0},{"$f":"'ចំណាយ-ថវិការដ្ឋ'!J483","v":0},0,{"$f":"'ចំណាយ-ថវិការដ្ឋ'!L483","v":0},{"$f":"'ចំណាយ-ថវិការដ្ឋ'!M483","v":0}]
[{"$f":"ព័ត៌មានអង្គភាព!C35","v":"៥.១៨.០១.៥៖ ការពិនិត្យតាមដាន វាយតម្លៃ និងអធិការកិច្ចប្រព័ន្ធធានាគុណភាពអប់រំ"},{"$f":"SUM(B485,B496)","v":0},{"$f":"SUM(C485,C496)","v":0},0,0,0,0,0,0,0,0,0,0]
[{"$f":"cluster_activity_1","v":"សកម្មភាពរង ទី ១៖ ធានាឱ្យការអប់រំមានគុណភាព ប្រកបដោយសមធម៌ បរិយាបន្ន និងលើកកម្ពស់ឱកាសក្នុងការសិក្សាពេញមួយជីវិត"},{"$f":"ROUND(SUM(B486:B495),1)","v":0},{"$f":"ROUND(SUM(C486:C495),1)","v":0},{"$f":"ROUND(SUM(D486:D495),1)","v":0},0,0,0,0,0,0,0,0,0]
[{"$f":"Update_8!C693","v":"១. កិច្ចដំណើរការអង្គភាព"},{"$f":"ROUND(SUM(C486:D486),1)","v":0},{"$f":"'ចំណាយ-ថវិការដ្ឋ'!C486","v":0},{"$f":"'ចំណាយ-ថវិការដ្ឋ'!D486","v":0},{"$f":"ROUND(SUM(F486:G486),1)","v":0},{"$f":"'ចំណាយ-ថវិការដ្ឋ'!F486","v":0},{"$f":"'ចំណាយ-ថវិការដ្ឋ'!G486","v":0},{"$f":"ROUND(SUM(I486:J486),1)","v":0},{"$f":"'ចំណាយ-ថវិការដ្ឋ'!I486","v":0},{"$f":"'ចំណាយ-ថវិការដ្ឋ'!J486","v":0},{"$f":"ROUND(SUM(L486:M486),1)","v":0},{"$f":"'ចំណាយ-ថវិការដ្ឋ'!L486","v":0},{"$f":"'ចំណាយ-ថវិការដ្ឋ'!M486","v":0}]
[{"$f":"Update_8!C694","v":"២. ថវិកាលទ្ធកម្ម"},{"$f":"ROUND(SUM(C487:D487),1)","v":0},{"$f":"'ចំណាយ-ថវិការដ្ឋ'!C487","v":0},{"$f":"'ចំណាយ-ថវិការដ្ឋ'!D487","v":0},0,{"$f":"'ចំណាយ-ថវិការដ្ឋ'!F487","v":0},{"$f":"'ចំណាយ-ថវិការដ្ឋ'!G487","v":0},0,{"$f":"'ចំណាយ-ថវិការដ្ឋ'!I487","v":0},{"$f":"'ចំណាយ-ថវិការដ្ឋ'!J487","v":0},0,{"$f":"'ចំណាយ-ថវិការដ្ឋ'!L487","v":0},{"$f":"'ចំណាយ-ថវិការដ្ឋ'!M487","v":0}]
[{"$f":"Update_8!C695","v":"៣. ពិនិត្យតាមដាន និងវាយតម្លៃ"},0,{"$f":"'ចំណាយ-ថវិការដ្ឋ'!C488","v":0},{"$f":"'ចំណាយ-ថវិការដ្ឋ'!D488","v":0},0,{"$f":"'ចំណាយ-ថវិការដ្ឋ'!F488","v":0},{"$f":"'ចំណាយ-ថវិការដ្ឋ'!G488","v":0},0,{"$f":"'ចំណាយ-ថវិការដ្ឋ'!I488","v":0},{"$f":"'ចំណាយ-ថវិការដ្ឋ'!J488","v":0},0,{"$f":"'ចំណាយ-ថវិការដ្ឋ'!L488","v":0},{"$f":"'ចំណាយ-ថវិការដ្ឋ'!M488","v":0}]
[{"$f":"Update_8!C696","v":"៤. តេស្តរង្វាយតម្លៃថ្នាក់ជាតិលទ្ធផលសិក្សារបស់សិស្សថ្នាក់ទី៣ ទី៦ ទី៨និងទី១១"},0,{"$f":"'ចំណាយ-ថវិការដ្ឋ'!C489","v":0},{"$f":"'ចំណាយ-ថវិការដ្ឋ'!D489","v":0},0,{"$f":"'ចំណាយ-ថវិការដ្ឋ'!F489","v":0},{"$f":"'ចំណាយ-ថវិការដ្ឋ'!G489","v":0},0,{"$f":"'ចំណាយ-ថវិការដ្ឋ'!I489","v":0},{"$f":"'ចំណាយ-ថវិការដ្ឋ'!J489","v":0},0,{"$f":"'ចំណាយ-ថវិការដ្ឋ'!L489","v":0},{"$f":"'ចំណាយ-ថវិការដ្ឋ'!M489","v":0}]
[{"$f":"Update_8!C697","v":"៥. អនុវត្តតេស្តថ្នាក់តំបន់(SEA-PLM) "},0,{"$f":"'ចំណាយ-ថវិការដ្ឋ'!C490","v":0},{"$f":"'ចំណាយ-ថវិការដ្ឋ'!D490","v":0},0,{"$f":"'ចំណាយ-ថវិការដ្ឋ'!F490","v":0},{"$f":"'ចំណាយ-ថវិការដ្ឋ'!G490","v":0},0,{"$f":"'ចំណាយ-ថវិការដ្ឋ'!I490","v":0},{"$f":"'ចំណាយ-ថវិការដ្ឋ'!J490","v":0},0,{"$f":"'ចំណាយ-ថវិការដ្ឋ'!L490","v":0},{"$f":"'ចំណាយ-ថវិការដ្ឋ'!M490","v":0}]
[{"$f":"Update_8!C698","v":"៦. តេស្តរង្វាយតម្លៃថ្នាក់អន្តរជាតិ(PISA)"},0,{"$f":"'ចំណាយ-ថវិការដ្ឋ'!C491","v":0},{"$f":"'ចំណាយ-ថវិការដ្ឋ'!D491","v":0},0,{"$f":"'ចំណាយ-ថវិការដ្ឋ'!F491","v":0},{"$f":"'ចំណាយ-ថវិការដ្ឋ'!G491","v":0},0,{"$f":"'ចំណាយ-ថវិការដ្ឋ'!I491","v":0},{"$f":"'ចំណាយ-ថវិការដ្ឋ'!J491","v":0},0,{"$f":"'ចំណាយ-ថវិការដ្ឋ'!L491","v":0},{"$f":"'ចំណាយ-ថវិការដ្ឋ'!M491","v":0}]
[{"$f":"Update_8!C699","v":"៧. បង្កើតប្រព័ន្ធរង្វាយតម្លៃនិងការធ្វើតេស្តក្នុងថ្នាក់រៀន"},0,{"$f":"'ចំណាយ-ថវិការដ្ឋ'!C492","v":0},{"$f":"'ចំណាយ-ថវិការដ្ឋ'!D492","v":0},0,{"$f":"'ចំណាយ-ថវិការដ្ឋ'!F492","v":0},{"$f":"'ចំណាយ-ថវិការដ្ឋ'!G492","v":0},0,{"$f":"'ចំណាយ-ថវិការដ្ឋ'!I492","v":0},{"$f":"'ចំណាយ-ថវិការដ្ឋ'!J492","v":0},0,{"$f":"'ចំណាយ-ថវិការដ្ឋ'!L492","v":0},{"$f":"'ចំណាយ-ថវិការដ្ឋ'!M492","v":0}]
[{"$f":"Update_8!C700","v":"៨. អធិការកិច្ចតាមកាលកំណត់និងតាមប្រធានបទដើម្បីលើកកម្ពស់គុណភាពអប់រំ"},0,{"$f":"'ចំណាយ-ថវិការដ្ឋ'!C493","v":0},{"$f":"'ចំណាយ-ថវិការដ្ឋ'!D493","v":0},0,{"$f":"'ចំណាយ-ថវិការដ្ឋ'!F493","v":0},{"$f":"'ចំណាយ-ថវិការដ្ឋ'!G493","v":0},0,{"$f":"'ចំណាយ-ថវិការដ្ឋ'!I493","v":0},{"$f":"'ចំណាយ-ថវិការដ្ឋ'!J493","v":0},0,{"$f":"'ចំណាយ-ថវិការដ្ឋ'!L493","v":0},{"$f":"'ចំណាយ-ថវិការដ្ឋ'!M493","v":0}]
[{"$f":"Update_8!C701","v":"៩. អធិការកិច្ចតាមតំបន់(០៨តំបន់)"},0,{"$f":"'ចំណាយ-ថវិការដ្ឋ'!C494","v":0},{"$f":"'ចំណាយ-ថវិការដ្ឋ'!D494","v":0},0,{"$f":"'ចំណាយ-ថវិការដ្ឋ'!F494","v":0},{"$f":"'ចំណាយ-ថវិការដ្ឋ'!G494","v":0},0,{"$f":"'ចំណាយ-ថវិការដ្ឋ'!I494","v":0},{"$f":"'ចំណាយ-ថវិការដ្ឋ'!J494","v":0},0,{"$f":"'ចំណាយ-ថវិការដ្ឋ'!L494","v":0},{"$f":"'ចំណាយ-ថវិការដ្ឋ'!M494","v":0}]
[{"$f":"Update_8!C702","v":"១០. ពិនិត្យតាមដានតាមការធ្វើអធិការកិច្ចតាមកាលកំណត់របស់រាជធានី ខេត្ត្"},0,{"$f":"'ចំណាយ-ថវិការដ្ឋ'!C495","v":0},{"$f":"'ចំណាយ-ថវិការដ្ឋ'!D495","v":0},0,{"$f":"'ចំណាយ-ថវិការដ្ឋ'!F495","v":0},{"$f":"'ចំណាយ-ថវិការដ្ឋ'!G495","v":0},0,{"$f":"'ចំណាយ-ថវិការដ្ឋ'!I495","v":0},{"$f":"'ចំណាយ-ថវិការដ្ឋ'!J495","v":0},0,{"$f":"'ចំណាយ-ថវិការដ្ឋ'!L495","v":0},{"$f":"'ចំណាយ-ថវិការដ្ឋ'!M495","v":0}]
[{"$f":"cluster_activity_2","v":"សកម្មភាពរង ទី ២៖ ធានាភាពស័ក្តិសិទ្ធនៃភាពជាអ្នកដឹកនាំ និងគ្រប់គ្រងរបស់មន្ត្រី អប់រំគ្រប់លំដាប់ថ្នាក់"},{"$f":"ROUND(SUM(B497:B506),1)","v":0},{"$f":"ROUND(SUM(C497:C506),1)","v":0},{"$f":"ROUND(SUM(D497:D506),1)","v":0},{"$f":"ROUND(SUM(E497:E506),1)","v":0},0,0,0,0,0,{"$f":"ROUND(SUM(K497:K506),1)","v":0},{"$f":"ROUND(SUM(L497:L506),1)","v":0},{"$f":"ROUND(SUM(M497:M506),1)","v":0}]
[{"$f":"Update_8!C703","v":"១. បំប៉នសមត្ថភាពមន្រ្តីលើការអនុវត្តតេស្តរង្វាយតម្លៃលទ្ធផលសិក្សាថ្នាក់ជាតិ ថ្នាក់តំបន់ និងអន្តរជាតិ"},{"$f":"ROUND(SUM(C497:D497),1)","v":0},{"$f":"'ចំណាយ-ថវិការដ្ឋ'!C497","v":0},{"$f":"'ចំណាយ-ថវិការដ្ឋ'!D497","v":0},{"$f":"ROUND(SUM(F497:G497),1)","v":0},{"$f":"'ចំណាយ-ថវិការដ្ឋ'!F497","v":0},{"$f":"'ចំណាយ-ថវិការដ្ឋ'!G497","v":0},{"$f":"ROUND(SUM(I497:J497),1)","v":0},{"$f":"'ចំណាយ-ថវិការដ្ឋ'!I497","v":0},{"$f":"'ចំណាយ-ថវិការដ្ឋ'!J497","v":0},{"$f":"ROUND(SUM(L497:M497),1)","v":0},{"$f":"'ចំណាយ-ថវិការដ្ឋ'!L497","v":0},{"$f":"'ចំណាយ-ថវិការដ្ឋ'!M497","v":0}]
[{"$f":"Update_8!C704","v":"២. ប៉នសមត្ថភាពមន្រ្តីលើការងារអធិការកិច្ចតាមកាលកំណត់ និងប្រធានបទ"},{"$f":"ROUND(SUM(C498:D498),1)","v":0},{"$f":"'ចំណាយ-ថវិការដ្ឋ'!C498","v":0},{"$f":"'ចំណាយ-ថវិការដ្ឋ'!D498","v":0},0,{"$f":"'ចំណាយ-ថវិការដ្ឋ'!F498","v":0},{"$f":"'ចំណាយ-ថវិការដ្ឋ'!G498","v":0},0,{"$f":"'ចំណាយ-ថវិការដ្ឋ'!I498","v":0},{"$f":"'ចំណាយ-ថវិការដ្ឋ'!J498","v":0},0,{"$f":"'ចំណាយ-ថវិការដ្ឋ'!L498","v":0},{"$f":"'ចំណាយ-ថវិការដ្ឋ'!M498","v":0}]
[{"$f":"Update_8!C705","v":"៣. វាស់ស្ទង់សមត្ថភាពកម្រិតសមមូលនិងកំណត់វិញ្ញាបនបត្រដែលមានតម្លៃស្មើដោយ\nសហការជាមួយស្ថាប័នពាក់ព័ន្ធ"},0,{"$f":"'ចំណាយ-ថវិការដ្ឋ'!C499","v":0},{"$f":"'ចំណាយ-ថវិការដ្ឋ'!D499","v":0},0,{"$f":"'ចំណាយ-ថវិការដ្ឋ'!F499","v":0},{"$f":"'ចំណាយ-ថវិការដ្ឋ'!G499","v":0},0,{"$f":"'ចំណាយ-ថវិការដ្ឋ'!I499","v":0},{"$f":"'ចំណាយ-ថវិការដ្ឋ'!J499","v":0},0,{"$f":"'ចំណាយ-ថវិការដ្ឋ'!L499","v":0},{"$f":"'ចំណាយ-ថវិការដ្ឋ'!M499","v":0}]
[{"$f":"Update_8!C706","v":0},0,{"$f":"'ចំណាយ-ថវិការដ្ឋ'!C500","v":0},{"$f":"'ចំណាយ-ថវិការដ្ឋ'!D500","v":0},0,{"$f":"'ចំណាយ-ថវិការដ្ឋ'!F500","v":0},{"$f":"'ចំណាយ-ថវិការដ្ឋ'!G500","v":0},0,{"$f":"'ចំណាយ-ថវិការដ្ឋ'!I500","v":0},{"$f":"'ចំណាយ-ថវិការដ្ឋ'!J500","v":0},0,{"$f":"'ចំណាយ-ថវិការដ្ឋ'!L500","v":0},{"$f":"'ចំណាយ-ថវិការដ្ឋ'!M500","v":0}]
[{"$f":"Update_8!C707","v":0},0,{"$f":"'ចំណាយ-ថវិការដ្ឋ'!C501","v":0},{"$f":"'ចំណាយ-ថវិការដ្ឋ'!D501","v":0},0,{"$f":"'ចំណាយ-ថវិការដ្ឋ'!F501","v":0},{"$f":"'ចំណាយ-ថវិការដ្ឋ'!G501","v":0},0,{"$f":"'ចំណាយ-ថវិការដ្ឋ'!I501","v":0},{"$f":"'ចំណាយ-ថវិការដ្ឋ'!J501","v":0},0,{"$f":"'ចំណាយ-ថវិការដ្ឋ'!L501","v":0},{"$f":"'ចំណាយ-ថវិការដ្ឋ'!M501","v":0}]
[{"$f":"Update_8!C708","v":0},0,{"$f":"'ចំណាយ-ថវិការដ្ឋ'!C502","v":0},{"$f":"'ចំណាយ-ថវិការដ្ឋ'!D502","v":0},0,{"$f":"'ចំណាយ-ថវិការដ្ឋ'!F502","v":0},{"$f":"'ចំណាយ-ថវិការដ្ឋ'!G502","v":0},0,{"$f":"'ចំណាយ-ថវិការដ្ឋ'!I502","v":0},{"$f":"'ចំណាយ-ថវិការដ្ឋ'!J502","v":0},0,{"$f":"'ចំណាយ-ថវិការដ្ឋ'!L502","v":0},{"$f":"'ចំណាយ-ថវិការដ្ឋ'!M502","v":0}]
[{"$f":"Update_8!C709","v":0},0,{"$f":"'ចំណាយ-ថវិការដ្ឋ'!C503","v":0},{"$f":"'ចំណាយ-ថវិការដ្ឋ'!D503","v":0},0,{"$f":"'ចំណាយ-ថវិការដ្ឋ'!F503","v":0},{"$f":"'ចំណាយ-ថវិការដ្ឋ'!G503","v":0},0,{"$f":"'ចំណាយ-ថវិការដ្ឋ'!I503","v":0},{"$f":"'ចំណាយ-ថវិការដ្ឋ'!J503","v":0},0,{"$f":"'ចំណាយ-ថវិការដ្ឋ'!L503","v":0},{"$f":"'ចំណាយ-ថវិការដ្ឋ'!M503","v":0}]
[{"$f":"Update_8!C710","v":0},0,{"$f":"'ចំណាយ-ថវិការដ្ឋ'!C504","v":0},{"$f":"'ចំណាយ-ថវិការដ្ឋ'!D504","v":0},0,{"$f":"'ចំណាយ-ថវិការដ្ឋ'!F504","v":0},{"$f":"'ចំណាយ-ថវិការដ្ឋ'!G504","v":0},0,{"$f":"'ចំណាយ-ថវិការដ្ឋ'!I504","v":0},{"$f":"'ចំណាយ-ថវិការដ្ឋ'!J504","v":0},0,{"$f":"'ចំណាយ-ថវិការដ្ឋ'!L504","v":0},{"$f":"'ចំណាយ-ថវិការដ្ឋ'!M504","v":0}]
[{"$f":"Update_8!C711","v":0},0,{"$f":"'ចំណាយ-ថវិការដ្ឋ'!C505","v":0},{"$f":"'ចំណាយ-ថវិការដ្ឋ'!D505","v":0},0,{"$f":"'ចំណាយ-ថវិការដ្ឋ'!F505","v":0},{"$f":"'ចំណាយ-ថវិការដ្ឋ'!G505","v":0},0,{"$f":"'ចំណាយ-ថវិការដ្ឋ'!I505","v":0},{"$f":"'ចំណាយ-ថវិការដ្ឋ'!J505","v":0},0,{"$f":"'ចំណាយ-ថវិការដ្ឋ'!L505","v":0},{"$f":"'ចំណាយ-ថវិការដ្ឋ'!M505","v":0}]
[{"$f":"Update_8!C712","v":0},0,{"$f":"'ចំណាយ-ថវិការដ្ឋ'!C506","v":0},{"$f":"'ចំណាយ-ថវិការដ្ឋ'!D506","v":0},0,{"$f":"'ចំណាយ-ថវិការដ្ឋ'!F506","v":0},{"$f":"'ចំណាយ-ថវិការដ្ឋ'!G506","v":0},0,{"$f":"'ចំណាយ-ថវិការដ្ឋ'!I506","v":0},{"$f":"'ចំណាយ-ថវិការដ្ឋ'!J506","v":0},0,{"$f":"'ចំណាយ-ថវិការដ្ឋ'!L506","v":0},{"$f":"'ចំណាយ-ថវិការដ្ឋ'!M506","v":0}]
[{"$f":"ព័ត៌មានអង្គភាព!C36","v":"៥.១៨.០១.៦៖ អធិការកិច្ចរដ្ឋបាល និងហិរញ្ញវត្ថុ"},{"$f":"SUM(B508,B519)","v":0},{"$f":"SUM(C508,C519)","v":0},0,0,0,0,0,0,0,0,0,0]
[{"$f":"cluster_activity_1","v":"សកម្មភាពរង ទី ១៖ ធានាឱ្យការអប់រំមានគុណភាព ប្រកបដោយសមធម៌ បរិយាបន្ន និងលើកកម្ពស់ឱកាសក្នុងការសិក្សាពេញមួយជីវិត"},{"$f":"ROUND(SUM(B509:B518),1)","v":0},{"$f":"ROUND(SUM(C509:C518),1)","v":0},{"$f":"ROUND(SUM(D509:D518),1)","v":0},0,0,0,0,0,0,0,0,0]
[{"$f":"Update_8!C713","v":0},{"$f":"ROUND(SUM(C509:D509),1)","v":0},{"$f":"'ចំណាយ-ថវិការដ្ឋ'!C509","v":0},{"$f":"'ចំណាយ-ថវិការដ្ឋ'!D509","v":0},{"$f":"ROUND(SUM(F509:G509),1)","v":0},{"$f":"'ចំណាយ-ថវិការដ្ឋ'!F509","v":0},{"$f":"'ចំណាយ-ថវិការដ្ឋ'!G509","v":0},{"$f":"ROUND(SUM(I509:J509),1)","v":0},{"$f":"'ចំណាយ-ថវិការដ្ឋ'!I509","v":0},{"$f":"'ចំណាយ-ថវិការដ្ឋ'!J509","v":0},{"$f":"ROUND(SUM(L509:M509),1)","v":0},{"$f":"'ចំណាយ-ថវិការដ្ឋ'!L509","v":0},{"$f":"'ចំណាយ-ថវិការដ្ឋ'!M509","v":0}]
[{"$f":"Update_8!C714","v":0},{"$f":"ROUND(SUM(C510:D510),1)","v":0},{"$f":"'ចំណាយ-ថវិការដ្ឋ'!C510","v":0},{"$f":"'ចំណាយ-ថវិការដ្ឋ'!D510","v":0},0,{"$f":"'ចំណាយ-ថវិការដ្ឋ'!F510","v":0},{"$f":"'ចំណាយ-ថវិការដ្ឋ'!G510","v":0},0,{"$f":"'ចំណាយ-ថវិការដ្ឋ'!I510","v":0},{"$f":"'ចំណាយ-ថវិការដ្ឋ'!J510","v":0},0,{"$f":"'ចំណាយ-ថវិការដ្ឋ'!L510","v":0},{"$f":"'ចំណាយ-ថវិការដ្ឋ'!M510","v":0}]
[{"$f":"Update_8!C715","v":0},0,{"$f":"'ចំណាយ-ថវិការដ្ឋ'!C511","v":0},{"$f":"'ចំណាយ-ថវិការដ្ឋ'!D511","v":0},0,{"$f":"'ចំណាយ-ថវិការដ្ឋ'!F511","v":0},{"$f":"'ចំណាយ-ថវិការដ្ឋ'!G511","v":0},0,{"$f":"'ចំណាយ-ថវិការដ្ឋ'!I511","v":0},{"$f":"'ចំណាយ-ថវិការដ្ឋ'!J511","v":0},0,{"$f":"'ចំណាយ-ថវិការដ្ឋ'!L511","v":0},{"$f":"'ចំណាយ-ថវិការដ្ឋ'!M511","v":0}]
[{"$f":"Update_8!C716","v":0},0,{"$f":"'ចំណាយ-ថវិការដ្ឋ'!C512","v":0},{"$f":"'ចំណាយ-ថវិការដ្ឋ'!D512","v":0},0,{"$f":"'ចំណាយ-ថវិការដ្ឋ'!F512","v":0},{"$f":"'ចំណាយ-ថវិការដ្ឋ'!G512","v":0},0,{"$f":"'ចំណាយ-ថវិការដ្ឋ'!I512","v":0},{"$f":"'ចំណាយ-ថវិការដ្ឋ'!J512","v":0},0,{"$f":"'ចំណាយ-ថវិការដ្ឋ'!L512","v":0},{"$f":"'ចំណាយ-ថវិការដ្ឋ'!M512","v":0}]
[{"$f":"Update_8!C717","v":0},0,{"$f":"'ចំណាយ-ថវិការដ្ឋ'!C513","v":0},{"$f":"'ចំណាយ-ថវិការដ្ឋ'!D513","v":0},0,{"$f":"'ចំណាយ-ថវិការដ្ឋ'!F513","v":0},{"$f":"'ចំណាយ-ថវិការដ្ឋ'!G513","v":0},0,{"$f":"'ចំណាយ-ថវិការដ្ឋ'!I513","v":0},{"$f":"'ចំណាយ-ថវិការដ្ឋ'!J513","v":0},0,{"$f":"'ចំណាយ-ថវិការដ្ឋ'!L513","v":0},{"$f":"'ចំណាយ-ថវិការដ្ឋ'!M513","v":0}]
[{"$f":"Update_8!C718","v":0},0,{"$f":"'ចំណាយ-ថវិការដ្ឋ'!C514","v":0},{"$f":"'ចំណាយ-ថវិការដ្ឋ'!D514","v":0},0,{"$f":"'ចំណាយ-ថវិការដ្ឋ'!F514","v":0},{"$f":"'ចំណាយ-ថវិការដ្ឋ'!G514","v":0},0,{"$f":"'ចំណាយ-ថវិការដ្ឋ'!I514","v":0},{"$f":"'ចំណាយ-ថវិការដ្ឋ'!J514","v":0},0,{"$f":"'ចំណាយ-ថវិការដ្ឋ'!L514","v":0},{"$f":"'ចំណាយ-ថវិការដ្ឋ'!M514","v":0}]
[{"$f":"Update_8!C719","v":0},0,{"$f":"'ចំណាយ-ថវិការដ្ឋ'!C515","v":0},{"$f":"'ចំណាយ-ថវិការដ្ឋ'!D515","v":0},0,{"$f":"'ចំណាយ-ថវិការដ្ឋ'!F515","v":0},{"$f":"'ចំណាយ-ថវិការដ្ឋ'!G515","v":0},0,{"$f":"'ចំណាយ-ថវិការដ្ឋ'!I515","v":0},{"$f":"'ចំណាយ-ថវិការដ្ឋ'!J515","v":0},0,{"$f":"'ចំណាយ-ថវិការដ្ឋ'!L515","v":0},{"$f":"'ចំណាយ-ថវិការដ្ឋ'!M515","v":0}]
[{"$f":"Update_8!C720","v":0},0,{"$f":"'ចំណាយ-ថវិការដ្ឋ'!C516","v":0},{"$f":"'ចំណាយ-ថវិការដ្ឋ'!D516","v":0},0,{"$f":"'ចំណាយ-ថវិការដ្ឋ'!F516","v":0},{"$f":"'ចំណាយ-ថវិការដ្ឋ'!G516","v":0},0,{"$f":"'ចំណាយ-ថវិការដ្ឋ'!I516","v":0},{"$f":"'ចំណាយ-ថវិការដ្ឋ'!J516","v":0},0,{"$f":"'ចំណាយ-ថវិការដ្ឋ'!L516","v":0},{"$f":"'ចំណាយ-ថវិការដ្ឋ'!M516","v":0}]
[{"$f":"Update_8!C721","v":0},0,{"$f":"'ចំណាយ-ថវិការដ្ឋ'!C517","v":0},{"$f":"'ចំណាយ-ថវិការដ្ឋ'!D517","v":0},0,{"$f":"'ចំណាយ-ថវិការដ្ឋ'!F517","v":0},{"$f":"'ចំណាយ-ថវិការដ្ឋ'!G517","v":0},0,{"$f":"'ចំណាយ-ថវិការដ្ឋ'!I517","v":0},{"$f":"'ចំណាយ-ថវិការដ្ឋ'!J517","v":0},0,{"$f":"'ចំណាយ-ថវិការដ្ឋ'!L517","v":0},{"$f":"'ចំណាយ-ថវិការដ្ឋ'!M517","v":0}]
[{"$f":"Update_8!C722","v":0},0,{"$f":"'ចំណាយ-ថវិការដ្ឋ'!C518","v":0},{"$f":"'ចំណាយ-ថវិការដ្ឋ'!D518","v":0},0,{"$f":"'ចំណាយ-ថវិការដ្ឋ'!F518","v":0},{"$f":"'ចំណាយ-ថវិការដ្ឋ'!G518","v":0},0,{"$f":"'ចំណាយ-ថវិការដ្ឋ'!I518","v":0},{"$f":"'ចំណាយ-ថវិការដ្ឋ'!J518","v":0},0,{"$f":"'ចំណាយ-ថវិការដ្ឋ'!L518","v":0},{"$f":"'ចំណាយ-ថវិការដ្ឋ'!M518","v":0}]
[{"$f":"cluster_activity_2","v":"សកម្មភាពរង ទី ២៖ ធានាភាពស័ក្តិសិទ្ធនៃភាពជាអ្នកដឹកនាំ និងគ្រប់គ្រងរបស់មន្ត្រី អប់រំគ្រប់លំដាប់ថ្នាក់"},{"$f":"ROUND(SUM(B520:B529),1)","v":0},{"$f":"ROUND(SUM(C520:C529),1)","v":0},{"$f":"ROUND(SUM(D520:D529),1)","v":0},{"$f":"ROUND(SUM(E520:E529),1)","v":0},0,0,0,0,0,{"$f":"ROUND(SUM(K520:K529),1)","v":0},{"$f":"ROUND(SUM(L520:L529),1)","v":0},{"$f":"ROUND(SUM(M520:M529),1)","v":0}]
[{"$f":"Update_8!C723","v":"១. កិច្ចដំណើរការអង្គភាព"},{"$f":"ROUND(SUM(C520:D520),1)","v":0},{"$f":"'ចំណាយ-ថវិការដ្ឋ'!C520","v":0},{"$f":"'ចំណាយ-ថវិការដ្ឋ'!D520","v":0},{"$f":"ROUND(SUM(F520:G520),1)","v":0},{"$f":"'ចំណាយ-ថវិការដ្ឋ'!F520","v":0},{"$f":"'ចំណាយ-ថវិការដ្ឋ'!G520","v":0},{"$f":"ROUND(SUM(I520:J520),1)","v":0},{"$f":"'ចំណាយ-ថវិការដ្ឋ'!I520","v":0},{"$f":"'ចំណាយ-ថវិការដ្ឋ'!J520","v":0},{"$f":"ROUND(SUM(L520:M520),1)","v":0},{"$f":"'ចំណាយ-ថវិការដ្ឋ'!L520","v":0},{"$f":"'ចំណាយ-ថវិការដ្ឋ'!M520","v":0}]
[{"$f":"Update_8!C724","v":"២. ថវិកាលទ្ធកម្ម"},{"$f":"ROUND(SUM(C521:D521),1)","v":0},{"$f":"'ចំណាយ-ថវិការដ្ឋ'!C521","v":0},{"$f":"'ចំណាយ-ថវិការដ្ឋ'!D521","v":0},0,{"$f":"'ចំណាយ-ថវិការដ្ឋ'!F521","v":0},{"$f":"'ចំណាយ-ថវិការដ្ឋ'!G521","v":0},0,{"$f":"'ចំណាយ-ថវិការដ្ឋ'!I521","v":0},{"$f":"'ចំណាយ-ថវិការដ្ឋ'!J521","v":0},0,{"$f":"'ចំណាយ-ថវិការដ្ឋ'!L521","v":0},{"$f":"'ចំណាយ-ថវិការដ្ឋ'!M521","v":0}]
[{"$f":"Update_8!C725","v":"៣. ពិនិត្យតាមដាន និងវាយតម្លៃ"},0,{"$f":"'ចំណាយ-ថវិការដ្ឋ'!C522","v":0},{"$f":"'ចំណាយ-ថវិការដ្ឋ'!D522","v":0},0,{"$f":"'ចំណាយ-ថវិការដ្ឋ'!F522","v":0},{"$f":"'ចំណាយ-ថវិការដ្ឋ'!G522","v":0},0,{"$f":"'ចំណាយ-ថវិការដ្ឋ'!I522","v":0},{"$f":"'ចំណាយ-ថវិការដ្ឋ'!J522","v":0},0,{"$f":"'ចំណាយ-ថវិការដ្ឋ'!L522","v":0},{"$f":"'ចំណាយ-ថវិការដ្ឋ'!M522","v":0}]
[{"$f":"Update_8!C726","v":"៤. អធិការកិច្ចការងារគ្រប់គ្រងរដ្ឋបាលនិងហិរញ្ញវត្ថុនៅថ្នាក់ជាតិនិងថ្នាក់ក្រោមជាតិ"},0,{"$f":"'ចំណាយ-ថវិការដ្ឋ'!C523","v":0},{"$f":"'ចំណាយ-ថវិការដ្ឋ'!D523","v":0},0,{"$f":"'ចំណាយ-ថវិការដ្ឋ'!F523","v":0},{"$f":"'ចំណាយ-ថវិការដ្ឋ'!G523","v":0},0,{"$f":"'ចំណាយ-ថវិការដ្ឋ'!I523","v":0},{"$f":"'ចំណាយ-ថវិការដ្ឋ'!J523","v":0},0,{"$f":"'ចំណាយ-ថវិការដ្ឋ'!L523","v":0},{"$f":"'ចំណាយ-ថវិការដ្ឋ'!M523","v":0}]
[{"$f":"Update_8!C727","v":"៥. អភិវឌ្ឍសមត្ថភាពមន្រ្តីជំនាញនិងផ្សព្វផ្សាយរបាយការណ៍អធិការកិច្ច"},0,{"$f":"'ចំណាយ-ថវិការដ្ឋ'!C524","v":0},{"$f":"'ចំណាយ-ថវិការដ្ឋ'!D524","v":0},0,{"$f":"'ចំណាយ-ថវិការដ្ឋ'!F524","v":0},{"$f":"'ចំណាយ-ថវិការដ្ឋ'!G524","v":0},0,{"$f":"'ចំណាយ-ថវិការដ្ឋ'!I524","v":0},{"$f":"'ចំណាយ-ថវិការដ្ឋ'!J524","v":0},0,{"$f":"'ចំណាយ-ថវិការដ្ឋ'!L524","v":0},{"$f":"'ចំណាយ-ថវិការដ្ឋ'!M524","v":0}]
[{"$f":"Update_8!C728","v":0},0,{"$f":"'ចំណាយ-ថវិការដ្ឋ'!C525","v":0},{"$f":"'ចំណាយ-ថវិការដ្ឋ'!D525","v":0},0,{"$f":"'ចំណាយ-ថវិការដ្ឋ'!F525","v":0},{"$f":"'ចំណាយ-ថវិការដ្ឋ'!G525","v":0},0,{"$f":"'ចំណាយ-ថវិការដ្ឋ'!I525","v":0},{"$f":"'ចំណាយ-ថវិការដ្ឋ'!J525","v":0},0,{"$f":"'ចំណាយ-ថវិការដ្ឋ'!L525","v":0},{"$f":"'ចំណាយ-ថវិការដ្ឋ'!M525","v":0}]
[{"$f":"Update_8!C729","v":0},0,{"$f":"'ចំណាយ-ថវិការដ្ឋ'!C526","v":0},{"$f":"'ចំណាយ-ថវិការដ្ឋ'!D526","v":0},0,{"$f":"'ចំណាយ-ថវិការដ្ឋ'!F526","v":0},{"$f":"'ចំណាយ-ថវិការដ្ឋ'!G526","v":0},0,{"$f":"'ចំណាយ-ថវិការដ្ឋ'!I526","v":0},{"$f":"'ចំណាយ-ថវិការដ្ឋ'!J526","v":0},0,{"$f":"'ចំណាយ-ថវិការដ្ឋ'!L526","v":0},{"$f":"'ចំណាយ-ថវិការដ្ឋ'!M526","v":0}]
[{"$f":"Update_8!C730","v":0},0,{"$f":"'ចំណាយ-ថវិការដ្ឋ'!C527","v":0},{"$f":"'ចំណាយ-ថវិការដ្ឋ'!D527","v":0},0,{"$f":"'ចំណាយ-ថវិការដ្ឋ'!F527","v":0},{"$f":"'ចំណាយ-ថវិការដ្ឋ'!G527","v":0},0,{"$f":"'ចំណាយ-ថវិការដ្ឋ'!I527","v":0},{"$f":"'ចំណាយ-ថវិការដ្ឋ'!J527","v":0},0,{"$f":"'ចំណាយ-ថវិការដ្ឋ'!L527","v":0},{"$f":"'ចំណាយ-ថវិការដ្ឋ'!M527","v":0}]
[{"$f":"Update_8!C731","v":0},0,{"$f":"'ចំណាយ-ថវិការដ្ឋ'!C528","v":0},{"$f":"'ចំណាយ-ថវិការដ្ឋ'!D528","v":0},0,{"$f":"'ចំណាយ-ថវិការដ្ឋ'!F528","v":0},{"$f":"'ចំណាយ-ថវិការដ្ឋ'!G528","v":0},0,{"$f":"'ចំណាយ-ថវិការដ្ឋ'!I528","v":0},{"$f":"'ចំណាយ-ថវិការដ្ឋ'!J528","v":0},0,{"$f":"'ចំណាយ-ថវិការដ្ឋ'!L528","v":0},{"$f":"'ចំណាយ-ថវិការដ្ឋ'!M528","v":0}]
[{"$f":"Update_8!C732","v":0},0,{"$f":"'ចំណាយ-ថវិការដ្ឋ'!C529","v":0},{"$f":"'ចំណាយ-ថវិការដ្ឋ'!D529","v":0},0,{"$f":"'ចំណាយ-ថវិការដ្ឋ'!F529","v":0},{"$f":"'ចំណាយ-ថវិការដ្ឋ'!G529","v":0},0,{"$f":"'ចំណាយ-ថវិការដ្ឋ'!I529","v":0},{"$f":"'ចំណាយ-ថវិការដ្ឋ'!J529","v":0},0,{"$f":"'ចំណាយ-ថវិការដ្ឋ'!L529","v":0},{"$f":"'ចំណាយ-ថវិការដ្ឋ'!M529","v":0}]
[{"$f":"ព័ត៌មានអង្គភាព!C37","v":"៥.១៨.០១.៧៖ លើកកម្ពស់ការផ្សព្វផ្សាយព័ត៌មានអប់រំ និងកិច្ចសហប្រតិបត្តិការ អាស៊ាន និងស៊ីមេអូ"},{"$f":"SUM(B531,B542)","v":0},{"$f":"SUM(C531,C542)","v":0},0,0,0,0,0,0,0,0,0,0]
[{"$f":"cluster_activity_1","v":"សកម្មភាពរង ទី ១៖ ធានាឱ្យការអប់រំមានគុណភាព ប្រកបដោយសមធម៌ បរិយាបន្ន និងលើកកម្ពស់ឱកាសក្នុងការសិក្សាពេញមួយជីវិត"},{"$f":"ROUND(SUM(B532:B541),1)","v":0},{"$f":"ROUND(SUM(C532:C541),1)","v":0},{"$f":"ROUND(SUM(D532:D541),1)","v":0},0,0,0,0,0,0,0,0,0]
[{"$f":"Update_8!C733","v":"១. កិច្ចដំណើរការអង្គភាព"},{"$f":"ROUND(SUM(C532:D532),1)","v":0},{"$f":"'ចំណាយ-ថវិការដ្ឋ'!C532","v":0},{"$f":"'ចំណាយ-ថវិការដ្ឋ'!D532","v":0},{"$f":"ROUND(SUM(F532:G532),1)","v":0},{"$f":"'ចំណាយ-ថវិការដ្ឋ'!F532","v":0},{"$f":"'ចំណាយ-ថវិការដ្ឋ'!G532","v":0},{"$f":"ROUND(SUM(I532:J532),1)","v":0},{"$f":"'ចំណាយ-ថវិការដ្ឋ'!I532","v":0},{"$f":"'ចំណាយ-ថវិការដ្ឋ'!J532","v":0},{"$f":"ROUND(SUM(L532:M532),1)","v":0},{"$f":"'ចំណាយ-ថវិការដ្ឋ'!L532","v":0},{"$f":"'ចំណាយ-ថវិការដ្ឋ'!M532","v":0}]
[{"$f":"Update_8!C734","v":"២. ថវិកាលទ្ធកម្ម"},{"$f":"ROUND(SUM(C533:D533),1)","v":0},{"$f":"'ចំណាយ-ថវិការដ្ឋ'!C533","v":0},{"$f":"'ចំណាយ-ថវិការដ្ឋ'!D533","v":0},0,{"$f":"'ចំណាយ-ថវិការដ្ឋ'!F533","v":0},{"$f":"'ចំណាយ-ថវិការដ្ឋ'!G533","v":0},0,{"$f":"'ចំណាយ-ថវិការដ្ឋ'!I533","v":0},{"$f":"'ចំណាយ-ថវិការដ្ឋ'!J533","v":0},0,{"$f":"'ចំណាយ-ថវិការដ្ឋ'!L533","v":0},{"$f":"'ចំណាយ-ថវិការដ្ឋ'!M533","v":0}]
[{"$f":"Update_8!C735","v":"៣. ពិនិត្យតាមដាន និងវាយតម្លៃ"},0,{"$f":"'ចំណាយ-ថវិការដ្ឋ'!C534","v":0},{"$f":"'ចំណាយ-ថវិការដ្ឋ'!D534","v":0},0,{"$f":"'ចំណាយ-ថវិការដ្ឋ'!F534","v":0},{"$f":"'ចំណាយ-ថវិការដ្ឋ'!G534","v":0},0,{"$f":"'ចំណាយ-ថវិការដ្ឋ'!I534","v":0},{"$f":"'ចំណាយ-ថវិការដ្ឋ'!J534","v":0},0,{"$f":"'ចំណាយ-ថវិការដ្ឋ'!L534","v":0},{"$f":"'ចំណាយ-ថវិការដ្ឋ'!M534","v":0}]
[{"$f":"Update_8!C736","v":"៤. ផលិតនិងផ្សព្វផ្សាយព័ត៌មានអប់រំ"},0,{"$f":"'ចំណាយ-ថវិការដ្ឋ'!C535","v":0},{"$f":"'ចំណាយ-ថវិការដ្ឋ'!D535","v":0},0,{"$f":"'ចំណាយ-ថវិការដ្ឋ'!F535","v":0},{"$f":"'ចំណាយ-ថវិការដ្ឋ'!G535","v":0},0,{"$f":"'ចំណាយ-ថវិការដ្ឋ'!I535","v":0},{"$f":"'ចំណាយ-ថវិការដ្ឋ'!J535","v":0},0,{"$f":"'ចំណាយ-ថវិការដ្ឋ'!L535","v":0},{"$f":"'ចំណាយ-ថវិការដ្ឋ'!M535","v":0}]
[{"$f":"Update_8!C737","v":"៥. លើកកម្ពស់កិច្ចសហប្រតិបត្តិការអាស៊ាន និងស៊ីមេអូ"},0,{"$f":"'ចំណាយ-ថវិការដ្ឋ'!C536","v":0},{"$f":"'ចំណាយ-ថវិការដ្ឋ'!D536","v":0},0,{"$f":"'ចំណាយ-ថវិការដ្ឋ'!F536","v":0},{"$f":"'ចំណាយ-ថវិការដ្ឋ'!G536","v":0},0,{"$f":"'ចំណាយ-ថវិការដ្ឋ'!I536","v":0},{"$f":"'ចំណាយ-ថវិការដ្ឋ'!J536","v":0},0,{"$f":"'ចំណាយ-ថវិការដ្ឋ'!L536","v":0},{"$f":"'ចំណាយ-ថវិការដ្ឋ'!M536","v":0}]
[{"$f":"Update_8!C738","v":"៦. អភិវឌ្ឍសមត្ថភាពមន្ត្រីអប់រំស្តីពីការប្រមូល សរសេរ និងឆ្លើយតបព័ត៌មាន"},0,{"$f":"'ចំណាយ-ថវិការដ្ឋ'!C537","v":0},{"$f":"'ចំណាយ-ថវិការដ្ឋ'!D537","v":0},0,{"$f":"'ចំណាយ-ថវិការដ្ឋ'!F537","v":0},{"$f":"'ចំណាយ-ថវិការដ្ឋ'!G537","v":0},0,{"$f":"'ចំណាយ-ថវិការដ្ឋ'!I537","v":0},{"$f":"'ចំណាយ-ថវិការដ្ឋ'!J537","v":0},0,{"$f":"'ចំណាយ-ថវិការដ្ឋ'!L537","v":0},{"$f":"'ចំណាយ-ថវិការដ្ឋ'!M537","v":0}]
[{"$f":"Update_8!C739","v":0},0,{"$f":"'ចំណាយ-ថវិការដ្ឋ'!C538","v":0},{"$f":"'ចំណាយ-ថវិការដ្ឋ'!D538","v":0},0,{"$f":"'ចំណាយ-ថវិការដ្ឋ'!F538","v":0},{"$f":"'ចំណាយ-ថវិការដ្ឋ'!G538","v":0},0,{"$f":"'ចំណាយ-ថវិការដ្ឋ'!I538","v":0},{"$f":"'ចំណាយ-ថវិការដ្ឋ'!J538","v":0},0,{"$f":"'ចំណាយ-ថវិការដ្ឋ'!L538","v":0},{"$f":"'ចំណាយ-ថវិការដ្ឋ'!M538","v":0}]
[{"$f":"Update_8!C740","v":0},0,{"$f":"'ចំណាយ-ថវិការដ្ឋ'!C539","v":0},{"$f":"'ចំណាយ-ថវិការដ្ឋ'!D539","v":0},0,{"$f":"'ចំណាយ-ថវិការដ្ឋ'!F539","v":0},{"$f":"'ចំណាយ-ថវិការដ្ឋ'!G539","v":0},0,{"$f":"'ចំណាយ-ថវិការដ្ឋ'!I539","v":0},{"$f":"'ចំណាយ-ថវិការដ្ឋ'!J539","v":0},0,{"$f":"'ចំណាយ-ថវិការដ្ឋ'!L539","v":0},{"$f":"'ចំណាយ-ថវិការដ្ឋ'!M539","v":0}]
[{"$f":"Update_8!C741","v":0},0,{"$f":"'ចំណាយ-ថវិការដ្ឋ'!C540","v":0},{"$f":"'ចំណាយ-ថវិការដ្ឋ'!D540","v":0},0,{"$f":"'ចំណាយ-ថវិការដ្ឋ'!F540","v":0},{"$f":"'ចំណាយ-ថវិការដ្ឋ'!G540","v":0},0,{"$f":"'ចំណាយ-ថវិការដ្ឋ'!I540","v":0},{"$f":"'ចំណាយ-ថវិការដ្ឋ'!J540","v":0},0,{"$f":"'ចំណាយ-ថវិការដ្ឋ'!L540","v":0},{"$f":"'ចំណាយ-ថវិការដ្ឋ'!M540","v":0}]
[{"$f":"Update_8!C742","v":0},0,{"$f":"'ចំណាយ-ថវិការដ្ឋ'!C541","v":0},{"$f":"'ចំណាយ-ថវិការដ្ឋ'!D541","v":0},0,{"$f":"'ចំណាយ-ថវិការដ្ឋ'!F541","v":0},{"$f":"'ចំណាយ-ថវិការដ្ឋ'!G541","v":0},0,{"$f":"'ចំណាយ-ថវិការដ្ឋ'!I541","v":0},{"$f":"'ចំណាយ-ថវិការដ្ឋ'!J541","v":0},0,{"$f":"'ចំណាយ-ថវិការដ្ឋ'!L541","v":0},{"$f":"'ចំណាយ-ថវិការដ្ឋ'!M541","v":0}]
[{"$f":"cluster_activity_2","v":"សកម្មភាពរង ទី ២៖ ធានាភាពស័ក្តិសិទ្ធនៃភាពជាអ្នកដឹកនាំ និងគ្រប់គ្រងរបស់មន្ត្រី អប់រំគ្រប់លំដាប់ថ្នាក់"},{"$f":"ROUND(SUM(B543:B552),1)","v":0},{"$f":"ROUND(SUM(C543:C552),1)","v":0},{"$f":"ROUND(SUM(D543:D552),1)","v":0},{"$f":"ROUND(SUM(E543:E552),1)","v":0},0,0,0,0,0,{"$f":"ROUND(SUM(K543:K552),1)","v":0},{"$f":"ROUND(SUM(L543:L552),1)","v":0},{"$f":"ROUND(SUM(M543:M552),1)","v":0}]
[{"$f":"Update_8!C743","v":0},{"$f":"ROUND(SUM(C543:D543),1)","v":0},{"$f":"'ចំណាយ-ថវិការដ្ឋ'!C543","v":0},{"$f":"'ចំណាយ-ថវិការដ្ឋ'!D543","v":0},{"$f":"ROUND(SUM(F543:G543),1)","v":0},{"$f":"'ចំណាយ-ថវិការដ្ឋ'!F543","v":0},{"$f":"'ចំណាយ-ថវិការដ្ឋ'!G543","v":0},{"$f":"ROUND(SUM(I543:J543),1)","v":0},{"$f":"'ចំណាយ-ថវិការដ្ឋ'!I543","v":0},{"$f":"'ចំណាយ-ថវិការដ្ឋ'!J543","v":0},{"$f":"ROUND(SUM(L543:M543),1)","v":0},{"$f":"'ចំណាយ-ថវិការដ្ឋ'!L543","v":0},{"$f":"'ចំណាយ-ថវិការដ្ឋ'!M543","v":0}]
[{"$f":"Update_8!C744","v":0},{"$f":"ROUND(SUM(C544:D544),1)","v":0},{"$f":"'ចំណាយ-ថវិការដ្ឋ'!C544","v":0},{"$f":"'ចំណាយ-ថវិការដ្ឋ'!D544","v":0},0,{"$f":"'ចំណាយ-ថវិការដ្ឋ'!F544","v":0},{"$f":"'ចំណាយ-ថវិការដ្ឋ'!G544","v":0},0,{"$f":"'ចំណាយ-ថវិការដ្ឋ'!I544","v":0},{"$f":"'ចំណាយ-ថវិការដ្ឋ'!J544","v":0},0,{"$f":"'ចំណាយ-ថវិការដ្ឋ'!L544","v":0},{"$f":"'ចំណាយ-ថវិការដ្ឋ'!M544","v":0}]
[{"$f":"Update_8!C745","v":0},0,{"$f":"'ចំណាយ-ថវិការដ្ឋ'!C545","v":0},{"$f":"'ចំណាយ-ថវិការដ្ឋ'!D545","v":0},0,{"$f":"'ចំណាយ-ថវិការដ្ឋ'!F545","v":0},{"$f":"'ចំណាយ-ថវិការដ្ឋ'!G545","v":0},0,{"$f":"'ចំណាយ-ថវិការដ្ឋ'!I545","v":0},{"$f":"'ចំណាយ-ថវិការដ្ឋ'!J545","v":0},0,{"$f":"'ចំណាយ-ថវិការដ្ឋ'!L545","v":0},{"$f":"'ចំណាយ-ថវិការដ្ឋ'!M545","v":0}]
[{"$f":"Update_8!C746","v":0},0,{"$f":"'ចំណាយ-ថវិការដ្ឋ'!C546","v":0},{"$f":"'ចំណាយ-ថវិការដ្ឋ'!D546","v":0},0,{"$f":"'ចំណាយ-ថវិការដ្ឋ'!F546","v":0},{"$f":"'ចំណាយ-ថវិការដ្ឋ'!G546","v":0},0,{"$f":"'ចំណាយ-ថវិការដ្ឋ'!I546","v":0},{"$f":"'ចំណាយ-ថវិការដ្ឋ'!J546","v":0},0,{"$f":"'ចំណាយ-ថវិការដ្ឋ'!L546","v":0},{"$f":"'ចំណាយ-ថវិការដ្ឋ'!M546","v":0}]
[{"$f":"Update_8!C747","v":0},0,{"$f":"'ចំណាយ-ថវិការដ្ឋ'!C547","v":0},{"$f":"'ចំណាយ-ថវិការដ្ឋ'!D547","v":0},0,{"$f":"'ចំណាយ-ថវិការដ្ឋ'!F547","v":0},{"$f":"'ចំណាយ-ថវិការដ្ឋ'!G547","v":0},0,{"$f":"'ចំណាយ-ថវិការដ្ឋ'!I547","v":0},{"$f":"'ចំណាយ-ថវិការដ្ឋ'!J547","v":0},0,{"$f":"'ចំណាយ-ថវិការដ្ឋ'!L547","v":0},{"$f":"'ចំណាយ-ថវិការដ្ឋ'!M547","v":0}]
[{"$f":"Update_8!C748","v":0},0,{"$f":"'ចំណាយ-ថវិការដ្ឋ'!C548","v":0},{"$f":"'ចំណាយ-ថវិការដ្ឋ'!D548","v":0},0,{"$f":"'ចំណាយ-ថវិការដ្ឋ'!F548","v":0},{"$f":"'ចំណាយ-ថវិការដ្ឋ'!G548","v":0},0,{"$f":"'ចំណាយ-ថវិការដ្ឋ'!I548","v":0},{"$f":"'ចំណាយ-ថវិការដ្ឋ'!J548","v":0},0,{"$f":"'ចំណាយ-ថវិការដ្ឋ'!L548","v":0},{"$f":"'ចំណាយ-ថវិការដ្ឋ'!M548","v":0}]
[{"$f":"Update_8!C749","v":0},0,{"$f":"'ចំណាយ-ថវិការដ្ឋ'!C549","v":0},{"$f":"'ចំណាយ-ថវិការដ្ឋ'!D549","v":0},0,{"$f":"'ចំណាយ-ថវិការដ្ឋ'!F549","v":0},{"$f":"'ចំណាយ-ថវិការដ្ឋ'!G549","v":0},0,{"$f":"'ចំណាយ-ថវិការដ្ឋ'!I549","v":0},{"$f":"'ចំណាយ-ថវិការដ្ឋ'!J549","v":0},0,{"$f":"'ចំណាយ-ថវិការដ្ឋ'!L549","v":0},{"$f":"'ចំណាយ-ថវិការដ្ឋ'!M549","v":0}]
[{"$f":"Update_8!C750","v":0},0,{"$f":"'ចំណាយ-ថវិការដ្ឋ'!C550","v":0},{"$f":"'ចំណាយ-ថវិការដ្ឋ'!D550","v":0},0,{"$f":"'ចំណាយ-ថវិការដ្ឋ'!F550","v":0},{"$f":"'ចំណាយ-ថវិការដ្ឋ'!G550","v":0},0,{"$f":"'ចំណាយ-ថវិការដ្ឋ'!I550","v":0},{"$f":"'ចំណាយ-ថវិការដ្ឋ'!J550","v":0},0,{"$f":"'ចំណាយ-ថវិការដ្ឋ'!L550","v":0},{"$f":"'ចំណាយ-ថវិការដ្ឋ'!M550","v":0}]
[{"$f":"Update_8!C751","v":0},0,{"$f":"'ចំណាយ-ថវិការដ្ឋ'!C551","v":0},{"$f":"'ចំណាយ-ថវិការដ្ឋ'!D551","v":0},0,{"$f":"'ចំណាយ-ថវិការដ្ឋ'!F551","v":0},{"$f":"'ចំណាយ-ថវិការដ្ឋ'!G551","v":0},0,{"$f":"'ចំណាយ-ថវិការដ្ឋ'!I551","v":0},{"$f":"'ចំណាយ-ថវិការដ្ឋ'!J551","v":0},0,{"$f":"'ចំណាយ-ថវិការដ្ឋ'!L551","v":0},{"$f":"'ចំណាយ-ថវិការដ្ឋ'!M551","v":0}]
[{"$f":"Update_8!C752","v":0},0,{"$f":"'ចំណាយ-ថវិការដ្ឋ'!C552","v":0},{"$f":"'ចំណាយ-ថវិការដ្ឋ'!D552","v":0},0,{"$f":"'ចំណាយ-ថវិការដ្ឋ'!F552","v":0},{"$f":"'ចំណាយ-ថវិការដ្ឋ'!G552","v":0},0,{"$f":"'ចំណាយ-ថវិការដ្ឋ'!I552","v":0},{"$f":"'ចំណាយ-ថវិការដ្ឋ'!J552","v":0},0,{"$f":"'ចំណាយ-ថវិការដ្ឋ'!L552","v":0},{"$f":"'ចំណាយ-ថវិការដ្ឋ'!M552","v":0}]
[{"$f":"ព័ត៌មានអង្គភាព!C38","v":"៥.១៨.០១.៨៖ ការពង្រឹងការងារនីតិកម្ម"},{"$f":"SUM(B554,B565)","v":0},{"$f":"SUM(C554,C565)","v":0},0,0,0,0,0,0,0,0,0,0]
[{"$f":"cluster_activity_1","v":"សកម្មភាពរង ទី ១៖ ធានាឱ្យការអប់រំមានគុណភាព ប្រកបដោយសមធម៌ បរិយាបន្ន និងលើកកម្ពស់ឱកាសក្នុងការសិក្សាពេញមួយជីវិត"},{"$f":"ROUND(SUM(B555:B564),1)","v":0},{"$f":"ROUND(SUM(C555:C564),1)","v":0},{"$f":"ROUND(SUM(D555:D564),1)","v":0},0,0,0,0,0,0,0,0,0]
[{"$f":"Update_8!C753","v":0},{"$f":"ROUND(SUM(C555:D555),1)","v":0},{"$f":"'ចំណាយ-ថវិការដ្ឋ'!C555","v":0},{"$f":"'ចំណាយ-ថវិការដ្ឋ'!D555","v":0},{"$f":"ROUND(SUM(F555:G555),1)","v":0},{"$f":"'ចំណាយ-ថវិការដ្ឋ'!F555","v":0},{"$f":"'ចំណាយ-ថវិការដ្ឋ'!G555","v":0},{"$f":"ROUND(SUM(I555:J555),1)","v":0},{"$f":"'ចំណាយ-ថវិការដ្ឋ'!I555","v":0},{"$f":"'ចំណាយ-ថវិការដ្ឋ'!J555","v":0},{"$f":"ROUND(SUM(L555:M555),1)","v":0},{"$f":"'ចំណាយ-ថវិការដ្ឋ'!L555","v":0},{"$f":"'ចំណាយ-ថវិការដ្ឋ'!M555","v":0}]
[{"$f":"Update_8!C754","v":0},{"$f":"ROUND(SUM(C556:D556),1)","v":0},{"$f":"'ចំណាយ-ថវិការដ្ឋ'!C556","v":0},{"$f":"'ចំណាយ-ថវិការដ្ឋ'!D556","v":0},0,{"$f":"'ចំណាយ-ថវិការដ្ឋ'!F556","v":0},{"$f":"'ចំណាយ-ថវិការដ្ឋ'!G556","v":0},0,{"$f":"'ចំណាយ-ថវិការដ្ឋ'!I556","v":0},{"$f":"'ចំណាយ-ថវិការដ្ឋ'!J556","v":0},0,{"$f":"'ចំណាយ-ថវិការដ្ឋ'!L556","v":0},{"$f":"'ចំណាយ-ថវិការដ្ឋ'!M556","v":0}]
[{"$f":"Update_8!C755","v":0},0,{"$f":"'ចំណាយ-ថវិការដ្ឋ'!C557","v":0},{"$f":"'ចំណាយ-ថវិការដ្ឋ'!D557","v":0},0,{"$f":"'ចំណាយ-ថវិការដ្ឋ'!F557","v":0},{"$f":"'ចំណាយ-ថវិការដ្ឋ'!G557","v":0},0,{"$f":"'ចំណាយ-ថវិការដ្ឋ'!I557","v":0},{"$f":"'ចំណាយ-ថវិការដ្ឋ'!J557","v":0},0,{"$f":"'ចំណាយ-ថវិការដ្ឋ'!L557","v":0},{"$f":"'ចំណាយ-ថវិការដ្ឋ'!M557","v":0}]
[{"$f":"Update_8!C756","v":0},0,{"$f":"'ចំណាយ-ថវិការដ្ឋ'!C558","v":0},{"$f":"'ចំណាយ-ថវិការដ្ឋ'!D558","v":0},0,{"$f":"'ចំណាយ-ថវិការដ្ឋ'!F558","v":0},{"$f":"'ចំណាយ-ថវិការដ្ឋ'!G558","v":0},0,{"$f":"'ចំណាយ-ថវិការដ្ឋ'!I558","v":0},{"$f":"'ចំណាយ-ថវិការដ្ឋ'!J558","v":0},0,{"$f":"'ចំណាយ-ថវិការដ្ឋ'!L558","v":0},{"$f":"'ចំណាយ-ថវិការដ្ឋ'!M558","v":0}]
[{"$f":"Update_8!C757","v":0},0,{"$f":"'ចំណាយ-ថវិការដ្ឋ'!C559","v":0},{"$f":"'ចំណាយ-ថវិការដ្ឋ'!D559","v":0},0,{"$f":"'ចំណាយ-ថវិការដ្ឋ'!F559","v":0},{"$f":"'ចំណាយ-ថវិការដ្ឋ'!G559","v":0},0,{"$f":"'ចំណាយ-ថវិការដ្ឋ'!I559","v":0},{"$f":"'ចំណាយ-ថវិការដ្ឋ'!J559","v":0},0,{"$f":"'ចំណាយ-ថវិការដ្ឋ'!L559","v":0},{"$f":"'ចំណាយ-ថវិការដ្ឋ'!M559","v":0}]
[{"$f":"Update_8!C758","v":0},0,{"$f":"'ចំណាយ-ថវិការដ្ឋ'!C560","v":0},{"$f":"'ចំណាយ-ថវិការដ្ឋ'!D560","v":0},0,{"$f":"'ចំណាយ-ថវិការដ្ឋ'!F560","v":0},{"$f":"'ចំណាយ-ថវិការដ្ឋ'!G560","v":0},0,{"$f":"'ចំណាយ-ថវិការដ្ឋ'!I560","v":0},{"$f":"'ចំណាយ-ថវិការដ្ឋ'!J560","v":0},0,{"$f":"'ចំណាយ-ថវិការដ្ឋ'!L560","v":0},{"$f":"'ចំណាយ-ថវិការដ្ឋ'!M560","v":0}]
[{"$f":"Update_8!C759","v":0},0,{"$f":"'ចំណាយ-ថវិការដ្ឋ'!C561","v":0},{"$f":"'ចំណាយ-ថវិការដ្ឋ'!D561","v":0},0,{"$f":"'ចំណាយ-ថវិការដ្ឋ'!F561","v":0},{"$f":"'ចំណាយ-ថវិការដ្ឋ'!G561","v":0},0,{"$f":"'ចំណាយ-ថវិការដ្ឋ'!I561","v":0},{"$f":"'ចំណាយ-ថវិការដ្ឋ'!J561","v":0},0,{"$f":"'ចំណាយ-ថវិការដ្ឋ'!L561","v":0},{"$f":"'ចំណាយ-ថវិការដ្ឋ'!M561","v":0}]
[{"$f":"Update_8!C760","v":0},0,{"$f":"'ចំណាយ-ថវិការដ្ឋ'!C562","v":0},{"$f":"'ចំណាយ-ថវិការដ្ឋ'!D562","v":0},0,{"$f":"'ចំណាយ-ថវិការដ្ឋ'!F562","v":0},{"$f":"'ចំណាយ-ថវិការដ្ឋ'!G562","v":0},0,{"$f":"'ចំណាយ-ថវិការដ្ឋ'!I562","v":0},{"$f":"'ចំណាយ-ថវិការដ្ឋ'!J562","v":0},0,{"$f":"'ចំណាយ-ថវិការដ្ឋ'!L562","v":0},{"$f":"'ចំណាយ-ថវិការដ្ឋ'!M562","v":0}]
[{"$f":"Update_8!C761","v":0},0,{"$f":"'ចំណាយ-ថវិការដ្ឋ'!C563","v":0},{"$f":"'ចំណាយ-ថវិការដ្ឋ'!D563","v":0},0,{"$f":"'ចំណាយ-ថវិការដ្ឋ'!F563","v":0},{"$f":"'ចំណាយ-ថវិការដ្ឋ'!G563","v":0},0,{"$f":"'ចំណាយ-ថវិការដ្ឋ'!I563","v":0},{"$f":"'ចំណាយ-ថវិការដ្ឋ'!J563","v":0},0,{"$f":"'ចំណាយ-ថវិការដ្ឋ'!L563","v":0},{"$f":"'ចំណាយ-ថវិការដ្ឋ'!M563","v":0}]
[{"$f":"Update_8!C762","v":0},0,{"$f":"'ចំណាយ-ថវិការដ្ឋ'!C564","v":0},{"$f":"'ចំណាយ-ថវិការដ្ឋ'!D564","v":0},0,{"$f":"'ចំណាយ-ថវិការដ្ឋ'!F564","v":0},{"$f":"'ចំណាយ-ថវិការដ្ឋ'!G564","v":0},0,{"$f":"'ចំណាយ-ថវិការដ្ឋ'!I564","v":0},{"$f":"'ចំណាយ-ថវិការដ្ឋ'!J564","v":0},0,{"$f":"'ចំណាយ-ថវិការដ្ឋ'!L564","v":0},{"$f":"'ចំណាយ-ថវិការដ្ឋ'!M564","v":0}]
[{"$f":"cluster_activity_2","v":"សកម្មភាពរង ទី ២៖ ធានាភាពស័ក្តិសិទ្ធនៃភាពជាអ្នកដឹកនាំ និងគ្រប់គ្រងរបស់មន្ត្រី អប់រំគ្រប់លំដាប់ថ្នាក់"},{"$f":"ROUND(SUM(B566:B575),1)","v":0},{"$f":"ROUND(SUM(C566:C575),1)","v":0},{"$f":"ROUND(SUM(D566:D575),1)","v":0},{"$f":"ROUND(SUM(E566:E575),1)","v":0},0,0,0,0,0,{"$f":"ROUND(SUM(K566:K575),1)","v":0},{"$f":"ROUND(SUM(L566:L575),1)","v":0},{"$f":"ROUND(SUM(M566:M575),1)","v":0}]
[{"$f":"Update_8!C763","v":"១. កិច្ចដំណើរការអង្គភាព"},{"$f":"ROUND(SUM(C566:D566),1)","v":0},{"$f":"'ចំណាយ-ថវិការដ្ឋ'!C566","v":0},{"$f":"'ចំណាយ-ថវិការដ្ឋ'!D566","v":0},{"$f":"ROUND(SUM(F566:G566),1)","v":0},{"$f":"'ចំណាយ-ថវិការដ្ឋ'!F566","v":0},{"$f":"'ចំណាយ-ថវិការដ្ឋ'!G566","v":0},{"$f":"ROUND(SUM(I566:J566),1)","v":0},{"$f":"'ចំណាយ-ថវិការដ្ឋ'!I566","v":0},{"$f":"'ចំណាយ-ថវិការដ្ឋ'!J566","v":0},{"$f":"ROUND(SUM(L566:M566),1)","v":0},{"$f":"'ចំណាយ-ថវិការដ្ឋ'!L566","v":0},{"$f":"'ចំណាយ-ថវិការដ្ឋ'!M566","v":0}]
[{"$f":"Update_8!C764","v":"២. ថវិកាលទ្ធកម្ម"},{"$f":"ROUND(SUM(C567:D567),1)","v":0},{"$f":"'ចំណាយ-ថវិការដ្ឋ'!C567","v":0},{"$f":"'ចំណាយ-ថវិការដ្ឋ'!D567","v":0},0,{"$f":"'ចំណាយ-ថវិការដ្ឋ'!F567","v":0},{"$f":"'ចំណាយ-ថវិការដ្ឋ'!G567","v":0},0,{"$f":"'ចំណាយ-ថវិការដ្ឋ'!I567","v":0},{"$f":"'ចំណាយ-ថវិការដ្ឋ'!J567","v":0},0,{"$f":"'ចំណាយ-ថវិការដ្ឋ'!L567","v":0},{"$f":"'ចំណាយ-ថវិការដ្ឋ'!M567","v":0}]
[{"$f":"Update_8!C765","v":"៣. ពិនិត្យតាមដាន និងវាយតម្លៃ"},0,{"$f":"'ចំណាយ-ថវិការដ្ឋ'!C568","v":0},{"$f":"'ចំណាយ-ថវិការដ្ឋ'!D568","v":0},0,{"$f":"'ចំណាយ-ថវិការដ្ឋ'!F568","v":0},{"$f":"'ចំណាយ-ថវិការដ្ឋ'!G568","v":0},0,{"$f":"'ចំណាយ-ថវិការដ្ឋ'!I568","v":0},{"$f":"'ចំណាយ-ថវិការដ្ឋ'!J568","v":0},0,{"$f":"'ចំណាយ-ថវិការដ្ឋ'!L568","v":0},{"$f":"'ចំណាយ-ថវិការដ្ឋ'!M568","v":0}]
[{"$f":"Update_8!C766","v":"៤. កសាងលិខិតបទដ្ឋានគតិយុត្តវិស័យអប់រំ"},0,{"$f":"'ចំណាយ-ថវិការដ្ឋ'!C569","v":0},{"$f":"'ចំណាយ-ថវិការដ្ឋ'!D569","v":0},0,{"$f":"'ចំណាយ-ថវិការដ្ឋ'!F569","v":0},{"$f":"'ចំណាយ-ថវិការដ្ឋ'!G569","v":0},0,{"$f":"'ចំណាយ-ថវិការដ្ឋ'!I569","v":0},{"$f":"'ចំណាយ-ថវិការដ្ឋ'!J569","v":0},0,{"$f":"'ចំណាយ-ថវិការដ្ឋ'!L569","v":0},{"$f":"'ចំណាយ-ថវិការដ្ឋ'!M569","v":0}]
[{"$f":"Update_8!C767","v":"៥. អភិវឌ្ឍសមត្ថភាពមន្ត្រីអប់រំលើការងារនីតិកម្ម និងអភិបាលកិច្ចវិស័យអប់រំ"},0,{"$f":"'ចំណាយ-ថវិការដ្ឋ'!C570","v":0},{"$f":"'ចំណាយ-ថវិការដ្ឋ'!D570","v":0},0,{"$f":"'ចំណាយ-ថវិការដ្ឋ'!F570","v":0},{"$f":"'ចំណាយ-ថវិការដ្ឋ'!G570","v":0},0,{"$f":"'ចំណាយ-ថវិការដ្ឋ'!I570","v":0},{"$f":"'ចំណាយ-ថវិការដ្ឋ'!J570","v":0},0,{"$f":"'ចំណាយ-ថវិការដ្ឋ'!L570","v":0},{"$f":"'ចំណាយ-ថវិការដ្ឋ'!M570","v":0}]
[{"$f":"Update_8!C768","v":"៦. អនុវត្តការងារកំណែទម្រង់វិមជ្ឈការនិងវិសហមជ្ឈការវិស័យអប់រំ"},0,{"$f":"'ចំណាយ-ថវិការដ្ឋ'!C571","v":0},{"$f":"'ចំណាយ-ថវិការដ្ឋ'!D571","v":0},0,{"$f":"'ចំណាយ-ថវិការដ្ឋ'!F571","v":0},{"$f":"'ចំណាយ-ថវិការដ្ឋ'!G571","v":0},0,{"$f":"'ចំណាយ-ថវិការដ្ឋ'!I571","v":0},{"$f":"'ចំណាយ-ថវិការដ្ឋ'!J571","v":0},0,{"$f":"'ចំណាយ-ថវិការដ្ឋ'!L571","v":0},{"$f":"'ចំណាយ-ថវិការដ្ឋ'!M571","v":0}]
[{"$f":"Update_8!C769","v":0},0,{"$f":"'ចំណាយ-ថវិការដ្ឋ'!C572","v":0},{"$f":"'ចំណាយ-ថវិការដ្ឋ'!D572","v":0},0,{"$f":"'ចំណាយ-ថវិការដ្ឋ'!F572","v":0},{"$f":"'ចំណាយ-ថវិការដ្ឋ'!G572","v":0},0,{"$f":"'ចំណាយ-ថវិការដ្ឋ'!I572","v":0},{"$f":"'ចំណាយ-ថវិការដ្ឋ'!J572","v":0},0,{"$f":"'ចំណាយ-ថវិការដ្ឋ'!L572","v":0},{"$f":"'ចំណាយ-ថវិការដ្ឋ'!M572","v":0}]
[{"$f":"Update_8!C770","v":0},0,{"$f":"'ចំណាយ-ថវិការដ្ឋ'!C573","v":0},{"$f":"'ចំណាយ-ថវិការដ្ឋ'!D573","v":0},0,{"$f":"'ចំណាយ-ថវិការដ្ឋ'!F573","v":0},{"$f":"'ចំណាយ-ថវិការដ្ឋ'!G573","v":0},0,{"$f":"'ចំណាយ-ថវិការដ្ឋ'!I573","v":0},{"$f":"'ចំណាយ-ថវិការដ្ឋ'!J573","v":0},0,{"$f":"'ចំណាយ-ថវិការដ្ឋ'!L573","v":0},{"$f":"'ចំណាយ-ថវិការដ្ឋ'!M573","v":0}]
[{"$f":"Update_8!C771","v":0},0,{"$f":"'ចំណាយ-ថវិការដ្ឋ'!C574","v":0},{"$f":"'ចំណាយ-ថវិការដ្ឋ'!D574","v":0},0,{"$f":"'ចំណាយ-ថវិការដ្ឋ'!F574","v":0},{"$f":"'ចំណាយ-ថវិការដ្ឋ'!G574","v":0},0,{"$f":"'ចំណាយ-ថវិការដ្ឋ'!I574","v":0},{"$f":"'ចំណាយ-ថវិការដ្ឋ'!J574","v":0},0,{"$f":"'ចំណាយ-ថវិការដ្ឋ'!L574","v":0},{"$f":"'ចំណាយ-ថវិការដ្ឋ'!M574","v":0}]
[{"$f":"Update_8!C772","v":0},0,{"$f":"'ចំណាយ-ថវិការដ្ឋ'!C575","v":0},{"$f":"'ចំណាយ-ថវិការដ្ឋ'!D575","v":0},0,{"$f":"'ចំណាយ-ថវិការដ្ឋ'!F575","v":0},{"$f":"'ចំណាយ-ថវិការដ្ឋ'!G575","v":0},0,{"$f":"'ចំណាយ-ថវិការដ្ឋ'!I575","v":0},{"$f":"'ចំណាយ-ថវិការដ្ឋ'!J575","v":0},0,{"$f":"'ចំណាយ-ថវិការដ្ឋ'!L575","v":0},{"$f":"'ចំណាយ-ថវិការដ្ឋ'!M575","v":0}]
[{"$f":"ព័ត៌មានអង្គភាព!C39","v":"៥.១៨.០១.៩៖ ការពង្រឹងការគ្រប់គ្រងហេដ្ឋារចនាសម្ព័ន្ធអប់រំ"},{"$f":"SUM(B577,B588)","v":0},{"$f":"SUM(C577,C588)","v":0},0,0,0,0,0,0,0,0,0,0]
[{"$f":"cluster_activity_1","v":"សកម្មភាពរង ទី ១៖ ធានាឱ្យការអប់រំមានគុណភាព ប្រកបដោយសមធម៌ បរិយាបន្ន និងលើកកម្ពស់ឱកាសក្នុងការសិក្សាពេញមួយជីវិត"},{"$f":"ROUND(SUM(B578:B587),1)","v":0},{"$f":"ROUND(SUM(C578:C587),1)","v":0},{"$f":"ROUND(SUM(D578:D587),1)","v":0},0,0,0,0,0,0,0,0,0]
[{"$f":"Update_8!C773","v":0},{"$f":"ROUND(SUM(C578:D578),1)","v":0},{"$f":"'ចំណាយ-ថវិការដ្ឋ'!C578","v":0},{"$f":"'ចំណាយ-ថវិការដ្ឋ'!D578","v":0},{"$f":"ROUND(SUM(F578:G578),1)","v":0},{"$f":"'ចំណាយ-ថវិការដ្ឋ'!F578","v":0},{"$f":"'ចំណាយ-ថវិការដ្ឋ'!G578","v":0},{"$f":"ROUND(SUM(I578:J578),1)","v":0},{"$f":"'ចំណាយ-ថវិការដ្ឋ'!I578","v":0},{"$f":"'ចំណាយ-ថវិការដ្ឋ'!J578","v":0},{"$f":"ROUND(SUM(L578:M578),1)","v":0},{"$f":"'ចំណាយ-ថវិការដ្ឋ'!L578","v":0},{"$f":"'ចំណាយ-ថវិការដ្ឋ'!M578","v":0}]
[{"$f":"Update_8!C774","v":0},{"$f":"ROUND(SUM(C579:D579),1)","v":0},{"$f":"'ចំណាយ-ថវិការដ្ឋ'!C579","v":0},{"$f":"'ចំណាយ-ថវិការដ្ឋ'!D579","v":0},0,{"$f":"'ចំណាយ-ថវិការដ្ឋ'!F579","v":0},{"$f":"'ចំណាយ-ថវិការដ្ឋ'!G579","v":0},0,{"$f":"'ចំណាយ-ថវិការដ្ឋ'!I579","v":0},{"$f":"'ចំណាយ-ថវិការដ្ឋ'!J579","v":0},0,{"$f":"'ចំណាយ-ថវិការដ្ឋ'!L579","v":0},{"$f":"'ចំណាយ-ថវិការដ្ឋ'!M579","v":0}]
[{"$f":"Update_8!C775","v":0},0,{"$f":"'ចំណាយ-ថវិការដ្ឋ'!C580","v":0},{"$f":"'ចំណាយ-ថវិការដ្ឋ'!D580","v":0},0,{"$f":"'ចំណាយ-ថវិការដ្ឋ'!F580","v":0},{"$f":"'ចំណាយ-ថវិការដ្ឋ'!G580","v":0},0,{"$f":"'ចំណាយ-ថវិការដ្ឋ'!I580","v":0},{"$f":"'ចំណាយ-ថវិការដ្ឋ'!J580","v":0},0,{"$f":"'ចំណាយ-ថវិការដ្ឋ'!L580","v":0},{"$f":"'ចំណាយ-ថវិការដ្ឋ'!M580","v":0}]
[{"$f":"Update_8!C776","v":0},0,{"$f":"'ចំណាយ-ថវិការដ្ឋ'!C581","v":0},{"$f":"'ចំណាយ-ថវិការដ្ឋ'!D581","v":0},0,{"$f":"'ចំណាយ-ថវិការដ្ឋ'!F581","v":0},{"$f":"'ចំណាយ-ថវិការដ្ឋ'!G581","v":0},0,{"$f":"'ចំណាយ-ថវិការដ្ឋ'!I581","v":0},{"$f":"'ចំណាយ-ថវិការដ្ឋ'!J581","v":0},0,{"$f":"'ចំណាយ-ថវិការដ្ឋ'!L581","v":0},{"$f":"'ចំណាយ-ថវិការដ្ឋ'!M581","v":0}]
[{"$f":"Update_8!C777","v":0},0,{"$f":"'ចំណាយ-ថវិការដ្ឋ'!C582","v":0},{"$f":"'ចំណាយ-ថវិការដ្ឋ'!D582","v":0},0,{"$f":"'ចំណាយ-ថវិការដ្ឋ'!F582","v":0},{"$f":"'ចំណាយ-ថវិការដ្ឋ'!G582","v":0},0,{"$f":"'ចំណាយ-ថវិការដ្ឋ'!I582","v":0},{"$f":"'ចំណាយ-ថវិការដ្ឋ'!J582","v":0},0,{"$f":"'ចំណាយ-ថវិការដ្ឋ'!L582","v":0},{"$f":"'ចំណាយ-ថវិការដ្ឋ'!M582","v":0}]
[{"$f":"Update_8!C778","v":0},0,{"$f":"'ចំណាយ-ថវិការដ្ឋ'!C583","v":0},{"$f":"'ចំណាយ-ថវិការដ្ឋ'!D583","v":0},0,{"$f":"'ចំណាយ-ថវិការដ្ឋ'!F583","v":0},{"$f":"'ចំណាយ-ថវិការដ្ឋ'!G583","v":0},0,{"$f":"'ចំណាយ-ថវិការដ្ឋ'!I583","v":0},{"$f":"'ចំណាយ-ថវិការដ្ឋ'!J583","v":0},0,{"$f":"'ចំណាយ-ថវិការដ្ឋ'!L583","v":0},{"$f":"'ចំណាយ-ថវិការដ្ឋ'!M583","v":0}]
[{"$f":"Update_8!C779","v":0},0,{"$f":"'ចំណាយ-ថវិការដ្ឋ'!C584","v":0},{"$f":"'ចំណាយ-ថវិការដ្ឋ'!D584","v":0},0,{"$f":"'ចំណាយ-ថវិការដ្ឋ'!F584","v":0},{"$f":"'ចំណាយ-ថវិការដ្ឋ'!G584","v":0},0,{"$f":"'ចំណាយ-ថវិការដ្ឋ'!I584","v":0},{"$f":"'ចំណាយ-ថវិការដ្ឋ'!J584","v":0},0,{"$f":"'ចំណាយ-ថវិការដ្ឋ'!L584","v":0},{"$f":"'ចំណាយ-ថវិការដ្ឋ'!M584","v":0}]
[{"$f":"Update_8!C780","v":0},0,{"$f":"'ចំណាយ-ថវិការដ្ឋ'!C585","v":0},{"$f":"'ចំណាយ-ថវិការដ្ឋ'!D585","v":0},0,{"$f":"'ចំណាយ-ថវិការដ្ឋ'!F585","v":0},{"$f":"'ចំណាយ-ថវិការដ្ឋ'!G585","v":0},0,{"$f":"'ចំណាយ-ថវិការដ្ឋ'!I585","v":0},{"$f":"'ចំណាយ-ថវិការដ្ឋ'!J585","v":0},0,{"$f":"'ចំណាយ-ថវិការដ្ឋ'!L585","v":0},{"$f":"'ចំណាយ-ថវិការដ្ឋ'!M585","v":0}]
[{"$f":"Update_8!C781","v":0},0,{"$f":"'ចំណាយ-ថវិការដ្ឋ'!C586","v":0},{"$f":"'ចំណាយ-ថវិការដ្ឋ'!D586","v":0},0,{"$f":"'ចំណាយ-ថវិការដ្ឋ'!F586","v":0},{"$f":"'ចំណាយ-ថវិការដ្ឋ'!G586","v":0},0,{"$f":"'ចំណាយ-ថវិការដ្ឋ'!I586","v":0},{"$f":"'ចំណាយ-ថវិការដ្ឋ'!J586","v":0},0,{"$f":"'ចំណាយ-ថវិការដ្ឋ'!L586","v":0},{"$f":"'ចំណាយ-ថវិការដ្ឋ'!M586","v":0}]
[{"$f":"Update_8!C782","v":0},0,{"$f":"'ចំណាយ-ថវិការដ្ឋ'!C587","v":0},{"$f":"'ចំណាយ-ថវិការដ្ឋ'!D587","v":0},0,{"$f":"'ចំណាយ-ថវិការដ្ឋ'!F587","v":0},{"$f":"'ចំណាយ-ថវិការដ្ឋ'!G587","v":0},0,{"$f":"'ចំណាយ-ថវិការដ្ឋ'!I587","v":0},{"$f":"'ចំណាយ-ថវិការដ្ឋ'!J587","v":0},0,{"$f":"'ចំណាយ-ថវិការដ្ឋ'!L587","v":0},{"$f":"'ចំណាយ-ថវិការដ្ឋ'!M587","v":0}]
[{"$f":"cluster_activity_2","v":"សកម្មភាពរង ទី ២៖ ធានាភាពស័ក្តិសិទ្ធនៃភាពជាអ្នកដឹកនាំ និងគ្រប់គ្រងរបស់មន្ត្រី អប់រំគ្រប់លំដាប់ថ្នាក់"},{"$f":"ROUND(SUM(B589:B598),1)","v":0},{"$f":"ROUND(SUM(C589:C598),1)","v":0},{"$f":"ROUND(SUM(D589:D598),1)","v":0},{"$f":"ROUND(SUM(E589:E598),1)","v":0},0,0,0,0,0,{"$f":"ROUND(SUM(K589:K598),1)","v":0},{"$f":"ROUND(SUM(L589:L598),1)","v":0},{"$f":"ROUND(SUM(M589:M598),1)","v":0}]
[{"$f":"Update_8!C783","v":"១. កិច្ចដំណើរការអង្គភាព"},{"$f":"ROUND(SUM(C589:D589),1)","v":0},{"$f":"'ចំណាយ-ថវិការដ្ឋ'!C589","v":0},{"$f":"'ចំណាយ-ថវិការដ្ឋ'!D589","v":0},{"$f":"ROUND(SUM(F589:G589),1)","v":0},{"$f":"'ចំណាយ-ថវិការដ្ឋ'!F589","v":0},{"$f":"'ចំណាយ-ថវិការដ្ឋ'!G589","v":0},{"$f":"ROUND(SUM(I589:J589),1)","v":0},{"$f":"'ចំណាយ-ថវិការដ្ឋ'!I589","v":0},{"$f":"'ចំណាយ-ថវិការដ្ឋ'!J589","v":0},{"$f":"ROUND(SUM(L589:M589),1)","v":0},{"$f":"'ចំណាយ-ថវិការដ្ឋ'!L589","v":0},{"$f":"'ចំណាយ-ថវិការដ្ឋ'!M589","v":0}]
[{"$f":"Update_8!C784","v":"២. ថវិកាលទ្ធកម្ម"},{"$f":"ROUND(SUM(C590:D590),1)","v":0},{"$f":"'ចំណាយ-ថវិការដ្ឋ'!C590","v":0},{"$f":"'ចំណាយ-ថវិការដ្ឋ'!D590","v":0},0,{"$f":"'ចំណាយ-ថវិការដ្ឋ'!F590","v":0},{"$f":"'ចំណាយ-ថវិការដ្ឋ'!G590","v":0},0,{"$f":"'ចំណាយ-ថវិការដ្ឋ'!I590","v":0},{"$f":"'ចំណាយ-ថវិការដ្ឋ'!J590","v":0},0,{"$f":"'ចំណាយ-ថវិការដ្ឋ'!L590","v":0},{"$f":"'ចំណាយ-ថវិការដ្ឋ'!M590","v":0}]
[{"$f":"Update_8!C785","v":"៣. ពិនិត្យតាមដាន និងវាយតម្លៃ"},0,{"$f":"'ចំណាយ-ថវិការដ្ឋ'!C591","v":0},{"$f":"'ចំណាយ-ថវិការដ្ឋ'!D591","v":0},0,{"$f":"'ចំណាយ-ថវិការដ្ឋ'!F591","v":0},{"$f":"'ចំណាយ-ថវិការដ្ឋ'!G591","v":0},0,{"$f":"'ចំណាយ-ថវិការដ្ឋ'!I591","v":0},{"$f":"'ចំណាយ-ថវិការដ្ឋ'!J591","v":0},0,{"$f":"'ចំណាយ-ថវិការដ្ឋ'!L591","v":0},{"$f":"'ចំណាយ-ថវិការដ្ឋ'!M591","v":0}]
[{"$f":"Update_8!C786","v":"៤. អភិវឌ្ឍសមត្ថភាពមន្ត្រីថ្នាក់ក្រោមជាតិស្តីពីការគ្រប់គ្រងហេដ្ឋារចនាសម្ព័ន្ធអប់រំ"},0,{"$f":"'ចំណាយ-ថវិការដ្ឋ'!C592","v":0},{"$f":"'ចំណាយ-ថវិការដ្ឋ'!D592","v":0},0,{"$f":"'ចំណាយ-ថវិការដ្ឋ'!F592","v":0},{"$f":"'ចំណាយ-ថវិការដ្ឋ'!G592","v":0},0,{"$f":"'ចំណាយ-ថវិការដ្ឋ'!I592","v":0},{"$f":"'ចំណាយ-ថវិការដ្ឋ'!J592","v":0},0,{"$f":"'ចំណាយ-ថវិការដ្ឋ'!L592","v":0},{"$f":"'ចំណាយ-ថវិការដ្ឋ'!M592","v":0}]
[{"$f":"Update_8!C787","v":"៥. គ្រប់គ្រង ថែទាំ និងជួសជុល"},0,{"$f":"'ចំណាយ-ថវិការដ្ឋ'!C593","v":0},{"$f":"'ចំណាយ-ថវិការដ្ឋ'!D593","v":0},0,{"$f":"'ចំណាយ-ថវិការដ្ឋ'!F593","v":0},{"$f":"'ចំណាយ-ថវិការដ្ឋ'!G593","v":0},0,{"$f":"'ចំណាយ-ថវិការដ្ឋ'!I593","v":0},{"$f":"'ចំណាយ-ថវិការដ្ឋ'!J593","v":0},0,{"$f":"'ចំណាយ-ថវិការដ្ឋ'!L593","v":0},{"$f":"'ចំណាយ-ថវិការដ្ឋ'!M593","v":0}]
[{"$f":"Update_8!C788","v":0},0,{"$f":"'ចំណាយ-ថវិការដ្ឋ'!C594","v":0},{"$f":"'ចំណាយ-ថវិការដ្ឋ'!D594","v":0},0,{"$f":"'ចំណាយ-ថវិការដ្ឋ'!F594","v":0},{"$f":"'ចំណាយ-ថវិការដ្ឋ'!G594","v":0},0,{"$f":"'ចំណាយ-ថវិការដ្ឋ'!I594","v":0},{"$f":"'ចំណាយ-ថវិការដ្ឋ'!J594","v":0},0,{"$f":"'ចំណាយ-ថវិការដ្ឋ'!L594","v":0},{"$f":"'ចំណាយ-ថវិការដ្ឋ'!M594","v":0}]
[{"$f":"Update_8!C789","v":0},0,{"$f":"'ចំណាយ-ថវិការដ្ឋ'!C595","v":0},{"$f":"'ចំណាយ-ថវិការដ្ឋ'!D595","v":0},0,{"$f":"'ចំណាយ-ថវិការដ្ឋ'!F595","v":0},{"$f":"'ចំណាយ-ថវិការដ្ឋ'!G595","v":0},0,{"$f":"'ចំណាយ-ថវិការដ្ឋ'!I595","v":0},{"$f":"'ចំណាយ-ថវិការដ្ឋ'!J595","v":0},0,{"$f":"'ចំណាយ-ថវិការដ្ឋ'!L595","v":0},{"$f":"'ចំណាយ-ថវិការដ្ឋ'!M595","v":0}]
[{"$f":"Update_8!C790","v":0},0,{"$f":"'ចំណាយ-ថវិការដ្ឋ'!C596","v":0},{"$f":"'ចំណាយ-ថវិការដ្ឋ'!D596","v":0},0,{"$f":"'ចំណាយ-ថវិការដ្ឋ'!F596","v":0},{"$f":"'ចំណាយ-ថវិការដ្ឋ'!G596","v":0},0,{"$f":"'ចំណាយ-ថវិការដ្ឋ'!I596","v":0},{"$f":"'ចំណាយ-ថវិការដ្ឋ'!J596","v":0},0,{"$f":"'ចំណាយ-ថវិការដ្ឋ'!L596","v":0},{"$f":"'ចំណាយ-ថវិការដ្ឋ'!M596","v":0}]
[{"$f":"Update_8!C791","v":0},0,{"$f":"'ចំណាយ-ថវិការដ្ឋ'!C597","v":0},{"$f":"'ចំណាយ-ថវិការដ្ឋ'!D597","v":0},0,{"$f":"'ចំណាយ-ថវិការដ្ឋ'!F597","v":0},{"$f":"'ចំណាយ-ថវិការដ្ឋ'!G597","v":0},0,{"$f":"'ចំណាយ-ថវិការដ្ឋ'!I597","v":0},{"$f":"'ចំណាយ-ថវិការដ្ឋ'!J597","v":0},0,{"$f":"'ចំណាយ-ថវិការដ្ឋ'!L597","v":0},{"$f":"'ចំណាយ-ថវិការដ្ឋ'!M597","v":0}]
[{"$f":"Update_8!C792","v":0},0,{"$f":"'ចំណាយ-ថវិការដ្ឋ'!C598","v":0},{"$f":"'ចំណាយ-ថវិការដ្ឋ'!D598","v":0},0,{"$f":"'ចំណាយ-ថវិការដ្ឋ'!F598","v":0},{"$f":"'ចំណាយ-ថវិការដ្ឋ'!G598","v":0},0,{"$f":"'ចំណាយ-ថវិការដ្ឋ'!I598","v":0},{"$f":"'ចំណាយ-ថវិការដ្ឋ'!J598","v":0},0,{"$f":"'ចំណាយ-ថវិការដ្ឋ'!L598","v":0},{"$f":"'ចំណាយ-ថវិការដ្ឋ'!M598","v":0}]
[{"$f":"ព័ត៌មានអង្គភាព!C40","v":"៥.១៨.០១.១០៖ ការពង្រឹងការគ្រប់គ្រង ការផ្គត់ផ្គង់សម្ភារៈ និងទ្រព្យសម្បត្តិរដ្ឋ"},{"$f":"SUM(B600,B611)","v":0},{"$f":"SUM(C600,C611)","v":0},{"$f":"SUM(D600,D611)","v":0},0,0,0,0,0,0,0,0,0]
[{"$f":"cluster_activity_1","v":"សកម្មភាពរង ទី ១៖ ធានាឱ្យការអប់រំមានគុណភាព ប្រកបដោយសមធម៌ បរិយាបន្ន និងលើកកម្ពស់ឱកាសក្នុងការសិក្សាពេញមួយជីវិត"},{"$f":"ROUND(SUM(B601:B610),1)","v":0},{"$f":"ROUND(SUM(C601:C610),1)","v":0},{"$f":"ROUND(SUM(D601:D610),1)","v":0},0,0,0,0,0,0,0,0,0]
[{"$f":"Update_8!C793","v":0},{"$f":"ROUND(SUM(C601:D601),1)","v":0},{"$f":"'ចំណាយ-ថវិការដ្ឋ'!C601","v":0},{"$f":"'ចំណាយ-ថវិការដ្ឋ'!D601","v":0},{"$f":"ROUND(SUM(F601:G601),1)","v":0},{"$f":"'ចំណាយ-ថវិការដ្ឋ'!F601","v":0},{"$f":"'ចំណាយ-ថវិការដ្ឋ'!G601","v":0},{"$f":"ROUND(SUM(I601:J601),1)","v":0},{"$f":"'ចំណាយ-ថវិការដ្ឋ'!I601","v":0},{"$f":"'ចំណាយ-ថវិការដ្ឋ'!J601","v":0},{"$f":"ROUND(SUM(L601:M601),1)","v":0},{"$f":"'ចំណាយ-ថវិការដ្ឋ'!L601","v":0},{"$f":"'ចំណាយ-ថវិការដ្ឋ'!M601","v":0}]
[{"$f":"Update_8!C794","v":0},{"$f":"ROUND(SUM(C602:D602),1)","v":0},{"$f":"'ចំណាយ-ថវិការដ្ឋ'!C602","v":0},{"$f":"'ចំណាយ-ថវិការដ្ឋ'!D602","v":0},0,{"$f":"'ចំណាយ-ថវិការដ្ឋ'!F602","v":0},{"$f":"'ចំណាយ-ថវិការដ្ឋ'!G602","v":0},0,{"$f":"'ចំណាយ-ថវិការដ្ឋ'!I602","v":0},{"$f":"'ចំណាយ-ថវិការដ្ឋ'!J602","v":0},0,{"$f":"'ចំណាយ-ថវិការដ្ឋ'!L602","v":0},{"$f":"'ចំណាយ-ថវិការដ្ឋ'!M602","v":0}]
[{"$f":"Update_8!C795","v":0},0,{"$f":"'ចំណាយ-ថវិការដ្ឋ'!C603","v":0},{"$f":"'ចំណាយ-ថវិការដ្ឋ'!D603","v":0},0,{"$f":"'ចំណាយ-ថវិការដ្ឋ'!F603","v":0},{"$f":"'ចំណាយ-ថវិការដ្ឋ'!G603","v":0},0,{"$f":"'ចំណាយ-ថវិការដ្ឋ'!I603","v":0},{"$f":"'ចំណាយ-ថវិការដ្ឋ'!J603","v":0},0,{"$f":"'ចំណាយ-ថវិការដ្ឋ'!L603","v":0},{"$f":"'ចំណាយ-ថវិការដ្ឋ'!M603","v":0}]
[{"$f":"Update_8!C796","v":0},0,{"$f":"'ចំណាយ-ថវិការដ្ឋ'!C604","v":0},{"$f":"'ចំណាយ-ថវិការដ្ឋ'!D604","v":0},0,{"$f":"'ចំណាយ-ថវិការដ្ឋ'!F604","v":0},{"$f":"'ចំណាយ-ថវិការដ្ឋ'!G604","v":0},0,{"$f":"'ចំណាយ-ថវិការដ្ឋ'!I604","v":0},{"$f":"'ចំណាយ-ថវិការដ្ឋ'!J604","v":0},0,{"$f":"'ចំណាយ-ថវិការដ្ឋ'!L604","v":0},{"$f":"'ចំណាយ-ថវិការដ្ឋ'!M604","v":0}]
[{"$f":"Update_8!C797","v":0},0,{"$f":"'ចំណាយ-ថវិការដ្ឋ'!C605","v":0},{"$f":"'ចំណាយ-ថវិការដ្ឋ'!D605","v":0},0,{"$f":"'ចំណាយ-ថវិការដ្ឋ'!F605","v":0},{"$f":"'ចំណាយ-ថវិការដ្ឋ'!G605","v":0},0,{"$f":"'ចំណាយ-ថវិការដ្ឋ'!I605","v":0},{"$f":"'ចំណាយ-ថវិការដ្ឋ'!J605","v":0},0,{"$f":"'ចំណាយ-ថវិការដ្ឋ'!L605","v":0},{"$f":"'ចំណាយ-ថវិការដ្ឋ'!M605","v":0}]
[{"$f":"Update_8!C798","v":0},0,{"$f":"'ចំណាយ-ថវិការដ្ឋ'!C606","v":0},{"$f":"'ចំណាយ-ថវិការដ្ឋ'!D606","v":0},0,{"$f":"'ចំណាយ-ថវិការដ្ឋ'!F606","v":0},{"$f":"'ចំណាយ-ថវិការដ្ឋ'!G606","v":0},0,{"$f":"'ចំណាយ-ថវិការដ្ឋ'!I606","v":0},{"$f":"'ចំណាយ-ថវិការដ្ឋ'!J606","v":0},0,{"$f":"'ចំណាយ-ថវិការដ្ឋ'!L606","v":0},{"$f":"'ចំណាយ-ថវិការដ្ឋ'!M606","v":0}]
[{"$f":"Update_8!C799","v":0},0,{"$f":"'ចំណាយ-ថវិការដ្ឋ'!C607","v":0},{"$f":"'ចំណាយ-ថវិការដ្ឋ'!D607","v":0},0,{"$f":"'ចំណាយ-ថវិការដ្ឋ'!F607","v":0},{"$f":"'ចំណាយ-ថវិការដ្ឋ'!G607","v":0},0,{"$f":"'ចំណាយ-ថវិការដ្ឋ'!I607","v":0},{"$f":"'ចំណាយ-ថវិការដ្ឋ'!J607","v":0},0,{"$f":"'ចំណាយ-ថវិការដ្ឋ'!L607","v":0},{"$f":"'ចំណាយ-ថវិការដ្ឋ'!M607","v":0}]
[{"$f":"Update_8!C800","v":0},0,{"$f":"'ចំណាយ-ថវិការដ្ឋ'!C608","v":0},{"$f":"'ចំណាយ-ថវិការដ្ឋ'!D608","v":0},0,{"$f":"'ចំណាយ-ថវិការដ្ឋ'!F608","v":0},{"$f":"'ចំណាយ-ថវិការដ្ឋ'!G608","v":0},0,{"$f":"'ចំណាយ-ថវិការដ្ឋ'!I608","v":0},{"$f":"'ចំណាយ-ថវិការដ្ឋ'!J608","v":0},0,{"$f":"'ចំណាយ-ថវិការដ្ឋ'!L608","v":0},{"$f":"'ចំណាយ-ថវិការដ្ឋ'!M608","v":0}]
[{"$f":"Update_8!C801","v":0},0,{"$f":"'ចំណាយ-ថវិការដ្ឋ'!C609","v":0},{"$f":"'ចំណាយ-ថវិការដ្ឋ'!D609","v":0},0,{"$f":"'ចំណាយ-ថវិការដ្ឋ'!F609","v":0},{"$f":"'ចំណាយ-ថវិការដ្ឋ'!G609","v":0},0,{"$f":"'ចំណាយ-ថវិការដ្ឋ'!I609","v":0},{"$f":"'ចំណាយ-ថវិការដ្ឋ'!J609","v":0},0,{"$f":"'ចំណាយ-ថវិការដ្ឋ'!L609","v":0},{"$f":"'ចំណាយ-ថវិការដ្ឋ'!M609","v":0}]
[{"$f":"Update_8!C802","v":0},0,{"$f":"'ចំណាយ-ថវិការដ្ឋ'!C610","v":0},{"$f":"'ចំណាយ-ថវិការដ្ឋ'!D610","v":0},0,{"$f":"'ចំណាយ-ថវិការដ្ឋ'!F610","v":0},{"$f":"'ចំណាយ-ថវិការដ្ឋ'!G610","v":0},0,{"$f":"'ចំណាយ-ថវិការដ្ឋ'!I610","v":0},{"$f":"'ចំណាយ-ថវិការដ្ឋ'!J610","v":0},0,{"$f":"'ចំណាយ-ថវិការដ្ឋ'!L610","v":0},{"$f":"'ចំណាយ-ថវិការដ្ឋ'!M610","v":0}]
[{"$f":"cluster_activity_2","v":"សកម្មភាពរង ទី ២៖ ធានាភាពស័ក្តិសិទ្ធនៃភាពជាអ្នកដឹកនាំ និងគ្រប់គ្រងរបស់មន្ត្រី អប់រំគ្រប់លំដាប់ថ្នាក់"},{"$f":"ROUND(SUM(B612:B621),1)","v":0},{"$f":"ROUND(SUM(C612:C621),1)","v":0},{"$f":"ROUND(SUM(D612:D621),1)","v":0},{"$f":"ROUND(SUM(E612:E621),1)","v":0},0,0,0,0,0,{"$f":"ROUND(SUM(K612:K621),1)","v":0},{"$f":"ROUND(SUM(L612:L621),1)","v":0},{"$f":"ROUND(SUM(M612:M621),1)","v":0}]
[{"$f":"Update_8!C803","v":"១. កិច្ចដំណើរការអង្គភាព"},{"$f":"ROUND(SUM(C612:D612),1)","v":0},{"$f":"'ចំណាយ-ថវិការដ្ឋ'!C612","v":0},{"$f":"'ចំណាយ-ថវិការដ្ឋ'!D612","v":0},{"$f":"ROUND(SUM(F612:G612),1)","v":0},{"$f":"'ចំណាយ-ថវិការដ្ឋ'!F612","v":0},{"$f":"'ចំណាយ-ថវិការដ្ឋ'!G612","v":0},{"$f":"ROUND(SUM(I612:J612),1)","v":0},{"$f":"'ចំណាយ-ថវិការដ្ឋ'!I612","v":0},{"$f":"'ចំណាយ-ថវិការដ្ឋ'!J612","v":0},{"$f":"ROUND(SUM(L612:M612),1)","v":0},{"$f":"'ចំណាយ-ថវិការដ្ឋ'!L612","v":0},{"$f":"'ចំណាយ-ថវិការដ្ឋ'!M612","v":0}]
[{"$f":"Update_8!C804","v":"២. ថវិកាលទ្ធកម្ម"},{"$f":"ROUND(SUM(C613:D613),1)","v":0},{"$f":"'ចំណាយ-ថវិការដ្ឋ'!C613","v":0},{"$f":"'ចំណាយ-ថវិការដ្ឋ'!D613","v":0},0,{"$f":"'ចំណាយ-ថវិការដ្ឋ'!F613","v":0},{"$f":"'ចំណាយ-ថវិការដ្ឋ'!G613","v":0},0,{"$f":"'ចំណាយ-ថវិការដ្ឋ'!I613","v":0},{"$f":"'ចំណាយ-ថវិការដ្ឋ'!J613","v":0},0,{"$f":"'ចំណាយ-ថវិការដ្ឋ'!L613","v":0},{"$f":"'ចំណាយ-ថវិការដ្ឋ'!M613","v":0}]
[{"$f":"Update_8!C805","v":"៣. ពិនិត្យតាមដាន និងវាយតម្លៃ"},0,{"$f":"'ចំណាយ-ថវិការដ្ឋ'!C614","v":0},{"$f":"'ចំណាយ-ថវិការដ្ឋ'!D614","v":0},0,{"$f":"'ចំណាយ-ថវិការដ្ឋ'!F614","v":0},{"$f":"'ចំណាយ-ថវិការដ្ឋ'!G614","v":0},0,{"$f":"'ចំណាយ-ថវិការដ្ឋ'!I614","v":0},{"$f":"'ចំណាយ-ថវិការដ្ឋ'!J614","v":0},0,{"$f":"'ចំណាយ-ថវិការដ្ឋ'!L614","v":0},{"$f":"'ចំណាយ-ថវិការដ្ឋ'!M614","v":0}]
[{"$f":"Update_8!C806","v":"៤. គាំទ្រ គ្រប់គ្រងនិងអភិវឌ្ឍសមត្ថភាពលើការងារសម្ភារទ្រព្យសម្បត្តិរដ្ឋ"},0,{"$f":"'ចំណាយ-ថវិការដ្ឋ'!C615","v":0},{"$f":"'ចំណាយ-ថវិការដ្ឋ'!D615","v":0},0,{"$f":"'ចំណាយ-ថវិការដ្ឋ'!F615","v":0},{"$f":"'ចំណាយ-ថវិការដ្ឋ'!G615","v":0},0,{"$f":"'ចំណាយ-ថវិការដ្ឋ'!I615","v":0},{"$f":"'ចំណាយ-ថវិការដ្ឋ'!J615","v":0},0,{"$f":"'ចំណាយ-ថវិការដ្ឋ'!L615","v":0},{"$f":"'ចំណាយ-ថវិការដ្ឋ'!M615","v":0}]
[{"$f":"Update_8!C807","v":0},0,{"$f":"'ចំណាយ-ថវិការដ្ឋ'!C616","v":0},{"$f":"'ចំណាយ-ថវិការដ្ឋ'!D616","v":0},0,{"$f":"'ចំណាយ-ថវិការដ្ឋ'!F616","v":0},{"$f":"'ចំណាយ-ថវិការដ្ឋ'!G616","v":0},0,{"$f":"'ចំណាយ-ថវិការដ្ឋ'!I616","v":0},{"$f":"'ចំណាយ-ថវិការដ្ឋ'!J616","v":0},0,{"$f":"'ចំណាយ-ថវិការដ្ឋ'!L616","v":0},{"$f":"'ចំណាយ-ថវិការដ្ឋ'!M616","v":0}]
[{"$f":"Update_8!C808","v":0},0,{"$f":"'ចំណាយ-ថវិការដ្ឋ'!C617","v":0},{"$f":"'ចំណាយ-ថវិការដ្ឋ'!D617","v":0},0,{"$f":"'ចំណាយ-ថវិការដ្ឋ'!F617","v":0},{"$f":"'ចំណាយ-ថវិការដ្ឋ'!G617","v":0},0,{"$f":"'ចំណាយ-ថវិការដ្ឋ'!I617","v":0},{"$f":"'ចំណាយ-ថវិការដ្ឋ'!J617","v":0},0,{"$f":"'ចំណាយ-ថវិការដ្ឋ'!L617","v":0},{"$f":"'ចំណាយ-ថវិការដ្ឋ'!M617","v":0}]
[{"$f":"Update_8!C809","v":0},0,{"$f":"'ចំណាយ-ថវិការដ្ឋ'!C618","v":0},{"$f":"'ចំណាយ-ថវិការដ្ឋ'!D618","v":0},0,{"$f":"'ចំណាយ-ថវិការដ្ឋ'!F618","v":0},{"$f":"'ចំណាយ-ថវិការដ្ឋ'!G618","v":0},0,{"$f":"'ចំណាយ-ថវិការដ្ឋ'!I618","v":0},{"$f":"'ចំណាយ-ថវិការដ្ឋ'!J618","v":0},0,{"$f":"'ចំណាយ-ថវិការដ្ឋ'!L618","v":0},{"$f":"'ចំណាយ-ថវិការដ្ឋ'!M618","v":0}]
[{"$f":"Update_8!C810","v":0},0,{"$f":"'ចំណាយ-ថវិការដ្ឋ'!C619","v":0},{"$f":"'ចំណាយ-ថវិការដ្ឋ'!D619","v":0},0,{"$f":"'ចំណាយ-ថវិការដ្ឋ'!F619","v":0},{"$f":"'ចំណាយ-ថវិការដ្ឋ'!G619","v":0},0,{"$f":"'ចំណាយ-ថវិការដ្ឋ'!I619","v":0},{"$f":"'ចំណាយ-ថវិការដ្ឋ'!J619","v":0},0,{"$f":"'ចំណាយ-ថវិការដ្ឋ'!L619","v":0},{"$f":"'ចំណាយ-ថវិការដ្ឋ'!M619","v":0}]
[{"$f":"Update_8!C811","v":0},0,{"$f":"'ចំណាយ-ថវិការដ្ឋ'!C620","v":0},{"$f":"'ចំណាយ-ថវិការដ្ឋ'!D620","v":0},0,{"$f":"'ចំណាយ-ថវិការដ្ឋ'!F620","v":0},{"$f":"'ចំណាយ-ថវិការដ្ឋ'!G620","v":0},0,{"$f":"'ចំណាយ-ថវិការដ្ឋ'!I620","v":0},{"$f":"'ចំណាយ-ថវិការដ្ឋ'!J620","v":0},0,{"$f":"'ចំណាយ-ថវិការដ្ឋ'!L620","v":0},{"$f":"'ចំណាយ-ថវិការដ្ឋ'!M620","v":0}]
[{"$f":"Update_8!C812","v":0},0,{"$f":"'ចំណាយ-ថវិការដ្ឋ'!C621","v":0},{"$f":"'ចំណាយ-ថវិការដ្ឋ'!D621","v":0},0,{"$f":"'ចំណាយ-ថវិការដ្ឋ'!F621","v":0},{"$f":"'ចំណាយ-ថវិការដ្ឋ'!G621","v":0},0,{"$f":"'ចំណាយ-ថវិការដ្ឋ'!I621","v":0},{"$f":"'ចំណាយ-ថវិការដ្ឋ'!J621","v":0},0,{"$f":"'ចំណាយ-ថវិការដ្ឋ'!L621","v":0},{"$f":"'ចំណាយ-ថវិការដ្ឋ'!M621","v":0}]
[{"$f":"ព័ត៌មានអង្គភាព!C41","v":"៥.១៨.០១.១១៖ ការអភិវឌ្ឍ និងពង្រឹងប្រសិទ្ធភាពការគ្រប់គ្រង និងការធានាភាពសក្តិសិទ្ធនៃសេវារដ្ឋបាលអប់រំ"},{"$f":"SUM(B623,B634)","v":0},{"$f":"SUM(C623,C634)","v":0},{"$f":"SUM(D623,D634)","v":0},0,0,0,0,0,0,0,0,0]
[{"$f":"cluster_activity_1","v":"សកម្មភាពរង ទី ១៖ ធានាឱ្យការអប់រំមានគុណភាព ប្រកបដោយសមធម៌ បរិយាបន្ន និងលើកកម្ពស់ឱកាសក្នុងការសិក្សាពេញមួយជីវិត"},{"$f":"ROUND(SUM(B624:B633),1)","v":0},{"$f":"ROUND(SUM(C624:C633),1)","v":0},{"$f":"ROUND(SUM(D624:D633),1)","v":0},0,0,0,0,0,0,0,0,0]
[{"$f":"Update_8!C813","v":0},{"$f":"ROUND(SUM(C624:D624),1)","v":0},{"$f":"'ចំណាយ-ថវិការដ្ឋ'!C624","v":0},{"$f":"'ចំណាយ-ថវិការដ្ឋ'!D624","v":0},{"$f":"ROUND(SUM(F624:G624),1)","v":0},{"$f":"'ចំណាយ-ថវិការដ្ឋ'!F624","v":0},{"$f":"'ចំណាយ-ថវិការដ្ឋ'!G624","v":0},{"$f":"ROUND(SUM(I624:J624),1)","v":0},{"$f":"'ចំណាយ-ថវិការដ្ឋ'!I624","v":0},{"$f":"'ចំណាយ-ថវិការដ្ឋ'!J624","v":0},{"$f":"ROUND(SUM(L624:M624),1)","v":0},{"$f":"'ចំណាយ-ថវិការដ្ឋ'!L624","v":0},{"$f":"'ចំណាយ-ថវិការដ្ឋ'!M624","v":0}]
[{"$f":"Update_8!C814","v":0},{"$f":"ROUND(SUM(C625:D625),1)","v":0},{"$f":"'ចំណាយ-ថវិការដ្ឋ'!C625","v":0},{"$f":"'ចំណាយ-ថវិការដ្ឋ'!D625","v":0},0,{"$f":"'ចំណាយ-ថវិការដ្ឋ'!F625","v":0},{"$f":"'ចំណាយ-ថវិការដ្ឋ'!G625","v":0},0,{"$f":"'ចំណាយ-ថវិការដ្ឋ'!I625","v":0},{"$f":"'ចំណាយ-ថវិការដ្ឋ'!J625","v":0},0,{"$f":"'ចំណាយ-ថវិការដ្ឋ'!L625","v":0},{"$f":"'ចំណាយ-ថវិការដ្ឋ'!M625","v":0}]
[{"$f":"Update_8!C815","v":0},0,{"$f":"'ចំណាយ-ថវិការដ្ឋ'!C626","v":0},{"$f":"'ចំណាយ-ថវិការដ្ឋ'!D626","v":0},0,{"$f":"'ចំណាយ-ថវិការដ្ឋ'!F626","v":0},{"$f":"'ចំណាយ-ថវិការដ្ឋ'!G626","v":0},0,{"$f":"'ចំណាយ-ថវិការដ្ឋ'!I626","v":0},{"$f":"'ចំណាយ-ថវិការដ្ឋ'!J626","v":0},0,{"$f":"'ចំណាយ-ថវិការដ្ឋ'!L626","v":0},{"$f":"'ចំណាយ-ថវិការដ្ឋ'!M626","v":0}]
[{"$f":"Update_8!C816","v":0},0,{"$f":"'ចំណាយ-ថវិការដ្ឋ'!C627","v":0},{"$f":"'ចំណាយ-ថវិការដ្ឋ'!D627","v":0},0,{"$f":"'ចំណាយ-ថវិការដ្ឋ'!F627","v":0},{"$f":"'ចំណាយ-ថវិការដ្ឋ'!G627","v":0},0,{"$f":"'ចំណាយ-ថវិការដ្ឋ'!I627","v":0},{"$f":"'ចំណាយ-ថវិការដ្ឋ'!J627","v":0},0,{"$f":"'ចំណាយ-ថវិការដ្ឋ'!L627","v":0},{"$f":"'ចំណាយ-ថវិការដ្ឋ'!M627","v":0}]
[{"$f":"Update_8!C817","v":0},0,{"$f":"'ចំណាយ-ថវិការដ្ឋ'!C628","v":0},{"$f":"'ចំណាយ-ថវិការដ្ឋ'!D628","v":0},0,{"$f":"'ចំណាយ-ថវិការដ្ឋ'!F628","v":0},{"$f":"'ចំណាយ-ថវិការដ្ឋ'!G628","v":0},0,{"$f":"'ចំណាយ-ថវិការដ្ឋ'!I628","v":0},{"$f":"'ចំណាយ-ថវិការដ្ឋ'!J628","v":0},0,{"$f":"'ចំណាយ-ថវិការដ្ឋ'!L628","v":0},{"$f":"'ចំណាយ-ថវិការដ្ឋ'!M628","v":0}]
[{"$f":"Update_8!C818","v":0},0,{"$f":"'ចំណាយ-ថវិការដ្ឋ'!C629","v":0},{"$f":"'ចំណាយ-ថវិការដ្ឋ'!D629","v":0},0,{"$f":"'ចំណាយ-ថវិការដ្ឋ'!F629","v":0},{"$f":"'ចំណាយ-ថវិការដ្ឋ'!G629","v":0},0,{"$f":"'ចំណាយ-ថវិការដ្ឋ'!I629","v":0},{"$f":"'ចំណាយ-ថវិការដ្ឋ'!J629","v":0},0,{"$f":"'ចំណាយ-ថវិការដ្ឋ'!L629","v":0},{"$f":"'ចំណាយ-ថវិការដ្ឋ'!M629","v":0}]
[{"$f":"Update_8!C819","v":0},0,{"$f":"'ចំណាយ-ថវិការដ្ឋ'!C630","v":0},{"$f":"'ចំណាយ-ថវិការដ្ឋ'!D630","v":0},0,{"$f":"'ចំណាយ-ថវិការដ្ឋ'!F630","v":0},{"$f":"'ចំណាយ-ថវិការដ្ឋ'!G630","v":0},0,{"$f":"'ចំណាយ-ថវិការដ្ឋ'!I630","v":0},{"$f":"'ចំណាយ-ថវិការដ្ឋ'!J630","v":0},0,{"$f":"'ចំណាយ-ថវិការដ្ឋ'!L630","v":0},{"$f":"'ចំណាយ-ថវិការដ្ឋ'!M630","v":0}]
[{"$f":"Update_8!C820","v":0},0,{"$f":"'ចំណាយ-ថវិការដ្ឋ'!C631","v":0},{"$f":"'ចំណាយ-ថវិការដ្ឋ'!D631","v":0},0,{"$f":"'ចំណាយ-ថវិការដ្ឋ'!F631","v":0},{"$f":"'ចំណាយ-ថវិការដ្ឋ'!G631","v":0},0,{"$f":"'ចំណាយ-ថវិការដ្ឋ'!I631","v":0},{"$f":"'ចំណាយ-ថវិការដ្ឋ'!J631","v":0},0,{"$f":"'ចំណាយ-ថវិការដ្ឋ'!L631","v":0},{"$f":"'ចំណាយ-ថវិការដ្ឋ'!M631","v":0}]
[{"$f":"Update_8!C821","v":0},0,{"$f":"'ចំណាយ-ថវិការដ្ឋ'!C632","v":0},{"$f":"'ចំណាយ-ថវិការដ្ឋ'!D632","v":0},0,{"$f":"'ចំណាយ-ថវិការដ្ឋ'!F632","v":0},{"$f":"'ចំណាយ-ថវិការដ្ឋ'!G632","v":0},0,{"$f":"'ចំណាយ-ថវិការដ្ឋ'!I632","v":0},{"$f":"'ចំណាយ-ថវិការដ្ឋ'!J632","v":0},0,{"$f":"'ចំណាយ-ថវិការដ្ឋ'!L632","v":0},{"$f":"'ចំណាយ-ថវិការដ្ឋ'!M632","v":0}]
[{"$f":"Update_8!C822","v":0},0,{"$f":"'ចំណាយ-ថវិការដ្ឋ'!C633","v":0},{"$f":"'ចំណាយ-ថវិការដ្ឋ'!D633","v":0},0,{"$f":"'ចំណាយ-ថវិការដ្ឋ'!F633","v":0},{"$f":"'ចំណាយ-ថវិការដ្ឋ'!G633","v":0},0,{"$f":"'ចំណាយ-ថវិការដ្ឋ'!I633","v":0},{"$f":"'ចំណាយ-ថវិការដ្ឋ'!J633","v":0},0,{"$f":"'ចំណាយ-ថវិការដ្ឋ'!L633","v":0},{"$f":"'ចំណាយ-ថវិការដ្ឋ'!M633","v":0}]
[{"$f":"cluster_activity_2","v":"សកម្មភាពរង ទី ២៖ ធានាភាពស័ក្តិសិទ្ធនៃភាពជាអ្នកដឹកនាំ និងគ្រប់គ្រងរបស់មន្ត្រី អប់រំគ្រប់លំដាប់ថ្នាក់"},{"$f":"ROUND(SUM(B635:B644),1)","v":0},{"$f":"ROUND(SUM(C635:C644),1)","v":0},{"$f":"ROUND(SUM(D635:D644),1)","v":0},{"$f":"ROUND(SUM(E635:E644),1)","v":0},0,0,0,0,0,{"$f":"ROUND(SUM(K635:K644),1)","v":0},{"$f":"ROUND(SUM(L635:L644),1)","v":0},{"$f":"ROUND(SUM(M635:M644),1)","v":0}]
[{"$f":"Update_8!C823","v":"១. កិច្ចដំណើរការអង្គភាព"},{"$f":"ROUND(SUM(C635:D635),1)","v":0},{"$f":"'ចំណាយ-ថវិការដ្ឋ'!C635","v":0},{"$f":"'ចំណាយ-ថវិការដ្ឋ'!D635","v":0},{"$f":"ROUND(SUM(F635:G635),1)","v":0},{"$f":"'ចំណាយ-ថវិការដ្ឋ'!F635","v":0},{"$f":"'ចំណាយ-ថវិការដ្ឋ'!G635","v":0},{"$f":"ROUND(SUM(I635:J635),1)","v":0},{"$f":"'ចំណាយ-ថវិការដ្ឋ'!I635","v":0},{"$f":"'ចំណាយ-ថវិការដ្ឋ'!J635","v":0},{"$f":"ROUND(SUM(L635:M635),1)","v":0},{"$f":"'ចំណាយ-ថវិការដ្ឋ'!L635","v":0},{"$f":"'ចំណាយ-ថវិការដ្ឋ'!M635","v":0}]
[{"$f":"Update_8!C824","v":"២. ថវិកាលទ្ធកម្ម"},{"$f":"ROUND(SUM(C636:D636),1)","v":0},{"$f":"'ចំណាយ-ថវិការដ្ឋ'!C636","v":0},{"$f":"'ចំណាយ-ថវិការដ្ឋ'!D636","v":0},0,{"$f":"'ចំណាយ-ថវិការដ្ឋ'!F636","v":0},{"$f":"'ចំណាយ-ថវិការដ្ឋ'!G636","v":0},0,{"$f":"'ចំណាយ-ថវិការដ្ឋ'!I636","v":0},{"$f":"'ចំណាយ-ថវិការដ្ឋ'!J636","v":0},0,{"$f":"'ចំណាយ-ថវិការដ្ឋ'!L636","v":0},{"$f":"'ចំណាយ-ថវិការដ្ឋ'!M636","v":0}]
[{"$f":"Update_8!C825","v":"៣. ពិនិត្យតាមដាន និងវាយតម្លៃ"},0,{"$f":"'ចំណាយ-ថវិការដ្ឋ'!C637","v":0},{"$f":"'ចំណាយ-ថវិការដ្ឋ'!D637","v":0},0,{"$f":"'ចំណាយ-ថវិការដ្ឋ'!F637","v":0},{"$f":"'ចំណាយ-ថវិការដ្ឋ'!G637","v":0},0,{"$f":"'ចំណាយ-ថវិការដ្ឋ'!I637","v":0},{"$f":"'ចំណាយ-ថវិការដ្ឋ'!J637","v":0},0,{"$f":"'ចំណាយ-ថវិការដ្ឋ'!L637","v":0},{"$f":"'ចំណាយ-ថវិការដ្ឋ'!M637","v":0}]
[{"$f":"Update_8!C826","v":"៤. គាំទ្រសេវារៀបចំពិធីសម្រាប់វិស័យអប់រំ"},0,{"$f":"'ចំណាយ-ថវិការដ្ឋ'!C638","v":0},{"$f":"'ចំណាយ-ថវិការដ្ឋ'!D638","v":0},0,{"$f":"'ចំណាយ-ថវិការដ្ឋ'!F638","v":0},{"$f":"'ចំណាយ-ថវិការដ្ឋ'!G638","v":0},0,{"$f":"'ចំណាយ-ថវិការដ្ឋ'!I638","v":0},{"$f":"'ចំណាយ-ថវិការដ្ឋ'!J638","v":0},0,{"$f":"'ចំណាយ-ថវិការដ្ឋ'!L638","v":0},{"$f":"'ចំណាយ-ថវិការដ្ឋ'!M638","v":0}]
[{"$f":"Update_8!C827","v":"៥. អភិវឌ្ឍសមត្ថភាពមន្ត្រីគ្រប់គ្រងរដ្ឋបាលអប់រំ"},0,{"$f":"'ចំណាយ-ថវិការដ្ឋ'!C639","v":0},{"$f":"'ចំណាយ-ថវិការដ្ឋ'!D639","v":0},0,{"$f":"'ចំណាយ-ថវិការដ្ឋ'!F639","v":0},{"$f":"'ចំណាយ-ថវិការដ្ឋ'!G639","v":0},0,{"$f":"'ចំណាយ-ថវិការដ្ឋ'!I639","v":0},{"$f":"'ចំណាយ-ថវិការដ្ឋ'!J639","v":0},0,{"$f":"'ចំណាយ-ថវិការដ្ឋ'!L639","v":0},{"$f":"'ចំណាយ-ថវិការដ្ឋ'!M639","v":0}]
[{"$f":"Update_8!C828","v":0},0,{"$f":"'ចំណាយ-ថវិការដ្ឋ'!C640","v":0},{"$f":"'ចំណាយ-ថវិការដ្ឋ'!D640","v":0},0,{"$f":"'ចំណាយ-ថវិការដ្ឋ'!F640","v":0},{"$f":"'ចំណាយ-ថវិការដ្ឋ'!G640","v":0},0,{"$f":"'ចំណាយ-ថវិការដ្ឋ'!I640","v":0},{"$f":"'ចំណាយ-ថវិការដ្ឋ'!J640","v":0},0,{"$f":"'ចំណាយ-ថវិការដ្ឋ'!L640","v":0},{"$f":"'ចំណាយ-ថវិការដ្ឋ'!M640","v":0}]
[{"$f":"Update_8!C829","v":0},0,{"$f":"'ចំណាយ-ថវិការដ្ឋ'!C641","v":0},{"$f":"'ចំណាយ-ថវិការដ្ឋ'!D641","v":0},0,{"$f":"'ចំណាយ-ថវិការដ្ឋ'!F641","v":0},{"$f":"'ចំណាយ-ថវិការដ្ឋ'!G641","v":0},0,{"$f":"'ចំណាយ-ថវិការដ្ឋ'!I641","v":0},{"$f":"'ចំណាយ-ថវិការដ្ឋ'!J641","v":0},0,{"$f":"'ចំណាយ-ថវិការដ្ឋ'!L641","v":0},{"$f":"'ចំណាយ-ថវិការដ្ឋ'!M641","v":0}]
[{"$f":"Update_8!C830","v":0},0,{"$f":"'ចំណាយ-ថវិការដ្ឋ'!C642","v":0},{"$f":"'ចំណាយ-ថវិការដ្ឋ'!D642","v":0},0,{"$f":"'ចំណាយ-ថវិការដ្ឋ'!F642","v":0},{"$f":"'ចំណាយ-ថវិការដ្ឋ'!G642","v":0},0,{"$f":"'ចំណាយ-ថវិការដ្ឋ'!I642","v":0},{"$f":"'ចំណាយ-ថវិការដ្ឋ'!J642","v":0},0,{"$f":"'ចំណាយ-ថវិការដ្ឋ'!L642","v":0},{"$f":"'ចំណាយ-ថវិការដ្ឋ'!M642","v":0}]
[{"$f":"Update_8!C831","v":0},0,{"$f":"'ចំណាយ-ថវិការដ្ឋ'!C643","v":0},{"$f":"'ចំណាយ-ថវិការដ្ឋ'!D643","v":0},0,{"$f":"'ចំណាយ-ថវិការដ្ឋ'!F643","v":0},{"$f":"'ចំណាយ-ថវិការដ្ឋ'!G643","v":0},0,{"$f":"'ចំណាយ-ថវិការដ្ឋ'!I643","v":0},{"$f":"'ចំណាយ-ថវិការដ្ឋ'!J643","v":0},0,{"$f":"'ចំណាយ-ថវិការដ្ឋ'!L643","v":0},{"$f":"'ចំណាយ-ថវិការដ្ឋ'!M643","v":0}]
[{"$f":"Update_8!C832","v":0},0,{"$f":"'ចំណាយ-ថវិការដ្ឋ'!C644","v":0},{"$f":"'ចំណាយ-ថវិការដ្ឋ'!D644","v":0},0,{"$f":"'ចំណាយ-ថវិការដ្ឋ'!F644","v":0},{"$f":"'ចំណាយ-ថវិការដ្ឋ'!G644","v":0},0,{"$f":"'ចំណាយ-ថវិការដ្ឋ'!I644","v":0},{"$f":"'ចំណាយ-ថវិការដ្ឋ'!J644","v":0},0,{"$f":"'ចំណាយ-ថវិការដ្ឋ'!L644","v":0},{"$f":"'ចំណាយ-ថវិការដ្ឋ'!M644","v":0}]
[{"$f":"ព័ត៌មានអង្គភាព!C42","v":"៥.១៨.០១.១២៖ ការអភិវឌ្ឍកិច្ចសហប្រតិបត្តិការជាតិ អន្តរជាតិលើវិស័យអប់រំ"},{"$f":"SUM(B646,B657)","v":0},{"$f":"SUM(C646,C657)","v":0},0,0,0,0,0,0,0,0,0,0]
[{"$f":"cluster_activity_1","v":"សកម្មភាពរង ទី ១៖ ធានាឱ្យការអប់រំមានគុណភាព ប្រកបដោយសមធម៌ បរិយាបន្ន និងលើកកម្ពស់ឱកាសក្នុងការសិក្សាពេញមួយជីវិត"},{"$f":"ROUND(SUM(B647:B656),1)","v":0},{"$f":"ROUND(SUM(C647:C656),1)","v":0},{"$f":"ROUND(SUM(D647:D656),1)","v":0},0,0,0,0,0,0,0,0,0]
[{"$f":"Update_8!C833","v":"១. ប្រឡងជ្រើសរើសនិស្សិតអាហារូបករណ៍"},{"$f":"ROUND(SUM(C647:D647),1)","v":0},{"$f":"'ចំណាយ-ថវិការដ្ឋ'!C647","v":0},{"$f":"'ចំណាយ-ថវិការដ្ឋ'!D647","v":0},{"$f":"ROUND(SUM(F647:G647),1)","v":0},{"$f":"'ចំណាយ-ថវិការដ្ឋ'!F647","v":0},{"$f":"'ចំណាយ-ថវិការដ្ឋ'!G647","v":0},{"$f":"ROUND(SUM(I647:J647),1)","v":0},{"$f":"'ចំណាយ-ថវិការដ្ឋ'!I647","v":0},{"$f":"'ចំណាយ-ថវិការដ្ឋ'!J647","v":0},{"$f":"ROUND(SUM(L647:M647),1)","v":0},{"$f":"'ចំណាយ-ថវិការដ្ឋ'!L647","v":0},{"$f":"'ចំណាយ-ថវិការដ្ឋ'!M647","v":0}]
[{"$f":"Update_8!C834","v":0},{"$f":"ROUND(SUM(C648:D648),1)","v":0},{"$f":"'ចំណាយ-ថវិការដ្ឋ'!C648","v":0},{"$f":"'ចំណាយ-ថវិការដ្ឋ'!D648","v":0},0,{"$f":"'ចំណាយ-ថវិការដ្ឋ'!F648","v":0},{"$f":"'ចំណាយ-ថវិការដ្ឋ'!G648","v":0},0,{"$f":"'ចំណាយ-ថវិការដ្ឋ'!I648","v":0},{"$f":"'ចំណាយ-ថវិការដ្ឋ'!J648","v":0},0,{"$f":"'ចំណាយ-ថវិការដ្ឋ'!L648","v":0},{"$f":"'ចំណាយ-ថវិការដ្ឋ'!M648","v":0}]
[{"$f":"Update_8!C835","v":0},0,{"$f":"'ចំណាយ-ថវិការដ្ឋ'!C649","v":0},{"$f":"'ចំណាយ-ថវិការដ្ឋ'!D649","v":0},0,{"$f":"'ចំណាយ-ថវិការដ្ឋ'!F649","v":0},{"$f":"'ចំណាយ-ថវិការដ្ឋ'!G649","v":0},0,{"$f":"'ចំណាយ-ថវិការដ្ឋ'!I649","v":0},{"$f":"'ចំណាយ-ថវិការដ្ឋ'!J649","v":0},0,{"$f":"'ចំណាយ-ថវិការដ្ឋ'!L649","v":0},{"$f":"'ចំណាយ-ថវិការដ្ឋ'!M649","v":0}]
[{"$f":"Update_8!C836","v":0},0,{"$f":"'ចំណាយ-ថវិការដ្ឋ'!C650","v":0},{"$f":"'ចំណាយ-ថវិការដ្ឋ'!D650","v":0},0,{"$f":"'ចំណាយ-ថវិការដ្ឋ'!F650","v":0},{"$f":"'ចំណាយ-ថវិការដ្ឋ'!G650","v":0},0,{"$f":"'ចំណាយ-ថវិការដ្ឋ'!I650","v":0},{"$f":"'ចំណាយ-ថវិការដ្ឋ'!J650","v":0},0,{"$f":"'ចំណាយ-ថវិការដ្ឋ'!L650","v":0},{"$f":"'ចំណាយ-ថវិការដ្ឋ'!M650","v":0}]
[{"$f":"Update_8!C837","v":0},0,{"$f":"'ចំណាយ-ថវិការដ្ឋ'!C651","v":0},{"$f":"'ចំណាយ-ថវិការដ្ឋ'!D651","v":0},0,{"$f":"'ចំណាយ-ថវិការដ្ឋ'!F651","v":0},{"$f":"'ចំណាយ-ថវិការដ្ឋ'!G651","v":0},0,{"$f":"'ចំណាយ-ថវិការដ្ឋ'!I651","v":0},{"$f":"'ចំណាយ-ថវិការដ្ឋ'!J651","v":0},0,{"$f":"'ចំណាយ-ថវិការដ្ឋ'!L651","v":0},{"$f":"'ចំណាយ-ថវិការដ្ឋ'!M651","v":0}]
[{"$f":"Update_8!C838","v":0},0,{"$f":"'ចំណាយ-ថវិការដ្ឋ'!C652","v":0},{"$f":"'ចំណាយ-ថវិការដ្ឋ'!D652","v":0},0,{"$f":"'ចំណាយ-ថវិការដ្ឋ'!F652","v":0},{"$f":"'ចំណាយ-ថវិការដ្ឋ'!G652","v":0},0,{"$f":"'ចំណាយ-ថវិការដ្ឋ'!I652","v":0},{"$f":"'ចំណាយ-ថវិការដ្ឋ'!J652","v":0},0,{"$f":"'ចំណាយ-ថវិការដ្ឋ'!L652","v":0},{"$f":"'ចំណាយ-ថវិការដ្ឋ'!M652","v":0}]
[{"$f":"Update_8!C839","v":0},0,{"$f":"'ចំណាយ-ថវិការដ្ឋ'!C653","v":0},{"$f":"'ចំណាយ-ថវិការដ្ឋ'!D653","v":0},0,{"$f":"'ចំណាយ-ថវិការដ្ឋ'!F653","v":0},{"$f":"'ចំណាយ-ថវិការដ្ឋ'!G653","v":0},0,{"$f":"'ចំណាយ-ថវិការដ្ឋ'!I653","v":0},{"$f":"'ចំណាយ-ថវិការដ្ឋ'!J653","v":0},0,{"$f":"'ចំណាយ-ថវិការដ្ឋ'!L653","v":0},{"$f":"'ចំណាយ-ថវិការដ្ឋ'!M653","v":0}]
[{"$f":"Update_8!C840","v":0},0,{"$f":"'ចំណាយ-ថវិការដ្ឋ'!C654","v":0},{"$f":"'ចំណាយ-ថវិការដ្ឋ'!D654","v":0},0,{"$f":"'ចំណាយ-ថវិការដ្ឋ'!F654","v":0},{"$f":"'ចំណាយ-ថវិការដ្ឋ'!G654","v":0},0,{"$f":"'ចំណាយ-ថវិការដ្ឋ'!I654","v":0},{"$f":"'ចំណាយ-ថវិការដ្ឋ'!J654","v":0},0,{"$f":"'ចំណាយ-ថវិការដ្ឋ'!L654","v":0},{"$f":"'ចំណាយ-ថវិការដ្ឋ'!M654","v":0}]
[{"$f":"Update_8!C841","v":0},0,{"$f":"'ចំណាយ-ថវិការដ្ឋ'!C655","v":0},{"$f":"'ចំណាយ-ថវិការដ្ឋ'!D655","v":0},0,{"$f":"'ចំណាយ-ថវិការដ្ឋ'!F655","v":0},{"$f":"'ចំណាយ-ថវិការដ្ឋ'!G655","v":0},0,{"$f":"'ចំណាយ-ថវិការដ្ឋ'!I655","v":0},{"$f":"'ចំណាយ-ថវិការដ្ឋ'!J655","v":0},0,{"$f":"'ចំណាយ-ថវិការដ្ឋ'!L655","v":0},{"$f":"'ចំណាយ-ថវិការដ្ឋ'!M655","v":0}]
[{"$f":"Update_8!C842","v":0},0,{"$f":"'ចំណាយ-ថវិការដ្ឋ'!C656","v":0},{"$f":"'ចំណាយ-ថវិការដ្ឋ'!D656","v":0},0,{"$f":"'ចំណាយ-ថវិការដ្ឋ'!F656","v":0},{"$f":"'ចំណាយ-ថវិការដ្ឋ'!G656","v":0},0,{"$f":"'ចំណាយ-ថវិការដ្ឋ'!I656","v":0},{"$f":"'ចំណាយ-ថវិការដ្ឋ'!J656","v":0},0,{"$f":"'ចំណាយ-ថវិការដ្ឋ'!L656","v":0},{"$f":"'ចំណាយ-ថវិការដ្ឋ'!M656","v":0}]
[{"$f":"cluster_activity_2","v":"សកម្មភាពរង ទី ២៖ ធានាភាពស័ក្តិសិទ្ធនៃភាពជាអ្នកដឹកនាំ និងគ្រប់គ្រងរបស់មន្ត្រី អប់រំគ្រប់លំដាប់ថ្នាក់"},{"$f":"ROUND(SUM(B658:B667),1)","v":0},{"$f":"ROUND(SUM(C658:C667),1)","v":0},{"$f":"ROUND(SUM(D658:D667),1)","v":0},{"$f":"ROUND(SUM(E658:E667),1)","v":0},0,0,0,0,0,{"$f":"ROUND(SUM(K658:K667),1)","v":0},{"$f":"ROUND(SUM(L658:L667),1)","v":0},{"$f":"ROUND(SUM(M658:M667),1)","v":0}]
[{"$f":"Update_8!C843","v":"១. កិច្ចដំណើរការអង្គភាព"},{"$f":"ROUND(SUM(C658:D658),1)","v":0},{"$f":"'ចំណាយ-ថវិការដ្ឋ'!C658","v":0},{"$f":"'ចំណាយ-ថវិការដ្ឋ'!D658","v":0},{"$f":"ROUND(SUM(F658:G658),1)","v":0},{"$f":"'ចំណាយ-ថវិការដ្ឋ'!F658","v":0},{"$f":"'ចំណាយ-ថវិការដ្ឋ'!G658","v":0},{"$f":"ROUND(SUM(I658:J658),1)","v":0},{"$f":"'ចំណាយ-ថវិការដ្ឋ'!I658","v":0},{"$f":"'ចំណាយ-ថវិការដ្ឋ'!J658","v":0},{"$f":"ROUND(SUM(L658:M658),1)","v":0},{"$f":"'ចំណាយ-ថវិការដ្ឋ'!L658","v":0},{"$f":"'ចំណាយ-ថវិការដ្ឋ'!M658","v":0}]
[{"$f":"Update_8!C844","v":"២. ថវិកាលទ្ធកម្ម"},{"$f":"ROUND(SUM(C659:D659),1)","v":0},{"$f":"'ចំណាយ-ថវិការដ្ឋ'!C659","v":0},{"$f":"'ចំណាយ-ថវិការដ្ឋ'!D659","v":0},0,{"$f":"'ចំណាយ-ថវិការដ្ឋ'!F659","v":0},{"$f":"'ចំណាយ-ថវិការដ្ឋ'!G659","v":0},0,{"$f":"'ចំណាយ-ថវិការដ្ឋ'!I659","v":0},{"$f":"'ចំណាយ-ថវិការដ្ឋ'!J659","v":0},0,{"$f":"'ចំណាយ-ថវិការដ្ឋ'!L659","v":0},{"$f":"'ចំណាយ-ថវិការដ្ឋ'!M659","v":0}]
[{"$f":"Update_8!C845","v":"៣. ពិនិត្យតាមដាន និងវាយតម្លៃ"},0,{"$f":"'ចំណាយ-ថវិការដ្ឋ'!C660","v":0},{"$f":"'ចំណាយ-ថវិការដ្ឋ'!D660","v":0},0,{"$f":"'ចំណាយ-ថវិការដ្ឋ'!F660","v":0},{"$f":"'ចំណាយ-ថវិការដ្ឋ'!G660","v":0},0,{"$f":"'ចំណាយ-ថវិការដ្ឋ'!I660","v":0},{"$f":"'ចំណាយ-ថវិការដ្ឋ'!J660","v":0},0,{"$f":"'ចំណាយ-ថវិការដ្ឋ'!L660","v":0},{"$f":"'ចំណាយ-ថវិការដ្ឋ'!M660","v":0}]
[{"$f":"Update_8!C846","v":"៤. ពង្រឹងសមត្ថភាពមន្ត្រីក្នុងការគ្រប់គ្រងសិស្ស និស្សិតអារូបករណ៍ ផ្សព្វផ្សាយព័ត៌មានអាហារូបករណ៍ និងសហប្រតិបត្តិការ"},0,{"$f":"'ចំណាយ-ថវិការដ្ឋ'!C661","v":0},{"$f":"'ចំណាយ-ថវិការដ្ឋ'!D661","v":0},0,{"$f":"'ចំណាយ-ថវិការដ្ឋ'!F661","v":0},{"$f":"'ចំណាយ-ថវិការដ្ឋ'!G661","v":0},0,{"$f":"'ចំណាយ-ថវិការដ្ឋ'!I661","v":0},{"$f":"'ចំណាយ-ថវិការដ្ឋ'!J661","v":0},0,{"$f":"'ចំណាយ-ថវិការដ្ឋ'!L661","v":0},{"$f":"'ចំណាយ-ថវិការដ្ឋ'!M661","v":0}]
[{"$f":"Update_8!C847","v":0},0,{"$f":"'ចំណាយ-ថវិការដ្ឋ'!C662","v":0},{"$f":"'ចំណាយ-ថវិការដ្ឋ'!D662","v":0},0,{"$f":"'ចំណាយ-ថវិការដ្ឋ'!F662","v":0},{"$f":"'ចំណាយ-ថវិការដ្ឋ'!G662","v":0},0,{"$f":"'ចំណាយ-ថវិការដ្ឋ'!I662","v":0},{"$f":"'ចំណាយ-ថវិការដ្ឋ'!J662","v":0},0,{"$f":"'ចំណាយ-ថវិការដ្ឋ'!L662","v":0},{"$f":"'ចំណាយ-ថវិការដ្ឋ'!M662","v":0}]
[{"$f":"Update_8!C848","v":0},0,{"$f":"'ចំណាយ-ថវិការដ្ឋ'!C663","v":0},{"$f":"'ចំណាយ-ថវិការដ្ឋ'!D663","v":0},0,{"$f":"'ចំណាយ-ថវិការដ្ឋ'!F663","v":0},{"$f":"'ចំណាយ-ថវិការដ្ឋ'!G663","v":0},0,{"$f":"'ចំណាយ-ថវិការដ្ឋ'!I663","v":0},{"$f":"'ចំណាយ-ថវិការដ្ឋ'!J663","v":0},0,{"$f":"'ចំណាយ-ថវិការដ្ឋ'!L663","v":0},{"$f":"'ចំណាយ-ថវិការដ្ឋ'!M663","v":0}]
[{"$f":"Update_8!C849","v":0},0,{"$f":"'ចំណាយ-ថវិការដ្ឋ'!C664","v":0},{"$f":"'ចំណាយ-ថវិការដ្ឋ'!D664","v":0},0,{"$f":"'ចំណាយ-ថវិការដ្ឋ'!F664","v":0},{"$f":"'ចំណាយ-ថវិការដ្ឋ'!G664","v":0},0,{"$f":"'ចំណាយ-ថវិការដ្ឋ'!I664","v":0},{"$f":"'ចំណាយ-ថវិការដ្ឋ'!J664","v":0},0,{"$f":"'ចំណាយ-ថវិការដ្ឋ'!L664","v":0},{"$f":"'ចំណាយ-ថវិការដ្ឋ'!M664","v":0}]
[{"$f":"Update_8!C850","v":0},0,{"$f":"'ចំណាយ-ថវិការដ្ឋ'!C665","v":0},{"$f":"'ចំណាយ-ថវិការដ្ឋ'!D665","v":0},0,{"$f":"'ចំណាយ-ថវិការដ្ឋ'!F665","v":0},{"$f":"'ចំណាយ-ថវិការដ្ឋ'!G665","v":0},0,{"$f":"'ចំណាយ-ថវិការដ្ឋ'!I665","v":0},{"$f":"'ចំណាយ-ថវិការដ្ឋ'!J665","v":0},0,{"$f":"'ចំណាយ-ថវិការដ្ឋ'!L665","v":0},{"$f":"'ចំណាយ-ថវិការដ្ឋ'!M665","v":0}]
[{"$f":"Update_8!C851","v":0},0,{"$f":"'ចំណាយ-ថវិការដ្ឋ'!C666","v":0},{"$f":"'ចំណាយ-ថវិការដ្ឋ'!D666","v":0},0,{"$f":"'ចំណាយ-ថវិការដ្ឋ'!F666","v":0},{"$f":"'ចំណាយ-ថវិការដ្ឋ'!G666","v":0},0,{"$f":"'ចំណាយ-ថវិការដ្ឋ'!I666","v":0},{"$f":"'ចំណាយ-ថវិការដ្ឋ'!J666","v":0},0,{"$f":"'ចំណាយ-ថវិការដ្ឋ'!L666","v":0},{"$f":"'ចំណាយ-ថវិការដ្ឋ'!M666","v":0}]
[{"$f":"Update_8!C852","v":0},0,{"$f":"'ចំណាយ-ថវិការដ្ឋ'!C667","v":0},{"$f":"'ចំណាយ-ថវិការដ្ឋ'!D667","v":0},0,{"$f":"'ចំណាយ-ថវិការដ្ឋ'!F667","v":0},{"$f":"'ចំណាយ-ថវិការដ្ឋ'!G667","v":0},0,{"$f":"'ចំណាយ-ថវិការដ្ឋ'!I667","v":0},{"$f":"'ចំណាយ-ថវិការដ្ឋ'!J667","v":0},0,{"$f":"'ចំណាយ-ថវិការដ្ឋ'!L667","v":0},{"$f":"'ចំណាយ-ថវិការដ្ឋ'!M667","v":0}]
[{"$f":"ព័ត៌មានអង្គភាព!C43","v":"៥.១៨.០១.១៣៖ ការអភិវឌ្ឍប្រព័ន្ធព័ត៌មានគ្រប់គ្រងអប់រំ"},{"$f":"SUM(B669,B680)","v":0},{"$f":"SUM(C669,C680)","v":0},0,0,0,0,0,0,0,0,0,0]
[{"$f":"cluster_activity_1","v":"សកម្មភាពរង ទី ១៖ ធានាឱ្យការអប់រំមានគុណភាព ប្រកបដោយសមធម៌ បរិយាបន្ន និងលើកកម្ពស់ឱកាសក្នុងការសិក្សាពេញមួយជីវិត"},{"$f":"ROUND(SUM(B670:B679),1)","v":0},{"$f":"ROUND(SUM(C670:C679),1)","v":0},{"$f":"ROUND(SUM(D670:D679),1)","v":0},0,0,0,0,0,0,0,0,0]
[{"$f":"Update_8!C853","v":0},{"$f":"ROUND(SUM(C670:D670),1)","v":0},{"$f":"'ចំណាយ-ថវិការដ្ឋ'!C670","v":0},{"$f":"'ចំណាយ-ថវិការដ្ឋ'!D670","v":0},{"$f":"ROUND(SUM(F670:G670),1)","v":0},{"$f":"'ចំណាយ-ថវិការដ្ឋ'!F670","v":0},{"$f":"'ចំណាយ-ថវិការដ្ឋ'!G670","v":0},{"$f":"ROUND(SUM(I670:J670),1)","v":0},{"$f":"'ចំណាយ-ថវិការដ្ឋ'!I670","v":0},{"$f":"'ចំណាយ-ថវិការដ្ឋ'!J670","v":0},{"$f":"ROUND(SUM(L670:M670),1)","v":0},{"$f":"'ចំណាយ-ថវិការដ្ឋ'!L670","v":0},{"$f":"'ចំណាយ-ថវិការដ្ឋ'!M670","v":0}]
[{"$f":"Update_8!C854","v":0},{"$f":"ROUND(SUM(C671:D671),1)","v":0},{"$f":"'ចំណាយ-ថវិការដ្ឋ'!C671","v":0},{"$f":"'ចំណាយ-ថវិការដ្ឋ'!D671","v":0},0,{"$f":"'ចំណាយ-ថវិការដ្ឋ'!F671","v":0},{"$f":"'ចំណាយ-ថវិការដ្ឋ'!G671","v":0},0,{"$f":"'ចំណាយ-ថវិការដ្ឋ'!I671","v":0},{"$f":"'ចំណាយ-ថវិការដ្ឋ'!J671","v":0},0,{"$f":"'ចំណាយ-ថវិការដ្ឋ'!L671","v":0},{"$f":"'ចំណាយ-ថវិការដ្ឋ'!M671","v":0}]
[{"$f":"Update_8!C855","v":0},0,{"$f":"'ចំណាយ-ថវិការដ្ឋ'!C672","v":0},{"$f":"'ចំណាយ-ថវិការដ្ឋ'!D672","v":0},0,{"$f":"'ចំណាយ-ថវិការដ្ឋ'!F672","v":0},{"$f":"'ចំណាយ-ថវិការដ្ឋ'!G672","v":0},0,{"$f":"'ចំណាយ-ថវិការដ្ឋ'!I672","v":0},{"$f":"'ចំណាយ-ថវិការដ្ឋ'!J672","v":0},0,{"$f":"'ចំណាយ-ថវិការដ្ឋ'!L672","v":0},{"$f":"'ចំណាយ-ថវិការដ្ឋ'!M672","v":0}]
[{"$f":"Update_8!C856","v":0},0,{"$f":"'ចំណាយ-ថវិការដ្ឋ'!C673","v":0},{"$f":"'ចំណាយ-ថវិការដ្ឋ'!D673","v":0},0,{"$f":"'ចំណាយ-ថវិការដ្ឋ'!F673","v":0},{"$f":"'ចំណាយ-ថវិការដ្ឋ'!G673","v":0},0,{"$f":"'ចំណាយ-ថវិការដ្ឋ'!I673","v":0},{"$f":"'ចំណាយ-ថវិការដ្ឋ'!J673","v":0},0,{"$f":"'ចំណាយ-ថវិការដ្ឋ'!L673","v":0},{"$f":"'ចំណាយ-ថវិការដ្ឋ'!M673","v":0}]
[{"$f":"Update_8!C857","v":0},0,{"$f":"'ចំណាយ-ថវិការដ្ឋ'!C674","v":0},{"$f":"'ចំណាយ-ថវិការដ្ឋ'!D674","v":0},0,{"$f":"'ចំណាយ-ថវិការដ្ឋ'!F674","v":0},{"$f":"'ចំណាយ-ថវិការដ្ឋ'!G674","v":0},0,{"$f":"'ចំណាយ-ថវិការដ្ឋ'!I674","v":0},{"$f":"'ចំណាយ-ថវិការដ្ឋ'!J674","v":0},0,{"$f":"'ចំណាយ-ថវិការដ្ឋ'!L674","v":0},{"$f":"'ចំណាយ-ថវិការដ្ឋ'!M674","v":0}]
[{"$f":"Update_8!C858","v":0},0,{"$f":"'ចំណាយ-ថវិការដ្ឋ'!C675","v":0},{"$f":"'ចំណាយ-ថវិការដ្ឋ'!D675","v":0},0,{"$f":"'ចំណាយ-ថវិការដ្ឋ'!F675","v":0},{"$f":"'ចំណាយ-ថវិការដ្ឋ'!G675","v":0},0,{"$f":"'ចំណាយ-ថវិការដ្ឋ'!I675","v":0},{"$f":"'ចំណាយ-ថវិការដ្ឋ'!J675","v":0},0,{"$f":"'ចំណាយ-ថវិការដ្ឋ'!L675","v":0},{"$f":"'ចំណាយ-ថវិការដ្ឋ'!M675","v":0}]
[{"$f":"Update_8!C859","v":0},0,{"$f":"'ចំណាយ-ថវិការដ្ឋ'!C676","v":0},{"$f":"'ចំណាយ-ថវិការដ្ឋ'!D676","v":0},0,{"$f":"'ចំណាយ-ថវិការដ្ឋ'!F676","v":0},{"$f":"'ចំណាយ-ថវិការដ្ឋ'!G676","v":0},0,{"$f":"'ចំណាយ-ថវិការដ្ឋ'!I676","v":0},{"$f":"'ចំណាយ-ថវិការដ្ឋ'!J676","v":0},0,{"$f":"'ចំណាយ-ថវិការដ្ឋ'!L676","v":0},{"$f":"'ចំណាយ-ថវិការដ្ឋ'!M676","v":0}]
[{"$f":"Update_8!C860","v":0},0,{"$f":"'ចំណាយ-ថវិការដ្ឋ'!C677","v":0},{"$f":"'ចំណាយ-ថវិការដ្ឋ'!D677","v":0},0,{"$f":"'ចំណាយ-ថវិការដ្ឋ'!F677","v":0},{"$f":"'ចំណាយ-ថវិការដ្ឋ'!G677","v":0},0,{"$f":"'ចំណាយ-ថវិការដ្ឋ'!I677","v":0},{"$f":"'ចំណាយ-ថវិការដ្ឋ'!J677","v":0},0,{"$f":"'ចំណាយ-ថវិការដ្ឋ'!L677","v":0},{"$f":"'ចំណាយ-ថវិការដ្ឋ'!M677","v":0}]
[{"$f":"Update_8!C861","v":0},0,{"$f":"'ចំណាយ-ថវិការដ្ឋ'!C678","v":0},{"$f":"'ចំណាយ-ថវិការដ្ឋ'!D678","v":0},0,{"$f":"'ចំណាយ-ថវិការដ្ឋ'!F678","v":0},{"$f":"'ចំណាយ-ថវិការដ្ឋ'!G678","v":0},0,{"$f":"'ចំណាយ-ថវិការដ្ឋ'!I678","v":0},{"$f":"'ចំណាយ-ថវិការដ្ឋ'!J678","v":0},0,{"$f":"'ចំណាយ-ថវិការដ្ឋ'!L678","v":0},{"$f":"'ចំណាយ-ថវិការដ្ឋ'!M678","v":0}]
[{"$f":"Update_8!C862","v":0},0,{"$f":"'ចំណាយ-ថវិការដ្ឋ'!C679","v":0},{"$f":"'ចំណាយ-ថវិការដ្ឋ'!D679","v":0},0,{"$f":"'ចំណាយ-ថវិការដ្ឋ'!F679","v":0},{"$f":"'ចំណាយ-ថវិការដ្ឋ'!G679","v":0},0,{"$f":"'ចំណាយ-ថវិការដ្ឋ'!I679","v":0},{"$f":"'ចំណាយ-ថវិការដ្ឋ'!J679","v":0},0,{"$f":"'ចំណាយ-ថវិការដ្ឋ'!L679","v":0},{"$f":"'ចំណាយ-ថវិការដ្ឋ'!M679","v":0}]
[{"$f":"cluster_activity_2","v":"សកម្មភាពរង ទី ២៖ ធានាភាពស័ក្តិសិទ្ធនៃភាពជាអ្នកដឹកនាំ និងគ្រប់គ្រងរបស់មន្ត្រី អប់រំគ្រប់លំដាប់ថ្នាក់"},{"$f":"ROUND(SUM(B681:B690),1)","v":0},{"$f":"ROUND(SUM(C681:C690),1)","v":0},{"$f":"ROUND(SUM(D681:D690),1)","v":0},{"$f":"ROUND(SUM(E681:E690),1)","v":0},0,0,0,0,0,{"$f":"ROUND(SUM(K681:K690),1)","v":0},{"$f":"ROUND(SUM(L681:L690),1)","v":0},{"$f":"ROUND(SUM(M681:M690),1)","v":0}]
[{"$f":"Update_8!C863","v":"១. កិច្ចដំណើការអង្គភាព"},{"$f":"ROUND(SUM(C681:D681),1)","v":0},{"$f":"'ចំណាយ-ថវិការដ្ឋ'!C681","v":0},{"$f":"'ចំណាយ-ថវិការដ្ឋ'!D681","v":0},{"$f":"ROUND(SUM(F681:G681),1)","v":0},{"$f":"'ចំណាយ-ថវិការដ្ឋ'!F681","v":0},{"$f":"'ចំណាយ-ថវិការដ្ឋ'!G681","v":0},{"$f":"ROUND(SUM(I681:J681),1)","v":0},{"$f":"'ចំណាយ-ថវិការដ្ឋ'!I681","v":0},{"$f":"'ចំណាយ-ថវិការដ្ឋ'!J681","v":0},{"$f":"ROUND(SUM(L681:M681),1)","v":0},{"$f":"'ចំណាយ-ថវិការដ្ឋ'!L681","v":0},{"$f":"'ចំណាយ-ថវិការដ្ឋ'!M681","v":0}]
[{"$f":"Update_8!C864","v":"២. ថវិកាលទ្ធកម្ម"},{"$f":"ROUND(SUM(C682:D682),1)","v":0},{"$f":"'ចំណាយ-ថវិការដ្ឋ'!C682","v":0},{"$f":"'ចំណាយ-ថវិការដ្ឋ'!D682","v":0},0,{"$f":"'ចំណាយ-ថវិការដ្ឋ'!F682","v":0},{"$f":"'ចំណាយ-ថវិការដ្ឋ'!G682","v":0},0,{"$f":"'ចំណាយ-ថវិការដ្ឋ'!I682","v":0},{"$f":"'ចំណាយ-ថវិការដ្ឋ'!J682","v":0},0,{"$f":"'ចំណាយ-ថវិការដ្ឋ'!L682","v":0},{"$f":"'ចំណាយ-ថវិការដ្ឋ'!M682","v":0}]
[{"$f":"Update_8!C865","v":"៣. ពិនិត្យតាមដាន និងវាយតម្លៃ"},0,{"$f":"'ចំណាយ-ថវិការដ្ឋ'!C683","v":0},{"$f":"'ចំណាយ-ថវិការដ្ឋ'!D683","v":0},0,{"$f":"'ចំណាយ-ថវិការដ្ឋ'!F683","v":0},{"$f":"'ចំណាយ-ថវិការដ្ឋ'!G683","v":0},0,{"$f":"'ចំណាយ-ថវិការដ្ឋ'!I683","v":0},{"$f":"'ចំណាយ-ថវិការដ្ឋ'!J683","v":0},0,{"$f":"'ចំណាយ-ថវិការដ្ឋ'!L683","v":0},{"$f":"'ចំណាយ-ថវិការដ្ឋ'!M683","v":0}]
[{"$f":"Update_8!C866","v":"៤. អភិវឌ្ឍប្រព័ន្ធព័ត៌មានគ្រប់គ្រងអប់រំ"},0,{"$f":"'ចំណាយ-ថវិការដ្ឋ'!C684","v":0},{"$f":"'ចំណាយ-ថវិការដ្ឋ'!D684","v":0},0,{"$f":"'ចំណាយ-ថវិការដ្ឋ'!F684","v":0},{"$f":"'ចំណាយ-ថវិការដ្ឋ'!G684","v":0},0,{"$f":"'ចំណាយ-ថវិការដ្ឋ'!I684","v":0},{"$f":"'ចំណាយ-ថវិការដ្ឋ'!J684","v":0},0,{"$f":"'ចំណាយ-ថវិការដ្ឋ'!L684","v":0},{"$f":"'ចំណាយ-ថវិការដ្ឋ'!M684","v":0}]
[{"$f":"Update_8!C867","v":"៥. អភិវឌ្ឍស្ថាប័ន និងសមត្ថភាពមន្រ្តីទទួលបន្ទុកការងារប្រព័ន្ធព័ត៌មានគ្រប់គ្រងអប់រំ"},0,{"$f":"'ចំណាយ-ថវិការដ្ឋ'!C685","v":0},{"$f":"'ចំណាយ-ថវិការដ្ឋ'!D685","v":0},0,{"$f":"'ចំណាយ-ថវិការដ្ឋ'!F685","v":0},{"$f":"'ចំណាយ-ថវិការដ្ឋ'!G685","v":0},0,{"$f":"'ចំណាយ-ថវិការដ្ឋ'!I685","v":0},{"$f":"'ចំណាយ-ថវិការដ្ឋ'!J685","v":0},0,{"$f":"'ចំណាយ-ថវិការដ្ឋ'!L685","v":0},{"$f":"'ចំណាយ-ថវិការដ្ឋ'!M685","v":0}]
[{"$f":"Update_8!C868","v":0},0,{"$f":"'ចំណាយ-ថវិការដ្ឋ'!C686","v":0},{"$f":"'ចំណាយ-ថវិការដ្ឋ'!D686","v":0},0,{"$f":"'ចំណាយ-ថវិការដ្ឋ'!F686","v":0},{"$f":"'ចំណាយ-ថវិការដ្ឋ'!G686","v":0},0,{"$f":"'ចំណាយ-ថវិការដ្ឋ'!I686","v":0},{"$f":"'ចំណាយ-ថវិការដ្ឋ'!J686","v":0},0,{"$f":"'ចំណាយ-ថវិការដ្ឋ'!L686","v":0},{"$f":"'ចំណាយ-ថវិការដ្ឋ'!M686","v":0}]
[{"$f":"Update_8!C869","v":0},0,{"$f":"'ចំណាយ-ថវិការដ្ឋ'!C687","v":0},{"$f":"'ចំណាយ-ថវិការដ្ឋ'!D687","v":0},0,{"$f":"'ចំណាយ-ថវិការដ្ឋ'!F687","v":0},{"$f":"'ចំណាយ-ថវិការដ្ឋ'!G687","v":0},0,{"$f":"'ចំណាយ-ថវិការដ្ឋ'!I687","v":0},{"$f":"'ចំណាយ-ថវិការដ្ឋ'!J687","v":0},0,{"$f":"'ចំណាយ-ថវិការដ្ឋ'!L687","v":0},{"$f":"'ចំណាយ-ថវិការដ្ឋ'!M687","v":0}]
[{"$f":"Update_8!C870","v":0},0,{"$f":"'ចំណាយ-ថវិការដ្ឋ'!C688","v":0},{"$f":"'ចំណាយ-ថវិការដ្ឋ'!D688","v":0},0,{"$f":"'ចំណាយ-ថវិការដ្ឋ'!F688","v":0},{"$f":"'ចំណាយ-ថវិការដ្ឋ'!G688","v":0},0,{"$f":"'ចំណាយ-ថវិការដ្ឋ'!I688","v":0},{"$f":"'ចំណាយ-ថវិការដ្ឋ'!J688","v":0},0,{"$f":"'ចំណាយ-ថវិការដ្ឋ'!L688","v":0},{"$f":"'ចំណាយ-ថវិការដ្ឋ'!M688","v":0}]
[{"$f":"Update_8!C871","v":0},0,{"$f":"'ចំណាយ-ថវិការដ្ឋ'!C689","v":0},{"$f":"'ចំណាយ-ថវិការដ្ឋ'!D689","v":0},0,{"$f":"'ចំណាយ-ថវិការដ្ឋ'!F689","v":0},{"$f":"'ចំណាយ-ថវិការដ្ឋ'!G689","v":0},0,{"$f":"'ចំណាយ-ថវិការដ្ឋ'!I689","v":0},{"$f":"'ចំណាយ-ថវិការដ្ឋ'!J689","v":0},0,{"$f":"'ចំណាយ-ថវិការដ្ឋ'!L689","v":0},{"$f":"'ចំណាយ-ថវិការដ្ឋ'!M689","v":0}]
[{"$f":"Update_8!C872","v":0},0,{"$f":"'ចំណាយ-ថវិការដ្ឋ'!C690","v":0},{"$f":"'ចំណាយ-ថវិការដ្ឋ'!D690","v":0},0,{"$f":"'ចំណាយ-ថវិការដ្ឋ'!F690","v":0},{"$f":"'ចំណាយ-ថវិការដ្ឋ'!G690","v":0},0,{"$f":"'ចំណាយ-ថវិការដ្ឋ'!I690","v":0},{"$f":"'ចំណាយ-ថវិការដ្ឋ'!J690","v":0},0,{"$f":"'ចំណាយ-ថវិការដ្ឋ'!L690","v":0},{"$f":"'ចំណាយ-ថវិការដ្ឋ'!M690","v":0}]
[{"$f":"ព័ត៌មានអង្គភាព!C44","v":"៥.១៨.០១.១៤៖ អភិវឌ្ឍគោលនយោបាយអប់រំ និងការស្រាវជ្រាវ"},{"$f":"SUM(B692,B703)","v":0},{"$f":"SUM(C692,C703)","v":0},0,0,0,0,0,0,0,0,0,0]
[{"$f":"cluster_activity_1","v":"សកម្មភាពរង ទី ១៖ ធានាឱ្យការអប់រំមានគុណភាព ប្រកបដោយសមធម៌ បរិយាបន្ន និងលើកកម្ពស់ឱកាសក្នុងការសិក្សាពេញមួយជីវិត"},{"$f":"ROUND(SUM(B693:B702),1)","v":0},{"$f":"ROUND(SUM(C693:C702),1)","v":0},{"$f":"ROUND(SUM(D693:D702),1)","v":0},0,0,0,0,0,0,0,0,0]
[{"$f":"Update_8!C873","v":0},{"$f":"ROUND(SUM(C693:D693),1)","v":0},{"$f":"'ចំណាយ-ថវិការដ្ឋ'!C693","v":0},{"$f":"'ចំណាយ-ថវិការដ្ឋ'!D693","v":0},{"$f":"ROUND(SUM(F693:G693),1)","v":0},{"$f":"'ចំណាយ-ថវិការដ្ឋ'!F693","v":0},{"$f":"'ចំណាយ-ថវិការដ្ឋ'!G693","v":0},{"$f":"ROUND(SUM(I693:J693),1)","v":0},{"$f":"'ចំណាយ-ថវិការដ្ឋ'!I693","v":0},{"$f":"'ចំណាយ-ថវិការដ្ឋ'!J693","v":0},{"$f":"ROUND(SUM(L693:M693),1)","v":0},{"$f":"'ចំណាយ-ថវិការដ្ឋ'!L693","v":0},{"$f":"'ចំណាយ-ថវិការដ្ឋ'!M693","v":0}]
[{"$f":"Update_8!C874","v":0},{"$f":"ROUND(SUM(C694:D694),1)","v":0},{"$f":"'ចំណាយ-ថវិការដ្ឋ'!C694","v":0},{"$f":"'ចំណាយ-ថវិការដ្ឋ'!D694","v":0},0,{"$f":"'ចំណាយ-ថវិការដ្ឋ'!F694","v":0},{"$f":"'ចំណាយ-ថវិការដ្ឋ'!G694","v":0},0,{"$f":"'ចំណាយ-ថវិការដ្ឋ'!I694","v":0},{"$f":"'ចំណាយ-ថវិការដ្ឋ'!J694","v":0},0,{"$f":"'ចំណាយ-ថវិការដ្ឋ'!L694","v":0},{"$f":"'ចំណាយ-ថវិការដ្ឋ'!M694","v":0}]
[{"$f":"Update_8!C875","v":0},0,{"$f":"'ចំណាយ-ថវិការដ្ឋ'!C695","v":0},{"$f":"'ចំណាយ-ថវិការដ្ឋ'!D695","v":0},0,{"$f":"'ចំណាយ-ថវិការដ្ឋ'!F695","v":0},{"$f":"'ចំណាយ-ថវិការដ្ឋ'!G695","v":0},0,{"$f":"'ចំណាយ-ថវិការដ្ឋ'!I695","v":0},{"$f":"'ចំណាយ-ថវិការដ្ឋ'!J695","v":0},0,{"$f":"'ចំណាយ-ថវិការដ្ឋ'!L695","v":0},{"$f":"'ចំណាយ-ថវិការដ្ឋ'!M695","v":0}]
[{"$f":"Update_8!C876","v":0},0,{"$f":"'ចំណាយ-ថវិការដ្ឋ'!C696","v":0},{"$f":"'ចំណាយ-ថវិការដ្ឋ'!D696","v":0},0,{"$f":"'ចំណាយ-ថវិការដ្ឋ'!F696","v":0},{"$f":"'ចំណាយ-ថវិការដ្ឋ'!G696","v":0},0,{"$f":"'ចំណាយ-ថវិការដ្ឋ'!I696","v":0},{"$f":"'ចំណាយ-ថវិការដ្ឋ'!J696","v":0},0,{"$f":"'ចំណាយ-ថវិការដ្ឋ'!L696","v":0},{"$f":"'ចំណាយ-ថវិការដ្ឋ'!M696","v":0}]
[{"$f":"Update_8!C877","v":0},0,{"$f":"'ចំណាយ-ថវិការដ្ឋ'!C697","v":0},{"$f":"'ចំណាយ-ថវិការដ្ឋ'!D697","v":0},0,{"$f":"'ចំណាយ-ថវិការដ្ឋ'!F697","v":0},{"$f":"'ចំណាយ-ថវិការដ្ឋ'!G697","v":0},0,{"$f":"'ចំណាយ-ថវិការដ្ឋ'!I697","v":0},{"$f":"'ចំណាយ-ថវិការដ្ឋ'!J697","v":0},0,{"$f":"'ចំណាយ-ថវិការដ្ឋ'!L697","v":0},{"$f":"'ចំណាយ-ថវិការដ្ឋ'!M697","v":0}]
[{"$f":"Update_8!C878","v":0},0,{"$f":"'ចំណាយ-ថវិការដ្ឋ'!C698","v":0},{"$f":"'ចំណាយ-ថវិការដ្ឋ'!D698","v":0},0,{"$f":"'ចំណាយ-ថវិការដ្ឋ'!F698","v":0},{"$f":"'ចំណាយ-ថវិការដ្ឋ'!G698","v":0},0,{"$f":"'ចំណាយ-ថវិការដ្ឋ'!I698","v":0},{"$f":"'ចំណាយ-ថវិការដ្ឋ'!J698","v":0},0,{"$f":"'ចំណាយ-ថវិការដ្ឋ'!L698","v":0},{"$f":"'ចំណាយ-ថវិការដ្ឋ'!M698","v":0}]
[{"$f":"Update_8!C879","v":0},0,{"$f":"'ចំណាយ-ថវិការដ្ឋ'!C699","v":0},{"$f":"'ចំណាយ-ថវិការដ្ឋ'!D699","v":0},0,{"$f":"'ចំណាយ-ថវិការដ្ឋ'!F699","v":0},{"$f":"'ចំណាយ-ថវិការដ្ឋ'!G699","v":0},0,{"$f":"'ចំណាយ-ថវិការដ្ឋ'!I699","v":0},{"$f":"'ចំណាយ-ថវិការដ្ឋ'!J699","v":0},0,{"$f":"'ចំណាយ-ថវិការដ្ឋ'!L699","v":0},{"$f":"'ចំណាយ-ថវិការដ្ឋ'!M699","v":0}]
[{"$f":"Update_8!C880","v":0},0,{"$f":"'ចំណាយ-ថវិការដ្ឋ'!C700","v":0},{"$f":"'ចំណាយ-ថវិការដ្ឋ'!D700","v":0},0,{"$f":"'ចំណាយ-ថវិការដ្ឋ'!F700","v":0},{"$f":"'ចំណាយ-ថវិការដ្ឋ'!G700","v":0},0,{"$f":"'ចំណាយ-ថវិការដ្ឋ'!I700","v":0},{"$f":"'ចំណាយ-ថវិការដ្ឋ'!J700","v":0},0,{"$f":"'ចំណាយ-ថវិការដ្ឋ'!L700","v":0},{"$f":"'ចំណាយ-ថវិការដ្ឋ'!M700","v":0}]
[{"$f":"Update_8!C881","v":0},0,{"$f":"'ចំណាយ-ថវិការដ្ឋ'!C701","v":0},{"$f":"'ចំណាយ-ថវិការដ្ឋ'!D701","v":0},0,{"$f":"'ចំណាយ-ថវិការដ្ឋ'!F701","v":0},{"$f":"'ចំណាយ-ថវិការដ្ឋ'!G701","v":0},0,{"$f":"'ចំណាយ-ថវិការដ្ឋ'!I701","v":0},{"$f":"'ចំណាយ-ថវិការដ្ឋ'!J701","v":0},0,{"$f":"'ចំណាយ-ថវិការដ្ឋ'!L701","v":0},{"$f":"'ចំណាយ-ថវិការដ្ឋ'!M701","v":0}]
[{"$f":"Update_8!C882","v":0},0,{"$f":"'ចំណាយ-ថវិការដ្ឋ'!C702","v":0},{"$f":"'ចំណាយ-ថវិការដ្ឋ'!D702","v":0},0,{"$f":"'ចំណាយ-ថវិការដ្ឋ'!F702","v":0},{"$f":"'ចំណាយ-ថវិការដ្ឋ'!G702","v":0},0,{"$f":"'ចំណាយ-ថវិការដ្ឋ'!I702","v":0},{"$f":"'ចំណាយ-ថវិការដ្ឋ'!J702","v":0},0,{"$f":"'ចំណាយ-ថវិការដ្ឋ'!L702","v":0},{"$f":"'ចំណាយ-ថវិការដ្ឋ'!M702","v":0}]
[{"$f":"cluster_activity_2","v":"សកម្មភាពរង ទី ២៖ ធានាភាពស័ក្តិសិទ្ធនៃភាពជាអ្នកដឹកនាំ និងគ្រប់គ្រងរបស់មន្ត្រី អប់រំគ្រប់លំដាប់ថ្នាក់"},{"$f":"ROUND(SUM(B704:B713),1)","v":0},{"$f":"ROUND(SUM(C704:C713),1)","v":0},{"$f":"ROUND(SUM(D704:D713),1)","v":0},{"$f":"ROUND(SUM(E704:E713),1)","v":0},0,0,0,0,0,{"$f":"ROUND(SUM(K704:K713),1)","v":0},{"$f":"ROUND(SUM(L704:L713),1)","v":0},{"$f":"ROUND(SUM(M704:M713),1)","v":0}]
[{"$f":"Update_8!C883","v":"១. កិច្ចដំណើការអង្គភាព"},{"$f":"ROUND(SUM(C704:D704),1)","v":0},{"$f":"'ចំណាយ-ថវិការដ្ឋ'!C704","v":0},{"$f":"'ចំណាយ-ថវិការដ្ឋ'!D704","v":0},{"$f":"ROUND(SUM(F704:G704),1)","v":0},{"$f":"'ចំណាយ-ថវិការដ្ឋ'!F704","v":0},{"$f":"'ចំណាយ-ថវិការដ្ឋ'!G704","v":0},{"$f":"ROUND(SUM(I704:J704),1)","v":0},{"$f":"'ចំណាយ-ថវិការដ្ឋ'!I704","v":0},{"$f":"'ចំណាយ-ថវិការដ្ឋ'!J704","v":0},{"$f":"ROUND(SUM(L704:M704),1)","v":0},{"$f":"'ចំណាយ-ថវិការដ្ឋ'!L704","v":0},{"$f":"'ចំណាយ-ថវិការដ្ឋ'!M704","v":0}]
[{"$f":"Update_8!C884","v":"២. ថវិកាលទ្ធកម្ម"},{"$f":"ROUND(SUM(C705:D705),1)","v":0},{"$f":"'ចំណាយ-ថវិការដ្ឋ'!C705","v":0},{"$f":"'ចំណាយ-ថវិការដ្ឋ'!D705","v":0},0,{"$f":"'ចំណាយ-ថវិការដ្ឋ'!F705","v":0},{"$f":"'ចំណាយ-ថវិការដ្ឋ'!G705","v":0},0,{"$f":"'ចំណាយ-ថវិការដ្ឋ'!I705","v":0},{"$f":"'ចំណាយ-ថវិការដ្ឋ'!J705","v":0},0,{"$f":"'ចំណាយ-ថវិការដ្ឋ'!L705","v":0},{"$f":"'ចំណាយ-ថវិការដ្ឋ'!M705","v":0}]
[{"$f":"Update_8!C885","v":"៣. ពិនិត្យតាមដាន និងវាយតម្លៃការអនុវត្តគោលនយោបាយ"},0,{"$f":"'ចំណាយ-ថវិការដ្ឋ'!C706","v":0},{"$f":"'ចំណាយ-ថវិការដ្ឋ'!D706","v":0},0,{"$f":"'ចំណាយ-ថវិការដ្ឋ'!F706","v":0},{"$f":"'ចំណាយ-ថវិការដ្ឋ'!G706","v":0},0,{"$f":"'ចំណាយ-ថវិការដ្ឋ'!I706","v":0},{"$f":"'ចំណាយ-ថវិការដ្ឋ'!J706","v":0},0,{"$f":"'ចំណាយ-ថវិការដ្ឋ'!L706","v":0},{"$f":"'ចំណាយ-ថវិការដ្ឋ'!M706","v":0}]
[{"$f":"Update_8!C886","v":"៤. រៀបចំ និងអភិវឌ្ឍគោលនយោបាយអប់រំ យុវជន និងកីឡា "},0,{"$f":"'ចំណាយ-ថវិការដ្ឋ'!C707","v":0},{"$f":"'ចំណាយ-ថវិការដ្ឋ'!D707","v":0},0,{"$f":"'ចំណាយ-ថវិការដ្ឋ'!F707","v":0},{"$f":"'ចំណាយ-ថវិការដ្ឋ'!G707","v":0},0,{"$f":"'ចំណាយ-ថវិការដ្ឋ'!I707","v":0},{"$f":"'ចំណាយ-ថវិការដ្ឋ'!J707","v":0},0,{"$f":"'ចំណាយ-ថវិការដ្ឋ'!L707","v":0},{"$f":"'ចំណាយ-ថវិការដ្ឋ'!M707","v":0}]
[{"$f":"Update_8!C887","v":"៥. សិក្សាស្រាវជ្រាវនិងផ្សព្វផ្សាយនិន្នាការអប់រំក្នុងប្រទេស តំបន់ និងសកលលោក"},0,{"$f":"'ចំណាយ-ថវិការដ្ឋ'!C708","v":0},{"$f":"'ចំណាយ-ថវិការដ្ឋ'!D708","v":0},0,{"$f":"'ចំណាយ-ថវិការដ្ឋ'!F708","v":0},{"$f":"'ចំណាយ-ថវិការដ្ឋ'!G708","v":0},0,{"$f":"'ចំណាយ-ថវិការដ្ឋ'!I708","v":0},{"$f":"'ចំណាយ-ថវិការដ្ឋ'!J708","v":0},0,{"$f":"'ចំណាយ-ថវិការដ្ឋ'!L708","v":0},{"$f":"'ចំណាយ-ថវិការដ្ឋ'!M708","v":0}]
[{"$f":"Update_8!C888","v":"៦. អភិវឌ្ឍស្ថាប័ន និងសមត្ថភាពមន្រ្តីទទួលបន្ទុកការកសាងគោលនយោបាយអប់រំ យុវជន និងកីឡា"},0,{"$f":"'ចំណាយ-ថវិការដ្ឋ'!C709","v":0},{"$f":"'ចំណាយ-ថវិការដ្ឋ'!D709","v":0},0,{"$f":"'ចំណាយ-ថវិការដ្ឋ'!F709","v":0},{"$f":"'ចំណាយ-ថវិការដ្ឋ'!G709","v":0},0,{"$f":"'ចំណាយ-ថវិការដ្ឋ'!I709","v":0},{"$f":"'ចំណាយ-ថវិការដ្ឋ'!J709","v":0},0,{"$f":"'ចំណាយ-ថវិការដ្ឋ'!L709","v":0},{"$f":"'ចំណាយ-ថវិការដ្ឋ'!M709","v":0}]
[{"$f":"Update_8!C889","v":"៧. អាហារូបរណ៍សម្រាប់ថ្នាក់បណ្ឌិតសិក្សានៅប្រទេសបារាំង"},0,{"$f":"'ចំណាយ-ថវិការដ្ឋ'!C710","v":0},{"$f":"'ចំណាយ-ថវិការដ្ឋ'!D710","v":0},0,{"$f":"'ចំណាយ-ថវិការដ្ឋ'!F710","v":0},{"$f":"'ចំណាយ-ថវិការដ្ឋ'!G710","v":0},0,{"$f":"'ចំណាយ-ថវិការដ្ឋ'!I710","v":0},{"$f":"'ចំណាយ-ថវិការដ្ឋ'!J710","v":0},0,{"$f":"'ចំណាយ-ថវិការដ្ឋ'!L710","v":0},{"$f":"'ចំណាយ-ថវិការដ្ឋ'!M710","v":0}]
[{"$f":"Update_8!C890","v":0},0,{"$f":"'ចំណាយ-ថវិការដ្ឋ'!C711","v":0},{"$f":"'ចំណាយ-ថវិការដ្ឋ'!D711","v":0},0,{"$f":"'ចំណាយ-ថវិការដ្ឋ'!F711","v":0},{"$f":"'ចំណាយ-ថវិការដ្ឋ'!G711","v":0},0,{"$f":"'ចំណាយ-ថវិការដ្ឋ'!I711","v":0},{"$f":"'ចំណាយ-ថវិការដ្ឋ'!J711","v":0},0,{"$f":"'ចំណាយ-ថវិការដ្ឋ'!L711","v":0},{"$f":"'ចំណាយ-ថវិការដ្ឋ'!M711","v":0}]
[{"$f":"Update_8!C891","v":0},0,{"$f":"'ចំណាយ-ថវិការដ្ឋ'!C712","v":0},{"$f":"'ចំណាយ-ថវិការដ្ឋ'!D712","v":0},0,{"$f":"'ចំណាយ-ថវិការដ្ឋ'!F712","v":0},{"$f":"'ចំណាយ-ថវិការដ្ឋ'!G712","v":0},0,{"$f":"'ចំណាយ-ថវិការដ្ឋ'!I712","v":0},{"$f":"'ចំណាយ-ថវិការដ្ឋ'!J712","v":0},0,{"$f":"'ចំណាយ-ថវិការដ្ឋ'!L712","v":0},{"$f":"'ចំណាយ-ថវិការដ្ឋ'!M712","v":0}]
[{"$f":"Update_8!C892","v":0},0,{"$f":"'ចំណាយ-ថវិការដ្ឋ'!C713","v":0},{"$f":"'ចំណាយ-ថវិការដ្ឋ'!D713","v":0},0,{"$f":"'ចំណាយ-ថវិការដ្ឋ'!F713","v":0},{"$f":"'ចំណាយ-ថវិការដ្ឋ'!G713","v":0},0,{"$f":"'ចំណាយ-ថវិការដ្ឋ'!I713","v":0},{"$f":"'ចំណាយ-ថវិការដ្ឋ'!J713","v":0},0,{"$f":"'ចំណាយ-ថវិការដ្ឋ'!L713","v":0},{"$f":"'ចំណាយ-ថវិការដ្ឋ'!M713","v":0}]
[{"$f":"ព័ត៌មានអង្គភាព!C45","v":"៥.១៨.០១.១៥៖ អភិវឌ្ឍប្រព័ន្ធពិនិត្យតាមដាន និងវាយតម្លៃ"},{"$f":"SUM(B715,B726)","v":0},{"$f":"SUM(C715,C726)","v":0},0,0,0,0,0,0,0,0,0,0]
[{"$f":"cluster_activity_1","v":"សកម្មភាពរង ទី ១៖ ធានាឱ្យការអប់រំមានគុណភាព ប្រកបដោយសមធម៌ បរិយាបន្ន និងលើកកម្ពស់ឱកាសក្នុងការសិក្សាពេញមួយជីវិត"},{"$f":"ROUND(SUM(B716:B725),1)","v":0},{"$f":"ROUND(SUM(C716:C725),1)","v":0},{"$f":"ROUND(SUM(D716:D725),1)","v":0},0,0,0,0,0,0,0,0,0]
[{"$f":"Update_8!C893","v":0},{"$f":"ROUND(SUM(C716:D716),1)","v":0},{"$f":"'ចំណាយ-ថវិការដ្ឋ'!C716","v":0},{"$f":"'ចំណាយ-ថវិការដ្ឋ'!D716","v":0},{"$f":"ROUND(SUM(F716:G716),1)","v":0},{"$f":"'ចំណាយ-ថវិការដ្ឋ'!F716","v":0},{"$f":"'ចំណាយ-ថវិការដ្ឋ'!G716","v":0},{"$f":"ROUND(SUM(I716:J716),1)","v":0},{"$f":"'ចំណាយ-ថវិការដ្ឋ'!I716","v":0},{"$f":"'ចំណាយ-ថវិការដ្ឋ'!J716","v":0},{"$f":"ROUND(SUM(L716:M716),1)","v":0},{"$f":"'ចំណាយ-ថវិការដ្ឋ'!L716","v":0},{"$f":"'ចំណាយ-ថវិការដ្ឋ'!M716","v":0}]
[{"$f":"Update_8!C894","v":0},{"$f":"ROUND(SUM(C717:D717),1)","v":0},{"$f":"'ចំណាយ-ថវិការដ្ឋ'!C717","v":0},{"$f":"'ចំណាយ-ថវិការដ្ឋ'!D717","v":0},0,{"$f":"'ចំណាយ-ថវិការដ្ឋ'!F717","v":0},{"$f":"'ចំណាយ-ថវិការដ្ឋ'!G717","v":0},0,{"$f":"'ចំណាយ-ថវិការដ្ឋ'!I717","v":0},{"$f":"'ចំណាយ-ថវិការដ្ឋ'!J717","v":0},0,{"$f":"'ចំណាយ-ថវិការដ្ឋ'!L717","v":0},{"$f":"'ចំណាយ-ថវិការដ្ឋ'!M717","v":0}]
[{"$f":"Update_8!C895","v":0},0,{"$f":"'ចំណាយ-ថវិការដ្ឋ'!C718","v":0},{"$f":"'ចំណាយ-ថវិការដ្ឋ'!D718","v":0},0,{"$f":"'ចំណាយ-ថវិការដ្ឋ'!F718","v":0},{"$f":"'ចំណាយ-ថវិការដ្ឋ'!G718","v":0},0,{"$f":"'ចំណាយ-ថវិការដ្ឋ'!I718","v":0},{"$f":"'ចំណាយ-ថវិការដ្ឋ'!J718","v":0},0,{"$f":"'ចំណាយ-ថវិការដ្ឋ'!L718","v":0},{"$f":"'ចំណាយ-ថវិការដ្ឋ'!M718","v":0}]
[{"$f":"Update_8!C896","v":0},0,{"$f":"'ចំណាយ-ថវិការដ្ឋ'!C719","v":0},{"$f":"'ចំណាយ-ថវិការដ្ឋ'!D719","v":0},0,{"$f":"'ចំណាយ-ថវិការដ្ឋ'!F719","v":0},{"$f":"'ចំណាយ-ថវិការដ្ឋ'!G719","v":0},0,{"$f":"'ចំណាយ-ថវិការដ្ឋ'!I719","v":0},{"$f":"'ចំណាយ-ថវិការដ្ឋ'!J719","v":0},0,{"$f":"'ចំណាយ-ថវិការដ្ឋ'!L719","v":0},{"$f":"'ចំណាយ-ថវិការដ្ឋ'!M719","v":0}]
[{"$f":"Update_8!C897","v":0},0,{"$f":"'ចំណាយ-ថវិការដ្ឋ'!C720","v":0},{"$f":"'ចំណាយ-ថវិការដ្ឋ'!D720","v":0},0,{"$f":"'ចំណាយ-ថវិការដ្ឋ'!F720","v":0},{"$f":"'ចំណាយ-ថវិការដ្ឋ'!G720","v":0},0,{"$f":"'ចំណាយ-ថវិការដ្ឋ'!I720","v":0},{"$f":"'ចំណាយ-ថវិការដ្ឋ'!J720","v":0},0,{"$f":"'ចំណាយ-ថវិការដ្ឋ'!L720","v":0},{"$f":"'ចំណាយ-ថវិការដ្ឋ'!M720","v":0}]
[{"$f":"Update_8!C898","v":0},0,{"$f":"'ចំណាយ-ថវិការដ្ឋ'!C721","v":0},{"$f":"'ចំណាយ-ថវិការដ្ឋ'!D721","v":0},0,{"$f":"'ចំណាយ-ថវិការដ្ឋ'!F721","v":0},{"$f":"'ចំណាយ-ថវិការដ្ឋ'!G721","v":0},0,{"$f":"'ចំណាយ-ថវិការដ្ឋ'!I721","v":0},{"$f":"'ចំណាយ-ថវិការដ្ឋ'!J721","v":0},0,{"$f":"'ចំណាយ-ថវិការដ្ឋ'!L721","v":0},{"$f":"'ចំណាយ-ថវិការដ្ឋ'!M721","v":0}]
[{"$f":"Update_8!C899","v":0},0,{"$f":"'ចំណាយ-ថវិការដ្ឋ'!C722","v":0},{"$f":"'ចំណាយ-ថវិការដ្ឋ'!D722","v":0},0,{"$f":"'ចំណាយ-ថវិការដ្ឋ'!F722","v":0},{"$f":"'ចំណាយ-ថវិការដ្ឋ'!G722","v":0},0,{"$f":"'ចំណាយ-ថវិការដ្ឋ'!I722","v":0},{"$f":"'ចំណាយ-ថវិការដ្ឋ'!J722","v":0},0,{"$f":"'ចំណាយ-ថវិការដ្ឋ'!L722","v":0},{"$f":"'ចំណាយ-ថវិការដ្ឋ'!M722","v":0}]
[{"$f":"Update_8!C900","v":0},0,{"$f":"'ចំណាយ-ថវិការដ្ឋ'!C723","v":0},{"$f":"'ចំណាយ-ថវិការដ្ឋ'!D723","v":0},0,{"$f":"'ចំណាយ-ថវិការដ្ឋ'!F723","v":0},{"$f":"'ចំណាយ-ថវិការដ្ឋ'!G723","v":0},0,{"$f":"'ចំណាយ-ថវិការដ្ឋ'!I723","v":0},{"$f":"'ចំណាយ-ថវិការដ្ឋ'!J723","v":0},0,{"$f":"'ចំណាយ-ថវិការដ្ឋ'!L723","v":0},{"$f":"'ចំណាយ-ថវិការដ្ឋ'!M723","v":0}]
[{"$f":"Update_8!C901","v":0},0,{"$f":"'ចំណាយ-ថវិការដ្ឋ'!C724","v":0},{"$f":"'ចំណាយ-ថវិការដ្ឋ'!D724","v":0},0,{"$f":"'ចំណាយ-ថវិការដ្ឋ'!F724","v":0},{"$f":"'ចំណាយ-ថវិការដ្ឋ'!G724","v":0},0,{"$f":"'ចំណាយ-ថវិការដ្ឋ'!I724","v":0},{"$f":"'ចំណាយ-ថវិការដ្ឋ'!J724","v":0},0,{"$f":"'ចំណាយ-ថវិការដ្ឋ'!L724","v":0},{"$f":"'ចំណាយ-ថវិការដ្ឋ'!M724","v":0}]
[{"$f":"Update_8!C902","v":0},0,{"$f":"'ចំណាយ-ថវិការដ្ឋ'!C725","v":0},{"$f":"'ចំណាយ-ថវិការដ្ឋ'!D725","v":0},0,{"$f":"'ចំណាយ-ថវិការដ្ឋ'!F725","v":0},{"$f":"'ចំណាយ-ថវិការដ្ឋ'!G725","v":0},0,{"$f":"'ចំណាយ-ថវិការដ្ឋ'!I725","v":0},{"$f":"'ចំណាយ-ថវិការដ្ឋ'!J725","v":0},0,{"$f":"'ចំណាយ-ថវិការដ្ឋ'!L725","v":0},{"$f":"'ចំណាយ-ថវិការដ្ឋ'!M725","v":0}]
[{"$f":"cluster_activity_2","v":"សកម្មភាពរង ទី ២៖ ធានាភាពស័ក្តិសិទ្ធនៃភាពជាអ្នកដឹកនាំ និងគ្រប់គ្រងរបស់មន្ត្រី អប់រំគ្រប់លំដាប់ថ្នាក់"},{"$f":"ROUND(SUM(B727:B736),1)","v":0},{"$f":"ROUND(SUM(C727:C736),1)","v":0},{"$f":"ROUND(SUM(D727:D736),1)","v":0},{"$f":"ROUND(SUM(E727:E736),1)","v":0},0,0,0,0,0,{"$f":"ROUND(SUM(K727:K736),1)","v":0},{"$f":"ROUND(SUM(L727:L736),1)","v":0},{"$f":"ROUND(SUM(M727:M736),1)","v":0}]
[{"$f":"Update_8!C903","v":"១. កិច្ចដំណើការអង្គភាព"},{"$f":"ROUND(SUM(C727:D727),1)","v":0},{"$f":"'ចំណាយ-ថវិការដ្ឋ'!C727","v":0},{"$f":"'ចំណាយ-ថវិការដ្ឋ'!D727","v":0},{"$f":"ROUND(SUM(F727:G727),1)","v":0},{"$f":"'ចំណាយ-ថវិការដ្ឋ'!F727","v":0},{"$f":"'ចំណាយ-ថវិការដ្ឋ'!G727","v":0},{"$f":"ROUND(SUM(I727:J727),1)","v":0},{"$f":"'ចំណាយ-ថវិការដ្ឋ'!I727","v":0},{"$f":"'ចំណាយ-ថវិការដ្ឋ'!J727","v":0},{"$f":"ROUND(SUM(L727:M727),1)","v":0},{"$f":"'ចំណាយ-ថវិការដ្ឋ'!L727","v":0},{"$f":"'ចំណាយ-ថវិការដ្ឋ'!M727","v":0}]
[{"$f":"Update_8!C904","v":"២. ថវិកាលទ្ធកម្ម"},{"$f":"ROUND(SUM(C728:D728),1)","v":0},{"$f":"'ចំណាយ-ថវិការដ្ឋ'!C728","v":0},{"$f":"'ចំណាយ-ថវិការដ្ឋ'!D728","v":0},0,{"$f":"'ចំណាយ-ថវិការដ្ឋ'!F728","v":0},{"$f":"'ចំណាយ-ថវិការដ្ឋ'!G728","v":0},0,{"$f":"'ចំណាយ-ថវិការដ្ឋ'!I728","v":0},{"$f":"'ចំណាយ-ថវិការដ្ឋ'!J728","v":0},0,{"$f":"'ចំណាយ-ថវិការដ្ឋ'!L728","v":0},{"$f":"'ចំណាយ-ថវិការដ្ឋ'!M728","v":0}]
[{"$f":"Update_8!C905","v":"៣. ពិនិត្យតាមដាន និងវាយតម្លៃ"},0,{"$f":"'ចំណាយ-ថវិការដ្ឋ'!C729","v":0},{"$f":"'ចំណាយ-ថវិការដ្ឋ'!D729","v":0},0,{"$f":"'ចំណាយ-ថវិការដ្ឋ'!F729","v":0},{"$f":"'ចំណាយ-ថវិការដ្ឋ'!G729","v":0},0,{"$f":"'ចំណាយ-ថវិការដ្ឋ'!I729","v":0},{"$f":"'ចំណាយ-ថវិការដ្ឋ'!J729","v":0},0,{"$f":"'ចំណាយ-ថវិការដ្ឋ'!L729","v":0},{"$f":"'ចំណាយ-ថវិការដ្ឋ'!M729","v":0}]
[{"$f":"Update_8!C906","v":"៤. ផលិតរបាយការណ៍សមិទ្ធកម្មសម្រាប់ក្រសួងអប់រំ​ យុវជន និងកីឡា"},0,{"$f":"'ចំណាយ-ថវិការដ្ឋ'!C730","v":0},{"$f":"'ចំណាយ-ថវិការដ្ឋ'!D730","v":0},0,{"$f":"'ចំណាយ-ថវិការដ្ឋ'!F730","v":0},{"$f":"'ចំណាយ-ថវិការដ្ឋ'!G730","v":0},0,{"$f":"'ចំណាយ-ថវិការដ្ឋ'!I730","v":0},{"$f":"'ចំណាយ-ថវិការដ្ឋ'!J730","v":0},0,{"$f":"'ចំណាយ-ថវិការដ្ឋ'!L730","v":0},{"$f":"'ចំណាយ-ថវិការដ្ឋ'!M730","v":0}]
[{"$f":"Update_8!C907","v":"៥. អភិវឌ្ឍប្រព័ន្ធពិនិត្យតាមដាន និងវាយតម្លៃ"},0,{"$f":"'ចំណាយ-ថវិការដ្ឋ'!C731","v":0},{"$f":"'ចំណាយ-ថវិការដ្ឋ'!D731","v":0},0,{"$f":"'ចំណាយ-ថវិការដ្ឋ'!F731","v":0},{"$f":"'ចំណាយ-ថវិការដ្ឋ'!G731","v":0},0,{"$f":"'ចំណាយ-ថវិការដ្ឋ'!I731","v":0},{"$f":"'ចំណាយ-ថវិការដ្ឋ'!J731","v":0},0,{"$f":"'ចំណាយ-ថវិការដ្ឋ'!L731","v":0},{"$f":"'ចំណាយ-ថវិការដ្ឋ'!M731","v":0}]
[{"$f":"Update_8!C908","v":0},0,{"$f":"'ចំណាយ-ថវិការដ្ឋ'!C732","v":0},{"$f":"'ចំណាយ-ថវិការដ្ឋ'!D732","v":0},0,{"$f":"'ចំណាយ-ថវិការដ្ឋ'!F732","v":0},{"$f":"'ចំណាយ-ថវិការដ្ឋ'!G732","v":0},0,{"$f":"'ចំណាយ-ថវិការដ្ឋ'!I732","v":0},{"$f":"'ចំណាយ-ថវិការដ្ឋ'!J732","v":0},0,{"$f":"'ចំណាយ-ថវិការដ្ឋ'!L732","v":0},{"$f":"'ចំណាយ-ថវិការដ្ឋ'!M732","v":0}]
[{"$f":"Update_8!C909","v":0},0,{"$f":"'ចំណាយ-ថវិការដ្ឋ'!C733","v":0},{"$f":"'ចំណាយ-ថវិការដ្ឋ'!D733","v":0},0,{"$f":"'ចំណាយ-ថវិការដ្ឋ'!F733","v":0},{"$f":"'ចំណាយ-ថវិការដ្ឋ'!G733","v":0},0,{"$f":"'ចំណាយ-ថវិការដ្ឋ'!I733","v":0},{"$f":"'ចំណាយ-ថវិការដ្ឋ'!J733","v":0},0,{"$f":"'ចំណាយ-ថវិការដ្ឋ'!L733","v":0},{"$f":"'ចំណាយ-ថវិការដ្ឋ'!M733","v":0}]
[{"$f":"Update_8!C910","v":0},0,{"$f":"'ចំណាយ-ថវិការដ្ឋ'!C734","v":0},{"$f":"'ចំណាយ-ថវិការដ្ឋ'!D734","v":0},0,{"$f":"'ចំណាយ-ថវិការដ្ឋ'!F734","v":0},{"$f":"'ចំណាយ-ថវិការដ្ឋ'!G734","v":0},0,{"$f":"'ចំណាយ-ថវិការដ្ឋ'!I734","v":0},{"$f":"'ចំណាយ-ថវិការដ្ឋ'!J734","v":0},0,{"$f":"'ចំណាយ-ថវិការដ្ឋ'!L734","v":0},{"$f":"'ចំណាយ-ថវិការដ្ឋ'!M734","v":0}]
[{"$f":"Update_8!C911","v":0},0,{"$f":"'ចំណាយ-ថវិការដ្ឋ'!C735","v":0},{"$f":"'ចំណាយ-ថវិការដ្ឋ'!D735","v":0},0,{"$f":"'ចំណាយ-ថវិការដ្ឋ'!F735","v":0},{"$f":"'ចំណាយ-ថវិការដ្ឋ'!G735","v":0},0,{"$f":"'ចំណាយ-ថវិការដ្ឋ'!I735","v":0},{"$f":"'ចំណាយ-ថវិការដ្ឋ'!J735","v":0},0,{"$f":"'ចំណាយ-ថវិការដ្ឋ'!L735","v":0},{"$f":"'ចំណាយ-ថវិការដ្ឋ'!M735","v":0}]
[{"$f":"Update_8!C912","v":0},0,{"$f":"'ចំណាយ-ថវិការដ្ឋ'!C736","v":0},{"$f":"'ចំណាយ-ថវិការដ្ឋ'!D736","v":0},0,{"$f":"'ចំណាយ-ថវិការដ្ឋ'!F736","v":0},{"$f":"'ចំណាយ-ថវិការដ្ឋ'!G736","v":0},0,{"$f":"'ចំណាយ-ថវិការដ្ឋ'!I736","v":0},{"$f":"'ចំណាយ-ថវិការដ្ឋ'!J736","v":0},0,{"$f":"'ចំណាយ-ថវិការដ្ឋ'!L736","v":0},{"$f":"'ចំណាយ-ថវិការដ្ឋ'!M736","v":0}]
[{"$f":"ព័ត៌មានអង្គភាព!C46","v":"៥.១៨.០១.១៦៖ ការអភិវឌ្ឍនិងពង្រឹងប្រព័ន្ធព័ត៌មានវិទ្យា"},{"$f":"SUM(B738,B749)","v":0},{"$f":"SUM(C738,C749)","v":0},0,0,0,0,0,0,0,0,0,0]
[{"$f":"cluster_activity_1","v":"សកម្មភាពរង ទី ១៖ ធានាឱ្យការអប់រំមានគុណភាព ប្រកបដោយសមធម៌ បរិយាបន្ន និងលើកកម្ពស់ឱកាសក្នុងការសិក្សាពេញមួយជីវិត"},{"$f":"ROUND(SUM(B739:B748),1)","v":0},{"$f":"ROUND(SUM(C739:C748),1)","v":0},{"$f":"ROUND(SUM(D739:D748),1)","v":0},0,0,0,0,0,0,0,0,0]
[{"$f":"Update_8!C913","v":0},{"$f":"ROUND(SUM(C739:D739),1)","v":0},{"$f":"'ចំណាយ-ថវិការដ្ឋ'!C739","v":0},{"$f":"'ចំណាយ-ថវិការដ្ឋ'!D739","v":0},{"$f":"ROUND(SUM(F739:G739),1)","v":0},{"$f":"'ចំណាយ-ថវិការដ្ឋ'!F739","v":0},{"$f":"'ចំណាយ-ថវិការដ្ឋ'!G739","v":0},{"$f":"ROUND(SUM(I739:J739),1)","v":0},{"$f":"'ចំណាយ-ថវិការដ្ឋ'!I739","v":0},{"$f":"'ចំណាយ-ថវិការដ្ឋ'!J739","v":0},{"$f":"ROUND(SUM(L739:M739),1)","v":0},{"$f":"'ចំណាយ-ថវិការដ្ឋ'!L739","v":0},{"$f":"'ចំណាយ-ថវិការដ្ឋ'!M739","v":0}]
[{"$f":"Update_8!C914","v":0},{"$f":"ROUND(SUM(C740:D740),1)","v":0},{"$f":"'ចំណាយ-ថវិការដ្ឋ'!C740","v":0},{"$f":"'ចំណាយ-ថវិការដ្ឋ'!D740","v":0},0,{"$f":"'ចំណាយ-ថវិការដ្ឋ'!F740","v":0},{"$f":"'ចំណាយ-ថវិការដ្ឋ'!G740","v":0},0,{"$f":"'ចំណាយ-ថវិការដ្ឋ'!I740","v":0},{"$f":"'ចំណាយ-ថវិការដ្ឋ'!J740","v":0},0,{"$f":"'ចំណាយ-ថវិការដ្ឋ'!L740","v":0},{"$f":"'ចំណាយ-ថវិការដ្ឋ'!M740","v":0}]
[{"$f":"Update_8!C915","v":0},0,{"$f":"'ចំណាយ-ថវិការដ្ឋ'!C741","v":0},{"$f":"'ចំណាយ-ថវិការដ្ឋ'!D741","v":0},0,{"$f":"'ចំណាយ-ថវិការដ្ឋ'!F741","v":0},{"$f":"'ចំណាយ-ថវិការដ្ឋ'!G741","v":0},0,{"$f":"'ចំណាយ-ថវិការដ្ឋ'!I741","v":0},{"$f":"'ចំណាយ-ថវិការដ្ឋ'!J741","v":0},0,{"$f":"'ចំណាយ-ថវិការដ្ឋ'!L741","v":0},{"$f":"'ចំណាយ-ថវិការដ្ឋ'!M741","v":0}]
[{"$f":"Update_8!C916","v":0},0,{"$f":"'ចំណាយ-ថវិការដ្ឋ'!C742","v":0},{"$f":"'ចំណាយ-ថវិការដ្ឋ'!D742","v":0},0,{"$f":"'ចំណាយ-ថវិការដ្ឋ'!F742","v":0},{"$f":"'ចំណាយ-ថវិការដ្ឋ'!G742","v":0},0,{"$f":"'ចំណាយ-ថវិការដ្ឋ'!I742","v":0},{"$f":"'ចំណាយ-ថវិការដ្ឋ'!J742","v":0},0,{"$f":"'ចំណាយ-ថវិការដ្ឋ'!L742","v":0},{"$f":"'ចំណាយ-ថវិការដ្ឋ'!M742","v":0}]
[{"$f":"Update_8!C917","v":0},0,{"$f":"'ចំណាយ-ថវិការដ្ឋ'!C743","v":0},{"$f":"'ចំណាយ-ថវិការដ្ឋ'!D743","v":0},0,{"$f":"'ចំណាយ-ថវិការដ្ឋ'!F743","v":0},{"$f":"'ចំណាយ-ថវិការដ្ឋ'!G743","v":0},0,{"$f":"'ចំណាយ-ថវិការដ្ឋ'!I743","v":0},{"$f":"'ចំណាយ-ថវិការដ្ឋ'!J743","v":0},0,{"$f":"'ចំណាយ-ថវិការដ្ឋ'!L743","v":0},{"$f":"'ចំណាយ-ថវិការដ្ឋ'!M743","v":0}]
[{"$f":"Update_8!C918","v":0},0,{"$f":"'ចំណាយ-ថវិការដ្ឋ'!C744","v":0},{"$f":"'ចំណាយ-ថវិការដ្ឋ'!D744","v":0},0,{"$f":"'ចំណាយ-ថវិការដ្ឋ'!F744","v":0},{"$f":"'ចំណាយ-ថវិការដ្ឋ'!G744","v":0},0,{"$f":"'ចំណាយ-ថវិការដ្ឋ'!I744","v":0},{"$f":"'ចំណាយ-ថវិការដ្ឋ'!J744","v":0},0,{"$f":"'ចំណាយ-ថវិការដ្ឋ'!L744","v":0},{"$f":"'ចំណាយ-ថវិការដ្ឋ'!M744","v":0}]
[{"$f":"Update_8!C919","v":0},0,{"$f":"'ចំណាយ-ថវិការដ្ឋ'!C745","v":0},{"$f":"'ចំណាយ-ថវិការដ្ឋ'!D745","v":0},0,{"$f":"'ចំណាយ-ថវិការដ្ឋ'!F745","v":0},{"$f":"'ចំណាយ-ថវិការដ្ឋ'!G745","v":0},0,{"$f":"'ចំណាយ-ថវិការដ្ឋ'!I745","v":0},{"$f":"'ចំណាយ-ថវិការដ្ឋ'!J745","v":0},0,{"$f":"'ចំណាយ-ថវិការដ្ឋ'!L745","v":0},{"$f":"'ចំណាយ-ថវិការដ្ឋ'!M745","v":0}]
[{"$f":"Update_8!C920","v":0},0,{"$f":"'ចំណាយ-ថវិការដ្ឋ'!C746","v":0},{"$f":"'ចំណាយ-ថវិការដ្ឋ'!D746","v":0},0,{"$f":"'ចំណាយ-ថវិការដ្ឋ'!F746","v":0},{"$f":"'ចំណាយ-ថវិការដ្ឋ'!G746","v":0},0,{"$f":"'ចំណាយ-ថវិការដ្ឋ'!I746","v":0},{"$f":"'ចំណាយ-ថវិការដ្ឋ'!J746","v":0},0,{"$f":"'ចំណាយ-ថវិការដ្ឋ'!L746","v":0},{"$f":"'ចំណាយ-ថវិការដ្ឋ'!M746","v":0}]
[{"$f":"Update_8!C921","v":0},0,{"$f":"'ចំណាយ-ថវិការដ្ឋ'!C747","v":0},{"$f":"'ចំណាយ-ថវិការដ្ឋ'!D747","v":0},0,{"$f":"'ចំណាយ-ថវិការដ្ឋ'!F747","v":0},{"$f":"'ចំណាយ-ថវិការដ្ឋ'!G747","v":0},0,{"$f":"'ចំណាយ-ថវិការដ្ឋ'!I747","v":0},{"$f":"'ចំណាយ-ថវិការដ្ឋ'!J747","v":0},0,{"$f":"'ចំណាយ-ថវិការដ្ឋ'!L747","v":0},{"$f":"'ចំណាយ-ថវិការដ្ឋ'!M747","v":0}]
[{"$f":"Update_8!C922","v":0},0,{"$f":"'ចំណាយ-ថវិការដ្ឋ'!C748","v":0},{"$f":"'ចំណាយ-ថវិការដ្ឋ'!D748","v":0},0,{"$f":"'ចំណាយ-ថវិការដ្ឋ'!F748","v":0},{"$f":"'ចំណាយ-ថវិការដ្ឋ'!G748","v":0},0,{"$f":"'ចំណាយ-ថវិការដ្ឋ'!I748","v":0},{"$f":"'ចំណាយ-ថវិការដ្ឋ'!J748","v":0},0,{"$f":"'ចំណាយ-ថវិការដ្ឋ'!L748","v":0},{"$f":"'ចំណាយ-ថវិការដ្ឋ'!M748","v":0}]
[{"$f":"cluster_activity_2","v":"សកម្មភាពរង ទី ២៖ ធានាភាពស័ក្តិសិទ្ធនៃភាពជាអ្នកដឹកនាំ និងគ្រប់គ្រងរបស់មន្ត្រី អប់រំគ្រប់លំដាប់ថ្នាក់"},{"$f":"ROUND(SUM(B750:B759),1)","v":0},{"$f":"ROUND(SUM(C750:C759),1)","v":0},{"$f":"ROUND(SUM(D750:D759),1)","v":0},{"$f":"ROUND(SUM(E750:E759),1)","v":0},0,0,0,0,0,{"$f":"ROUND(SUM(K750:K759),1)","v":0},{"$f":"ROUND(SUM(L750:L759),1)","v":0},{"$f":"ROUND(SUM(M750:M759),1)","v":0}]
[{"$f":"Update_8!C923","v":"១. កិច្ចដំណើរការអង្គភាព"},{"$f":"ROUND(SUM(C750:D750),1)","v":0},{"$f":"'ចំណាយ-ថវិការដ្ឋ'!C750","v":0},{"$f":"'ចំណាយ-ថវិការដ្ឋ'!D750","v":0},{"$f":"ROUND(SUM(F750:G750),1)","v":0},{"$f":"'ចំណាយ-ថវិការដ្ឋ'!F750","v":0},{"$f":"'ចំណាយ-ថវិការដ្ឋ'!G750","v":0},{"$f":"ROUND(SUM(I750:J750),1)","v":0},{"$f":"'ចំណាយ-ថវិការដ្ឋ'!I750","v":0},{"$f":"'ចំណាយ-ថវិការដ្ឋ'!J750","v":0},{"$f":"ROUND(SUM(L750:M750),1)","v":0},{"$f":"'ចំណាយ-ថវិការដ្ឋ'!L750","v":0},{"$f":"'ចំណាយ-ថវិការដ្ឋ'!M750","v":0}]
[{"$f":"Update_8!C924","v":"២. ថវិកាលទ្ធកម្ម"},{"$f":"ROUND(SUM(C751:D751),1)","v":0},{"$f":"'ចំណាយ-ថវិការដ្ឋ'!C751","v":0},{"$f":"'ចំណាយ-ថវិការដ្ឋ'!D751","v":0},0,{"$f":"'ចំណាយ-ថវិការដ្ឋ'!F751","v":0},{"$f":"'ចំណាយ-ថវិការដ្ឋ'!G751","v":0},0,{"$f":"'ចំណាយ-ថវិការដ្ឋ'!I751","v":0},{"$f":"'ចំណាយ-ថវិការដ្ឋ'!J751","v":0},0,{"$f":"'ចំណាយ-ថវិការដ្ឋ'!L751","v":0},{"$f":"'ចំណាយ-ថវិការដ្ឋ'!M751","v":0}]
[{"$f":"Update_8!C925","v":"៣. ពិនិត្យតាមដាន និងវាយតម្លៃ"},0,{"$f":"'ចំណាយ-ថវិការដ្ឋ'!C752","v":0},{"$f":"'ចំណាយ-ថវិការដ្ឋ'!D752","v":0},0,{"$f":"'ចំណាយ-ថវិការដ្ឋ'!F752","v":0},{"$f":"'ចំណាយ-ថវិការដ្ឋ'!G752","v":0},0,{"$f":"'ចំណាយ-ថវិការដ្ឋ'!I752","v":0},{"$f":"'ចំណាយ-ថវិការដ្ឋ'!J752","v":0},0,{"$f":"'ចំណាយ-ថវិការដ្ឋ'!L752","v":0},{"$f":"'ចំណាយ-ថវិការដ្ឋ'!M752","v":0}]
[{"$f":"Update_8!C926","v":"៤. ផ្តល់សេវាកម្មបច្ចេកវិទ្យាព័ត៌មាននិងការអប់រំមិនផ្លូវការ"},0,{"$f":"'ចំណាយ-ថវិការដ្ឋ'!C753","v":0},{"$f":"'ចំណាយ-ថវិការដ្ឋ'!D753","v":0},0,{"$f":"'ចំណាយ-ថវិការដ្ឋ'!F753","v":0},{"$f":"'ចំណាយ-ថវិការដ្ឋ'!G753","v":0},0,{"$f":"'ចំណាយ-ថវិការដ្ឋ'!I753","v":0},{"$f":"'ចំណាយ-ថវិការដ្ឋ'!J753","v":0},0,{"$f":"'ចំណាយ-ថវិការដ្ឋ'!L753","v":0},{"$f":"'ចំណាយ-ថវិការដ្ឋ'!M753","v":0}]
[{"$f":"Update_8!C927","v":"៥. អភិវឌ្ឍសមត្ថភាពមន្ត្រីអប់រំ និងសហប្រតិបត្តិការបច្ចេកវិទ្យាព័ត៌មាន"},0,{"$f":"'ចំណាយ-ថវិការដ្ឋ'!C754","v":0},{"$f":"'ចំណាយ-ថវិការដ្ឋ'!D754","v":0},0,{"$f":"'ចំណាយ-ថវិការដ្ឋ'!F754","v":0},{"$f":"'ចំណាយ-ថវិការដ្ឋ'!G754","v":0},0,{"$f":"'ចំណាយ-ថវិការដ្ឋ'!I754","v":0},{"$f":"'ចំណាយ-ថវិការដ្ឋ'!J754","v":0},0,{"$f":"'ចំណាយ-ថវិការដ្ឋ'!L754","v":0},{"$f":"'ចំណាយ-ថវិការដ្ឋ'!M754","v":0}]
[{"$f":"Update_8!C928","v":0},0,{"$f":"'ចំណាយ-ថវិការដ្ឋ'!C755","v":0},{"$f":"'ចំណាយ-ថវិការដ្ឋ'!D755","v":0},0,{"$f":"'ចំណាយ-ថវិការដ្ឋ'!F755","v":0},{"$f":"'ចំណាយ-ថវិការដ្ឋ'!G755","v":0},0,{"$f":"'ចំណាយ-ថវិការដ្ឋ'!I755","v":0},{"$f":"'ចំណាយ-ថវិការដ្ឋ'!J755","v":0},0,{"$f":"'ចំណាយ-ថវិការដ្ឋ'!L755","v":0},{"$f":"'ចំណាយ-ថវិការដ្ឋ'!M755","v":0}]
[{"$f":"Update_8!C929","v":0},0,{"$f":"'ចំណាយ-ថវិការដ្ឋ'!C756","v":0},{"$f":"'ចំណាយ-ថវិការដ្ឋ'!D756","v":0},0,{"$f":"'ចំណាយ-ថវិការដ្ឋ'!F756","v":0},{"$f":"'ចំណាយ-ថវិការដ្ឋ'!G756","v":0},0,{"$f":"'ចំណាយ-ថវិការដ្ឋ'!I756","v":0},{"$f":"'ចំណាយ-ថវិការដ្ឋ'!J756","v":0},0,{"$f":"'ចំណាយ-ថវិការដ្ឋ'!L756","v":0},{"$f":"'ចំណាយ-ថវិការដ្ឋ'!M756","v":0}]
[{"$f":"Update_8!C930","v":0},0,{"$f":"'ចំណាយ-ថវិការដ្ឋ'!C757","v":0},{"$f":"'ចំណាយ-ថវិការដ្ឋ'!D757","v":0},0,{"$f":"'ចំណាយ-ថវិការដ្ឋ'!F757","v":0},{"$f":"'ចំណាយ-ថវិការដ្ឋ'!G757","v":0},0,{"$f":"'ចំណាយ-ថវិការដ្ឋ'!I757","v":0},{"$f":"'ចំណាយ-ថវិការដ្ឋ'!J757","v":0},0,{"$f":"'ចំណាយ-ថវិការដ្ឋ'!L757","v":0},{"$f":"'ចំណាយ-ថវិការដ្ឋ'!M757","v":0}]
[{"$f":"Update_8!C931","v":0},0,{"$f":"'ចំណាយ-ថវិការដ្ឋ'!C758","v":0},{"$f":"'ចំណាយ-ថវិការដ្ឋ'!D758","v":0},0,{"$f":"'ចំណាយ-ថវិការដ្ឋ'!F758","v":0},{"$f":"'ចំណាយ-ថវិការដ្ឋ'!G758","v":0},0,{"$f":"'ចំណាយ-ថវិការដ្ឋ'!I758","v":0},{"$f":"'ចំណាយ-ថវិការដ្ឋ'!J758","v":0},0,{"$f":"'ចំណាយ-ថវិការដ្ឋ'!L758","v":0},{"$f":"'ចំណាយ-ថវិការដ្ឋ'!M758","v":0}]
[{"$f":"Update_8!C932","v":0},0,{"$f":"'ចំណាយ-ថវិការដ្ឋ'!C759","v":0},{"$f":"'ចំណាយ-ថវិការដ្ឋ'!D759","v":0},0,{"$f":"'ចំណាយ-ថវិការដ្ឋ'!F759","v":0},{"$f":"'ចំណាយ-ថវិការដ្ឋ'!G759","v":0},0,{"$f":"'ចំណាយ-ថវិការដ្ឋ'!I759","v":0},{"$f":"'ចំណាយ-ថវិការដ្ឋ'!J759","v":0},0,{"$f":"'ចំណាយ-ថវិការដ្ឋ'!L759","v":0},{"$f":"'ចំណាយ-ថវិការដ្ឋ'!M759","v":0}]
[{"$f":"ព័ត៌មានអង្គភាព!C47","v":"៥.១៨.០១.១៧៖ ការពង្រឹងគុណភាព និងប្រសិទ្ធភាពការងារប្រឡងនៅមធ្យមសិក្សានិងអប់រំបច្ចេកទេស"},{"$f":"SUM(B761,B772)","v":0},{"$f":"SUM(C761,C772)","v":0},0,0,0,0,0,0,0,0,0,0]
[{"$f":"cluster_activity_1","v":"សកម្មភាពរង ទី ១៖ ធានាឱ្យការអប់រំមានគុណភាព ប្រកបដោយសមធម៌ បរិយាបន្ន និងលើកកម្ពស់ឱកាសក្នុងការសិក្សាពេញមួយជីវិត"},{"$f":"ROUND(SUM(B762:B771),1)","v":0},{"$f":"ROUND(SUM(C762:C771),1)","v":0},{"$f":"ROUND(SUM(D762:D771),1)","v":0},0,0,0,0,0,0,0,0,0]
[{"$f":"Update_8!C933","v":"១. ការងារប្រឡងនៅមធ្យមសិក្សានិងអប់រំបច្ចេកទេស "},{"$f":"ROUND(SUM(C762:D762),1)","v":0},{"$f":"'ចំណាយ-ថវិការដ្ឋ'!C762","v":0},{"$f":"'ចំណាយ-ថវិការដ្ឋ'!D762","v":0},{"$f":"ROUND(SUM(F762:G762),1)","v":0},{"$f":"'ចំណាយ-ថវិការដ្ឋ'!F762","v":0},{"$f":"'ចំណាយ-ថវិការដ្ឋ'!G762","v":0},{"$f":"ROUND(SUM(I762:J762),1)","v":0},{"$f":"'ចំណាយ-ថវិការដ្ឋ'!I762","v":0},{"$f":"'ចំណាយ-ថវិការដ្ឋ'!J762","v":0},{"$f":"ROUND(SUM(L762:M762),1)","v":0},{"$f":"'ចំណាយ-ថវិការដ្ឋ'!L762","v":0},{"$f":"'ចំណាយ-ថវិការដ្ឋ'!M762","v":0}]
[{"$f":"Update_8!C934","v":0},{"$f":"ROUND(SUM(C763:D763),1)","v":0},{"$f":"'ចំណាយ-ថវិការដ្ឋ'!C763","v":0},{"$f":"'ចំណាយ-ថវិការដ្ឋ'!D763","v":0},0,{"$f":"'ចំណាយ-ថវិការដ្ឋ'!F763","v":0},{"$f":"'ចំណាយ-ថវិការដ្ឋ'!G763","v":0},0,{"$f":"'ចំណាយ-ថវិការដ្ឋ'!I763","v":0},{"$f":"'ចំណាយ-ថវិការដ្ឋ'!J763","v":0},0,{"$f":"'ចំណាយ-ថវិការដ្ឋ'!L763","v":0},{"$f":"'ចំណាយ-ថវិការដ្ឋ'!M763","v":0}]
[{"$f":"Update_8!C935","v":0},0,{"$f":"'ចំណាយ-ថវិការដ្ឋ'!C764","v":0},{"$f":"'ចំណាយ-ថវិការដ្ឋ'!D764","v":0},0,{"$f":"'ចំណាយ-ថវិការដ្ឋ'!F764","v":0},{"$f":"'ចំណាយ-ថវិការដ្ឋ'!G764","v":0},0,{"$f":"'ចំណាយ-ថវិការដ្ឋ'!I764","v":0},{"$f":"'ចំណាយ-ថវិការដ្ឋ'!J764","v":0},0,{"$f":"'ចំណាយ-ថវិការដ្ឋ'!L764","v":0},{"$f":"'ចំណាយ-ថវិការដ្ឋ'!M764","v":0}]
[{"$f":"Update_8!C936","v":0},0,{"$f":"'ចំណាយ-ថវិការដ្ឋ'!C765","v":0},{"$f":"'ចំណាយ-ថវិការដ្ឋ'!D765","v":0},0,{"$f":"'ចំណាយ-ថវិការដ្ឋ'!F765","v":0},{"$f":"'ចំណាយ-ថវិការដ្ឋ'!G765","v":0},0,{"$f":"'ចំណាយ-ថវិការដ្ឋ'!I765","v":0},{"$f":"'ចំណាយ-ថវិការដ្ឋ'!J765","v":0},0,{"$f":"'ចំណាយ-ថវិការដ្ឋ'!L765","v":0},{"$f":"'ចំណាយ-ថវិការដ្ឋ'!M765","v":0}]
[{"$f":"Update_8!C937","v":0},0,{"$f":"'ចំណាយ-ថវិការដ្ឋ'!C766","v":0},{"$f":"'ចំណាយ-ថវិការដ្ឋ'!D766","v":0},0,{"$f":"'ចំណាយ-ថវិការដ្ឋ'!F766","v":0},{"$f":"'ចំណាយ-ថវិការដ្ឋ'!G766","v":0},0,{"$f":"'ចំណាយ-ថវិការដ្ឋ'!I766","v":0},{"$f":"'ចំណាយ-ថវិការដ្ឋ'!J766","v":0},0,{"$f":"'ចំណាយ-ថវិការដ្ឋ'!L766","v":0},{"$f":"'ចំណាយ-ថវិការដ្ឋ'!M766","v":0}]
[{"$f":"Update_8!C938","v":0},0,{"$f":"'ចំណាយ-ថវិការដ្ឋ'!C767","v":0},{"$f":"'ចំណាយ-ថវិការដ្ឋ'!D767","v":0},0,{"$f":"'ចំណាយ-ថវិការដ្ឋ'!F767","v":0},{"$f":"'ចំណាយ-ថវិការដ្ឋ'!G767","v":0},0,{"$f":"'ចំណាយ-ថវិការដ្ឋ'!I767","v":0},{"$f":"'ចំណាយ-ថវិការដ្ឋ'!J767","v":0},0,{"$f":"'ចំណាយ-ថវិការដ្ឋ'!L767","v":0},{"$f":"'ចំណាយ-ថវិការដ្ឋ'!M767","v":0}]
[{"$f":"Update_8!C939","v":0},0,{"$f":"'ចំណាយ-ថវិការដ្ឋ'!C768","v":0},{"$f":"'ចំណាយ-ថវិការដ្ឋ'!D768","v":0},0,{"$f":"'ចំណាយ-ថវិការដ្ឋ'!F768","v":0},{"$f":"'ចំណាយ-ថវិការដ្ឋ'!G768","v":0},0,{"$f":"'ចំណាយ-ថវិការដ្ឋ'!I768","v":0},{"$f":"'ចំណាយ-ថវិការដ្ឋ'!J768","v":0},0,{"$f":"'ចំណាយ-ថវិការដ្ឋ'!L768","v":0},{"$f":"'ចំណាយ-ថវិការដ្ឋ'!M768","v":0}]
[{"$f":"Update_8!C940","v":0},0,{"$f":"'ចំណាយ-ថវិការដ្ឋ'!C769","v":0},{"$f":"'ចំណាយ-ថវិការដ្ឋ'!D769","v":0},0,{"$f":"'ចំណាយ-ថវិការដ្ឋ'!F769","v":0},{"$f":"'ចំណាយ-ថវិការដ្ឋ'!G769","v":0},0,{"$f":"'ចំណាយ-ថវិការដ្ឋ'!I769","v":0},{"$f":"'ចំណាយ-ថវិការដ្ឋ'!J769","v":0},0,{"$f":"'ចំណាយ-ថវិការដ្ឋ'!L769","v":0},{"$f":"'ចំណាយ-ថវិការដ្ឋ'!M769","v":0}]
[{"$f":"Update_8!C941","v":0},0,{"$f":"'ចំណាយ-ថវិការដ្ឋ'!C770","v":0},{"$f":"'ចំណាយ-ថវិការដ្ឋ'!D770","v":0},0,{"$f":"'ចំណាយ-ថវិការដ្ឋ'!F770","v":0},{"$f":"'ចំណាយ-ថវិការដ្ឋ'!G770","v":0},0,{"$f":"'ចំណាយ-ថវិការដ្ឋ'!I770","v":0},{"$f":"'ចំណាយ-ថវិការដ្ឋ'!J770","v":0},0,{"$f":"'ចំណាយ-ថវិការដ្ឋ'!L770","v":0},{"$f":"'ចំណាយ-ថវិការដ្ឋ'!M770","v":0}]
[{"$f":"Update_8!C942","v":0},0,{"$f":"'ចំណាយ-ថវិការដ្ឋ'!C771","v":0},{"$f":"'ចំណាយ-ថវិការដ្ឋ'!D771","v":0},0,{"$f":"'ចំណាយ-ថវិការដ្ឋ'!F771","v":0},{"$f":"'ចំណាយ-ថវិការដ្ឋ'!G771","v":0},0,{"$f":"'ចំណាយ-ថវិការដ្ឋ'!I771","v":0},{"$f":"'ចំណាយ-ថវិការដ្ឋ'!J771","v":0},0,{"$f":"'ចំណាយ-ថវិការដ្ឋ'!L771","v":0},{"$f":"'ចំណាយ-ថវិការដ្ឋ'!M771","v":0}]
[{"$f":"cluster_activity_2","v":"សកម្មភាពរង ទី ២៖ ធានាភាពស័ក្តិសិទ្ធនៃភាពជាអ្នកដឹកនាំ និងគ្រប់គ្រងរបស់មន្ត្រី អប់រំគ្រប់លំដាប់ថ្នាក់"},{"$f":"ROUND(SUM(B773:B782),1)","v":0},{"$f":"ROUND(SUM(C773:C782),1)","v":0},{"$f":"ROUND(SUM(D773:D782),1)","v":0},{"$f":"ROUND(SUM(E773:E782),1)","v":0},0,0,0,0,0,{"$f":"ROUND(SUM(K773:K782),1)","v":0},{"$f":"ROUND(SUM(L773:L782),1)","v":0},{"$f":"ROUND(SUM(M773:M782),1)","v":0}]
[{"$f":"Update_8!C943","v":"១. កិច្ចដំណើរការអង្គភាព"},{"$f":"ROUND(SUM(C773:D773),1)","v":0},{"$f":"'ចំណាយ-ថវិការដ្ឋ'!C773","v":0},{"$f":"'ចំណាយ-ថវិការដ្ឋ'!D773","v":0},{"$f":"ROUND(SUM(F773:G773),1)","v":0},{"$f":"'ចំណាយ-ថវិការដ្ឋ'!F773","v":0},{"$f":"'ចំណាយ-ថវិការដ្ឋ'!G773","v":0},{"$f":"ROUND(SUM(I773:J773),1)","v":0},{"$f":"'ចំណាយ-ថវិការដ្ឋ'!I773","v":0},{"$f":"'ចំណាយ-ថវិការដ្ឋ'!J773","v":0},{"$f":"ROUND(SUM(L773:M773),1)","v":0},{"$f":"'ចំណាយ-ថវិការដ្ឋ'!L773","v":0},{"$f":"'ចំណាយ-ថវិការដ្ឋ'!M773","v":0}]
[{"$f":"Update_8!C944","v":"២. ថវិកាលទ្ធកម្ម"},{"$f":"ROUND(SUM(C774:D774),1)","v":0},{"$f":"'ចំណាយ-ថវិការដ្ឋ'!C774","v":0},{"$f":"'ចំណាយ-ថវិការដ្ឋ'!D774","v":0},0,{"$f":"'ចំណាយ-ថវិការដ្ឋ'!F774","v":0},{"$f":"'ចំណាយ-ថវិការដ្ឋ'!G774","v":0},0,{"$f":"'ចំណាយ-ថវិការដ្ឋ'!I774","v":0},{"$f":"'ចំណាយ-ថវិការដ្ឋ'!J774","v":0},0,{"$f":"'ចំណាយ-ថវិការដ្ឋ'!L774","v":0},{"$f":"'ចំណាយ-ថវិការដ្ឋ'!M774","v":0}]
[{"$f":"Update_8!C945","v":"៣. ពិនិត្យតាមដាន និងវាយតម្លៃ"},0,{"$f":"'ចំណាយ-ថវិការដ្ឋ'!C775","v":0},{"$f":"'ចំណាយ-ថវិការដ្ឋ'!D775","v":0},0,{"$f":"'ចំណាយ-ថវិការដ្ឋ'!F775","v":0},{"$f":"'ចំណាយ-ថវិការដ្ឋ'!G775","v":0},0,{"$f":"'ចំណាយ-ថវិការដ្ឋ'!I775","v":0},{"$f":"'ចំណាយ-ថវិការដ្ឋ'!J775","v":0},0,{"$f":"'ចំណាយ-ថវិការដ្ឋ'!L775","v":0},{"$f":"'ចំណាយ-ថវិការដ្ឋ'!M775","v":0}]
[{"$f":"Update_8!C946","v":"៤. ពង្រឹងសមត្ថភាពបុគ្គលិកអប់រំលើការងារប្រឡងក្នុង និងក្រៅប្រទេស"},0,{"$f":"'ចំណាយ-ថវិការដ្ឋ'!C776","v":0},{"$f":"'ចំណាយ-ថវិការដ្ឋ'!D776","v":0},0,{"$f":"'ចំណាយ-ថវិការដ្ឋ'!F776","v":0},{"$f":"'ចំណាយ-ថវិការដ្ឋ'!G776","v":0},0,{"$f":"'ចំណាយ-ថវិការដ្ឋ'!I776","v":0},{"$f":"'ចំណាយ-ថវិការដ្ឋ'!J776","v":0},0,{"$f":"'ចំណាយ-ថវិការដ្ឋ'!L776","v":0},{"$f":"'ចំណាយ-ថវិការដ្ឋ'!M776","v":0}]
[{"$f":"Update_8!C947","v":0},0,{"$f":"'ចំណាយ-ថវិការដ្ឋ'!C777","v":0},{"$f":"'ចំណាយ-ថវិការដ្ឋ'!D777","v":0},0,{"$f":"'ចំណាយ-ថវិការដ្ឋ'!F777","v":0},{"$f":"'ចំណាយ-ថវិការដ្ឋ'!G777","v":0},0,{"$f":"'ចំណាយ-ថវិការដ្ឋ'!I777","v":0},{"$f":"'ចំណាយ-ថវិការដ្ឋ'!J777","v":0},0,{"$f":"'ចំណាយ-ថវិការដ្ឋ'!L777","v":0},{"$f":"'ចំណាយ-ថវិការដ្ឋ'!M777","v":0}]
[{"$f":"Update_8!C948","v":0},0,{"$f":"'ចំណាយ-ថវិការដ្ឋ'!C778","v":0},{"$f":"'ចំណាយ-ថវិការដ្ឋ'!D778","v":0},0,{"$f":"'ចំណាយ-ថវិការដ្ឋ'!F778","v":0},{"$f":"'ចំណាយ-ថវិការដ្ឋ'!G778","v":0},0,{"$f":"'ចំណាយ-ថវិការដ្ឋ'!I778","v":0},{"$f":"'ចំណាយ-ថវិការដ្ឋ'!J778","v":0},0,{"$f":"'ចំណាយ-ថវិការដ្ឋ'!L778","v":0},{"$f":"'ចំណាយ-ថវិការដ្ឋ'!M778","v":0}]
[{"$f":"Update_8!C949","v":0},0,{"$f":"'ចំណាយ-ថវិការដ្ឋ'!C779","v":0},{"$f":"'ចំណាយ-ថវិការដ្ឋ'!D779","v":0},0,{"$f":"'ចំណាយ-ថវិការដ្ឋ'!F779","v":0},{"$f":"'ចំណាយ-ថវិការដ្ឋ'!G779","v":0},0,{"$f":"'ចំណាយ-ថវិការដ្ឋ'!I779","v":0},{"$f":"'ចំណាយ-ថវិការដ្ឋ'!J779","v":0},0,{"$f":"'ចំណាយ-ថវិការដ្ឋ'!L779","v":0},{"$f":"'ចំណាយ-ថវិការដ្ឋ'!M779","v":0}]
[{"$f":"Update_8!C950","v":0},0,{"$f":"'ចំណាយ-ថវិការដ្ឋ'!C780","v":0},{"$f":"'ចំណាយ-ថវិការដ្ឋ'!D780","v":0},0,{"$f":"'ចំណាយ-ថវិការដ្ឋ'!F780","v":0},{"$f":"'ចំណាយ-ថវិការដ្ឋ'!G780","v":0},0,{"$f":"'ចំណាយ-ថវិការដ្ឋ'!I780","v":0},{"$f":"'ចំណាយ-ថវិការដ្ឋ'!J780","v":0},0,{"$f":"'ចំណាយ-ថវិការដ្ឋ'!L780","v":0},{"$f":"'ចំណាយ-ថវិការដ្ឋ'!M780","v":0}]
[{"$f":"Update_8!C951","v":0},0,{"$f":"'ចំណាយ-ថវិការដ្ឋ'!C781","v":0},{"$f":"'ចំណាយ-ថវិការដ្ឋ'!D781","v":0},0,{"$f":"'ចំណាយ-ថវិការដ្ឋ'!F781","v":0},{"$f":"'ចំណាយ-ថវិការដ្ឋ'!G781","v":0},0,{"$f":"'ចំណាយ-ថវិការដ្ឋ'!I781","v":0},{"$f":"'ចំណាយ-ថវិការដ្ឋ'!J781","v":0},0,{"$f":"'ចំណាយ-ថវិការដ្ឋ'!L781","v":0},{"$f":"'ចំណាយ-ថវិការដ្ឋ'!M781","v":0}]
[{"$f":"Update_8!C952","v":0},0,{"$f":"'ចំណាយ-ថវិការដ្ឋ'!C782","v":0},{"$f":"'ចំណាយ-ថវិការដ្ឋ'!D782","v":0},0,{"$f":"'ចំណាយ-ថវិការដ្ឋ'!F782","v":0},{"$f":"'ចំណាយ-ថវិការដ្ឋ'!G782","v":0},0,{"$f":"'ចំណាយ-ថវិការដ្ឋ'!I782","v":0},{"$f":"'ចំណាយ-ថវិការដ្ឋ'!J782","v":0},0,{"$f":"'ចំណាយ-ថវិការដ្ឋ'!L782","v":0},{"$f":"'ចំណាយ-ថវិការដ្ឋ'!M782","v":0}]

{"sheet":"Table 4 MEF","index":8,"n_rows":513,"n_cols":13,"rows_kept":513,"cut":false,"hidden":false,"merged":[[3,0,3,12],[5,0,6,0],[5,1,5,3],[5,4,5,6],[5,7,5,9],[5,10,5,12]]}
[]
["ក្រសួងអប់រំ​​​​​​​​​​​ យុវជន និងកីឡា"]
[{"$f":"CONCATENATE(\"មន្ទីរអប់រំ យុវជន និងកីឡា\",province)","v":"មន្ទីរអប់រំ យុវជន និងកីឡាខេត្តបន្ទាយមានជ័យ"}]
["តារាង ៤ ការកំណត់តម្រូវការចំណាយសម្រាប់កម្មវិធី និងអនុកម្មវិធី"]
[null,null,null,null,null,null,null,null,null,null,null,null,"ឯកតា៖ លានរៀល"]
["តម្រូវការឥណទាន\nតាមប្រភេទចំណាយ","ច្បាប់ហិរញ្ញវត្ថុ \nឆ្នាំ ២០១៩",null,null,"គ្រោងតម្រូវការឥណទាន\nសម្រាប់ឆ្នាំ ២០២០",null,null,"គ្រោងតម្រូវការឥណទាន\nសម្រាប់ឆ្នាំ ២០២១",null,null,"គ្រោងតម្រូវការឥណទាន\nសម្រាប់ឆ្នាំ ២០២២"]
[null,"ថវិការដ្ឋ","ថវិកាដៃគូ \nអភិវឌ្ឍ","ផ្សេងៗ","ថវិការដ្ឋ","ថវិកាដៃគូ \nអភិវឌ្ឍ","ផ្សេងៗ","ថវិការដ្ឋ","ថវិកាដៃគូ \nអភិវឌ្ឍ","ផ្សេងៗ","ថវិការដ្ឋ","ថវិកាដៃគូ \nអភិវឌ្ឍ","ផ្សេងៗ"]
["សរុបរួម",{"$f":"SUM(B9,B12)","v":0},null,null,{"$f":"SUM(E9,E12)","v":0},null,null,0,null,null,0]
["□ សរុបចំណាយចរន្ដ",{"$f":"SUM(B10:B11)","v":0},null,null,{"$f":"SUM(E10:E11)","v":0},null,null,0,null,null,0]
["•  បន្ទុកបុគ្គលិក",{"$f":"SUM(B21,B153,B230,B296)","v":0},null,null,0,null,null,0,null,null,0]
["•  ក្រៅបន្ទុកបុគ្គលិក",{"$f":"SUM(B22,B154,B231,B297)","v":0},null,null,0,null,null,0,null,null,0]
["□ សរុបចំណាយមូលធន",{"$f":"SUM(B13,B16)","v":0},null,null,{"$f":"SUM(E13,E16)","v":0},null,null,0,null,null,0]
["•  គម្រោងវិនិយោគ",{"$f":"SUM(B14:B15)","v":0},null,null,{"$f":"SUM(E14:E15)","v":0},null,null,0,null,null,0]
["- មានហិរញ្ញប្បទាន",{"$f":"SUM(B25,B157,B234,B300)","v":0},null,null,0,null,null,0,null,null,0]
["- មិនទាន់មានហិរញ្ញប្បទាន",{"$f":"SUM(B26,B158,B235,B301)","v":0},null,null,0,null,null,0,null,null,0]
["•  ជំនួយបច្ចេកទេស",{"$f":"SUM(B17:B18)","v":0},null,null,{"$f":"SUM(E17:E18)","v":0},null,null,0,null,null,0]
["- មានហិរញ្ញប្បទាន",{"$f":"SUM(B28,B160,B237,B303)","v":0},null,null,0,null,null,0,null,null,0]
["- មិនទាន់មានហិរញ្ញប្បទាន",{"$f":"SUM(B29,B161,B238,B304)","v":0},null,null,0,null,null,0,null,null,0]
[{"$f":"ព័ត៌មានអង្គភាព!C3","v":"កម្មវិធីទី១៖ ការអភិវឌ្ឍការអប់រំក្នុងប្រព័ន្ធ ក្រៅប្រព័ន្ធ និងមិនផ្លូវការ"},{"$f":"SUM(B20,B23)","v":0},null,null,{"$f":"SUM(E20,E23)","v":0},null,null,0,null,null,0]
["□ សរុបចំណាយចរន្ដ",{"$f":"SUM(B21:B22)","v":0},null,null,{"$f":"SUM(E21:E22)","v":0},null,null,0,null,null,0]
["•  បន្ទុកបុគ្គលិក",{"$f":"B32","v":0},null,null,{"$f":"E32","v":0},null,null,{"$f":"H32","v":0},null,null,{"$f":"K32","v":0}]
["•  ក្រៅបន្ទុកបុគ្គលិក",{"$f":"B33","v":0},null,null,{"$f":"E33","v":0},null,null,{"$f":"H33","v":0},null,null,{"$f":"K33","v":0}]
["□ សរុបចំណាយមូលធន",{"$f":"SUM(B24,B27)","v":0},null,null,{"$f":"SUM(E24,E27)","v":0},null,null,0,null,null,0]
["•  គម្រោងវិនិយោគ",{"$f":"SUM(B25:B26)","v":0},null,null,{"$f":"SUM(E25:E26)","v":0},null,null,0,null,null,0]
["- មានហិរញ្ញប្បទាន",{"$f":"B36","v":0},null,null,{"$f":"E36","v":0},null,null,{"$f":"H36","v":0},null,null,{"$f":"K36","v":0}]
["- មិនទាន់មានហិរញ្ញប្បទាន",0,null,null,0,null,null,0,null,null,0]
["•  ជំនួយបច្ចេកទេស",{"$f":"SUM(B28:B29)","v":0},null,null,{"$f":"SUM(E28:E29)","v":0},null,null,0,null,null,0]
["- មានហិរញ្ញប្បទាន",{"$f":"B39","v":0},null,null,{"$f":"E39","v":0},null,null,{"$f":"H39","v":0},null,null,{"$f":"K39","v":0}]
["- មិនទាន់មានហិរញ្ញប្បទាន",0,null,null,0,null,null,0,null,null,0]
[{"$f":"ព័ត៌មានអង្គភាព!C4","v":"អនុកម្មវិធីទី ១.១០៖ សេវាគាំទ្រការអភិវឌ្ឍការអប់រំក្នុងប្រព័ន្ធ ក្រៅប្រព័ន្ធ និងមិនផ្លូវការរបស់មន្ទីរជំនាញ រាជធានី ខេត្ត"},{"$f":"SUM(B31,B34)","v":0},null,null,{"$f":"SUM(E31,E34)","v":0},null,null,{"$f":"SUM(H31,H34)","v":0},null,null,{"$f":"SUM(K31,K34)","v":0}]
["□ សរុបចំណាយចរន្ដ",{"$f":"SUM(B32:B33)","v":0},null,null,{"$f":"SUM(E32:E33)","v":0},null,null,{"$f":"SUM(H32:H33)","v":0},null,null,{"$f":"SUM(K32:K33)","v":0}]
["•  បន្ទុកបុគ្គលិក",{"$f":"B43","v":0},null,null,{"$f":"E43","v":0},null,null,{"$f":"H43","v":0},null,null,{"$f":"K43","v":0}]
["•  ក្រៅបន្ទុកបុគ្គលិក",{"$f":"B44","v":0},null,null,0,null,null,0,null,null,0]
["□ សរុបចំណាយមូលធន",{"$f":"SUM(B35,B38)","v":0},null,null,{"$f":"SUM(E35,E38)","v":0},null,null,{"$f":"SUM(H35,H38)","v":0},null,null,{"$f":"SUM(K35,K38)","v":0}]
["•  គម្រោងវិនិយោគ",{"$f":"SUM(B36:B37)","v":0},null,null,{"$f":"SUM(E36:E37)","v":0},null,null,{"$f":"SUM(H36:H37)","v":0},null,null,{"$f":"SUM(K36:K37)","v":0}]
["- មានហិរញ្ញប្បទាន",{"$f":"B47","v":0},null,null,{"$f":"E47","v":0},null,null,{"$f":"H47","v":0},null,null,{"$f":"K47","v":0}]
["- មិនទាន់មានហិរញ្ញប្បទាន",0,null,null,{"$f":"E48","v":0},null,null,{"$f":"H48","v":0},null,null,{"$f":"K48","v":0}]
["•  ជំនួយបច្ចេកទេស",{"$f":"SUM(B39:B40)","v":0},null,null,{"$f":"SUM(E39:E40)","v":0},null,null,{"$f":"SUM(H39:H40)","v":0},null,null,{"$f":"SUM(K39:K40)","v":0}]
["- មានហិរញ្ញប្បទាន",{"$f":"B50","v":0},null,null,{"$f":"E50","v":0},null,null,{"$f":"H50","v":0},null,null,{"$f":"K50","v":0}]
["- មិនទាន់មានហិរញ្ញប្បទាន",0,null,null,{"$f":"E51","v":0},null,null,{"$f":"H51","v":0},null,null,{"$f":"K51","v":0}]
[{"$f":"ព័ត៌មានអង្គភាព!C5","v":"ចង្កោមសកម្មភាពទី ០១៖ខេត្តបន្ទាយមានជ័យ"},{"$f":"SUM(B42,B45)","v":0},null,null,{"$f":"SUM(E42,E45)","v":0},null,null,{"$f":"SUM(H42,H45)","v":0},null,null,{"$f":"SUM(K42,K45)","v":0}]
["□ សរុបចំណាយចរន្ដ",{"$f":"SUM(B43:B44)","v":0},null,null,{"$f":"SUM(E43:E44)","v":0},null,null,{"$f":"SUM(H43:H44)","v":0},null,null,{"$f":"SUM(K43:K44)","v":0}]
["•  បន្ទុកបុគ្គលិក",{"$f":"SUM(B54,B65,B76,B87,B98,B109,B120,B131,B142)","v":0},null,null,{"$f":"SUM(E54,E65,E76,E87,E98,E109,E120,E131,E142)","v":0},null,null,{"$f":"SUM(H54,H65,H76,H87,H98,H109,H120,H131,H142)","v":0},null,null,{"$f":"SUM(K54,K65,K76,K87,K98,K109,K120,K131,K142)","v":0}]
["•  ក្រៅបន្ទុកបុគ្គលិក",{"$f":"SUM(B55,B66,B77,B88,B99,B110,B121,B132,B143)","v":0},null,null,0,null,null,0,null,null,0]
["□ សរុបចំណាយមូលធន",{"$f":"SUM(B46,B49)","v":0},null,null,{"$f":"SUM(E46,E49)","v":0},null,null,{"$f":"SUM(H46,H49)","v":0},null,null,{"$f":"SUM(K46,K49)","v":0}]
["•  គម្រោងវិនិយោគ",{"$f":"SUM(B47:B48)","v":0},null,null,{"$f":"SUM(E47:E48)","v":0},null,null,{"$f":"SUM(H47:H48)","v":0},null,null,{"$f":"SUM(K47:K48)","v":0}]
["- មានហិរញ្ញប្បទាន",{"$f":"SUM(B58,B69,B80,B91,B102,B113,B124,B135,B146)","v":0},null,null,{"$f":"SUM(E58,E69,E80,E91,E102,E113,E124,E135,E146)","v":0},null,null,{"$f":"SUM(H58,H69,H80,H91,H102,H113,H124,H135,H146)","v":0},null,null,{"$f":"SUM(K58,K69,K80,K91,K102,K113,K124,K135,K146)","v":0}]
["- មិនទាន់មានហិរញ្ញប្បទាន",0,null,null,{"$f":"SUM(E59,E70,E81,E92,E103,E114,E125,E136,E147)","v":0},null,null,{"$f":"SUM(H59,H70,H81,H92,H103,H114,H125,H136,H147)","v":0},null,null,{"$f":"SUM(K59,K70,K81,K92,K103,K114,K125,K136,K147)","v":0}]
["•  ជំនួយបច្ចេកទេស",{"$f":"SUM(B50:B51)","v":0},null,null,{"$f":"SUM(E50:E51)","v":0},null,null,{"$f":"SUM(H50:H51)","v":0},null,null,{"$f":"SUM(K50:K51)","v":0}]
["- មានហិរញ្ញប្បទាន",{"$f":"SUM(B61,B72,B83,B94,B105,B116,B127,B138,B149)","v":0},null,null,{"$f":"SUM(E61,E72,E83,E94,E105,E116,E127,E138,E149)","v":0},null,null,{"$f":"SUM(H61,H72,H83,H94,H105,H116,H127,H138,H149)","v":0},null,null,{"$f":"SUM(K61,K72,K83,K94,K105,K116,K127,K138,K149)","v":0}]
["- មិនទាន់មានហិរញ្ញប្បទាន",0,null,null,{"$f":"SUM(E62,E73,E84,E95,E106,E117,E128,E139,E150)","v":0},null,null,{"$f":"SUM(H62,H73,H84,H95,H106,H117,H128,H139,H150)","v":0},null,null,{"$f":"SUM(K62,K73,K84,K95,K106,K117,K128,K139,K150)","v":0}]
[{"$f":"ព័ត៌មានអង្គភាព!C6","v":"១.១០.០១.១៖ ការពង្រីកការអប់រំកុមារតូច"},{"$f":"SUM(B53,B56)","v":0},null,null,{"$f":"SUM(E53,E56)","v":0},null,null,0,null,null,0]
["□ សរុបចំណាយចរន្ដ",{"$f":"SUM(B54:B55)","v":0},null,null,{"$f":"SUM(E54:E55)","v":0},null,null,0,null,null,0]
["•  បន្ទុកបុគ្គលិក",{"$f":"INDEX(staff_exp2018,MATCH(A52,activities,0))","v":0},null,null,{"$f":"INDEX(staff_exp2019,MATCH(A52,activities,0))","v":0},null,null,{"$f":"INDEX(staff_exp2020,MATCH(A52,activities,0))","v":0},null,null,{"$f":"INDEX(staff_exp2021,MATCH(A52,activities,0))","v":0}]
["•  ក្រៅបន្ទុកបុគ្គលិក",{"$f":"INDEX(non_staffexp2018,MATCH(A52,activities,0))","v":0},null,null,{"$f":"INDEX(non_staffexp2019,MATCH(A52,activities,0))","v":0},null,null,{"$f":"INDEX(non_staffexp2020,MATCH(A52,activities,0))","v":0},null,null,{"$f":"INDEX(non_staffexp2021,MATCH(A52,activities,0))","v":0}]
["□ សរុបចំណាយមូលធន",{"$f":"SUM(B57,B60)","v":0},null,null,{"$f":"SUM(E57,E60)","v":0},null,null,0,null,null,0]
["•  គម្រោងវិនិយោគ",{"$f":"SUM(B58:B59)","v":0},null,null,{"$f":"SUM(E58:E59)","v":0},null,null,0,null,null,0]
["- មានហិរញ្ញប្បទាន"]
["- មិនទាន់មានហិរញ្ញប្បទាន"]
["•  ជំនួយបច្ចេកទេស",{"$f":"SUM(B61:B62)","v":0},null,null,{"$f":"SUM(E61:E62)","v":0},null,null,0,null,null,0]
["- មានហិរញ្ញប្បទាន"]
["- មិនទាន់មានហិរញ្ញប្បទាន"]
[{"$f":"ព័ត៌មានអង្គភាព!C7","v":"១.១០.០១.២៖ ការពង្រឹងគុណភាព និងប្រសិទ្ធភាពនៃការអប់រំនៅបឋមសិក្សា"},{"$f":"SUM(B64,B67)","v":0},null,null,{"$f":"SUM(E64,E67)","v":0},null,null,{"$f":"SUM(H64,H67)","v":0},null,null,{"$f":"SUM(K64,K67)","v":0}]
["□ សរុបចំណាយចរន្ដ",{"$f":"SUM(B65:B66)","v":0},null,null,{"$f":"SUM(E65:E66)","v":0},null,null,0,null,null,0]
["•  បន្ទុកបុគ្គលិក",{"$f":"INDEX(staff_exp2018,MATCH(A63,activities,0))","v":0},null,null,{"$f":"INDEX(staff_exp2019,MATCH(A63,activities,0))","v":0},null,null,{"$f":"INDEX(staff_exp2020,MATCH(A63,activities,0))","v":0},null,null,{"$f":"INDEX(staff_exp2021,MATCH(A63,activities,0))","v":0}]
["•  ក្រៅបន្ទុកបុគ្គលិក",{"$f":"INDEX(non_staffexp2018,MATCH(A63,activities,0))","v":0},null,null,{"$f":"INDEX(non_staffexp2019,MATCH(A63,activities,0))","v":0},null,null,{"$f":"INDEX(non_staffexp2020,MATCH(A63,activities,0))","v":0},null,null,{"$f":"INDEX(non_staffexp2021,MATCH(A63,activities,0))","v":0}]
["□ សរុបចំណាយមូលធន",{"$f":"SUM(B68,B71)","v":0},null,null,{"$f":"SUM(E68,E71)","v":0},null,null,0,null,null,0]
["•  គម្រោងវិនិយោគ",{"$f":"SUM(B69:B70)","v":0},null,null,{"$f":"SUM(E69:E70)","v":0},null,null,0,null,null,0]
["- មានហិរញ្ញប្បទាន"]
["- មិនទាន់មានហិរញ្ញប្បទាន"]
["•  ជំនួយបច្ចេកទេស",{"$f":"SUM(B72:B73)","v":0},null,null,{"$f":"SUM(E72:E73)","v":0},null,null,0,null,null,0]
["- មានហិរញ្ញប្បទាន"]
["- មិនទាន់មានហិរញ្ញប្បទាន"]
[{"$f":"ព័ត៌មានអង្គភាព!C8","v":"១.១០.០១.៣៖ ការចូលរៀនប្រកបដោយសមធម៌​ ការពង្រឹងគុណភាព និងប្រសិទ្ធភាពនៃការ​អប់រំនៅមធ្យមសិក្សា"},{"$f":"SUM(B75,B78)","v":0},null,null,{"$f":"SUM(E75,E78)","v":0},null,null,{"$f":"SUM(H75,H78)","v":0},null,null,{"$f":"SUM(K75,K78)","v":0}]
["□ សរុបចំណាយចរន្ដ",{"$f":"SUM(B76:B77)","v":0},null,null,{"$f":"SUM(E76:E77)","v":0},null,null,0,null,null,0]
["•  បន្ទុកបុគ្គលិក",{"$f":"INDEX(staff_exp2018,MATCH(A74,activities,0))","v":0},null,null,{"$f":"INDEX(staff_exp2019,MATCH(A74,activities,0))","v":0},null,null,{"$f":"INDEX(staff_exp2020,MATCH(A74,activities,0))","v":0},null,null,{"$f":"INDEX(staff_exp2021,MATCH(A74,activities,0))","v":0}]
["•  ក្រៅបន្ទុកបុគ្គលិក",{"$f":"INDEX(non_staffexp2018,MATCH(A74,activities,0))","v":0},null,null,{"$f":"INDEX(non_staffexp2019,MATCH(A74,activities,0))","v":0},null,null,{"$f":"INDEX(non_staffexp2020,MATCH(A74,activities,0))","v":0},null,null,{"$f":"INDEX(non_staffexp2021,MATCH(A74,activities,0))","v":0}]
["□ សរុបចំណាយមូលធន",{"$f":"SUM(B79,B82)","v":0},null,null,{"$f":"SUM(E79,E82)","v":0},null,null,0,null,null,0]
["•  គម្រោងវិនិយោគ",{"$f":"SUM(B80:B81)","v":0},null,null,{"$f":"SUM(E80:E81)","v":0},null,null,0,null,null,0]
["- មានហិរញ្ញប្បទាន"]
["- មិនទាន់មានហិរញ្ញប្បទាន"]
["•  ជំនួយបច្ចេកទេស",{"$f":"SUM(B83:B84)","v":0},null,null,{"$f":"SUM(E83:E84)","v":0},null,null,0,null,null,0]
["- មានហិរញ្ញប្បទាន"]
["- មិនទាន់មានហិរញ្ញប្បទាន"]
[{"$f":"ព័ត៌មានអង្គភាព!C9","v":"១.១០.០១.៤៖ ការពង្រីកការអប់រំក្រៅប្រព័ន្ធ"},{"$f":"SUM(B86,B89)","v":0},null,null,{"$f":"SUM(E86,E89)","v":0},null,null,{"$f":"SUM(H86,H89)","v":0},null,null,{"$f":"SUM(K86,K89)","v":0}]
["□ សរុបចំណាយចរន្ដ",{"$f":"SUM(B87:B88)","v":0},null,null,{"$f":"SUM(E87:E88)","v":0},null,null,0,null,null,0]
["•  បន្ទុកបុគ្គលិក",{"$f":"INDEX(staff_exp2018,MATCH(A85,activities,0))","v":0},null,null,{"$f":"INDEX(staff_exp2019,MATCH(A85,activities,0))","v":0},null,null,{"$f":"INDEX(staff_exp2020,MATCH(A85,activities,0))","v":0},null,null,{"$f":"INDEX(staff_exp2021,MATCH(A85,activities,0))","v":0}]
["•  ក្រៅបន្ទុកបុគ្គលិក",{"$f":"INDEX(non_staffexp2018,MATCH(A85,activities,0))","v":0},null,null,{"$f":"INDEX(non_staffexp2019,MATCH(A85,activities,0))","v":0},null,null,{"$f":"INDEX(non_staffexp2020,MATCH(A85,activities,0))","v":0},null,null,{"$f":"INDEX(non_staffexp2021,MATCH(A85,activities,0))","v":0}]
["□ សរុបចំណាយមូលធន",{"$f":"SUM(B90,B93)","v":0},null,null,{"$f":"SUM(E90,E93)","v":0},null,null,0,null,null,0]
["•  គម្រោងវិនិយោគ",{"$f":"SUM(B91:B92)","v":0},null,null,{"$f":"SUM(E91:E92)","v":0},null,null,0,null,null,0]
["- មានហិរញ្ញប្បទាន"]
["- មិនទាន់មានហិរញ្ញប្បទាន"]
["•  ជំនួយបច្ចេកទេស",{"$f":"SUM(B94:B95)","v":0},null,null,{"$f":"SUM(E94:E95)","v":0},null,null,0,null,null,0]
["- មានហិរញ្ញប្បទាន"]
["- មិនទាន់មានហិរញ្ញប្បទាន"]
[{"$f":"ព័ត៌មានអង្គភាព!C10","v":"១.១០.០១.៥៖ ការពង្រឹង​ និងការពង្រីកកម្មវិធីលើកកម្ពស់សុខភាពសិក្សា"},{"$f":"SUM(B97,B100)","v":0},null,null,{"$f":"SUM(E97,E100)","v":0},null,null,{"$f":"SUM(H97,H100)","v":0},null,null,{"$f":"SUM(K97,K100)","v":0}]
["□ សរុបចំណាយចរន្ដ",{"$f":"SUM(B98:B99)","v":0},null,null,{"$f":"SUM(E98:E99)","v":0},null,null,0,null,null,0]
["•  បន្ទុកបុគ្គលិក",{"$f":"INDEX(staff_exp2018,MATCH(A96,activities,0))","v":0},null,null,{"$f":"INDEX(staff_exp2019,MATCH(A96,activities,0))","v":0},null,null,{"$f":"INDEX(staff_exp2020,MATCH(A96,activities,0))","v":0},null,null,{"$f":"INDEX(staff_exp2021,MATCH(A96,activities,0))","v":0}]
["•  ក្រៅបន្ទុកបុគ្គលិក",{"$f":"INDEX(non_staffexp2018,MATCH(A96,activities,0))","v":0},null,null,{"$f":"INDEX(non_staffexp2019,MATCH(A96,activities,0))","v":0},null,null,{"$f":"INDEX(non_staffexp2020,MATCH(A96,activities,0))","v":0},null,null,{"$f":"INDEX(non_staffexp2021,MATCH(A96,activities,0))","v":0}]
["□ សរុបចំណាយមូលធន",{"$f":"SUM(B101,B104)","v":0},null,null,{"$f":"SUM(E101,E104)","v":0},null,null,0,null,null,0]
["•  គម្រោងវិនិយោគ",{"$f":"SUM(B102:B103)","v":0},null,null,{"$f":"SUM(E102:E103)","v":0},null,null,0,null,null,0]
["- មានហិរញ្ញប្បទាន"]
["- មិនទាន់មានហិរញ្ញប្បទាន"]
["•  ជំនួយបច្ចេកទេស",{"$f":"SUM(B105:B106)","v":0},null,null,{"$f":"SUM(E105:E106)","v":0},null,null,0,null,null,0]
["- មានហិរញ្ញប្បទាន"]
["- មិនទាន់មានហិរញ្ញប្បទាន"]
[{"$f":"ព័ត៌មានអង្គភាព!C11","v":"១.១០.០១.៦៖ លើកកម្ពស់គុណភាព និងប្រសិទ្ធភាពនៃការអនុវត្តកម្មវិធីអប់រំបច្ចេកទេស"},{"$f":"SUM(B108,B111)","v":0},null,null,{"$f":"SUM(E108,E111)","v":0},null,null,{"$f":"SUM(H108,H111)","v":0},null,null,{"$f":"SUM(K108,K111)","v":0}]
["□ សរុបចំណាយចរន្ដ",{"$f":"SUM(B109:B110)","v":0},null,null,{"$f":"SUM(E109:E110)","v":0},null,null,0,null,null,0]
["•  បន្ទុកបុគ្គលិក",{"$f":"INDEX(staff_exp2018,MATCH(A107,activities,0))","v":0},null,null,{"$f":"INDEX(staff_exp2019,MATCH(A107,activities,0))","v":0},null,null,{"$f":"INDEX(staff_exp2020,MATCH(A107,activities,0))","v":0},null,null,{"$f":"INDEX(staff_exp2021,MATCH(A107,activities,0))","v":0}]
["•  ក្រៅបន្ទុកបុគ្គលិក",{"$f":"INDEX(non_staffexp2018,MATCH(A107,activities,0))","v":0},null,null,{"$f":"INDEX(non_staffexp2019,MATCH(A107,activities,0))","v":0},null,null,{"$f":"INDEX(non_staffexp2020,MATCH(A107,activities,0))","v":0},null,null,{"$f":"INDEX(non_staffexp2021,MATCH(A107,activities,0))","v":0}]
["□ សរុបចំណាយមូលធន",{"$f":"SUM(B112,B115)","v":0},null,null,{"$f":"SUM(E112,E115)","v":0},null,null,0,null,null,0]
["•  គម្រោងវិនិយោគ",{"$f":"SUM(B113:B114)","v":0},null,null,{"$f":"SUM(E113:E114)","v":0},null,null,0,null,null,0]
["- មានហិរញ្ញប្បទាន"]
["- មិនទាន់មានហិរញ្ញប្បទាន"]
["•  ជំនួយបច្ចេកទេស",{"$f":"SUM(B116:B117)","v":0},null,null,{"$f":"SUM(E116:E117)","v":0},null,null,0,null,null,0]
["- មានហិរញ្ញប្បទាន"]
["- មិនទាន់មានហិរញ្ញប្បទាន"]
[{"$f":"ព័ត៌មានអង្គភាព!C12","v":"១.១០.០១.៧៖ ការអភិវឌ្ឍការងារបណ្តុះបណ្ដាល និងវិក្រឹតការគ្រូបង្រៀន"},{"$f":"SUM(B119,B122)","v":0},null,null,{"$f":"SUM(E119,E122)","v":0},null,null,{"$f":"SUM(H119,H122)","v":0},null,null,{"$f":"SUM(K119,K122)","v":0}]
["□ សរុបចំណាយចរន្ដ",{"$f":"SUM(B120:B121)","v":0},null,null,{"$f":"SUM(E120:E121)","v":0},null,null,0,null,null,0]
["•  បន្ទុកបុគ្គលិក",{"$f":"INDEX(staff_exp2018,MATCH(A118,activities,0))","v":0},null,null,{"$f":"INDEX(staff_exp2019,MATCH(A118,activities,0))","v":0},null,null,{"$f":"INDEX(staff_exp2020,MATCH(A118,activities,0))","v":0},null,null,{"$f":"INDEX(staff_exp2021,MATCH(A118,activities,0))","v":0}]
["•  ក្រៅបន្ទុកបុគ្គលិក",{"$f":"INDEX(non_staffexp2018,MATCH(A118,activities,0))","v":0},null,null,{"$f":"INDEX(non_staffexp2019,MATCH(A118,activities,0))","v":0},null,null,{"$f":"INDEX(non_staffexp2020,MATCH(A118,activities,0))","v":0},null,null,{"$f":"INDEX(non_staffexp2021,MATCH(A118,activities,0))","v":0}]
["□ សរុបចំណាយមូលធន",{"$f":"SUM(B123,B126)","v":0},null,null,{"$f":"SUM(E123,E126)","v":0},null,null,0,null,null,0]
["•  គម្រោងវិនិយោគ",{"$f":"SUM(B124:B125)","v":0},null,null,{"$f":"SUM(E124:E125)","v":0},null,null,0,null,null,0]
["- មានហិរញ្ញប្បទាន"]
["- មិនទាន់មានហិរញ្ញប្បទាន"]
["•  ជំនួយបច្ចេកទេស",{"$f":"SUM(B127:B128)","v":0},null,null,{"$f":"SUM(E127:E128)","v":0},null,null,0,null,null,0]
["- មានហិរញ្ញប្បទាន"]
["- មិនទាន់មានហិរញ្ញប្បទាន"]
[{"$f":"ព័ត៌មានអង្គភាព!C13","v":"១.១០.០១.៨៖ ការអភិវឌ្ឍកម្មវិធីសិក្សា សម្ភារៈសិក្សា និងបណ្ណាល័យ"},{"$f":"SUM(B130,B133)","v":0},null,null,{"$f":"SUM(E130,E133)","v":0},null,null,{"$f":"SUM(H130,H133)","v":0},null,null,{"$f":"SUM(K130,K133)","v":0}]
["□ សរុបចំណាយចរន្ដ",{"$f":"SUM(B131:B132)","v":0},null,null,{"$f":"SUM(E131:E132)","v":0},null,null,0,null,null,0]
["•  បន្ទុកបុគ្គលិក",{"$f":"INDEX(staff_exp2018,MATCH(A129,activities,0))","v":0},null,null,{"$f":"INDEX(staff_exp2019,MATCH(A129,activities,0))","v":0},null,null,{"$f":"INDEX(staff_exp2020,MATCH(A129,activities,0))","v":0},null,null,{"$f":"INDEX(staff_exp2021,MATCH(A129,activities,0))","v":0}]
["•  ក្រៅបន្ទុកបុគ្គលិក",{"$f":"INDEX(non_staffexp2018,MATCH(A129,activities,0))","v":0},null,null,{"$f":"INDEX(non_staffexp2019,MATCH(A129,activities,0))","v":0},null,null,{"$f":"INDEX(non_staffexp2020,MATCH(A129,activities,0))","v":0},null,null,{"$f":"INDEX(non_staffexp2021,MATCH(A129,activities,0))","v":0}]
["□ សរុបចំណាយមូលធន",{"$f":"SUM(B134,B137)","v":0},null,null,{"$f":"SUM(E134,E137)","v":0},null,null,0,null,null,0]
["•  គម្រោងវិនិយោគ",{"$f":"SUM(B135:B136)","v":0},null,null,{"$f":"SUM(E135:E136)","v":0},null,null,0,null,null,0]
["- មានហិរញ្ញប្បទាន"]
["- មិនទាន់មានហិរញ្ញប្បទាន"]
["•  ជំនួយបច្ចេកទេស",{"$f":"SUM(B138:B139)","v":0},null,null,{"$f":"SUM(E138:E139)","v":0},null,null,0,null,null,0]
["- មានហិរញ្ញប្បទាន"]
["- មិនទាន់មានហិរញ្ញប្បទាន"]
[{"$f":"ព័ត៌មានអង្គភាព!C14","v":"១.១០.០១.៩៖ ពង្រីកការអប់រំបរិយាបន្នគ្រប់ភូមិសិក្សា"},{"$f":"SUM(B141,B144)","v":0},null,null,{"$f":"SUM(E141,E144)","v":0},null,null,{"$f":"SUM(H141,H144)","v":0},null,null,{"$f":"SUM(K141,K144)","v":0}]
["□ សរុបចំណាយចរន្ដ",{"$f":"SUM(B142:B143)","v":0},null,null,{"$f":"SUM(E142:E143)","v":0},null,null,0,null,null,0]
["•  បន្ទុកបុគ្គលិក",{"$f":"INDEX(staff_exp2018,MATCH(A140,activities,0))","v":0},null,null,{"$f":"INDEX(staff_exp2019,MATCH(A140,activities,0))","v":0},null,null,{"$f":"INDEX(staff_exp2020,MATCH(A140,activities,0))","v":0},null,null,{"$f":"INDEX(staff_exp2021,MATCH(A140,activities,0))","v":0}]
["•  ក្រៅបន្ទុកបុគ្គលិក",{"$f":"INDEX(non_staffexp2018,MATCH(A140,activities,0))","v":0},null,null,{"$f":"INDEX(non_staffexp2019,MATCH(A140,activities,0))","v":0},null,null,{"$f":"INDEX(non_staffexp2020,MATCH(A140,activities,0))","v":0},null,null,{"$f":"INDEX(non_staffexp2021,MATCH(A140,activities,0))","v":0}]
["□ សរុបចំណាយមូលធន",{"$f":"SUM(B145,B148)","v":0},null,null,{"$f":"SUM(E145,E148)","v":0},null,null,0,null,null,0]
["•  គម្រោងវិនិយោគ",{"$f":"SUM(B146:B147)","v":0},null,null,{"$f":"SUM(E146:E147)","v":0},null,null,0,null,null,0]
["- មានហិរញ្ញប្បទាន"]
["- មិនទាន់មានហិរញ្ញប្បទាន"]
["•  ជំនួយបច្ចេកទេស",{"$f":"SUM(B149:B150)","v":0},null,null,{"$f":"SUM(E149:E150)","v":0},null,null,0,null,null,0]
["- មានហិរញ្ញប្បទាន"]
["- មិនទាន់មានហិរញ្ញប្បទាន"]
[{"$f":"ព័ត៌មានអង្គភាព!C15","v":"កម្មវិធីទី៣៖ ការអភិវឌ្ឍវិស័យអប់រំកាយនិងកីឡា"},{"$f":"SUM(B152,B155)","v":0},null,null,{"$f":"SUM(E152,E155)","v":0},null,null,0,null,null,0]
["□ សរុបចំណាយចរន្ដ",{"$f":"SUM(B153:B154)","v":0},null,null,{"$f":"SUM(E153:E154)","v":0},null,null,{"$f":"SUM(H153:H154)","v":0},null,null,{"$f":"SUM(K153:K154)","v":0}]
["•  បន្ទុកបុគ្គលិក",{"$f":"B164","v":0},null,null,{"$f":"E164","v":0},null,null,{"$f":"H164","v":0},null,null,{"$f":"K164","v":0}]
["•  ក្រៅបន្ទុកបុគ្គលិក",{"$f":"B165","v":0},null,null,{"$f":"E165","v":0},null,null,{"$f":"H165","v":0},null,null,{"$f":"K165","v":0}]
["□ សរុបចំណាយមូលធន",{"$f":"SUM(B156,B159)","v":0},null,null,{"$f":"SUM(E156,E159)","v":0},null,null,{"$f":"SUM(H156,H159)","v":0},null,null,{"$f":"SUM(K156,K159)","v":0}]
["•  គម្រោងវិនិយោគ",{"$f":"SUM(B157:B158)","v":0},null,null,{"$f":"SUM(E157:E158)","v":0},null,null,{"$f":"SUM(H157:H158)","v":0},null,null,{"$f":"SUM(K157:K158)","v":0}]
["- មានហិរញ្ញប្បទាន",{"$f":"B168","v":0},null,null,{"$f":"E168","v":0},null,null,{"$f":"H168","v":0},null,null,{"$f":"K168","v":0}]
["- មិនទាន់មានហិរញ្ញប្បទាន",0,null,null,{"$f":"E169","v":0},null,null,{"$f":"H169","v":0},null,null,{"$f":"K169","v":0}]
["•  ជំនួយបច្ចេកទេស",{"$f":"SUM(B160:B161)","v":0},null,null,{"$f":"SUM(E160:E161)","v":0},null,null,{"$f":"SUM(H160:H161)","v":0},null,null,{"$f":"SUM(K160:K161)","v":0}]
["- មានហិរញ្ញប្បទាន",{"$f":"B171","v":0},null,null,{"$f":"E171","v":0},null,null,{"$f":"H171","v":0},null,null,{"$f":"K171","v":0}]
["- មិនទាន់មានហិរញ្ញប្បទាន",0,null,null,{"$f":"E172","v":0},null,null,{"$f":"H172","v":0},null,null,{"$f":"K172","v":0}]
[{"$f":"ព័ត៌មានអង្គភាព!C16","v":"អនុកម្មវិធីទី ៣.៥៖ សេវាគាំទ្រការអភិវឌ្ឍវិស័យអប់រំកាយ និងកីឡារបស់មន្ទីរជំនាញរាជធានី ខេត្ត"},{"$f":"SUM(B163,B166)","v":0},null,null,{"$f":"SUM(E163,E166)","v":0},null,null,{"$f":"SUM(H163,H166)","v":0},null,null,{"$f":"SUM(K163,K166)","v":0}]
["□ សរុបចំណាយចរន្ដ",{"$f":"SUM(B164:B165)","v":0},null,null,{"$f":"SUM(E164:E165)","v":0},null,null,{"$f":"SUM(H164:H165)","v":0},null,null,{"$f":"SUM(K164:K165)","v":0}]
["•  បន្ទុកបុគ្គលិក",{"$f":"B175","v":0},null,null,{"$f":"E175","v":0},null,null,{"$f":"H175","v":0},null,null,{"$f":"K175","v":0}]
["•  ក្រៅបន្ទុកបុគ្គលិក",{"$f":"B176","v":0},null,null,{"$f":"E176","v":0},null,null,{"$f":"H176","v":0},null,null,{"$f":"K176","v":0}]
["□ សរុបចំណាយមូលធន",{"$f":"SUM(B167,B170)","v":0},null,null,{"$f":"SUM(E167,E170)","v":0},null,null,{"$f":"SUM(H167,H170)","v":0},null,null,{"$f":"SUM(K167,K170)","v":0}]
["•  គម្រោងវិនិយោគ",{"$f":"SUM(B168:B169)","v":0},null,null,{"$f":"SUM(E168:E169)","v":0},null,null,{"$f":"SUM(H168:H169)","v":0},null,null,{"$f":"SUM(K168:K169)","v":0}]
["- មានហិរញ្ញប្បទាន",{"$f":"B179","v":0},null,null,{"$f":"E179","v":0},null,null,{"$f":"H179","v":0},null,null,{"$f":"K179","v":0}]
["- មិនទាន់មានហិរញ្ញប្បទាន",0,null,null,{"$f":"E180","v":0},null,null,{"$f":"H180","v":0},null,null,{"$f":"K180","v":0}]
["•  ជំនួយបច្ចេកទេស",{"$f":"SUM(B171:B172)","v":0},null,null,{"$f":"SUM(E171:E172)","v":0},null,null,{"$f":"SUM(H171:H172)","v":0},null,null,{"$f":"SUM(K171:K172)","v":0}]
["- មានហិរញ្ញប្បទាន",{"$f":"B182","v":0},null,null,{"$f":"E182","v":0},null,null,{"$f":"H182","v":0},null,null,{"$f":"K182","v":0}]
["- មិនទាន់មានហិរញ្ញប្បទាន",0,null,null,{"$f":"E183","v":0},null,null,{"$f":"H183","v":0},null,null,{"$f":"K183","v":0}]
[{"$f":"ព័ត៌មានអង្គភាព!C5","v":"ចង្កោមសកម្មភាពទី ០១៖ខេត្តបន្ទាយមានជ័យ"},{"$f":"SUM(B174,B177)","v":0},null,null,{"$f":"SUM(E174,E177)","v":0},null,null,{"$f":"SUM(H174,H177)","v":0},null,null,{"$f":"SUM(K174,K177)","v":0}]
["□ សរុបចំណាយចរន្ដ",{"$f":"SUM(B175:B176)","v":0},null,null,{"$f":"SUM(E175:E176)","v":0},null,null,{"$f":"SUM(H175:H176)","v":0},null,null,{"$f":"SUM(K175:K176)","v":0}]
["•  បន្ទុកបុគ្គលិក",{"$f":"SUM(B186,B197,B208,B219)","v":0},null,null,{"$f":"SUM(E186,E197,E208,E219)","v":0},null,null,{"$f":"SUM(H186,H197,H208,H219)","v":0},null,null,{"$f":"SUM(K186,K197,K208,K219)","v":0}]
["•  ក្រៅបន្ទុកបុគ្គលិក",{"$f":"SUM(B187,B198,B209,B220)","v":0},null,null,{"$f":"SUM(E187,E198,E209,E220)","v":0},null,null,{"$f":"SUM(H187,H198,H209,H220)","v":0},null,null,{"$f":"SUM(K187,K198,K209,K220)","v":0}]
["□ សរុបចំណាយមូលធន",{"$f":"SUM(B178,B181)","v":0},null,null,{"$f":"SUM(E178,E181)","v":0},null,null,{"$f":"SUM(H178,H181)","v":0},null,null,{"$f":"SUM(K178,K181)","v":0}]
["•  គម្រោងវិនិយោគ",{"$f":"SUM(B179:B180)","v":0},null,null,{"$f":"SUM(E179:E180)","v":0},null,null,{"$f":"SUM(H179:H180)","v":0},null,null,{"$f":"SUM(K179:K180)","v":0}]
["- មានហិរញ្ញប្បទាន",{"$f":"SUM(B190,B201,B212,B223)","v":0},null,null,{"$f":"SUM(E190,E201,E212,E223)","v":0},null,null,{"$f":"SUM(H190,H201,H212,H223)","v":0},null,null,{"$f":"SUM(K190,K201,K212,K223)","v":0}]
["- មិនទាន់មានហិរញ្ញប្បទាន",{"$f":"SUM(B191,B202,B213,B224)","v":0},null,null,{"$f":"SUM(E191,E202,E213,E224)","v":0},null,null,{"$f":"SUM(H191,H202,H213,H224)","v":0},null,null,{"$f":"SUM(K191,K202,K213,K224)","v":0}]
["•  ជំនួយបច្ចេកទេស",{"$f":"SUM(B182:B183)","v":0},null,null,{"$f":"SUM(E182:E183)","v":0},null,null,{"$f":"SUM(H182:H183)","v":0},null,null,{"$f":"SUM(K182:K183)","v":0}]
["- មានហិរញ្ញប្បទាន",{"$f":"SUM(B193,B204,B215,B226)","v":0},null,null,{"$f":"SUM(E193,E204,E215,E226)","v":0},null,null,{"$f":"SUM(H193,H204,H215,H226)","v":0},null,null,{"$f":"SUM(K193,K204,K215,K226)","v":0}]
["- មិនទាន់មានហិរញ្ញប្បទាន",{"$f":"SUM(B194,B205,B216,B227)","v":0},null,null,{"$f":"SUM(E194,E205,E216,E227)","v":0},null,null,{"$f":"SUM(H194,H205,H216,H227)","v":0},null,null,{"$f":"SUM(K194,K205,K216,K227)","v":0}]
[{"$f":"ព័ត៌មានអង្គភាព!C18","v":"៣.៥.០១.១៖ ការអភិវឌ្ឍកីឡាមហាជន"},{"$f":"SUM(B185,B188)","v":0},null,null,{"$f":"SUM(E185,E188)","v":0},null,null,{"$f":"SUM(H185,H188)","v":0},null,null,{"$f":"SUM(K185,K188)","v":0}]
["□ សរុបចំណាយចរន្ដ",{"$f":"SUM(B186:B187)","v":0},null,null,{"$f":"SUM(E186:E187)","v":0},null,null,0,null,null,0]
["•  បន្ទុកបុគ្គលិក",{"$f":"INDEX(staff_exp2018,MATCH(A184,activities,0))","v":0},null,null,{"$f":"INDEX(staff_exp2019,MATCH(A184,activities,0))","v":0},null,null,{"$f":"INDEX(staff_exp2020,MATCH(A184,activities,0))","v":0},null,null,{"$f":"INDEX(staff_exp2021,MATCH(A184,activities,0))","v":0}]
["•  ក្រៅបន្ទុកបុគ្គលិក",{"$f":"INDEX(non_staffexp2018,MATCH(A184,activities,0))","v":0},null,null,{"$f":"INDEX(non_staffexp2019,MATCH(A184,activities,0))","v":0},null,null,{"$f":"INDEX(non_staffexp2020,MATCH(A184,activities,0))","v":0},null,null,{"$f":"INDEX(non_staffexp2021,MATCH(A184,activities,0))","v":0}]
["□ សរុបចំណាយមូលធន",{"$f":"SUM(B189,B192)","v":0},null,null,{"$f":"SUM(E189,E192)","v":0},null,null,0,null,null,0]
["•  គម្រោងវិនិយោគ",{"$f":"SUM(B190:B191)","v":0},null,null,{"$f":"SUM(E190:E191)","v":0},null,null,0,null,null,0]
["- មានហិរញ្ញប្បទាន"]
["- មិនទាន់មានហិរញ្ញប្បទាន"]
["•  ជំនួយបច្ចេកទេស",{"$f":"SUM(B193:B194)","v":0},null,null,{"$f":"SUM(E193:E194)","v":0},null,null,0,null,null,0]
["- មានហិរញ្ញប្បទាន"]
["- មិនទាន់មានហិរញ្ញប្បទាន"]
[{"$f":"ព័ត៌មានអង្គភាព!C19","v":"៣.៥.០១.២៖ ការអភិវឌ្ឍអប់រំកាយ និងកីឡាសិស្ស និស្សិត"},{"$f":"SUM(B196,B199)","v":0},null,null,{"$f":"SUM(E196,E199)","v":0},null,null,{"$f":"SUM(H196,H199)","v":0},null,null,{"$f":"SUM(K196,K199)","v":0}]
["□ សរុបចំណាយចរន្ដ",{"$f":"SUM(B197:B198)","v":0},null,null,{"$f":"SUM(E197:E198)","v":0},null,null,{"$f":"SUM(H197:H198)","v":0},null,null,{"$f":"SUM(K197:K198)","v":0}]
["•  បន្ទុកបុគ្គលិក",{"$f":"INDEX(staff_exp2018,MATCH(A195,activities,0))","v":0},null,null,{"$f":"INDEX(staff_exp2019,MATCH(A195,activities,0))","v":0},null,null,{"$f":"INDEX(staff_exp2020,MATCH(A195,activities,0))","v":0},null,null,{"$f":"INDEX(staff_exp2021,MATCH(A195,activities,0))","v":0}]
["•  ក្រៅបន្ទុកបុគ្គលិក",{"$f":"INDEX(non_staffexp2018,MATCH(A195,activities,0))","v":0},null,null,{"$f":"INDEX(non_staffexp2019,MATCH(A195,activities,0))","v":0},null,null,{"$f":"INDEX(non_staffexp2020,MATCH(A195,activities,0))","v":0},null,null,{"$f":"INDEX(non_staffexp2021,MATCH(A195,activities,0))","v":0}]
["□ សរុបចំណាយមូលធន",{"$f":"SUM(B200,B203)","v":0},null,null,{"$f":"SUM(E200,E203)","v":0},null,null,{"$f":"SUM(H200,H203)","v":0},null,null,{"$f":"SUM(K200,K203)","v":0}]
["•  គម្រោងវិនិយោគ",{"$f":"SUM(B201:B202)","v":0},null,null,{"$f":"SUM(E201:E202)","v":0},null,null,{"$f":"SUM(H201:H202)","v":0},null,null,{"$f":"SUM(K201:K202)","v":0}]
["- មានហិរញ្ញប្បទាន"]
["- មិនទាន់មានហិរញ្ញប្បទាន"]
["•  ជំនួយបច្ចេកទេស",{"$f":"SUM(B204:B205)","v":0},null,null,{"$f":"SUM(E204:E205)","v":0},null,null,{"$f":"SUM(H204:H205)","v":0},null,null,{"$f":"SUM(K204:K205)","v":0}]
["- មានហិរញ្ញប្បទាន"]
["- មិនទាន់មានហិរញ្ញប្បទាន"]
[{"$f":"ព័ត៌មានអង្គភាព!C20","v":"៣.៥.០១.៣៖ ការបណ្តុះបណ្តាលធនធានមនុស្សផ្នែកអប់រំកាយ និងកីឡា"},{"$f":"SUM(B207,B210)","v":0},null,null,{"$f":"SUM(E207,E210)","v":0},null,null,{"$f":"SUM(H207,H210)","v":0},null,null,{"$f":"SUM(K207,K210)","v":0}]
["□ សរុបចំណាយចរន្ដ",{"$f":"SUM(B208:B209)","v":0},null,null,{"$f":"SUM(E208:E209)","v":0},null,null,{"$f":"SUM(H208:H209)","v":0},null,null,{"$f":"SUM(K208:K209)","v":0}]
["•  បន្ទុកបុគ្គលិក",{"$f":"INDEX(staff_exp2018,MATCH(A206,activities,0))","v":0},null,null,{"$f":"INDEX(staff_exp2019,MATCH(A206,activities,0))","v":0},null,null,{"$f":"INDEX(staff_exp2020,MATCH(A206,activities,0))","v":0},null,null,{"$f":"INDEX(staff_exp2021,MATCH(A206,activities,0))","v":0}]
["•  ក្រៅបន្ទុកបុគ្គលិក",{"$f":"INDEX(non_staffexp2018,MATCH(A206,activities,0))","v":0},null,null,{"$f":"INDEX(non_staffexp2019,MATCH(A206,activities,0))","v":0},null,null,{"$f":"INDEX(non_staffexp2020,MATCH(A206,activities,0))","v":0},null,null,{"$f":"INDEX(non_staffexp2021,MATCH(A206,activities,0))","v":0}]
["□ សរុបចំណាយមូលធន",{"$f":"SUM(B211,B214)","v":0},null,null,{"$f":"SUM(E211,E214)","v":0},null,null,{"$f":"SUM(H211,H214)","v":0},null,null,{"$f":"SUM(K211,K214)","v":0}]
["•  គម្រោងវិនិយោគ",{"$f":"SUM(B212:B213)","v":0},null,null,{"$f":"SUM(E212:E213)","v":0},null,null,{"$f":"SUM(H212:H213)","v":0},null,null,{"$f":"SUM(K212:K213)","v":0}]
["- មានហិរញ្ញប្បទាន"]
["- មិនទាន់មានហិរញ្ញប្បទាន"]
["•  ជំនួយបច្ចេកទេស",{"$f":"SUM(B215:B216)","v":0},null,null,{"$f":"SUM(E215:E216)","v":0},null,null,{"$f":"SUM(H215:H216)","v":0},null,null,{"$f":"SUM(K215:K216)","v":0}]
["- មានហិរញ្ញប្បទាន"]
["- មិនទាន់មានហិរញ្ញប្បទាន"]
[{"$f":"ព័ត៌មានអង្គភាព!C21","v":"៣.៥.០១.៤៖ ការអភិវឌ្ឍកីឡាកម្រិតខ្ពស់"},{"$f":"SUM(B218,B221)","v":0},null,null,{"$f":"SUM(E218,E221)","v":0},null,null,{"$f":"SUM(H218,H221)","v":0},null,null,{"$f":"SUM(K218,K221)","v":0}]
["□ សរុបចំណាយចរន្ដ",{"$f":"SUM(B219:B220)","v":0},null,null,{"$f":"SUM(E219:E220)","v":0},null,null,{"$f":"SUM(H219:H220)","v":0},null,null,{"$f":"SUM(K219:K220)","v":0}]
["•  បន្ទុកបុគ្គលិក",{"$f":"INDEX(staff_exp2018,MATCH(A217,activities,0))","v":0},null,null,{"$f":"INDEX(staff_exp2019,MATCH(A217,activities,0))","v":0},null,null,{"$f":"INDEX(staff_exp2020,MATCH(A217,activities,0))","v":0},null,null,{"$f":"INDEX(staff_exp2021,MATCH(A217,activities,0))","v":0}]
["•  ក្រៅបន្ទុកបុគ្គលិក",{"$f":"INDEX(non_staffexp2018,MATCH(A217,activities,0))","v":0},null,null,{"$f":"INDEX(non_staffexp2019,MATCH(A217,activities,0))","v":0},null,null,{"$f":"INDEX(non_staffexp2020,MATCH(A217,activities,0))","v":0},null,null,{"$f":"INDEX(non_staffexp2021,MATCH(A217,activities,0))","v":0}]
["□ សរុបចំណាយមូលធន",{"$f":"SUM(B222,B225)","v":0},null,null,{"$f":"SUM(E222,E225)","v":0},null,null,{"$f":"SUM(H222,H225)","v":0},null,null,{"$f":"SUM(K222,K225)","v":0}]
["•  គម្រោងវិនិយោគ",{"$f":"SUM(B223:B224)","v":0},null,null,{"$f":"SUM(E223:E224)","v":0},null,null,{"$f":"SUM(H223:H224)","v":0},null,null,{"$f":"SUM(K223:K224)","v":0}]
["- មានហិរញ្ញប្បទាន"]
["- មិនទាន់មានហិរញ្ញប្បទាន"]
["•  ជំនួយបច្ចេកទេស",{"$f":"SUM(B226:B227)","v":0},null,null,{"$f":"SUM(E226:E227)","v":0},null,null,{"$f":"SUM(H226:H227)","v":0},null,null,{"$f":"SUM(K226:K227)","v":0}]
["- មានហិរញ្ញប្បទាន"]
["- មិនទាន់មានហិរញ្ញប្បទាន"]
[{"$f":"ព័ត៌មានអង្គភាព!C22","v":"កម្មវិធីទី៤៖ យុវជនម្នាក់មានជំនាញមួយយ៉ាងតិចប្រចាំជីវិត"},{"$f":"SUM(B229,B232)","v":0},null,null,{"$f":"SUM(E229,E232)","v":0},null,null,0,null,null,0]
["□ សរុបចំណាយចរន្ដ",{"$f":"SUM(B230:B231)","v":0},null,null,{"$f":"SUM(E230:E231)","v":0},null,null,{"$f":"SUM(H230:H231)","v":0},null,null,{"$f":"SUM(K230:K231)","v":0}]
["•  បន្ទុកបុគ្គលិក",{"$f":"B241","v":0},null,null,{"$f":"E241","v":0},null,null,{"$f":"H241","v":0},null,null,{"$f":"K241","v":0}]
["•  ក្រៅបន្ទុកបុគ្គលិក",{"$f":"B242","v":0},null,null,{"$f":"E242","v":0},null,null,{"$f":"H242","v":0},null,null,{"$f":"K242","v":0}]
["□ សរុបចំណាយមូលធន",{"$f":"SUM(B233,B236)","v":0},null,null,{"$f":"SUM(E233,E236)","v":0},null,null,{"$f":"SUM(H233,H236)","v":0},null,null,{"$f":"SUM(K233,K236)","v":0}]
["•  គម្រោងវិនិយោគ",{"$f":"SUM(B234:B235)","v":0},null,null,{"$f":"SUM(E234:E235)","v":0},null,null,{"$f":"SUM(H234:H235)","v":0},null,null,{"$f":"SUM(K234:K235)","v":0}]
["- មានហិរញ្ញប្បទាន",{"$f":"B245","v":0},null,null,{"$f":"E245","v":0},null,null,{"$f":"H245","v":0},null,null,{"$f":"K245","v":0}]
["- មិនទាន់មានហិរញ្ញប្បទាន",0,null,null,{"$f":"E246","v":0},null,null,{"$f":"H246","v":0},null,null,{"$f":"K246","v":0}]
["•  ជំនួយបច្ចេកទេស",{"$f":"SUM(B237:B238)","v":0},null,null,{"$f":"SUM(E237:E238)","v":0},null,null,{"$f":"SUM(H237:H238)","v":0},null,null,{"$f":"SUM(K237:K238)","v":0}]
["- មានហិរញ្ញប្បទាន",{"$f":"B248","v":0},null,null,{"$f":"E248","v":0},null,null,{"$f":"H248","v":0},null,null,{"$f":"K248","v":0}]
["- មិនទាន់មានហិរញ្ញប្បទាន",0,null,null,{"$f":"E249","v":0},null,null,{"$f":"H249","v":0},null,null,{"$f":"K249","v":0}]
[{"$f":"ព័ត៌មានអង្គភាព!C23","v":"អនុកម្មវិធីទី ៤.៤៖ សេវាគាំទ្រអភិវឌ្ឍយុវជនម្នាក់មានជំនាញមួយយ៉ាងតិចប្រចាំជីវិតរបស់\nមន្ទីរជំនាញរាជធានី ខេត្ត"},{"$f":"SUM(B240,B243)","v":0},null,null,{"$f":"SUM(E240,E243)","v":0},null,null,{"$f":"SUM(H240,H243)","v":0},null,null,{"$f":"SUM(K240,K243)","v":0}]
["□ សរុបចំណាយចរន្ដ",{"$f":"SUM(B241:B242)","v":0},null,null,{"$f":"SUM(E241:E242)","v":0},null,null,{"$f":"SUM(H241:H242)","v":0},null,null,{"$f":"SUM(K241:K242)","v":0}]
["•  បន្ទុកបុគ្គលិក",{"$f":"B252","v":0},null,null,{"$f":"E252","v":0},null,null,{"$f":"H252","v":0},null,null,{"$f":"K252","v":0}]
["•  ក្រៅបន្ទុកបុគ្គលិក",{"$f":"B253","v":0},null,null,{"$f":"E253","v":0},null,null,{"$f":"H253","v":0},null,null,{"$f":"K253","v":0}]
["□ សរុបចំណាយមូលធន",{"$f":"SUM(B244,B247)","v":0},null,null,{"$f":"SUM(E244,E247)","v":0},null,null,{"$f":"SUM(H244,H247)","v":0},null,null,{"$f":"SUM(K244,K247)","v":0}]
["•  គម្រោងវិនិយោគ",{"$f":"SUM(B245:B246)","v":0},null,null,{"$f":"SUM(E245:E246)","v":0},null,null,{"$f":"SUM(H245:H246)","v":0},null,null,{"$f":"SUM(K245:K246)","v":0}]
["- មានហិរញ្ញប្បទាន",{"$f":"B256","v":0},null,null,{"$f":"E256","v":0},null,null,{"$f":"H256","v":0},null,null,{"$f":"K256","v":0}]
["- មិនទាន់មានហិរញ្ញប្បទាន",0,null,null,{"$f":"E257","v":0},null,null,{"$f":"H257","v":0},null,null,{"$f":"K257","v":0}]
["•  ជំនួយបច្ចេកទេស",{"$f":"SUM(B248:B249)","v":0},null,null,{"$f":"SUM(E248:E249)","v":0},null,null,{"$f":"SUM(H248:H249)","v":0},null,null,{"$f":"SUM(K248:K249)","v":0}]
["- មានហិរញ្ញប្បទាន",{"$f":"B259","v":0},null,null,{"$f":"E259","v":0},null,null,{"$f":"H259","v":0},null,null,{"$f":"K259","v":0}]
["- មិនទាន់មានហិរញ្ញប្បទាន",0,null,null,{"$f":"E260","v":0},null,null,{"$f":"H260","v":0},null,null,{"$f":"K260","v":0}]
[{"$f":"ព័ត៌មានអង្គភាព!C24","v":"ចង្កោមសកម្មភាពទី ០១៖ខេត្តបន្ទាយមានជ័យ"},{"$f":"SUM(B251,B254)","v":0},null,null,{"$f":"SUM(E251,E254)","v":0},null,null,{"$f":"SUM(H251,H254)","v":0},null,null,{"$f":"SUM(K251,K254)","v":0}]
["□ សរុបចំណាយចរន្ដ",{"$f":"SUM(B252:B253)","v":0},null,null,{"$f":"SUM(E252:E253)","v":0},null,null,{"$f":"SUM(H252:H253)","v":0},null,null,{"$f":"SUM(K252:K253)","v":0}]
["•  បន្ទុកបុគ្គលិក",{"$f":"SUM(B263,B274,B285)","v":0},null,null,{"$f":"SUM(E263,E274,E285)","v":0},null,null,{"$f":"SUM(H263,H274,H285)","v":0},null,null,{"$f":"SUM(K263,K274,K285)","v":0}]
["•  ក្រៅបន្ទុកបុគ្គលិក",{"$f":"SUM(B264,B275,B286)","v":0},null,null,0,null,null,0,null,null,0]
["□ សរុបចំណាយមូលធន",{"$f":"SUM(B255,B258)","v":0},null,null,{"$f":"SUM(E255,E258)","v":0},null,null,{"$f":"SUM(H255,H258)","v":0},null,null,{"$f":"SUM(K255,K258)","v":0}]
["•  គម្រោងវិនិយោគ",{"$f":"SUM(B256:B257)","v":0},null,null,{"$f":"SUM(E256:E257)","v":0},null,null,{"$f":"SUM(H256:H257)","v":0},null,null,{"$f":"SUM(K256:K257)","v":0}]
["- មានហិរញ្ញប្បទាន",{"$f":"SUM(B267,B278,B289)","v":0},null,null,{"$f":"SUM(E267,E278,E289)","v":0},null,null,{"$f":"SUM(H267,H278,H289)","v":0},null,null,{"$f":"SUM(K267,K278,K289)","v":0}]
["- មិនទាន់មានហិរញ្ញប្បទាន",0,null,null,{"$f":"SUM(E268,E279,E290)","v":0},null,null,{"$f":"SUM(H268,H279,H290)","v":0},null,null,{"$f":"SUM(K268,K279,K290)","v":0}]
["•  ជំនួយបច្ចេកទេស",{"$f":"SUM(B259:B260)","v":0},null,null,{"$f":"SUM(E259:E260)","v":0},null,null,{"$f":"SUM(H259:H260)","v":0},null,null,{"$f":"SUM(K259:K260)","v":0}]
["- មានហិរញ្ញប្បទាន",{"$f":"SUM(B270,B281,B292)","v":0},null,null,{"$f":"SUM(E270,E281,E292)","v":0},null,null,{"$f":"SUM(H270,H281,H292)","v":0},null,null,{"$f":"SUM(K270,K281,K292)","v":0}]
["- មិនទាន់មានហិរញ្ញប្បទាន",0,null,null,{"$f":"SUM(E271,E282,E293)","v":0},null,null,{"$f":"SUM(H271,H282,H293)","v":0},null,null,{"$f":"SUM(K271,K282,K293)","v":0}]
[{"$f":"ព័ត៌មានអង្គភាព!C25","v":"៤.៤.០១.១៖ ការអភិវឌ្ឍសកម្មភាពយុវជន"},{"$f":"SUM(B262,B265)","v":0},null,null,{"$f":"SUM(E262,E265)","v":0},null,null,{"$f":"SUM(H262,H265)","v":0},null,null,{"$f":"SUM(K262,K265)","v":0}]
["□ សរុបចំណាយចរន្ដ",{"$f":"SUM(B263:B264)","v":0},null,null,{"$f":"SUM(E263:E264)","v":0},null,null,0,null,null,0]
["•  បន្ទុកបុគ្គលិក",{"$f":"INDEX(staff_exp2018,MATCH(A261,activities,0))","v":0},null,null,{"$f":"INDEX(staff_exp2019,MATCH(A261,activities,0))","v":0},null,null,{"$f":"INDEX(staff_exp2020,MATCH(A261,activities,0))","v":0},null,null,{"$f":"INDEX(staff_exp2021,MATCH(A261,activities,0))","v":0}]
["•  ក្រៅបន្ទុកបុគ្គលិក",{"$f":"INDEX(non_staffexp2018,MATCH(A261,activities,0))","v":0},null,null,{"$f":"INDEX(non_staffexp2019,MATCH(A261,activities,0))","v":0},null,null,{"$f":"INDEX(non_staffexp2020,MATCH(A261,activities,0))","v":0},null,null,{"$f":"INDEX(non_staffexp2021,MATCH(A261,activities,0))","v":0}]
["□ សរុបចំណាយមូលធន",{"$f":"SUM(B266,B269)","v":0},null,null,{"$f":"SUM(E266,E269)","v":0},null,null,0,null,null,0]
["•  គម្រោងវិនិយោគ",{"$f":"SUM(B267:B268)","v":0},null,null,{"$f":"SUM(E267:E268)","v":0},null,null,0,null,null,0]
["- មានហិរញ្ញប្បទាន"]
["- មិនទាន់មានហិរញ្ញប្បទាន"]
["•  ជំនួយបច្ចេកទេស",{"$f":"SUM(B270:B271)","v":0},null,null,{"$f":"SUM(E270:E271)","v":0},null,null,0,null,null,0]
["- មានហិរញ្ញប្បទាន"]
["- មិនទាន់មានហិរញ្ញប្បទាន"]
[{"$f":"ព័ត៌មានអង្គភាព!C26","v":"៤.៤.០១.២៖ ការអភិវឌ្ឍមជ្ឈមណ្ឌលយុវជន"},{"$f":"SUM(B273,B276)","v":0},null,null,{"$f":"SUM(E273,E276)","v":0},null,null,{"$f":"SUM(H273,H276)","v":0},null,null,{"$f":"SUM(K273,K276)","v":0}]
["□ សរុបចំណាយចរន្ដ",{"$f":"SUM(B274:B275)","v":0},null,null,{"$f":"SUM(E274:E275)","v":0},null,null,0,null,null,0]
["•  បន្ទុកបុគ្គលិក",{"$f":"INDEX(staff_exp2018,MATCH(A272,activities,0))","v":0},null,null,{"$f":"INDEX(staff_exp2019,MATCH(A272,activities,0))","v":0},null,null,{"$f":"INDEX(staff_exp2020,MATCH(A272,activities,0))","v":0},null,null,{"$f":"INDEX(staff_exp2021,MATCH(A272,activities,0))","v":0}]
["•  ក្រៅបន្ទុកបុគ្គលិក",{"$f":"INDEX(non_staffexp2018,MATCH(A272,activities,0))","v":0},null,null,{"$f":"INDEX(non_staffexp2019,MATCH(A272,activities,0))","v":0},null,null,{"$f":"INDEX(non_staffexp2020,MATCH(A272,activities,0))","v":0},null,null,{"$f":"INDEX(non_staffexp2021,MATCH(A272,activities,0))","v":0}]
["□ សរុបចំណាយមូលធន",{"$f":"SUM(B277,B280)","v":0},null,null,{"$f":"SUM(E277,E280)","v":0},null,null,0,null,null,0]
["•  គម្រោងវិនិយោគ",{"$f":"SUM(B278:B279)","v":0},null,null,{"$f":"SUM(E278:E279)","v":0},null,null,0,null,null,0]
["- មានហិរញ្ញប្បទាន"]
["- មិនទាន់មានហិរញ្ញប្បទាន"]
["•  ជំនួយបច្ចេកទេស",{"$f":"SUM(B281:B282)","v":0},null,null,{"$f":"SUM(E281:E282)","v":0},null,null,0,null,null,0]
["- មានហិរញ្ញប្បទាន"]
["- មិនទាន់មានហិរញ្ញប្បទាន"]
[{"$f":"ព័ត៌មានអង្គភាព!C27","v":"៤.៤.០១.៣៖ ការពង្រឹងសកម្មភាពកាយរិទ្ធ"},{"$f":"SUM(B284,B287)","v":0},null,null,{"$f":"SUM(E284,E287)","v":0},null,null,{"$f":"SUM(H284,H287)","v":0},null,null,{"$f":"SUM(K284,K287)","v":0}]
["□ សរុបចំណាយចរន្ដ",{"$f":"SUM(B285:B286)","v":0},null,null,{"$f":"SUM(E285:E286)","v":0},null,null,0,null,null,0]
["•  បន្ទុកបុគ្គលិក",{"$f":"INDEX(staff_exp2018,MATCH(A283,activities,0))","v":0},null,null,{"$f":"INDEX(staff_exp2019,MATCH(A283,activities,0))","v":0},null,null,{"$f":"INDEX(staff_exp2020,MATCH(A283,activities,0))","v":0},null,null,{"$f":"INDEX(staff_exp2021,MATCH(A283,activities,0))","v":0}]
["•  ក្រៅបន្ទុកបុគ្គលិក",{"$f":"INDEX(non_staffexp2018,MATCH(A283,activities,0))","v":0},null,null,{"$f":"INDEX(non_staffexp2019,MATCH(A283,activities,0))","v":0},null,null,{"$f":"INDEX(non_staffexp2020,MATCH(A283,activities,0))","v":0},null,null,{"$f":"INDEX(non_staffexp2021,MATCH(A283,activities,0))","v":0}]
["□ សរុបចំណាយមូលធន",{"$f":"SUM(B288,B291)","v":0},null,null,{"$f":"SUM(E288,E291)","v":0},null,null,0,null,null,0]
["•  គម្រោងវិនិយោគ",{"$f":"SUM(B289:B290)","v":0},null,null,{"$f":"SUM(E289:E290)","v":0},null,null,0,null,null,0]
["- មានហិរញ្ញប្បទាន"]
["- មិនទាន់មានហិរញ្ញប្បទាន"]
["•  ជំនួយបច្ចេកទេស",{"$f":"SUM(B292:B293)","v":0},null,null,{"$f":"SUM(E292:E293)","v":0},null,null,0,null,null,0]
["- មានហិរញ្ញប្បទាន"]
["- មិនទាន់មានហិរញ្ញប្បទាន"]
[{"$f":"ព័ត៌មានអង្គភាព!C28","v":"កម្មវិធីទី៥៖ ការគាំទ្រសេវាអប់រំ និងអភិបាលកិច្ចល្អ"},{"$f":"SUM(B295,B298)","v":0},null,null,{"$f":"SUM(E295,E298)","v":0},null,null,0,null,null,0]
["□ សរុបចំណាយចរន្ដ",{"$f":"SUM(B296:B297)","v":0},null,null,{"$f":"SUM(E296:E297)","v":0},null,null,{"$f":"SUM(H296:H297)","v":0},null,null,{"$f":"SUM(K296:K297)","v":0}]
["•  បន្ទុកបុគ្គលិក",{"$f":"B307","v":0},null,null,{"$f":"E307","v":0},null,null,{"$f":"H307","v":0},null,null,{"$f":"K307","v":0}]
["•  ក្រៅបន្ទុកបុគ្គលិក",{"$f":"B308","v":0},null,null,{"$f":"E308","v":0},null,null,{"$f":"H308","v":0},null,null,{"$f":"K308","v":0}]
["□ សរុបចំណាយមូលធន",{"$f":"SUM(B299,B302)","v":0},null,null,{"$f":"SUM(E299,E302)","v":0},null,null,{"$f":"SUM(H299,H302)","v":0},null,null,{"$f":"SUM(K299,K302)","v":0}]
["•  គម្រោងវិនិយោគ",{"$f":"SUM(B300:B301)","v":0},null,null,{"$f":"SUM(E300:E301)","v":0},null,null,{"$f":"SUM(H300:H301)","v":0},null,null,{"$f":"SUM(K300:K301)","v":0}]
["- មានហិរញ្ញប្បទាន",{"$f":"B311","v":0},null,null,{"$f":"E311","v":0},null,null,{"$f":"H311","v":0},null,null,{"$f":"K311","v":0}]
["- មិនទាន់មានហិរញ្ញប្បទាន",0,null,null,{"$f":"E312","v":0},null,null,{"$f":"H312","v":0},null,null,{"$f":"K312","v":0}]
["•  ជំនួយបច្ចេកទេស",{"$f":"SUM(B303:B304)","v":0},null,null,{"$f":"SUM(E303:E304)","v":0},null,null,{"$f":"SUM(H303:H304)","v":0},null,null,{"$f":"SUM(K303:K304)","v":0}]
["- មានហិរញ្ញប្បទាន",{"$f":"B314","v":0},null,null,{"$f":"E314","v":0},null,null,{"$f":"H314","v":0},null,null,{"$f":"K314","v":0}]
["- មិនទាន់មានហិរញ្ញប្បទាន",0,null,null,{"$f":"E315","v":0},null,null,{"$f":"H315","v":0},null,null,{"$f":"K315","v":0}]
[{"$f":"ព័ត៌មានអង្គភាព!C29","v":"អនុកម្មវិធីទី ៥.១៨៖ សេវាគាំទ្រសេវាអប់រំ និងអភិបាលកិច្ចល្អ របស់មន្ទីរជំនាញរាជធានី ខេត្ត"},{"$f":"SUM(B306,B309)","v":0},null,null,{"$f":"SUM(E306,E309)","v":0},null,null,{"$f":"SUM(H306,H309)","v":0},null,null,{"$f":"SUM(K306,K309)","v":0}]
["□ សរុបចំណាយចរន្ដ",{"$f":"SUM(B307:B308)","v":0},null,null,{"$f":"SUM(E307:E308)","v":0},null,null,{"$f":"SUM(H307:H308)","v":0},null,null,{"$f":"SUM(K307:K308)","v":0}]
["•  បន្ទុកបុគ្គលិក",{"$f":"B318","v":0},null,null,{"$f":"E318","v":0},null,null,{"$f":"H318","v":0},null,null,{"$f":"K318","v":0}]
["•  ក្រៅបន្ទុកបុគ្គលិក",{"$f":"B319","v":0},null,null,{"$f":"E319","v":0},null,null,{"$f":"H319","v":0},null,null,{"$f":"K319","v":0}]
["□ សរុបចំណាយមូលធន",{"$f":"SUM(B310,B313)","v":0},null,null,{"$f":"SUM(E310,E313)","v":0},null,null,{"$f":"SUM(H310,H313)","v":0},null,null,{"$f":"SUM(K310,K313)","v":0}]
["•  គម្រោងវិនិយោគ",{"$f":"SUM(B311:B312)","v":0},null,null,{"$f":"SUM(E311:E312)","v":0},null,null,{"$f":"SUM(H311:H312)","v":0},null,null,{"$f":"SUM(K311:K312)","v":0}]
["- មានហិរញ្ញប្បទាន",{"$f":"B322","v":0},null,null,{"$f":"E322","v":0},null,null,{"$f":"H322","v":0},null,null,{"$f":"K322","v":0}]
["- មិនទាន់មានហិរញ្ញប្បទាន",0,null,null,{"$f":"E323","v":0},null,null,{"$f":"H323","v":0},null,null,{"$f":"K323","v":0}]
["•  ជំនួយបច្ចេកទេស",{"$f":"SUM(B314:B315)","v":0},null,null,{"$f":"SUM(E314:E315)","v":0},null,null,{"$f":"SUM(H314:H315)","v":0},null,null,{"$f":"SUM(K314:K315)","v":0}]
["- មានហិរញ្ញប្បទាន",{"$f":"B325","v":0},null,null,{"$f":"E325","v":0},null,null,{"$f":"H325","v":0},null,null,{"$f":"K325","v":0}]
["- មិនទាន់មានហិរញ្ញប្បទាន",0,null,null,{"$f":"E326","v":0},null,null,{"$f":"H326","v":0},null,null,{"$f":"K326","v":0}]
[{"$f":"ព័ត៌មានអង្គភាព!C30","v":"ចង្កោមសកម្មភាពទី ០១៖ខេត្តបន្ទាយមានជ័យ"},{"$f":"SUM(B317,B320)","v":0},null,null,{"$f":"SUM(E317,E320)","v":0},null,null,{"$f":"SUM(H317,H320)","v":0},null,null,{"$f":"SUM(K317,K320)","v":0}]
["□ សរុបចំណាយចរន្ដ",{"$f":"SUM(B318:B319)","v":0},null,null,{"$f":"SUM(E318:E319)","v":0},null,null,{"$f":"SUM(H318:H319)","v":0},null,null,{"$f":"SUM(K318:K319)","v":0}]
["•  បន្ទុកបុគ្គលិក",{"$f":"SUM(B329,B340,B351,B362,B373,B384,B395,B406,B417,B428,B439,B450,B461,B472,B483,B494,B505)","v":0},null,null,{"$f":"SUM(E329,E340,E351,E362,E373,E384,E395,E406,E417,E428,E439,E450,E461,E472,E483,E494,E505)","v":0},null,null,{"$f":"SUM(H329,H340,H351,H362,H373,H384,H395,H406,H417,H428,H439,H450,H461,H472,H483,H494,H505)","v":0},null,null,{"$f":"SUM(K329,K340,K351,K362,K373,K384,K395,K406,K417,K428,K439,K450,K461,K472,K483,K494,K505)","v":0}]
["•  ក្រៅបន្ទុកបុគ្គលិក",{"$f":"SUM(B330,B341,B352,B363,B374,B385,B396,B407,B418,B429,B440,B451,B462,B473,B484,B495,B506)","v":0},null,null,0,null,null,0,null,null,0]
["□ សរុបចំណាយមូលធន",{"$f":"SUM(B321,B324)","v":0},null,null,{"$f":"SUM(E321,E324)","v":0},null,null,{"$f":"SUM(H321,H324)","v":0},null,null,{"$f":"SUM(K321,K324)","v":0}]
["•  គម្រោងវិនិយោគ",{"$f":"SUM(B322:B323)","v":0},null,null,{"$f":"SUM(E322:E323)","v":0},null,null,{"$f":"SUM(H322:H323)","v":0},null,null,{"$f":"SUM(K322:K323)","v":0}]
["- មានហិរញ្ញប្បទាន",{"$f":"SUM(B333,B344,B355,B366,B377,B388,B399,B410,B421,B432,B443,B454,B465,B476,B487,B498,B509)","v":0},null,null,{"$f":"SUM(E333,E344,E355,E366,E377,E388,E399,E410,E421,E432,E443,E454,E465,E476,E487,E498,E509)","v":0},null,null,{"$f":"SUM(H333,H344,H355,H366,H377,H388,H399,H410,H421,H432,H443,H454,H465,H476,H487,H498,H509)","v":0},null,null,{"$f":"SUM(K333,K344,K355,K366,K377,K388,K399,K410,K421,K432,K443,K454,K465,K476,K487,K498,K509)","v":0}]
["- មិនទាន់មានហិរញ្ញប្បទាន",0,null,null,{"$f":"SUM(E334,E345,E356,E367,E378,E389,E400,E411,E422,E433,E444,E455,E466,E477,E488,E499,E510)","v":0},null,null,{"$f":"SUM(H334,H345,H356,H367,H378,H389,H400,H411,H422,H433,H444,H455,H466,H477,H488,H499,H510)","v":0},null,null,{"$f":"SUM(K334,K345,K356,K367,K378,K389,K400,K411,K422,K433,K444,K455,K466,K477,K488,K499,K510)","v":0}]
["•  ជំនួយបច្ចេកទេស",{"$f":"SUM(B325:B326)","v":0},null,null,{"$f":"SUM(E325:E326)","v":0},null,null,{"$f":"SUM(H325:H326)","v":0},null,null,{"$f":"SUM(K325:K326)","v":0}]
["- មានហិរញ្ញប្បទាន",{"$f":"SUM(B336,B347,B358,B369,B380,B391,B402,B413,B424,B435,B446,B457,B468,B479,B490,B501,B512)","v":0},null,null,{"$f":"SUM(E336,E347,E358,E369,E380,E391,E402,E413,E424,E435,E446,E457,E468,E479,E490,E501,E512)","v":0},null,null,{"$f":"SUM(H336,H347,H358,H369,H380,H391,H402,H413,H424,H435,H446,H457,H468,H479,H490,H501,H512)","v":0},null,null,{"$f":"SUM(K336,K347,K358,K369,K380,K391,K402,K413,K424,K435,K446,K457,K468,K479,K490,K501,K512)","v":0}]
["- មិនទាន់មានហិរញ្ញប្បទាន",0,null,null,{"$f":"SUM(E337,E348,E359,E370,E381,E392,E403,E414,E425,E436,E447,E458,E469,E480,E491,E502,E513)","v":0},null,null,{"$f":"SUM(H337,H348,H359,H370,H381,H392,H403,H414,H425,H436,H447,H458,H469,H480,H491,H502,H513)","v":0},null,null,{"$f":"SUM(K337,K348,K359,K370,K381,K392,K403,K414,K425,K436,K447,K458,K469,K480,K491,K502,K513)","v":0}]
[{"$f":"ព័ត៌មានអង្គភាព!C31","v":"៥.១៨.០១.១៖ ការអភិវឌ្ឍ និងពង្រឹងប្រព័ន្ធផែនការអប់រំ"},{"$f":"SUM(B328,B331)","v":0},null,null,{"$f":"SUM(E328,E331)","v":0},null,null,{"$f":"SUM(H328,H331)","v":0},null,null,{"$f":"SUM(K328,K331)","v":0}]
["□ សរុបចំណាយចរន្ដ",{"$f":"SUM(B329:B330)","v":0},null,null,{"$f":"SUM(E329:E330)","v":0},null,null,0,null,null,0]
["•  បន្ទុកបុគ្គលិក",{"$f":"INDEX(staff_exp2018,MATCH(A327,activities,0))","v":0},null,null,{"$f":"INDEX(staff_exp2019,MATCH(A327,activities,0))","v":0},null,null,{"$f":"INDEX(staff_exp2020,MATCH(A327,activities,0))","v":0},null,null,{"$f":"INDEX(staff_exp2021,MATCH(A327,activities,0))","v":0}]
["•  ក្រៅបន្ទុកបុគ្គលិក",{"$f":"INDEX(non_staffexp2018,MATCH(A327,activities,0))","v":0},null,null,{"$f":"INDEX(non_staffexp2019,MATCH(A327,activities,0))","v":0},null,null,{"$f":"INDEX(non_staffexp2020,MATCH(A327,activities,0))","v":0},null,null,{"$f":"INDEX(non_staffexp2021,MATCH(A327,activities,0))","v":0}]
["□ សរុបចំណាយមូលធន",{"$f":"SUM(B332,B335)","v":0},null,null,{"$f":"SUM(E332,E335)","v":0},null,null,0,null,null,0]
["•  គម្រោងវិនិយោគ",{"$f":"SUM(B333:B334)","v":0},null,null,{"$f":"SUM(E333:E334)","v":0},null,null,0,null,null,0]
["- មានហិរញ្ញប្បទាន"]
["- មិនទាន់មានហិរញ្ញប្បទាន"]
["•  ជំនួយបច្ចេកទេស",{"$f":"SUM(B336:B337)","v":0},null,null,{"$f":"SUM(E336:E337)","v":0},null,null,0,null,null,0]
["- មានហិរញ្ញប្បទាន"]
["- មិនទាន់មានហិរញ្ញប្បទាន"]
[{"$f":"ព័ត៌មានអង្គភាព!C32","v":"៥.១៨.០១.២៖ ការគ្រប់គ្រង និងពង្រឹងប្រសិទ្ធភាពធនធានមនុស្ស"},{"$f":"SUM(B339,B342)","v":0},null,null,{"$f":"SUM(E339,E342)","v":0},null,null,{"$f":"SUM(H339,H342)","v":0},null,null,{"$f":"SUM(K339,K342)","v":0}]
["□ សរុបចំណាយចរន្ដ",{"$f":"SUM(B340:B341)","v":0},null,null,{"$f":"SUM(E340:E341)","v":0},null,null,0,null,null,0]
["•  បន្ទុកបុគ្គលិក",{"$f":"INDEX(staff_exp2018,MATCH(A338,activities,0))","v":0},null,null,{"$f":"INDEX(staff_exp2019,MATCH(A338,activities,0))","v":0},null,null,{"$f":"INDEX(staff_exp2020,MATCH(A338,activities,0))","v":0},null,null,{"$f":"INDEX(staff_exp2021,MATCH(A338,activities,0))","v":0}]
["•  ក្រៅបន្ទុកបុគ្គលិក",{"$f":"INDEX(non_staffexp2018,MATCH(A338,activities,0))","v":0},null,null,{"$f":"INDEX(non_staffexp2019,MATCH(A338,activities,0))","v":0},null,null,{"$f":"INDEX(non_staffexp2020,MATCH(A338,activities,0))","v":0},null,null,{"$f":"INDEX(non_staffexp2021,MATCH(A338,activities,0))","v":0}]
["□ សរុបចំណាយមូលធន",{"$f":"SUM(B343,B346)","v":0},null,null,{"$f":"SUM(E343,E346)","v":0},null,null,0,null,null,0]
["•  គម្រោងវិនិយោគ",{"$f":"SUM(B344:B345)","v":0},null,null,{"$f":"SUM(E344:E345)","v":0},null,null,0,null,null,0]
["- មានហិរញ្ញប្បទាន"]
["- មិនទាន់មានហិរញ្ញប្បទាន"]
["•  ជំនួយបច្ចេកទេស",{"$f":"SUM(B347:B348)","v":0},null,null,{"$f":"SUM(E347:E348)","v":0},null,null,0,null,null,0]
["- មានហិរញ្ញប្បទាន"]
["- មិនទាន់មានហិរញ្ញប្បទាន"]
[{"$f":"ព័ត៌មានអង្គភាព!C33","v":"៥.១៨.០១.៣៖ ការអភិវឌ្ឍសមត្ថភាព ការងារគ្រប់គ្រង ផែនការហិរញ្ញវត្ថុ និងមូលដ្ឋានសម្ភារៈ"},{"$f":"SUM(B350,B353)","v":0},null,null,{"$f":"SUM(E350,E353)","v":0},null,null,{"$f":"SUM(H350,H353)","v":0},null,null,{"$f":"SUM(K350,K353)","v":0}]
["□ សរុបចំណាយចរន្ដ",{"$f":"SUM(B351:B352)","v":0},null,null,{"$f":"SUM(E351:E352)","v":0},null,null,0,null,null,0]
["•  បន្ទុកបុគ្គលិក",{"$f":"INDEX(staff_exp2018,MATCH(A349,activities,0))","v":0},null,null,{"$f":"INDEX(staff_exp2019,MATCH(A349,activities,0))","v":0},null,null,{"$f":"INDEX(staff_exp2020,MATCH(A349,activities,0))","v":0},null,null,{"$f":"INDEX(staff_exp2021,MATCH(A349,activities,0))","v":0}]
["•  ក្រៅបន្ទុកបុគ្គលិក",{"$f":"INDEX(non_staffexp2018,MATCH(A349,activities,0))","v":0},null,null,{"$f":"INDEX(non_staffexp2019,MATCH(A349,activities,0))","v":0},null,null,{"$f":"INDEX(non_staffexp2020,MATCH(A349,activities,0))","v":0},null,null,{"$f":"INDEX(non_staffexp2021,MATCH(A349,activities,0))","v":0}]
["□ សរុបចំណាយមូលធន",{"$f":"SUM(B354,B357)","v":0},null,null,{"$f":"SUM(E354,E357)","v":0},null,null,0,null,null,0]
["•  គម្រោងវិនិយោគ",{"$f":"SUM(B355:B356)","v":0},null,null,{"$f":"SUM(E355:E356)","v":0},null,null,0,null,null,0]
["- មានហិរញ្ញប្បទាន"]
["- មិនទាន់មានហិរញ្ញប្បទាន"]
["•  ជំនួយបច្ចេកទេស",{"$f":"SUM(B358:B359)","v":0},null,null,{"$f":"SUM(E358:E359)","v":0},null,null,0,null,null,0]
["- មានហិរញ្ញប្បទាន"]
["- មិនទាន់មានហិរញ្ញប្បទាន"]
[{"$f":"ព័ត៌មានអង្គភាព!C34","v":"៥.១៨.០១.៤៖ ការពង្រឹងការងារសវនកម្មផ្ទៃក្នុង"},{"$f":"SUM(B361,B364)","v":0},null,null,{"$f":"SUM(E361,E364)","v":0},null,null,{"$f":"SUM(H361,H364)","v":0},null,null,{"$f":"SUM(K361,K364)","v":0}]
["□ សរុបចំណាយចរន្ដ",{"$f":"SUM(B362:B363)","v":0},null,null,{"$f":"SUM(E362:E363)","v":0},null,null,0,null,null,0]
["•  បន្ទុកបុគ្គលិក",{"$f":"INDEX(staff_exp2018,MATCH(A360,activities,0))","v":0},null,null,{"$f":"INDEX(staff_exp2019,MATCH(A360,activities,0))","v":0},null,null,{"$f":"INDEX(staff_exp2020,MATCH(A360,activities,0))","v":0},null,null,{"$f":"INDEX(staff_exp2021,MATCH(A360,activities,0))","v":0}]
["•  ក្រៅបន្ទុកបុគ្គលិក",{"$f":"INDEX(non_staffexp2018,MATCH(A360,activities,0))","v":0},null,null,{"$f":"INDEX(non_staffexp2019,MATCH(A360,activities,0))","v":0},null,null,{"$f":"INDEX(non_staffexp2020,MATCH(A360,activities,0))","v":0},null,null,{"$f":"INDEX(non_staffexp2021,MATCH(A360,activities,0))","v":0}]
["□ សរុបចំណាយមូលធន",{"$f":"SUM(B365,B368)","v":0},null,null,{"$f":"SUM(E365,E368)","v":0},null,null,0,null,null,0]
["•  គម្រោងវិនិយោគ",{"$f":"SUM(B366:B367)","v":0},null,null,{"$f":"SUM(E366:E367)","v":0},null,null,0,null,null,0]
["- មានហិរញ្ញប្បទាន"]
["- មិនទាន់មានហិរញ្ញប្បទាន"]
["•  ជំនួយបច្ចេកទេស",{"$f":"SUM(B369:B370)","v":0},null,null,{"$f":"SUM(E369:E370)","v":0},null,null,0,null,null,0]
["- មានហិរញ្ញប្បទាន"]
["- មិនទាន់មានហិរញ្ញប្បទាន"]
[{"$f":"ព័ត៌មានអង្គភាព!C35","v":"៥.១៨.០១.៥៖ ការពិនិត្យតាមដាន វាយតម្លៃ និងអធិការកិច្ចប្រព័ន្ធធានាគុណភាពអប់រំ"},{"$f":"SUM(B372,B375)","v":0},null,null,{"$f":"SUM(E372,E375)","v":0},null,null,{"$f":"SUM(H372,H375)","v":0},null,null,{"$f":"SUM(K372,K375)","v":0}]
["□ សរុបចំណាយចរន្ដ",{"$f":"SUM(B373:B374)","v":0},null,null,{"$f":"SUM(E373:E374)","v":0},null,null,0,null,null,0]
["•  បន្ទុកបុគ្គលិក",{"$f":"INDEX(staff_exp2018,MATCH(A371,activities,0))","v":0},null,null,{"$f":"INDEX(staff_exp2019,MATCH(A371,activities,0))","v":0},null,null,{"$f":"INDEX(staff_exp2020,MATCH(A371,activities,0))","v":0},null,null,{"$f":"INDEX(staff_exp2021,MATCH(A371,activities,0))","v":0}]
["•  ក្រៅបន្ទុកបុគ្គលិក",{"$f":"INDEX(non_staffexp2018,MATCH(A371,activities,0))","v":0},null,null,{"$f":"INDEX(non_staffexp2019,MATCH(A371,activities,0))","v":0},null,null,{"$f":"INDEX(non_staffexp2020,MATCH(A371,activities,0))","v":0},null,null,{"$f":"INDEX(non_staffexp2021,MATCH(A371,activities,0))","v":0}]
["□ សរុបចំណាយមូលធន",{"$f":"SUM(B376,B379)","v":0},null,null,{"$f":"SUM(E376,E379)","v":0},null,null,0,null,null,0]
["•  គម្រោងវិនិយោគ",{"$f":"SUM(B377:B378)","v":0},null,null,{"$f":"SUM(E377:E378)","v":0},null,null,0,null,null,0]
["- មានហិរញ្ញប្បទាន"]
["- មិនទាន់មានហិរញ្ញប្បទាន"]
["•  ជំនួយបច្ចេកទេស",{"$f":"SUM(B380:B381)","v":0},null,null,{"$f":"SUM(E380:E381)","v":0},null,null,0,null,null,0]
["- មានហិរញ្ញប្បទាន"]
["- មិនទាន់មានហិរញ្ញប្បទាន"]
[{"$f":"ព័ត៌មានអង្គភាព!C36","v":"៥.១៨.០១.៦៖ អធិការកិច្ចរដ្ឋបាល និងហិរញ្ញវត្ថុ"},{"$f":"SUM(B383,B386)","v":0},null,null,{"$f":"SUM(E383,E386)","v":0},null,null,{"$f":"SUM(H383,H386)","v":0},null,null,{"$f":"SUM(K383,K386)","v":0}]
["□ សរុបចំណាយចរន្ដ",{"$f":"SUM(B384:B385)","v":0},null,null,{"$f":"SUM(E384:E385)","v":0},null,null,0,null,null,0]
["•  បន្ទុកបុគ្គលិក",{"$f":"INDEX(staff_exp2018,MATCH(A382,activities,0))","v":0},null,null,{"$f":"INDEX(staff_exp2019,MATCH(A382,activities,0))","v":0},null,null,{"$f":"INDEX(staff_exp2020,MATCH(A382,activities,0))","v":0},null,null,{"$f":"INDEX(staff_exp2021,MATCH(A382,activities,0))","v":0}]
["•  ក្រៅបន្ទុកបុគ្គលិក",{"$f":"INDEX(non_staffexp2018,MATCH(A382,activities,0))","v":0},null,null,{"$f":"INDEX(non_staffexp2019,MATCH(A382,activities,0))","v":0},null,null,{"$f":"INDEX(non_staffexp2020,MATCH(A382,activities,0))","v":0},null,null,{"$f":"INDEX(non_staffexp2021,MATCH(A382,activities,0))","v":0}]
["□ សរុបចំណាយមូលធន",{"$f":"SUM(B387,B390)","v":0},null,null,{"$f":"SUM(E387,E390)","v":0},null,null,0,null,null,0]
["•  គម្រោងវិនិយោគ",{"$f":"SUM(B388:B389)","v":0},null,null,{"$f":"SUM(E388:E389)","v":0},null,null,0,null,null,0]
["- មានហិរញ្ញប្បទាន"]
["- មិនទាន់មានហិរញ្ញប្បទាន"]
["•  ជំនួយបច្ចេកទេស",{"$f":"SUM(B391:B392)","v":0},null,null,{"$f":"SUM(E391:E392)","v":0},null,null,0,null,null,0]
["- មានហិរញ្ញប្បទាន"]
["- មិនទាន់មានហិរញ្ញប្បទាន"]
[{"$f":"ព័ត៌មានអង្គភាព!C37","v":"៥.១៨.០១.៧៖ លើកកម្ពស់ការផ្សព្វផ្សាយព័ត៌មានអប់រំ និងកិច្ចសហប្រតិបត្តិការ អាស៊ាន និងស៊ីមេអូ"},{"$f":"SUM(B394,B397)","v":0},null,null,{"$f":"SUM(E394,E397)","v":0},null,null,{"$f":"SUM(H394,H397)","v":0},null,null,{"$f":"SUM(K394,K397)","v":0}]
["□ សរុបចំណាយចរន្ដ",{"$f":"SUM(B395:B396)","v":0},null,null,{"$f":"SUM(E395:E396)","v":0},null,null,0,null,null,0]
["•  បន្ទុកបុគ្គលិក",{"$f":"INDEX(staff_exp2018,MATCH(A393,activities,0))","v":0},null,null,{"$f":"INDEX(staff_exp2019,MATCH(A393,activities,0))","v":0},null,null,{"$f":"INDEX(staff_exp2020,MATCH(A393,activities,0))","v":0},null,null,{"$f":"INDEX(staff_exp2021,MATCH(A393,activities,0))","v":0}]
["•  ក្រៅបន្ទុកបុគ្គលិក",{"$f":"INDEX(non_staffexp2018,MATCH(A393,activities,0))","v":0},null,null,{"$f":"INDEX(non_staffexp2019,MATCH(A393,activities,0))","v":0},null,null,{"$f":"INDEX(non_staffexp2020,MATCH(A393,activities,0))","v":0},null,null,{"$f":"INDEX(non_staffexp2021,MATCH(A393,activities,0))","v":0}]
["□ សរុបចំណាយមូលធន",{"$f":"SUM(B398,B401)","v":0},null,null,{"$f":"SUM(E398,E401)","v":0},null,null,0,null,null,0]
["•  គម្រោងវិនិយោគ",{"$f":"SUM(B399:B400)","v":0},null,null,{"$f":"SUM(E399:E400)","v":0},null,null,0,null,null,0]
["- មានហិរញ្ញប្បទាន"]
["- មិនទាន់មានហិរញ្ញប្បទាន"]
["•  ជំនួយបច្ចេកទេស",{"$f":"SUM(B402:B403)","v":0},null,null,{"$f":"SUM(E402:E403)","v":0},null,null,0,null,null,0]
["- មានហិរញ្ញប្បទាន"]
["- មិនទាន់មានហិរញ្ញប្បទាន"]
[{"$f":"ព័ត៌មានអង្គភាព!C38","v":"៥.១៨.០១.៨៖ ការពង្រឹងការងារនីតិកម្ម"},{"$f":"SUM(B405,B408)","v":0},null,null,{"$f":"SUM(E405,E408)","v":0},null,null,{"$f":"SUM(H405,H408)","v":0},null,null,{"$f":"SUM(K405,K408)","v":0}]
["□ សរុបចំណាយចរន្ដ",{"$f":"SUM(B406:B407)","v":0},null,null,{"$f":"SUM(E406:E407)","v":0},null,null,0,null,null,0]
["•  បន្ទុកបុគ្គលិក",{"$f":"INDEX(staff_exp2018,MATCH(A404,activities,0))","v":0},null,null,{"$f":"INDEX(staff_exp2019,MATCH(A404,activities,0))","v":0},null,null,{"$f":"INDEX(staff_exp2020,MATCH(A404,activities,0))","v":0},null,null,{"$f":"INDEX(staff_exp2021,MATCH(A404,activities,0))","v":0}]
["•  ក្រៅបន្ទុកបុគ្គលិក",{"$f":"INDEX(non_staffexp2018,MATCH(A404,activities,0))","v":0},null,null,{"$f":"INDEX(non_staffexp2019,MATCH(A404,activities,0))","v":0},null,null,{"$f":"INDEX(non_staffexp2020,MATCH(A404,activities,0))","v":0},null,null,{"$f":"INDEX(non_staffexp2021,MATCH(A404,activities,0))","v":0}]
["□ សរុបចំណាយមូលធន",{"$f":"SUM(B409,B412)","v":0},null,null,{"$f":"SUM(E409,E412)","v":0},null,null,0,null,null,0]
["•  គម្រោងវិនិយោគ",{"$f":"SUM(B410:B411)","v":0},null,null,{"$f":"SUM(E410:E411)","v":0},null,null,0,null,null,0]
["- មានហិរញ្ញប្បទាន"]
["- មិនទាន់មានហិរញ្ញប្បទាន"]
["•  ជំនួយបច្ចេកទេស",{"$f":"SUM(B413:B414)","v":0},null,null,{"$f":"SUM(E413:E414)","v":0},null,null,0,null,null,0]
["- មានហិរញ្ញប្បទាន"]
["- មិនទាន់មានហិរញ្ញប្បទាន"]
[{"$f":"ព័ត៌មានអង្គភាព!C39","v":"៥.១៨.០១.៩៖ ការពង្រឹងការគ្រប់គ្រងហេដ្ឋារចនាសម្ព័ន្ធអប់រំ"},{"$f":"SUM(B416,B419)","v":0},null,null,{"$f":"SUM(E416,E419)","v":0},null,null,{"$f":"SUM(H416,H419)","v":0},null,null,{"$f":"SUM(K416,K419)","v":0}]
["□ សរុបចំណាយចរន្ដ",{"$f":"SUM(B417:B418)","v":0},null,null,{"$f":"SUM(E417:E418)","v":0},null,null,0,null,null,0]
["•  បន្ទុកបុគ្គលិក",{"$f":"INDEX(staff_exp2018,MATCH(A415,activities,0))","v":0},null,null,{"$f":"INDEX(staff_exp2019,MATCH(A415,activities,0))","v":0},null,null,{"$f":"INDEX(staff_exp2020,MATCH(A415,activities,0))","v":0},null,null,{"$f":"INDEX(staff_exp2021,MATCH(A415,activities,0))","v":0}]
["•  ក្រៅបន្ទុកបុគ្គលិក",{"$f":"INDEX(non_staffexp2018,MATCH(A415,activities,0))","v":0},null,null,{"$f":"INDEX(non_staffexp2019,MATCH(A415,activities,0))","v":0},null,null,{"$f":"INDEX(non_staffexp2020,MATCH(A415,activities,0))","v":0},null,null,{"$f":"INDEX(non_staffexp2021,MATCH(A415,activities,0))","v":0}]
["□ សរុបចំណាយមូលធន",{"$f":"SUM(B420,B423)","v":0},null,null,{"$f":"SUM(E420,E423)","v":0},null,null,0,null,null,0]
["•  គម្រោងវិនិយោគ",{"$f":"SUM(B421:B422)","v":0},null,null,{"$f":"SUM(E421:E422)","v":0},null,null,0,null,null,0]
["- មានហិរញ្ញប្បទាន"]
["- មិនទាន់មានហិរញ្ញប្បទាន"]
["•  ជំនួយបច្ចេកទេស",{"$f":"SUM(B424:B425)","v":0},null,null,{"$f":"SUM(E424:E425)","v":0},null,null,0,null,null,0]
["- មានហិរញ្ញប្បទាន"]
["- មិនទាន់មានហិរញ្ញប្បទាន"]
[{"$f":"ព័ត៌មានអង្គភាព!C40","v":"៥.១៨.០១.១០៖ ការពង្រឹងការគ្រប់គ្រង ការផ្គត់ផ្គង់សម្ភារៈ និងទ្រព្យសម្បត្តិរដ្ឋ"},{"$f":"SUM(B427,B430)","v":0},null,null,{"$f":"SUM(E427,E430)","v":0},null,null,{"$f":"SUM(H427,H430)","v":0},null,null,{"$f":"SUM(K427,K430)","v":0}]
["□ សរុបចំណាយចរន្ដ",{"$f":"SUM(B428:B429)","v":0},null,null,{"$f":"SUM(E428:E429)","v":0},null,null,0,null,null,0]
["•  បន្ទុកបុគ្គលិក",{"$f":"INDEX(staff_exp2018,MATCH(A426,activities,0))","v":0},null,null,{"$f":"INDEX(staff_exp2019,MATCH(A426,activities,0))","v":0},null,null,{"$f":"INDEX(staff_exp2020,MATCH(A426,activities,0))","v":0},null,null,{"$f":"INDEX(staff_exp2021,MATCH(A426,activities,0))","v":0}]
["•  ក្រៅបន្ទុកបុគ្គលិក",{"$f":"INDEX(non_staffexp2018,MATCH(A426,activities,0))","v":0},null,null,{"$f":"INDEX(non_staffexp2019,MATCH(A426,activities,0))","v":0},null,null,{"$f":"INDEX(non_staffexp2020,MATCH(A426,activities,0))","v":0},null,null,{"$f":"INDEX(non_staffexp2021,MATCH(A426,activities,0))","v":0}]
["□ សរុបចំណាយមូលធន",{"$f":"SUM(B431,B434)","v":0},null,null,{"$f":"SUM(E431,E434)","v":0},null,null,0,null,null,0]
["•  គម្រោងវិនិយោគ",{"$f":"SUM(B432:B433)","v":0},null,null,{"$f":"SUM(E432:E433)","v":0},null,null,0,null,null,0]
["- មានហិរញ្ញប្បទាន"]
["- មិនទាន់មានហិរញ្ញប្បទាន"]
["•  ជំនួយបច្ចេកទេស",{"$f":"SUM(B435:B436)","v":0},null,null,{"$f":"SUM(E435:E436)","v":0},null,null,0,null,null,0]
["- មានហិរញ្ញប្បទាន"]
["- មិនទាន់មានហិរញ្ញប្បទាន"]
[{"$f":"ព័ត៌មានអង្គភាព!C41","v":"៥.១៨.០១.១១៖ ការអភិវឌ្ឍ និងពង្រឹងប្រសិទ្ធភាពការគ្រប់គ្រង និងការធានាភាពសក្តិសិទ្ធនៃសេវារដ្ឋបាលអប់រំ"},{"$f":"SUM(B438,B441)","v":0},null,null,{"$f":"SUM(E438,E441)","v":0},null,null,{"$f":"SUM(H438,H441)","v":0},null,null,{"$f":"SUM(K438,K441)","v":0}]
["□ សរុបចំណាយចរន្ដ",{"$f":"SUM(B439:B440)","v":0},null,null,{"$f":"SUM(E439:E440)","v":0},null,null,0,null,null,0]
["•  បន្ទុកបុគ្គលិក",{"$f":"INDEX(staff_exp2018,MATCH(A437,activities,0))","v":0},null,null,{"$f":"INDEX(staff_exp2019,MATCH(A437,activities,0))","v":0},null,null,{"$f":"INDEX(staff_exp2020,MATCH(A437,activities,0))","v":0},null,null,{"$f":"INDEX(staff_exp2021,MATCH(A437,activities,0))","v":0}]
["•  ក្រៅបន្ទុកបុគ្គលិក",{"$f":"INDEX(non_staffexp2018,MATCH(A437,activities,0))","v":0},null,null,{"$f":"INDEX(non_staffexp2019,MATCH(A437,activities,0))","v":0},null,null,{"$f":"INDEX(non_staffexp2020,MATCH(A437,activities,0))","v":0},null,null,{"$f":"INDEX(non_staffexp2021,MATCH(A437,activities,0))","v":0}]
["□ សរុបចំណាយមូលធន",{"$f":"SUM(B442,B445)","v":0},null,null,{"$f":"SUM(E442,E445)","v":0},null,null,0,null,null,0]
["•  គម្រោងវិនិយោគ",{"$f":"SUM(B443:B444)","v":0},null,null,{"$f":"SUM(E443:E444)","v":0},null,null,0,null,null,0]
["- មានហិរញ្ញប្បទាន"]
["- មិនទាន់មានហិរញ្ញប្បទាន"]
["•  ជំនួយបច្ចេកទេស",{"$f":"SUM(B446:B447)","v":0},null,null,{"$f":"SUM(E446:E447)","v":0},null,null,0,null,null,0]
["- មានហិរញ្ញប្បទាន"]
["- មិនទាន់មានហិរញ្ញប្បទាន"]
[{"$f":"ព័ត៌មានអង្គភាព!C42","v":"៥.១៨.០១.១២៖ ការអភិវឌ្ឍកិច្ចសហប្រតិបត្តិការជាតិ អន្តរជាតិលើវិស័យអប់រំ"},{"$f":"SUM(B449,B452)","v":0},null,null,{"$f":"SUM(E449,E452)","v":0},null,null,{"$f":"SUM(H449,H452)","v":0},null,null,{"$f":"SUM(K449,K452)","v":0}]
["□ សរុបចំណាយចរន្ដ",{"$f":"SUM(B450:B451)","v":0},null,null,{"$f":"SUM(E450:E451)","v":0},null,null,0,null,null,0]
["•  បន្ទុកបុគ្គលិក",{"$f":"INDEX(staff_exp2018,MATCH(A448,activities,0))","v":0},null,null,{"$f":"INDEX(staff_exp2019,MATCH(A448,activities,0))","v":0},null,null,{"$f":"INDEX(staff_exp2020,MATCH(A448,activities,0))","v":0},null,null,{"$f":"INDEX(staff_exp2021,MATCH(A448,activities,0))","v":0}]
["•  ក្រៅបន្ទុកបុគ្គលិក",{"$f":"INDEX(non_staffexp2018,MATCH(A448,activities,0))","v":0},null,null,{"$f":"INDEX(non_staffexp2019,MATCH(A448,activities,0))","v":0},null,null,{"$f":"INDEX(non_staffexp2020,MATCH(A448,activities,0))","v":0},null,null,{"$f":"INDEX(non_staffexp2021,MATCH(A448,activities,0))","v":0}]
["□ សរុបចំណាយមូលធន",{"$f":"SUM(B453,B456)","v":0},null,null,{"$f":"SUM(E453,E456)","v":0},null,null,0,null,null,0]
["•  គម្រោងវិនិយោគ",{"$f":"SUM(B454:B455)","v":0},null,null,{"$f":"SUM(E454:E455)","v":0},null,null,0,null,null,0]
["- មានហិរញ្ញប្បទាន"]
["- មិនទាន់មានហិរញ្ញប្បទាន"]
["•  ជំនួយបច្ចេកទេស",{"$f":"SUM(B457:B458)","v":0},null,null,{"$f":"SUM(E457:E458)","v":0},null,null,0,null,null,0]
["- មានហិរញ្ញប្បទាន"]
["- មិនទាន់មានហិរញ្ញប្បទាន"]
[{"$f":"ព័ត៌មានអង្គភាព!C43","v":"៥.១៨.០១.១៣៖ ការអភិវឌ្ឍប្រព័ន្ធព័ត៌មានគ្រប់គ្រងអប់រំ"},{"$f":"SUM(B460,B463)","v":0},null,null,{"$f":"SUM(E460,E463)","v":0},null,null,{"$f":"SUM(H460,H463)","v":0},null,null,{"$f":"SUM(K460,K463)","v":0}]
["□ សរុបចំណាយចរន្ដ",{"$f":"SUM(B461:B462)","v":0},null,null,{"$f":"SUM(E461:E462)","v":0},null,null,0,null,null,0]
["•  បន្ទុកបុគ្គលិក",{"$f":"INDEX(staff_exp2018,MATCH(A459,activities,0))","v":0},null,null,{"$f":"INDEX(staff_exp2019,MATCH(A459,activities,0))","v":0},null,null,{"$f":"INDEX(staff_exp2020,MATCH(A459,activities,0))","v":0},null,null,{"$f":"INDEX(staff_exp2021,MATCH(A459,activities,0))","v":0}]
["•  ក្រៅបន្ទុកបុគ្គលិក",{"$f":"INDEX(non_staffexp2018,MATCH(A459,activities,0))","v":0},null,null,{"$f":"INDEX(non_staffexp2019,MATCH(A459,activities,0))","v":0},null,null,{"$f":"INDEX(non_staffexp2020,MATCH(A459,activities,0))","v":0},null,null,{"$f":"INDEX(non_staffexp2021,MATCH(A459,activities,0))","v":0}]
["□ សរុបចំណាយមូលធន",{"$f":"SUM(B464,B467)","v":0},null,null,{"$f":"SUM(E464,E467)","v":0},null,null,0,null,null,0]
["•  គម្រោងវិនិយោគ",{"$f":"SUM(B465:B466)","v":0},null,null,{"$f":"SUM(E465:E466)","v":0},null,null,0,null,null,0]
["- មានហិរញ្ញប្បទាន"]
["- មិនទាន់មានហិរញ្ញប្បទាន"]
["•  ជំនួយបច្ចេកទេស",{"$f":"SUM(B468:B469)","v":0},null,null,{"$f":"SUM(E468:E469)","v":0},null,null,0,null,null,0]
["- មានហិរញ្ញប្បទាន"]
["- មិនទាន់មានហិរញ្ញប្បទាន"]
[{"$f":"ព័ត៌មានអង្គភាព!C44","v":"៥.១៨.០១.១៤៖ អភិវឌ្ឍគោលនយោបាយអប់រំ និងការស្រាវជ្រាវ"},{"$f":"SUM(B471,B474)","v":0},null,null,{"$f":"SUM(E471,E474)","v":0},null,null,{"$f":"SUM(H471,H474)","v":0},null,null,{"$f":"SUM(K471,K474)","v":0}]
["□ សរុបចំណាយចរន្ដ",{"$f":"SUM(B472:B473)","v":0},null,null,{"$f":"SUM(E472:E473)","v":0},null,null,0,null,null,0]
["•  បន្ទុកបុគ្គលិក",{"$f":"INDEX(staff_exp2018,MATCH(A470,activities,0))","v":0},null,null,{"$f":"INDEX(staff_exp2019,MATCH(A470,activities,0))","v":0},null,null,{"$f":"INDEX(staff_exp2020,MATCH(A470,activities,0))","v":0},null,null,{"$f":"INDEX(staff_exp2021,MATCH(A470,activities,0))","v":0}]
["•  ក្រៅបន្ទុកបុគ្គលិក",{"$f":"INDEX(non_staffexp2018,MATCH(A470,activities,0))","v":0},null,null,{"$f":"INDEX(non_staffexp2019,MATCH(A470,activities,0))","v":0},null,null,{"$f":"INDEX(non_staffexp2020,MATCH(A470,activities,0))","v":0},null,null,{"$f":"INDEX(non_staffexp2021,MATCH(A470,activities,0))","v":0}]
["□ សរុបចំណាយមូលធន",{"$f":"SUM(B475,B478)","v":0},null,null,{"$f":"SUM(E475,E478)","v":0},null,null,0,null,null,0]
["•  គម្រោងវិនិយោគ",{"$f":"SUM(B476:B477)","v":0},null,null,{"$f":"SUM(E476:E477)","v":0},null,null,0,null,null,0]
["- មានហិរញ្ញប្បទាន"]
["- មិនទាន់មានហិរញ្ញប្បទាន"]
["•  ជំនួយបច្ចេកទេស",{"$f":"SUM(B479:B480)","v":0},null,null,{"$f":"SUM(E479:E480)","v":0},null,null,0,null,null,0]
["- មានហិរញ្ញប្បទាន"]
["- មិនទាន់មានហិរញ្ញប្បទាន"]
[{"$f":"ព័ត៌មានអង្គភាព!C45","v":"៥.១៨.០១.១៥៖ អភិវឌ្ឍប្រព័ន្ធពិនិត្យតាមដាន និងវាយតម្លៃ"},{"$f":"SUM(B482,B485)","v":0},null,null,{"$f":"SUM(E482,E485)","v":0},null,null,{"$f":"SUM(H482,H485)","v":0},null,null,{"$f":"SUM(K482,K485)","v":0}]
["□ សរុបចំណាយចរន្ដ",{"$f":"SUM(B483:B484)","v":0},null,null,{"$f":"SUM(E483:E484)","v":0},null,null,0,null,null,0]
["•  បន្ទុកបុគ្គលិក",{"$f":"INDEX(staff_exp2018,MATCH(A481,activities,0))","v":0},null,null,{"$f":"INDEX(staff_exp2019,MATCH(A481,activities,0))","v":0},null,null,{"$f":"INDEX(staff_exp2020,MATCH(A481,activities,0))","v":0},null,null,{"$f":"INDEX(staff_exp2021,MATCH(A481,activities,0))","v":0}]
["•  ក្រៅបន្ទុកបុគ្គលិក",{"$f":"INDEX(non_staffexp2018,MATCH(A481,activities,0))","v":0},null,null,{"$f":"INDEX(non_staffexp2019,MATCH(A481,activities,0))","v":0},null,null,{"$f":"INDEX(non_staffexp2020,MATCH(A481,activities,0))","v":0},null,null,{"$f":"INDEX(non_staffexp2021,MATCH(A481,activities,0))","v":0}]
["□ សរុបចំណាយមូលធន",{"$f":"SUM(B486,B489)","v":0},null,null,{"$f":"SUM(E486,E489)","v":0},null,null,0,null,null,0]
["•  គម្រោងវិនិយោគ",{"$f":"SUM(B487:B488)","v":0},null,null,{"$f":"SUM(E487:E488)","v":0},null,null,0,null,null,0]
["- មានហិរញ្ញប្បទាន"]
["- មិនទាន់មានហិរញ្ញប្បទាន"]
["•  ជំនួយបច្ចេកទេស",{"$f":"SUM(B490:B491)","v":0},null,null,{"$f":"SUM(E490:E491)","v":0},null,null,0,null,null,0]
["- មានហិរញ្ញប្បទាន"]
["- មិនទាន់មានហិរញ្ញប្បទាន"]
[{"$f":"ព័ត៌មានអង្គភាព!C46","v":"៥.១៨.០១.១៦៖ ការអភិវឌ្ឍនិងពង្រឹងប្រព័ន្ធព័ត៌មានវិទ្យា"},{"$f":"SUM(B493,B496)","v":0},null,null,{"$f":"SUM(E493,E496)","v":0},null,null,{"$f":"SUM(H493,H496)","v":0},null,null,{"$f":"SUM(K493,K496)","v":0}]
["□ សរុបចំណាយចរន្ដ",{"$f":"SUM(B494:B495)","v":0},null,null,{"$f":"SUM(E494:E495)","v":0},null,null,0,null,null,0]
["•  បន្ទុកបុគ្គលិក",{"$f":"INDEX(staff_exp2018,MATCH(A492,activities,0))","v":0},null,null,{"$f":"INDEX(staff_exp2019,MATCH(A492,activities,0))","v":0},null,null,{"$f":"INDEX(staff_exp2020,MATCH(A492,activities,0))","v":0},null,null,{"$f":"INDEX(staff_exp2021,MATCH(A492,activities,0))","v":0}]
["•  ក្រៅបន្ទុកបុគ្គលិក",{"$f":"INDEX(non_staffexp2018,MATCH(A492,activities,0))","v":0},null,null,{"$f":"INDEX(non_staffexp2019,MATCH(A492,activities,0))","v":0},null,null,{"$f":"INDEX(non_staffexp2020,MATCH(A492,activities,0))","v":0},null,null,{"$f":"INDEX(non_staffexp2021,MATCH(A492,activities,0))","v":0}]
["□ សរុបចំណាយមូលធន",{"$f":"SUM(B497,B500)","v":0},null,null,{"$f":"SUM(E497,E500)","v":0},null,null,0,null,null,0]
["•  គម្រោងវិនិយោគ",{"$f":"SUM(B498:B499)","v":0},null,null,{"$f":"SUM(E498:E499)","v":0},null,null,0,null,null,0]
["- មានហិរញ្ញប្បទាន"]
["- មិនទាន់មានហិរញ្ញប្បទាន"]
["•  ជំនួយបច្ចេកទេស",{"$f":"SUM(B501:B502)","v":0},null,null,{"$f":"SUM(E501:E502)","v":0},null,null,0,null,null,0]
["- មានហិរញ្ញប្បទាន"]
["- មិនទាន់មានហិរញ្ញប្បទាន"]
[{"$f":"ព័ត៌មានអង្គភាព!C47","v":"៥.១៨.០១.១៧៖ ការពង្រឹងគុណភាព និងប្រសិទ្ធភាពការងារប្រឡងនៅមធ្យមសិក្សានិងអប់រំបច្ចេកទេស"},{"$f":"SUM(B504,B507)","v":0},null,null,{"$f":"SUM(E504,E507)","v":0},null,null,{"$f":"SUM(H504,H507)","v":0},null,null,{"$f":"SUM(K504,K507)","v":0}]
["□ សរុបចំណាយចរន្ដ",{"$f":"SUM(B505:B506)","v":0},null,null,{"$f":"SUM(E505:E506)","v":0},null,null,{"$f":"SUM(H505:H506)","v":0},null,null,{"$f":"SUM(K505:K506)","v":0}]
["•  បន្ទុកបុគ្គលិក",{"$f":"INDEX(staff_exp2018,MATCH(A503,activities,0))","v":0},null,null,{"$f":"INDEX(staff_exp2019,MATCH(A503,activities,0))","v":0},null,null,{"$f":"INDEX(staff_exp2020,MATCH(A503,activities,0))","v":0},null,null,{"$f":"INDEX(staff_exp2021,MATCH(A503,activities,0))","v":0}]
["•  ក្រៅបន្ទុកបុគ្គលិក",{"$f":"INDEX(non_staffexp2018,MATCH(A503,activities,0))","v":0},null,null,{"$f":"INDEX(non_staffexp2019,MATCH(A503,activities,0))","v":0},null,null,{"$f":"INDEX(non_staffexp2020,MATCH(A503,activities,0))","v":0},null,null,{"$f":"INDEX(non_staffexp2021,MATCH(A503,activities,0))","v":0}]
["□ សរុបចំណាយមូលធន",{"$f":"SUM(B508,B511)","v":0},null,null,{"$f":"SUM(E508,E511)","v":0},null,null,{"$f":"SUM(H508,H511)","v":0},null,null,{"$f":"SUM(K508,K511)","v":0}]
["•  គម្រោងវិនិយោគ",{"$f":"SUM(B509:B510)","v":0},null,null,{"$f":"SUM(E509:E510)","v":0},null,null,{"$f":"SUM(H509:H510)","v":0},null,null,{"$f":"SUM(K509:K510)","v":0}]
["- មានហិរញ្ញប្បទាន"]
["- មិនទាន់មានហិរញ្ញប្បទាន"]
["•  ជំនួយបច្ចេកទេស",{"$f":"SUM(B512:B513)","v":0},null,null,{"$f":"SUM(E512:E513)","v":0},null,null,{"$f":"SUM(H512:H513)","v":0},null,null,{"$f":"SUM(K512:K513)","v":0}]
["- មានហិរញ្ញប្បទាន"]
["- មិនទាន់មានហិរញ្ញប្បទាន"]